{"text_format":"1","workbook":"xlsx","n_sheets":33,"sheets":["дата","1","2","3","4","5","6","7","8","9","10","11","12","13","14","15","16","17","18","19","20","21а","22а","21","22","23а","24а","плрег18","плрег19","плрег20","свод18","свод19","свод20"],"not_rendered":{"charts":0,"images":0,"macros":1,"external_links":0,"defined_names":54,"comments":7,"pivot_tables":0},"unopened":[],"bounds":{"document_bytes":16777216,"sheet_cells":100000,"rows_first":2000,"rows_last":500,"rows_between":2000,"halvings":0,"cell_chars":16384,"cell_head_chars":4096},"cells_cut":0,"cells_raw":0,"read":"whole","date_system":"1900"}

{"sheet":"дата","index":0,"n_rows":28,"n_cols":4,"rows_kept":28,"cut":false,"hidden":false,"merged":[]}
[null,null,"от____марта 2019 г. №______","от08 декабря 2017 г. №131"]
["Приложение №"]
[1,{"$f":"'1'!A6","v":"Источники финансирования  дефицита"},1,1]
[2,{"$f":"'2'!A6","v":"Источники финансирования  дефицита"},null,2]
[3,{"$f":"'3'!$A$6","v":"Прогнозируемые объемы доходов в бюджет "},2,3]
[4,{"$f":"'4'!$A$6","v":"Прогнозируемые объемы доходов в бюджет "},null,4]
[5,{"$f":"'5'!A6","v":"Нормативы распределения доходов между бюджетами бюджетной системы   "},null,5]
[6,{"$f":"'6'!A6","v":"Перечень  главных администраторов  доходов бюджета"},3,6]
[7,{"$f":"'7'!A6","v":"Перечень главных администраторов и администраторов  "},null,7]
[8,{"$f":"'8'!A6","v":"Распределение бюджетных ассигнований по разделам и подразделам,"},4,8]
[9,{"$f":"'9'!A6","v":"Распределение бюджетных ассигнований по разделам и подразделам,"},null,9]
[10,{"$f":"'10'!A6","v":"Ведомственная структура расходов"},5,10]
[11,{"$f":"'11'!A6","v":"Ведомственная структура расходов"},null,11]
[12,{"$f":"'12'!A6","v":"Объем бюджетных ассигнований на исполнение"},null,12]
[13,{"$f":"'13'!A7","v":"публичных нормативных обязательств на плановый период 2019 и 2020 годов"},null,13]
[14,{"$f":"'14'!A7","v":"с заключенными соглашениями на финансовый контроль на 2018 год "},null,14]
[15,{"$f":"'15'!A5","v":"Иные межбюджетные трансферты из бюджетов поселений на осуществление"},6,15]
[16,{"$f":"'16'!A7","v":" на выравнивание бюджетной обеспеченности поселений на 2018 год"},null,16]
[17,{"$f":"'17'!A7","v":" на выравнивание бюджетной обеспеченности поселений на плановый период 2019 года"},null,17]
[18,{"$f":"'18'!A6","v":"   Дотации бюджетам поселений "},null,18]
[19,{"$f":"'19'!A6","v":"Дотации на сбалансированность поселений в 2018 году"},null,19]
[20,{"$f":"'20'!A6","v":"Дотации на сбалансированность поселений "},null,20]
[21,{"$f":"'21а'!A8","v":"актов гражданского состояния на 2017 год"},null,21]
[22,{"$f":"'22а'!A8","v":"актов гражданского состояния на плановый период 2018 и 2019 годов"},null,22]
[23,{"$f":"'23а'!A8","v":"где отсутствуют военные комиссариаты на 2018 год"},null,23]
[24,{"$f":"'24а'!A7","v":"на осуществление полномочий по первичному воинскому учету на территориях,"},null,24]
[25,"Межбюджетные трансферты, получаемые \n",7,25]
[26,"Республики Татарстан и бюджетов поселений в плановом периоде 2019 и 2020 годов\n",null,26]

{"sheet":"1","index":1,"n_rows":24,"n_cols":3,"rows_kept":24,"cut":false,"hidden":false,"merged":[[5,0,5,2],[6,0,6,2],[7,0,7,2]]}
[null,{"$f":"дата!$A$2&дата!$C$3","v":"Приложение №1"}]
[null,"к решению Совета Кукморского"]
[null,"муниципального района"]
[null,{"$f":"дата!C1","v":"от____марта 2019 г. №______"}]
[]
["Источники финансирования  дефицита"]
["бюджета Кукморского муниципального района на 2019год"]
["(рублей)"]
["Наименование показателя","код показателя","Сумма"]
["Источники внутреннего финансирования дефицита бюджета","01 00 00 00 00 0000 000",{"$f":"SUM(C12+C15)","v":21534635.480000019}]
[]
["Кредитные соглашения и договоры, заключенные от имени Российской Федерации, субъектов Рос-сийской Федерации, муниципальных образований, государственных внебюджетных фондов","01 02 00 00 05 0000 000",{"$f":"SUM(C13+C14)","v":0}]
["Получение кредитов по кредитным соглашениям и договорам, заключенным от имени Российской Федерации, субъектов Российской Федерации, муниципальных образований, государственных внебюджетных фондов","01 02 00 00 05 0000 710"]
["Погашение кредитов по кредитным соглашениям и договорам, заключенным от имени Российской Федерации, субъектов Российской Федерации, муниципальных образований, государственных внебюджетных фондов","01 02 00 00 05 0000 810"]
["Изменение остатков средств на счетах по учету средств бюджета","01 05 00 00 00 0000 000",{"$f":"SUM(C16+C19)","v":21534635.480000019}]
["Увеличение остатков средств бюджетов","01 05 00 00 00 0000 500",{"$f":"SUM(C17)","v":-1214742403.05}]
["Увеличение прочих остатков средств бюджетов","01 05 02 01 05 0000 510",{"$f":"-'3'!C12","v":-1214742403.05}]
["Уменьшение остатков средств бюджетов","01 05 00 00 00 0000 600",{"$f":"SUM(C19)","v":1236277038.53}]
["Уменьшение прочих остатков средств бюджетов","01 05 02 01 05 0000 610",{"$f":"'8'!E12","v":1236277038.53}]
["Итого по группе \"Источники внутреннего финансирования дефицита бюджета\"",null,{"$f":"SUM(C15+C12)","v":21534635.480000019}]
["ВСЕГО  источников финансирования",null,{"$f":"SUM(C20)","v":21534635.480000019}]
[]
[]
["             Глава Района                                   С.Д.Димитриев"]

{"sheet":"2","index":2,"n_rows":25,"n_cols":4,"rows_kept":25,"cut":false,"hidden":true,"merged":[[5,0,5,2],[8,0,8,2],[6,0,6,3]]}
[null,null,{"$f":"дата!$A$2&дата!$D$4","v":"Приложение №2"}]
[null,null,"к решению Кукморского"]
[null,null,"районного Совета"]
[null,null,{"$f":"дата!D1","v":"от08 декабря 2017 г. №131"}]
[]
["Источники финансирования  дефицита"]
["бюджета Кукморского муниципального района на плановый период 2019 и 2020 годов"]
[]
["(рублей)"]
["Наименование показателя","код показателя","2019 год","2020 год"]
["Источники внутреннего финансирования дефицита бюджета","01 00 00 00 00 0000 000",{"$f":"SUM(C13+C16)","v":2.384185791015625E-7},{"$f":"SUM(D13+D16)","v":2.384185791015625E-7}]
[]
["Кредитные соглашения и договоры, заключенные от имени Российской Федерации, субъектов Российской Федерации, муниципальных образований, государственных внебюджетных фондов","01 02 00 00 05 0000 000",{"$f":"SUM(C14+C15)","v":0},{"$f":"SUM(D14+D15)","v":0}]
["Получение кредитов по кредитным соглашениям и договорам, заключенным от имени Российской Федерации, субъектов Российской Федерации, муниципальных образований, государственных внебюджетных фондов","01 02 00 00 05 0000 710",{"$f":"'1'!C13","v":0},{"$f":"C14","v":0}]
["Погашение кредитов по кредитным соглашениям и договорам, заключенным от имени Российской Федерации, субъектов Российской Федерации, муниципальных образований, государственных внебюджетных фондов","01 02 00 00 05 0000 810",{"$f":"'1'!C14","v":0},{"$f":"C15","v":0}]
["Изменение остатков средств на счетах по учету средств бюджета","01 05 00 00 00 0000 000",{"$f":"SUM(C17+C20)","v":2.384185791015625E-7},{"$f":"SUM(D17+D20)","v":2.384185791015625E-7}]
["Увеличение остатков средств бюджетов","01 05 00 00 00 0000 500",{"$f":"SUM(C18)","v":-1139593430},{"$f":"SUM(D18)","v":-1151082390}]
["Увеличение прочих остатков средств бюджетов","01 05 02 01 05 0000 510",{"$f":"-'4'!C12","v":-1139593430},{"$f":"-'4'!D12","v":-1151082390}]
["Уменьшение остатков средств бюджетов","01 05 00 00 00 0000 600",{"$f":"SUM(C20)","v":1139593430.0000002},{"$f":"SUM(D20)","v":1151082390.0000002}]
["Уменьшение прочих остатков средств бюджетов","01 05 02 01 05 0000 610",{"$f":"'9'!E12","v":1139593430.0000002},{"$f":"'9'!F12","v":1151082390.0000002}]
["Итого по группе \"Источники внутреннего финансирования дефицита бюджета\"",null,{"$f":"SUM(C16+C13)","v":2.384185791015625E-7},{"$f":"SUM(D16+D13)","v":2.384185791015625E-7}]
["ВСЕГО  источников финансирования",null,{"$f":"SUM(C21)","v":2.384185791015625E-7},{"$f":"SUM(D21)","v":2.384185791015625E-7}]
[]
[]
["             Глава Района                                   С.Д.Димитриев"]

{"sheet":"3","index":3,"n_rows":105,"n_cols":3,"rows_kept":105,"cut":false,"hidden":false,"merged":[[5,0,5,2],[6,0,6,2],[8,0,10,0],[8,2,10,2],[8,1,10,1]]}
[null,{"$f":"дата!$A$2&дата!$C$5","v":"Приложение №2"}]
[null,"к решению Совета Кукморского"]
[null,"муниципального района"]
[null,{"$f":"дата!C1","v":"от____марта 2019 г. №______"}]
[]
["Прогнозируемые объемы доходов в бюджет "]
[" Кукморского муниципального района на 2019 год"]
[null,null,"(рублей)"]
["Наименование","КВД","сумма"]
[]
[]
["Доходы бюджета - ИТОГО","X",1214742403.05]
[]
["НАЛОГОВЫЕ И НЕНАЛОГОВЫЕ ДОХОДЫ","000 100 00000 00 0000 000",370108520]
["НАЛОГИ НА ПРИБЫЛЬ, ДОХОДЫ","000 101 00000 00 0000 000",312054420]
["Налог на доходы физических лиц","000 101 02000 01 0000 110",312054420]
["Налог на доходы физических лиц с доходов, источником которых является налоговый агент, за исключением доходов, в отношении которых исчисление и уплата налога осуществляются в соответствии со статьями 227, 227.1 и 228 Налогового кодекса Российской Федерации","000 101 02010 01 0000 110",312054420]
["НАЛОГИ НА ТОВАРЫ (РАБОТЫ, УСЛУГИ), РЕАЛИЗУЕМЫЕ НА ТЕРРИТОРИИ РОССИЙСКОЙ ФЕДЕРАЦИИ","000 103 00000 00 0000 000",24100000]
["Акцизы по подакцизным товарам (продукции), производимым на территории Российской Федерации","000 103 02000 01 0000 110",24100000]
["Доходы от уплаты акцизов на дизельное топливо, подлежащие распределению между бюджетами субъектов Российской Федерации и местными бюджетами с учетом установленных дифференцированных нормативов отчислений в местные бюджеты","000 103 02230 01 0000 110",10400000]
["Доходы от уплаты акцизов на дизельное топливо, подлежащие распределению между бюджетами субъектов Российской Федерации и местными бюджетами с учетом установленных дифференцированных нормативов отчислений в местные бюджеты (по нормативам, установленным Федеральным законом о федеральном бюджете в целях формирования дорожных фондов субъектов Российской Федерации)","000 103 02231 01 0000 110",10400000]
["Доходы от уплаты акцизов на автомобильный бензин, подлежащие распределению между бюджетами субъектов Российской Федерации и местными бюджетами с учетом установленных дифференцированных нормативов отчислений в местные бюджеты","000 103 02250 01 0000 110",13700000]
["Доходы от уплаты акцизов на автомобильный бензин, подлежащие распределению между бюджетами субъектов Российской Федерации и местными бюджетами с учетом установленных дифференцированных нормативов отчислений в местные бюджеты (по нормативам, установленным Федеральным законом о федеральном бюджете в целях формирования дорожных фондов субъектов Российской Федерации)","000 103 02251 01 0000 110",13700000]
["НАЛОГИ НА СОВОКУПНЫЙ ДОХОД","000 105 00000 00 0000 000",21638600]
["Налог, взимаемый в связи с применением упрощенной системы налогообложения","000 105 01000 00 0000 110",8001800]
["Налог, взимаемый с налогоплательщиков, выбравших в качестве объекта налогообложения доходы","000 105 01010 01 0000 110",4000000]
["Налог, взимаемый с налогоплательщиков, выбравших в качестве объекта налогообложения доходы","000 105 01011 01 0000 110",4000000]
["Налог, взимаемый с налогоплательщиков, выбравших в качестве объекта налогообложения доходы, уменьшенные на величину расходов","000 105 01020 01 0000 110",4001800]
["Налог, взимаемый с налогоплательщиков, выбравших в качестве объекта налогообложения доходы, уменьшенные на величину расходов (в том числе минимальный налог, зачисляемый в бюджеты субъектов Российской Федерации)","000 105 01021 01 0000 110",4001800]
["Единый налог на вмененный доход для отдельных видов деятельности","000 105 02000 02 0000 110",12508300]
["Единый налог на вмененный доход для отдельных видов деятельности","000 105 02010 02 0000 110",12508300]
["Единый сельскохозяйственный налог","000 105 03000 01 0000 110",953500]
["Единый сельскохозяйственный налог","000 105 03010 01 0000 110",953500]
["Налог, взимаемый в связи с применением патентной системы налогообложения","000 105 04000 02 0000 110",175000]
["Налог, взимаемый в связи с применением патентной системы налогообложения, зачисляемый в бюджеты муниципальных районов <5>","000 105 04020 02 0000 110",175000]
["НАЛОГИ, СБОРЫ И РЕГУЛЯРНЫЕ ПЛАТЕЖИ ЗА ПОЛЬЗОВАНИЕ ПРИРОДНЫМИ РЕСУРСАМИ","000 107 00000 00 0000 000",161000]
["Налог на добычу полезных ископаемых","000 107 01000 01 0000 110",161000]
["Налог на добычу общераспространенных полезных ископаемых","000 107 01020 01 0000 110",161000]
["ГОСУДАРСТВЕННАЯ ПОШЛИНА","000 108 00000 00 0000 000",2907000]
["Государственная пошлина по делам, рассматриваемым в судах общей юрисдикции, мировыми судьями","000 108 03000 01 0000 110",2907000]
["Государственная пошлина по делам, рассматриваемым в судах общей юрисдикции, мировыми судьями (за исключением Верховного Суда Российской Федерации)","000 108 03010 01 0000 110",2907000]
["ДОХОДЫ ОТ ИСПОЛЬЗОВАНИЯ ИМУЩЕСТВА, НАХОДЯЩЕГОСЯ В ГОСУДАРСТВЕННОЙ И МУНИЦИПАЛЬНОЙ СОБСТВЕННОСТИ","000 111 00000 00 0000 000",3979500]
["Доходы, получаемые в виде арендной либо иной платы за передачу в возмездное пользование государственного и муниципального имущества (за исключением имущества бюджетных и автономных учреждений, а также имущества государственных и муниципальных унитарных предприятий, в том числе казенных)","000 111 05000 00 0000 120",3785500]
["Доходы, получаемые в виде арендной платы за земельные участки, государственная собственность на которые не разграничена, а также средства от продажи права на заключение договоров аренды указанных земельных участков","000 111 05010 00 0000 120",3500000]
["Доходы, получаемые в виде арендной платы за земельные участки, государственная собственность на которые не разграничена и которые расположены в границах сельских поселений и межселенных территорий муниципальных районов, а также средства от продажи права на заключение договоров аренды указанных земельных участков","000 111 05013 05 0000 120",1200000]
["Доходы, получаемые в виде арендной платы за земельные участки, государственная собственность на которые не разграничена и которые расположены в границах городских поселений, а также средства от продажи права на заключение договоров аренды указанных земельных участков","000 111 05013 13 0000 120",2300000]
["Доходы от сдачи в аренду имущества, находящегося в оперативном управлении органов государственной власти, органов местного самоуправления, государственных внебюджетных фондов и созданных ими учреждений (за исключением имущества бюджетных и автономных учреждений)","000 111 05030 00 0000 120",285500]
["Доходы от сдачи в аренду имущества, находящегося в оперативном управлении органов управления муниципальных районов и созданных ими учреждений (за исключением имущества муниципальных бюджетных и автономных учреждений)","000 111 05035 05 0000 120",285500]
["Платежи от государственных и муниципальных унитарных предприятий","000 111 07000 00 0000 120",4000]
["Доходы от перечисления части прибыли государственных и муниципальных унитарных предприятий, остающейся после уплаты налогов и обязательных платежей","000 111 07010 00 0000 120",4000]
["Доходы от перечисления части прибыли, остающейся после уплаты налогов и иных обязательных платежей муниципальных унитарных предприятий, созданных муниципальными районами","000 111 07015 05 0000 120",4000]
["Прочие доходы от использования имущества и прав, находящихся в государственной и муниципальной собственности (за исключением имущества бюджетных и автономных учреждений, а также имущества государственных и муниципальных унитарных предприятий, в том числе казенных)","000 111 09000 00 0000 120",190000]
["Прочие поступления от использования имущества, находящегося в государственной и муниципальной собственности (за исключением имущества бюджетных и автономных учреждений, а также имущества государственных и муниципальных унитарных предприятий, в том числе казенных)","000 111 09040 00 0000 120",190000]
["Прочие поступления от использования имущества, находящегося в собственности муниципальных районов (за исключением имущества муниципальных бюджетных и автономных учреждений, а также имущества муниципальных унитарных предприятий, в том числе казенных)","000 111 09045 05 0000 120",190000]
["ПЛАТЕЖИ ПРИ ПОЛЬЗОВАНИИ ПРИРОДНЫМИ РЕСУРСАМИ","000 112 00000 00 0000 000",582000]
["Плата за негативное воздействие на окружающую среду","000 112 01000 01 0000 120",582000]
["Плата за выбросы загрязняющих веществ в атмосферный воздух стационарными объектами <7>","000 112 01010 01 0000 120",382000]
["Плата за сбросы загрязняющих веществ в водные объекты","000 112 01030 01 0000 120",200000]
["ДОХОДЫ ОТ ПРОДАЖИ МАТЕРИАЛЬНЫХ И НЕМАТЕРИАЛЬНЫХ АКТИВОВ","000 114 00000 00 0000 000",1805000]
["Доходы от реализации имущества, находящегося в государственной и муниципальной собственности (за исключением движимого имущества бюджетных и автономных учреждений, а также имущества государственных и муниципальных унитарных предприятий, в том числе казенных)","000 114 02000 00 0000 000",471000]
["Доходы от реализации имущества, находящегося в собственности муниципальных районов (за исключением движимого имущества муниципальных бюджетных и автономных учреждений, а также имущества муниципальных унитарных предприятий, в том числе казенных), в части реализации основных средств по указанному имуществу","000 114 02050 05 0000 410",471000]
["Доходы от реализации иного имущества, находящегося в собственности муниципальных районов (за исключением имущества муниципальных бюджетных и автономных учреждений, а также имущества муниципальных унитарных предприятий, в том числе казенных), в части реализации основных средств по указанному имуществу","000 114 02053 05 0000 410",471000]
["Доходы от продажи земельных участков, находящихся в государственной и муниципальной собственности","000 114 06000 00 0000 430",1334000]
["Доходы от продажи земельных участков, государственная собственность на которые не разграничена","000 114 06010 00 0000 430",1334000]
["Доходы от продажи земельных участков, государственная собственность на которые не разграничена и которые расположены в границах сельских поселений и межселенных территорий муниципальных районов","000 114 06013 05 0000 430",1000000]
["Доходы от продажи земельных участков, государственная собственность на которые не разграничена и которые расположены в границах городских поселений","000 114 06013 13 0000 430",334000]
["ШТРАФЫ, САНКЦИИ, ВОЗМЕЩЕНИЕ УЩЕРБА","000 116 00000 00 0000 000",2881000]
["Денежные взыскания (штрафы) за нарушение законодательства о налогах и сборах","000 116 03000 00 0000 140",150000]
["Денежные взыскания (штрафы) за нарушение законодательства о налогах и сборах, предусмотренные статьями 116, 119.1, 119.2, пунктами 1 и 2 статьи 120, статьями 125, 126, 126.1, 128, 129, 129.1, 129.4, 132, 133, 134, 135, 135.1, 135.2 Налогового кодекса Российской Федерации","000 116 03010 01 0000 140",150000]
["Денежные взыскания (штрафы) за нарушение законодательства о применении контрольно-кассовой техники при осуществлении наличных денежных расчетов и (или) расчетов с использованием платежных карт","000 116 06000 01 0000 140",10000]
["Денежные взыскания (штрафы) за административные правонарушения в области государственного регулирования производства и оборота этилового спирта, алкогольной, спиртосодержащей и табачной продукции","000 116 08000 01 0000 140",80000]
["Денежные взыскания (штрафы) за административные правонарушения в области государственного регулирования производства и оборота этилового спирта, алкогольной, спиртосодержащей продукции","000 116 08010 01 0000 140",80000]
["Денежные взыскания (штрафы) и иные суммы, взыскиваемые с лиц, виновных в совершении преступлений, и в возмещение ущерба имуществу","000 116 21000 00 0000 140",60000]
["Денежные взыскания (штрафы) и иные суммы, взыскиваемые с лиц, виновных в совершении преступлений, и в возмещение ущерба имуществу, зачисляемые в бюджеты муниципальных районов","000 116 21050 05 0000 140",60000]
["Денежные взыскания (штрафы) за нарушение законодательства Российской Федерации о недрах, об особо охраняемых природных территориях, об охране и использовании животного мира, об экологической экспертизе, в области охраны окружающей среды, о рыболовстве и сохранении водных биологических ресурсов, земельного законодательства, лесного законодательства, водного законодательства","000 116 25000 00 0000 140",100000]
["Денежные взыскания (штрафы) за нарушение законодательства Российской Федерации об охране и использовании животного мира","000 116 25030 01 0000 140",15000]
["Денежные взыскания (штрафы) за нарушение законодательства в области охраны окружающей среды","000 116 25050 01 0000 140",35000]
["Денежные взыскания (штрафы) за нарушение земельного законодательства","000 116 25060 01 0000 140",50000]
["Денежные взыскания (штрафы) за нарушение законодательства в области обеспечения санитарно-эпидемиологического благополучия человека и законодательства в сфере защиты прав потребителей","000 116 28000 01 0000 140",700000]
["Денежные взыскания (штрафы) за нарушение законодательства Российской Федерации о контрактной системе в сфере закупок товаров, работ, услуг для обеспечения государственных и муниципальных нужд","000 116 33000 00 0000 140",10000]
["Денежные взыскания (штрафы) за нарушение законодательства Российской Федерации о контрактной системе в сфере закупок товаров, работ, услуг для обеспечения государственных и муниципальных нужд для нужд муниципальных районов","000 116 33050 05 0000 140",10000]
["Денежные взыскания (штрафы) за нарушение законодательства Российской Федерации об административных правонарушениях, предусмотренные статьей 20.25 Кодекса Российской Федерации об административных правонарушениях","000 116 43000 01 0000 140",155000]
["Денежные взыскания (штрафы) за нарушения законодательства Российской Федерации о промышленной безопасности","000 116 45000 01 0000 140",16000]
["Прочие поступления от денежных взысканий (штрафов) и иных сумм в возмещение ущерба","000 116 90000 00 0000 140",1600000]
["Прочие поступления от денежных взысканий (штрафов) и иных сумм в возмещение ущерба, зачисляемые в бюджеты муниципальных районов","000 116 90050 05 0000 140",1600000]
["БЕЗВОЗМЕЗДНЫЕ ПОСТУПЛЕНИЯ","000 200 00000 00 0000 000",844633883.04999995]
["БЕЗВОЗМЕЗДНЫЕ ПОСТУПЛЕНИЯ ОТ ДРУГИХ БЮДЖЕТОВ БЮДЖЕТНОЙ СИСТЕМЫ РОССИЙСКОЙ ФЕДЕРАЦИИ","000 202 00000 00 0000 000",844633883.04999995]
["Дотации бюджетам бюджетной системы Российской Федерации","000 202 10000 00 0000 150",74082000]
["Дотации на выравнивание бюджетной обеспеченности","000 202 15001 00 0000 150",74082000]
["Дотации бюджетам муниципальных районов на выравнивание бюджетной обеспеченности","000 202 15001 05 0000 150",74082000]
["Субсидии бюджетам бюджетной системы Российской Федерации (межбюджетные субсидии)","000 202 20000 00 0000 150",357977083.05000001]
["Прочие субсидии","000 202 29999 00 0000 150",357977083.05000001]
["Прочие субсидии бюджетам муниципальных районов","000 202 29999 05 0000 150",357977083.05000001]
["Субвенции бюджетам бюджетной системы Российской Федерации","000 202 30000 00 0000 150",403702800]
["Субвенции местным бюджетам на выполнение передаваемых полномочий субъектов Российской Федерации","000 202 30024 00 0000 150",398214800]
["Субвенции бюджетам муниципальных районов на выполнение передаваемых полномочий субъектов Российской Федерации","000 202 30024 05 0000 150",398214800]
["Субвенции бюджетам на осуществление первичного воинского учета на территориях, где отсутствуют военные комиссариаты","000 202 35118 00 0000 150",2764900]
["Субвенции бюджетам муниципальных районов на осуществление первичного воинского учета на территориях, где отсутствуют военные комиссариаты","000 202 35118 05 0000 150",2764900]
["Субвенции бюджетам на осуществление полномочий по составлению (изменению) списков кандидатов в присяжные заседатели федеральных судов общей юрисдикции в Российской Федерации","000 202 35120 00 0000 150",15900]
["Субвенции бюджетам муниципальных районов на осуществление полномочий по составлению (изменению) списков кандидатов в присяжные заседатели федеральных судов общей юрисдикции в Российской Федерации","000 202 35120 05 0000 150",15900]
["Субвенции бюджетам на государственную регистрацию актов гражданского состояния","000 202 35930 00 0000 150",2707200]
["Субвенции бюджетам муниципальных районов на государственную регистрацию актов гражданского состояния","000 202 35930 05 0000 150",2707200]
["Иные межбюджетные трансферты","000 202 40000 00 0000 150",8872000]
["Межбюджетные трансферты, передаваемые бюджетам муниципальных образований на осуществление части полномочий по решению вопросов местного значения в соответствии с заключенными соглашениями","000 202 40014 00 0000 150",8872000]
["Межбюджетные трансферты, передаваемые бюджетам муниципальных районов из бюджетов поселений на осуществление части полномочий по решению вопросов местного значения в соответствии с заключенными соглашениями","000 202 40014 05 0000 150",8872000]

{"sheet":"4","index":4,"n_rows":55,"n_cols":6,"rows_kept":55,"cut":false,"hidden":true,"merged":[[8,0,10,0],[8,2,9,3],[5,0,5,3],[6,0,6,3],[8,1,10,1]]}
[null,{"$f":"дата!$A$2&дата!$D$6","v":"Приложение №4"}]
[null,"к решению Кукморского"]
[null,"районного Совета"]
[null,{"$f":"дата!D1","v":"от08 декабря 2017 г. №131"}]
[]
["Прогнозируемые объемы доходов в бюджет "]
[" Кукморского муниципального района на плановый период 2019 и 2020 годов"]
[null,null,null,"(рублей)"]
["Наименование","КВД","сумма"]
[]
[null,null,"2019 год","2020 год"]
["ИТОГО","",{"$f":"C47+C14","v":1139593430},{"$f":"D47+D14","v":1151082390}]
[]
["НАЛОГОВЫЕ И НЕНАЛОГОВЫЕ ДОХОДЫ","1 00 00000 00 0000 000",{"$f":"C15+C19+C26+C28+C32+C34+C36+C17+C24","v":389188840},{"$f":"D15+D19+D26+D28+D32+C34+D36+D17+D24","v":413078980}]
["НАЛОГИ НА ПРИБЫЛЬ, ДОХОДЫ","1 01 00000 00 0000 000",{"$f":"C16","v":325494840},{"$f":"D16","v":347871980}]
["Налог на доходы физических лиц","1 01 02000 01 0000 110",325494840,347871980]
["Налоги на товары (работы, услуги), реализуемые на территории Российской Федерации","1 03 00000 00 0000 000",{"$f":"C18","v":24300000},{"$f":"D18","v":25500000}]
["Акцизы по подакцизным товарам (продукции), производимым на территории Российской Федерации","1 03 02000 01 0000 110",24300000,25500000]
["НАЛОГИ НА СОВОКУПНЫЙ ДОХОД","1 05 00000 00 0000 000",{"$f":"SUM(C20:C23)","v":26008000},{"$f":"SUM(D20:D23)","v":26320000}]
["Налог, взимаемый в связи с применением упрощенной системы налогообложения","1 05 01000 00 0000 110",7797000,8109000]
["Единый налог на вмененный доход для отдельных видов деятельности","1 05 02000 00 0000 110",15893000,15893000]
["Единый сельскохозяйственный налог","1 05 03000 00 0000 110",2151000,2151000]
["Налог, взимаемый в связи с применением патентной системы налогообложения, зачисляемый в бюджеты муниципальных районов","1 05 04000 00 0000 110",167000,167000]
["НАЛОГИ, СБОРЫ И РЕГУЛЯРНЫЕ ПЛАТЕЖИ ЗА ПОЛЬЗОВАНИЕ ПРИРОДНЫМИ РЕСУРСАМИ","1 07 00000 00 0000 000",{"$f":"C25","v":121000},{"$f":"D25","v":121000}]
["Налог на добычу полезных ископаемых","1 07 01000 01 0000 110",121000,121000]
["ГОСУДАРСТВЕННАЯ ПОШЛИНА","1 08 00000 00 0000 000",{"$f":"C27","v":3111000},{"$f":"D27","v":3111000}]
["Государственная пошлина по делам, рассматриваемым в судах общей юрисдикции, мировыми судьями","1 08 03000 00 0000 110",3111000,3111000]
["ДОХОДЫ ОТ ИСПОЛЬЗОВАНИЯ ИМУЩЕСТВА, НАХОДЯЩЕГОСЯ В ГОСУДАРСТВЕННОЙ И МУНИЦИПАЛЬНОЙ СОБСТВЕННОСТИ","1 11 00000 00 0000 000",{"$f":"SUM(C29:C31)","v":4073000},{"$f":"SUM(D29:D31)","v":4073000}]
["Доходы, получаемые в виде арендной либо иной платы за передачу в возмездное пользование государственного и муниципального имущества (за исключением имущества бюджетных и автономных учреждений, а также имущества государственных и муниципальных унитарных предприятий, в том числе казенных)","1 11 05000 00 0000 120",{"$f":"3558000+347000","v":3905000},{"$f":"3558000+347000","v":3905000}]
["Платежи от государственных  и муниципальных унитарных предприятий","1 11 07000 00 0000 120",3000,3000]
["Прочие доходы от использования имущества и прав, находящихся в государственной и муниципальной собственности (за исключением имущества бюджетных и автономных учреждений, а также имущества государственных и муниципальных унитарных предприятий, в том числе казенных)","1 11 09000 00 0000 120",165000,165000]
["ПЛАТЕЖИ ПРИ ПОЛЬЗОВАНИИ ПРИРОДНЫМИ РЕСУРСАМИ","1 12 00000 00 0000 000",{"$f":"C33","v":1092000},{"$f":"D33","v":1092000}]
["Плата за негативное воздействие на окружающую среду","1 12 01000 01 0000 120",1092000,1092000]
["ДОХОДЫ ОТ ПРОДАЖИ МАТЕРИАЛЬНЫХ И НЕМАТЕРИАЛЬНЫХ АКТИВОВ","1 14 00000 00 0000 430",{"$f":"SUM(C35)","v":969000},{"$f":"SUM(D35)","v":969000}]
["Доходы от продажи земельных участков, находящихся в государственной и муниципальной собственности","1 14 06000 00 0000 430",969000,969000]
["ШТРАФЫ, САНКЦИИ, ВОЗМЕЩЕНИЕ УЩЕРБА","1 16 00000 00 0000 000",{"$f":"SUM(C37:C46)","v":4020000},{"$f":"SUM(D37:D46)","v":4021000}]
["Денежные взыскания (штрафы) за административные правонарушения в области налогов и сборов, предусмотренные Кодексом Российской Федерации об административных правонарушениях","1.16.03.000.00.0.000",40000,40000]
["Денежные взыскания (штрафы) за нарушение законодательства о применении контрольно-кассовой техники при осуществлении наличных денежных расчетов и (или) расчетов с использованием платежных карт","1.16.06.000.01.0.000",5000,5000]
["Денежные взыскания (штрафы) за административные правонарушения в области государственного регулирования производства и оборота этилового спирта, алкогольной, спиртосодержащей и табачной продукции","1.16.08.000.01.0.000",40000,40000]
["Денежные взыскания (штрафы) и иные суммы, взыскиваемые с лиц, виновных в совершении преступлений, и в возмещение ущерба имуществу, зачисляемые в бюджеты муниципальных районов","1.16.21.050.05.0.000",60000,60000]
["Денежные взыскания (штрафы) за нарушение законодательства Российской Федерации о недрах, об особо охраняемых природных территориях, об охране и использовании животного мира, об экологической экспертизе, в области охраны окружающей среды, земельного законодательства, лесного законодательства, водного законодательства","1.16.25.000.00.0.000",200000,200000]
["Денежные взыскания (штрафы) за нарушение законодательства в области обеспечения санитарно-эпидемиологического благополучия человека и законодательства в сфере защиты прав потребителей","1.16.28.000.01.0.000",500000,500000]
["Денежные взыскания (штрафы) за нарушение законодательства российской федерации о контрактной системе в сфере закупок товаров, работ, услуг для обеспечения государственных и муниципальных нужд","1.16.33.000.01.0.000",15000,15000]
["Денежные взыскания (штрафы) за нарушение законодательства российской федерации об административных правонарушениях, предусмотренные статьей 20.25 кодекса российской федерации об административных правонарушениях","1.16.43.000.01.0.000",50000,50000]
["Денежные взыскания (штрафы), установленные законами субъектов Российской Федерации за несоблюдение муниципальных правовых актов, зачисляемые в бюжеты муниципальных районов","1.16.51.030.02.0.000",650000,650000]
["Прочие поступления от денежных взысканий (штрафов) и иных сумм в возмещение ущерба, зачисляемые в бюджеты муниципальных районов","1.16.90.050.05.0.000",2460000,2461000]
["БЕЗВОЗМЕЗДНЫЕ ПОСТУПЛЕНИЯ","2.00.00.000.00.0.000",{"$f":"C48","v":750404590},{"$f":"D48","v":738003410},-4863000,-4863000]
["БЕЗВОЗМЕЗДНЫЕ ПОСТУПЛЕНИЯ ОТ ДРУГИХ БЮДЖЕТОВ БЮДЖЕТНОЙ СИСТЕМЫ РОССИЙСКОЙ ФЕДЕРАЦИИ","2.02.00.000.00.0.000",{"$f":"SUM(C49:C52)","v":750404590},{"$f":"SUM(D49:D52)","v":738003410}]
["Дотации бюджетам субъектов Российской Федерации и муниципальных образований","2.02.10.000.05.0.000",{"$f":"SUMIF('22'!$B$14:$B$1402,$E49,'22'!$D$14:$D$1402)","v":38930900},{"$f":"SUMIF('22'!$B$14:$B$1402,$E49,'22'!$E$14:$E$1402)","v":25478300},"2.02.10.000.00.0.000"]
["Субсидии бюджетам субъектов Российской Федерации и муниципальных образований (межбюджетные субсидии)","2.02.20.000.05.0.000",{"$f":"SUMIF('22'!$B$14:$B$1402,$E50,'22'!$D$14:$D$1402)","v":308073500},{"$f":"SUMIF('22'!$B$14:$B$1402,$E50,'22'!$E$14:$E$1402)","v":307671000},"2.02.20.000.00.0.000"]
["Субвенции бюджетам субъектов Российской Федерации и муниципальных образований","2.02.30.000.05.0.000",{"$f":"SUMIF('22'!$B$14:$B$1402,$E51,'22'!$D$14:$D$1402)","v":390763100},{"$f":"SUMIF('22'!$B$14:$B$1402,$E51,'22'!$E$14:$E$1402)","v":391217020.00000006},"2.02.30.000.00.0.000"]
["Иные межбюджетные трансферты","2.02.40.000.05.0.000",{"$f":"SUMIF('22'!$B$14:$B$1402,$E52,'22'!$D$14:$D$1402)","v":12637090},{"$f":"SUMIF('22'!$B$14:$B$1402,$E52,'22'!$E$14:$E$1402)","v":13637090},"2.02.40.000.00.0.000"]
[]
[]
["             Глава Района                                   С.Д.Димитриев"]

{"sheet":"5","index":5,"n_rows":52,"n_cols":5,"rows_kept":52,"cut":false,"hidden":true,"merged":[[9,0,10,0],[9,1,10,1],[9,2,9,4],[5,0,5,4],[6,0,6,4],[7,0,7,4]]}
[null,null,{"$f":"дата!$A$2&дата!$D$7","v":"Приложение №5"}]
[null,null,"к решению Кукморского"]
[null,null,"районного Совета"]
[null,null,{"$f":"дата!$D$1","v":"от08 декабря 2017 г. №131"}]
[]
["Нормативы распределения доходов между бюджетами бюджетной системы   "]
["источников финансирования дефицита  бюджета муниципального района  "]
[" на 2018 год и на плановый период 2019 и 2020 годов"]
[null,null,"(в процентах)"]
["Код","Наименование групп, подгрупп, статей и подстатей доходов","Местные бюджеты"]
[null,null,"муници-пальных районов","сельских поселений","городских поселений"]
["1 09 00000 00 0000 000","Задолженность и перерасчеты по отмененным налогам,  сборам и иным обязательным платежам "]
["1 09 07013 05 0000 110","Налог на рекламу, мобилизуемый на территориях муниципальных районов",100]
["1 09 07053 05 0000 110","Прочие местные налоги и сборы, мобилизуемые на территориях муниципальных районов",100]
["1 13 00000 00 0000 000","Доходы от оказания платных услуг (работ) и компенсации затрат государства                           "]
["1 13 01995 05 0000 130","Прочие доходы от оказания платных услуг (работ) получателями средств бюджетов муниципальных районов",100]
["1 13 01995 10 0000 130","Прочие доходы от оказания платных услуг (работ) получателями средств бюджетов сельских поселений",null,100]
["1 13 01995 13 0000 130","Прочие доходы от оказания платных услуг (работ) получателями средств бюджетов городских поселений",null,null,100]
["1 13 02065 05 0000 130","Доходы, поступающие в порядке возмещения расходов, понесенных в связи с эксплуатацией имущества муниципальных районов",100]
["1 13 02065 10 0000 130","Доходы, поступающие в порядке возмещения расходов, понесенных в связи с эксплуатацией имущества сельских поселений",null,100]
["1 13 02065 13 0000 130","Доходы, поступающие в порядке возмещения расходов, понесенных в связи с эксплуатацией имущества городских поселений",null,null,100]
["1 13 02995 05 0000 130","Прочие доходы от компенсации затрат бюджетов муниципальных районов",100]
["1 13 02995 10 0000 130","Прочие доходы от компенсации затрат бюджетов сельских поселений",null,100]
["1 13 02995 13 0000 130","Прочие доходы от компенсации затрат бюджетов городских поселений",null,null,100]
["1 16 00000 00 0000 000","Штрафы, санкции, возмещение ущерба"]
["1 16 21050 05 0000 140","Денежные взыскания (штрафы) и иные суммы, взыскиваемые с лиц, виновных в совершении преступлений, и в возмещение ущерба имуществу, зачисляемые в бюджеты муниципальных районов",100]
["1 16 21050 10 0000 140","Денежные взыскания (штрафы) и иные суммы, взыскиваемые с лиц, виновных в совершении преступлений, и в возмещение ущерба имуществу, зачисляемые в бюджеты сельских поселений",null,100]
["1 16 21050 13 0000 140","Денежные взыскания (штрафы) и иные суммы, взыскиваемые с лиц, виновных в совершении преступлений, и в возмещение ущерба имуществу, зачисляемые в бюджеты городских поселений",null,null,100]
["1 16 23051 05 0000 140","Доходы от возмещения ущерба при возникновении страховых случаев по обязательному страхованию гражданской ответственности, когда выгодоприобретателями выступают получатели средств бюджетов муниципальных районов",100]
["1 16 23052 05 0000 140","Доходы от возмещения ущерба при возникновении иных страховых случаев, когда выгодоприобретателями выступают получатели средств бюджетов муниципальных районов",100]
["1 16 23051 10 0000 140","Доходы от возмещения ущерба при возникновении страховых случаев по обязательному страхованию гражданской ответственности, когда выгодоприобретателями выступают получатели средств бюджетов сельских поселений",null,100]
["1 16 23052 10 0000 140","Доходы от возмещения ущерба при возникновении иных страховых случаев, когда выгодоприобретателями выступают получатели средств бюджетов сельских поселений",null,100]
["1 16 23051 13 0000 140","Доходы от возмещения ущерба при возникновении страховых случаев по обязательному страхованию гражданской ответственности, когда выгодоприобретателями выступают получатели средств бюджетов городских поселений",null,null,100]
["1 16 23052 13 0000 140","Доходы от возмещения ущерба при возникновении иных страховых случаев, когда выгодоприобретателями выступают получатели средств бюджетов городских поселений",null,null,100]
["1 16 32000 05 0000 140","Денежные взыскания, налагаемые в возмещение ущерба, причиненного в результате незаконного или нецелевого использования бюджетных средств (в части бюджетов муниципальных районов)",100]
["1 16 32000 10 0000 140","Денежные взыскания, налагаемые в возмещение ущерба, причиненного в результате незаконного или нецелевого использования бюджетных средств (в части бюджетов сельских поселений)",null,100]
["1 16 32000 13 0000 140","Денежные взыскания, налагаемые в возмещение ущерба, причиненного в результате незаконного или нецелевого использования бюджетных средств (в части бюджетов городских поселений)",null,null,100]
["1 16 90050 05 0000 140","Прочие поступления от денежных взысканий (штрафов) и иных сумм в возмещение ущерба, зачисляемые в бюджеты муниципальных районов",100]
["1 16 90050 10 0000 140","Прочие поступления от денежных взысканий (штрафов) и иных сумм в возмещение ущерба, зачисляемые в бюджеты сельских поселений",null,100]
["1 16 90050 13 0000 140","Прочие поступления от денежных взысканий (штрафов) и иных сумм в возмещение ущерба, зачисляемые в бюджеты городских поселений",null,null,100]
["1 17 00000 00 0000 000","Прочие неналоговые доходы"]
["1 17 01050 05 0000 180","Невыясненные поступления, зачисляемые в бюджеты муниципальных районов",100]
["1 17 01050 10 0000 180","Невыясненные поступления, зачисляемые в бюджеты сельских поселений",null,100]
["1 17 01050 13 0000 180","Невыясненные поступления, зачисляемые в бюджеты городских поселений",null,null,100]
["1 17 05050 05 0000 180","Прочие неналоговые доходы бюджетов муниципальных районов",100]
["1 17 05050 10 0000 180","Прочие неналоговые доходы бюджетов сельских поселений",null,100]
["1 17 05050 13 0000 180","Прочие неналоговые доходы бюджетов городских поселений",null,null,100]
["1 17 14030 10 0000 180","Средства самообложения граждан, зачисляемые в бюджеты сельских поселений",null,100]
["1 17 14030 13 0000 180","Средства самообложения граждан, зачисляемые в бюджеты городских поселений",null,null,100]
[]
[]
["         Глава Района                                   С.Д.Димитриев"]

{"sheet":"6","index":6,"n_rows":114,"n_cols":3,"rows_kept":114,"cut":false,"hidden":false,"merged":[[75,0,75,2],[5,0,5,2],[6,0,6,2],[8,0,8,2],[12,0,12,2],[10,2,11,2],[10,0,10,1],[7,0,7,2]]}
[null,null,{"$f":"дата!$A$2&дата!$C$8","v":"Приложение №3"}]
[null,null,"к решению Совета Кукморского"]
["                                                                                                                                                                                                            Совета народных депутатов",null,"районного Совета"]
["                                                                                                                                                                                                             от",null,{"$f":"дата!C1","v":"от____марта 2019 г. №______"}]
[]
["Перечень  главных администраторов  доходов бюджета"]
["источников финансирования дефицита  бюджета муниципального района  "]
["на 2019 год и на плановый период 2020 и 2021 годов-"]
["органов  местного самоуправления Кукморского муниципального района"]
[]
["коды бюджетной классификации",null,"Наименование "]
["код администратора доходов","доходов бюджета"]
["Финансово-бюджетная палата Кукморского муниципального района"]
[605,"1 08 07174 01 1000 110","Государственная пошлина за выдачу органом местного самоуправления муниципального района специального разрешения на движение по автомобильным дорогам транспортных средств, осуществляющих перевозки опасных, тяжеловесных и (или) крупногабаритных грузов, зачисляемая в бюджеты муниципальных районов."]
["605","1 08 07150 01 1000 110","Государственная пошлина за выдачу разрешения на установку рекламной конструкции "]
["605","1 11 02033 05 0000 120","Доходы от размещения временно свободных средств бюджетов муниципальных районов"]
["605","1 11 03050 05 0000 120","Проценты, полученные от предоставления бюджетных кредитов внутри страны за счет средств бюджетов муниципальных районов"]
["605"," 1 13 02065 05 0000 130","Доходы, поступающие в порядке возмещения расходов, понесенных в связи с эксплуатацией  имущества муниципальных районов"]
[605,"1 13 01995 05 0000 130","Прочие доходы от оказания платных услуг (работ) получателями средств бюджетов муниципальных районов"]
["605","1 13 02995 05 0000 130","Прочие доходы от компенсации затрат  бюджетов муниципальных районов"]
[605,"1 16 18050 05 0000 140  ","Денежные взыскания (штрафы)за нарушение бюджетного законодательства (в части бюджетов муниципальных районов)."]
[605,"1 16 23051 05 0000 140","Доходы от возмещения ущерба при возникновении страховых случаев по обязательному страхованию гражданской ответственности, когда выгодоприобретателями выступают получатели средств бюджетов муниципальных районов"]
[605,"1 16 23052 05 0000 140","Доходы от возмещения ущерба при возникновении иных страховых случаев, когда выгодоприобретателями выступают получатели средств бюджетов муниципальных районов"]
["605","1 16 33050 05 0000 140","Денежные взыскания (штрафы) за нарушение законодательства Российской Федерации о контрактной системе в сфере закупок товаров, работ, услуг для обеспечения государственных и\nмуниципальных нужд для нужд муниципальных районов"]
["605","1 16 51030 02 0000 140","Денежные взыскания (штрафы), установленные законами субъектов Российской Федерации за несоблюдение муниципальных правовых актов, зачисляемые в бюжеты муниципальных районов"]
[605," 1 16 90050 05 0000 140  ","Прочие поступления от денежных взысканий(штрафов)и иных сумм в возмещение ущерба, зачисляемые в бюджеты муниципальных районов."]
[605,"1 17 01050 05 0000 180","Невыясненные поступления, зачисляемые в бюджеты муниципальных  районов "]
[605,"1 17 05050 05 0000 180","Прочие неналоговые доходы бюджетов муниципальных районов"]
["605","2 02 15001 05 0000 150","Дотации бюджетам муниципальных районов на выравнивание  бюджетной обеспеченности."]
["605","2 02 15002 05 0000 150","Дотации бюджетам муниципальных районов на поддержку мер по обеспечению сбалансированности бюджетов."]
["605","2 02 15009 05 0000 150","Дотации бюджетам муниципальных районов на частичную компенсацию дополнительных расходов на повышение оплаты труда работников бюджетной сферы"]
["605","2 02 19999 05 0000 150","Прочие дотации бюджетам муниципальных районов"]
["605","2 02 20041 05 0000 150","Субсидии бюджетам муниципальных районов на строительство, модернизацию, ремонт и содержание автомобильных дорог общего пользования, в том числе дорог в поселениях (за исключением автомобильных дорог федерального значения)"]
["605","2 02 25086 05 0000 150","Субсидии бюджетам муниципальных районов на реализацию мероприятий, предусмотренных региональной программой переселения, включенной в Государственную программу по оказанию содействия добровольному переселению в Российскую Федерацию соотечественников, проживающих за рубежом"]
["605","2 02 20303 05 0000 150","Субсидии бюджетам муниципальных районов на обеспечение мероприятий по модернизации систем коммунальной инфраструктуры за счет средств бюджетов"]
["605","2 02 20079 05 0000 150","Субсидии  бюджетам   муниципальных   районов   на переселение   граждан   из    жилищного    фонда, признанного непригодным для проживания,  и  (или)                       жилищного фонда с высоким уровнем  износа  (более 70 процентов) "]
["605","2 02 20087 05 0000 150","Субсидии  бюджетам   муниципальных   районов   из бюджетов поселений на решение  вопросов  местного значения межмуниципального характера"]
["605","2 02 20298 05 0000 150","Субсидии бюджетам муниципальных районов на обеспечение мероприятий по капитальному ремонту многоквартирных домов за счет средств, поступивших от государственной корпорации - Фонда содействия реформированию жилищно-коммунального хозяйства"]
["605","2 02 20299 05 0000 150","Субсидии бюджетам муниципальных районов на обеспечение мероприятий по переселению граждан из аварийного жилищного фонда за счет средств, поступивших от государственной корпорации - Фонда содействия реформированию жилищно-коммунального хозяйства"]
["605","2 02 20301 05 0000 150","Субсидии  бюджетам   муниципальных   районов   на обеспечение мероприятий по  капитальному  ремонту многоквартирных домов за счет средств бюджетов "]
["605","2 02 20302 05 0000 150","Субсидии  бюджетам   муниципальных   районов   на обеспечение мероприятий по переселению граждан из аварийного  жилищного  фонда  за   счет   средств бюджетов"]
["605","2 02 25519 05 0000 150","Субсидии бюджетам муниципальных районов на поддержку отрасли культуры"]
["605","2 02 25567 05 0000 150","Субсидии бюджетам муниципальных районов на реализацию мероприятий по устойчивому развитию сельских территорий"]
["605","2 02 29999 05 0000 150","Прочие субсидии бюджетам муниципальных районов"]
["605 ","2 02 35250 05 0000 150","Субвенции бюджетам муниципальных районов на оплату жилищно-коммунальных услуг отдельным категориям граждан"]
["605","2 02 35930 05 0000 150","Субвенции бюджетам муниципальных районов на государственную регистрацию актов гражданского состояния."]
["605","2 02 35220 05 0000 150","Субвенции бюджетам муниципальных районов на осуществление переданного полномочия Российской Федерации по осуществлению ежегодной денежной выплаты лицам, награжденным нагрудным знаком \"Почетный донор России\""]
["605","2 02 35120 05 0000 150","Субвенции бюджетам муниципальных районов на составление (изменение)  списков кандидатов в присяжные заседатели федеральных судов общей юрисдикции в Российской Федерации"]
["605","2 02 35280 05 0000 150","Субвенции бюджетам муниципальных районов на выплаты инвалидам компенсаций страховых премий по договорам обязательного страхования гражданской ответственности владельцев транспортных средств"]
["605","2 02 30013 05 0000 150","Субвенции бюджетам муниципальных районов на обеспечение мер социальной поддержки реабилитированных лиц и лиц, признанных пострадавшими от политических репрессий"]
["605","2 02 35118 05 0000 150","Субвенции бюджетам муниципальных районов на осуществление первичного воинского учета на территориях, где отсутствуют военные комиссариаты"]
["605","2 02 35260 05 0000 150","Субвенции бюджетам муниципальных районов на выплату единовременного пособия при всех формах устройства детей, лишенных родительского попечения, в семью"]
["605","2 02 30022 05 0000 150","Субвенции  бюджетам  муниципальных   районов   на предоставление  гражданам  субсидий   на   оплату жилого помещения и коммунальных услуг"]
["605","2 02 30024 05 0000 150","Субвенции  бюджетам  муниципальных   районов   на выполнение  передаваемых   полномочий   субъектов Российской Федерации"]
["605","2 02 35082 05 0000 150","Субвенции бюджетам муниципальных районов на предоставление жилых помещений детям-сиротам и детям, оставшимся без попечения родителей, лицам из их числа по договорам найма специализированных жилых помещений"]
["605","2 02 30027 05 0000 150","Субвенции бюджетам муниципальных районов на содержание ребенка в семье опекуна и приемной семье, а также вознаграждение, причитающееся приемному родителю"]
["605","2 02 30029 05 0000 150","Субвенции бюджетам муниципальных районов на компенсацию части платы, взимаемой с родителей (законных представителей) за присмотр и уход за детьми, посещающими образовательные организации, реализующие образовательные программы дошкольного образования"]
["605","2 02 39999 05 0000 150","Прочие субвенции бюджетам муниципальных районов"]
["605 ","2 02 45160 05 0000 150","Межбюджетные  трансферты,  передаваемые  бюджетам муниципальных районов для компенсации дополнительных расходов, возникших  в  результате решений, принятых органами власти другого уровня"]
["605","2 02 40014 05 0000 150","Межбюджетные  трансферты,  передаваемые  бюджетам муниципальных районов из  бюджетов  поселений  на осуществление части   полномочий по решению  вопросов  местного  значения в соответствии с заключенными соглашениями"]
["605","2 02 49999 05 0000 150","Прочие  межбюджетные   трансферты,   передаваемые бюджетам муниципальных районов"]
["605 ","2 07 05030 05 0000 150","Прочие безвозмездные поступления в бюджеты муниципальных районов"]
["605 ","2 08 05000 05 0000 150","Перечисления из бюджетов муниципальных районов (в бюджеты муниципальных районов) для осуществления возврата (зачета) излишне уплаченных или излишне взысканных сумм налогов, сборов и иных платежей, а также сумм процентов за несвоевременное осуществление такого возврата и процентов, начисленных на излишне взысканные суммы"]
["605","2 18 60010 05 0000 150","Доходы бюджетов муниципальных районов от возврата остатков субсидий, субвенций и иных межбюджетных трансфертов, имеющих целевое назначение, прошлых лет из бюджетов поселений "]
["605","218 60020 05 0000 150","Доходы бюджетов муниципальных районов от возврата остатков субсидий, субвенций и иных межбюджетных трансфертов, имеющих целевое назначение, прошлых лет из бюджетов государственных внебюджетных фондов"]
["605","2 18 05010 05 0000 150","Доходы бюджетов муниципальных районов от возврата бюджетными учреждениями остатков субсидий прошлых лет"]
["605","2 18 05020 05 0000 150","Доходы бюджетов муниципальных районов от возврата автономными учреждениями остатков субсидий прошлых лет"]
["605","2 18 05030 05 0000 150","Доходы бюджетов муниципальных районов от возврата иными организациями остатков субсидий прошлых лет"]
["605","2 19 60010 05 0000 150","Возврат прочих остатков субсидий, субвенций и иных межбюджетных трансфертов, имеющих целевое назначение, прошлых лет из бюджетов муниципальных районов"]
["605","2 19 25018 05 0000 150","Возврат остатков субсидий на реализацию мероприятий федеральной целевой программы \"Устойчивое развитие сельских территорий на 2014 - 2017 годы и на период до 2020 года\" из бюджетов муниципальных районов"]
["605","2 19 25020 05 0000 150","Возврат остатков субсидий на мероприятия подпрограммы \"Обеспечение жильем молодых семей\" федеральной целевой программы \"Жилище\" на 2015 - 2020 годы из бюджетов муниципальных районов"]
["605","2 19 25027 05 0000 150","Возврат остатков субсидий на мероприятия государственной программы Российской Федерации \"Доступная среда\" на 2011 - 2020 годы из бюджетов муниципальных районов"]
["605","2 19 45147 05 0000 150","Возврат остатков иных межбюджетных трансфертов на государственную поддержку муниципальных учреждений культуры из бюджетов муниципальных районов"]
["605","2 19 45160 05 0000 150","Возврат остатков иных межбюджетных трансфертов, передаваемых для компенсации дополнительных расходов, возникших в результате решений, принятых органами власти другого уровня, из бюджетов муниципальных районов"]
[605,"2 19 45148 05 0000 150","Возврат остатков иных межбюджетных трансфертов на государственную поддержку лучших работников муниципальных учреждений культуры, находящихся на территориях сельских поселений, из бюджетов муниципальных районов"]
["Палата имущественных и земельных отношений Кукморского муниципального района"]
[606,"1 08 07150 01 1000 110","Государственная пошлина за выдачу разрешения на установку рекламной конструкции"]
["606","1 11 02085 05 0000 120","Доходы от размещения сумм, аккумулируемых в ходе проведения аукционов по продаже акций находящихся в собственности муниципальных районов"]
[606,"1 11 05010 00 0000 120","Доходы, получаемые в виде арендной платы за земельные участки, государственная собственность на которые не разграничена, а также средства от продажи права на заключение договоров аренды указанных земельных участков"]
[606,"1 11 05013 05 0000 120","Доходы, получаемые в виде арендной платы за земельные участки, государственная собственность на которые не разграничена и которые расположены в границах межселенных территорий муниципальных районов, а также средства от продажи права на заключение договоров аренды указанных земельных участков"]
[606,"1 11 05020 00 0000 120","Доходы, получаемые в виде арендной платы за земли после разграничения государственной собственности на землю, а также средства от продажи права на заключение договоров аренды указанных земельных участков (за исключением земельных участков бюджетных и автономных учреждений)"]
[606,"1 11 05025 05 0000 120","Доходы, получаемые в виде арендной платы, а также средства от продажи права на заключение договоров аренды за земли, находящиеся в собственности муниципальных районов (за исключением земельных участков муниципальных бюджетных и автономных учреждений)"]
[606,"1 11 05025 10 0000 120","Доходы, получаемые в виде арендной платы, а также средства от продажи права на заключение договоров аренды за земли, находящиеся в собственности поселений (за исключением земельных участков муниципальных бюджетных и автономных учреждений)"]
[606,"1 11 05035 05 0000 120","Доходы от сдачи в аренду имущества, находящегося в оперативном управлении органов управления муниципальных районов и созданных ими учреждений (за исключением имущества муниципальных бюджетных и автономных учреждений)"]
["606","1 11 05075 05 0000 120","Доходы от сдачи в аренду имущества, составляющего казну муниципальных районов (за исключением земельных участков)  "]
[606,"1 11 07015 05 0000 120","Доходы от перечисления части прибыли, остающейся после уплаты налогов и иных обязательных платежей муниципальных унитарных предприятий, созданных муниципальными районами"]
[606,"1 11 08050 05 0000 120","Средства, получаемые от передачи имущества, находящегося в собственности муниципальных районов (за исключением имущества муниципальных бюджетных и автономных учреждений, а также имущества муниципальных унитарных предприятий, в том числе казенных), в залог, в доверительное управление"]
[606,"1 11 09040 00 0000 120","Прочие поступления от использования имущества, находящегося в государственной и муниципальной собственности (за исключением имущества бюджетных и автономных учреждений, а также имущества государственных и муниципальных унитарных предприятий, в том числе казенных)"]
[606,"1 11 09045 05 0000 120","Прочие поступления от использования имущества, находящегося в собственности муниципальных районов (за исключением имущества муниципальных бюджетных и автономных учреждений, а также имущества муниципальных унитарных предприятий, в том числе казенных)"]
["606"," 1 13 02065 05 0000 130","Доходы, поступающие в порядке возмещения расходов, понесенных в связи с эксплуатацией  имущества муниципальных районов"]
[606,"1 13 01995 05 0000 130","Прочие доходы от оказания платных услуг (работ) получателями средств бюджетов муниципальных районов"]
[606,"1 13 02995 05 0000 130","Прочие доходы от компенсации затрат  бюджетов муниципальных районов"]
[606,"1 14 01050 05 0000 410","Доходы  от продажи квартир, находящихся в собственности муниципальных районов."]
[606,"1 14 02050 05 0000 410","Доходы от реализации имущества, находящегося в собственности муниципальных районов (за исключением имущества муниципальных бюджетных и автономных учреждений, а также имущества муниципальных унитарных предприятий, в том числе казенных), в части реализации основных средств по указанному имуществу"]
[606,"1 14 02050 05 0000 440","Доходы от реализации имущества, находящегося в собственности муниципальных районов (за исключением имущества муниципальных бюджетных и автономных учреждений, а также имущества муниципальных унитарных предприятий, в том числе казенных), в части реализации материальных запасов по указанному имуществу"]
[606,"1 14 02052 05 0000 410","Доходы от реализации имущества, находящегося в оперативном управлении учреждений, находящихся в ведении органов управления муниципальных районов (за исключением имущества муниципальных бюджетных и автономных учреждений), в части реализации основных средств по указанному имуществу"]
[606,"1 14 02052 05 0000 440","Доходы от реализации имущества, находящегося в оперативном управлении учреждений, находящихся в ведении органов управления муниципальных районов (за исключением имущества муниципальных бюджетных и автономных учреждений), в части реализации материальных запасов по указанному имуществу"]
[606,"1 14 02053 05 0000 410","Доходы от реализации иного имущества, находящегося в собственности муниципальных районов (за исключением имущества муниципальных бюджетных и автономных учреждений, а также имущества муниципальных унитарных предприятий, в том числе казенных), в части реализации основных средств по указанному имуществу"]
[606,"1 14 02053 05 0000 440","Доходы от реализации иного имущества, находящегося в собственности муниципальных районов (за исключением имущества муниципальных бюджетных и автономных учреждений, а также имущества муниципальных унитарных предприятий, в том числе казенных), в части реализации материальных запасов по указанному имуществу"]
[606,"1 14 03050 05 0000 410","Средства от распоряжения и реализации конфискованного и иного имущества, обращенного в доходы муниципальных районов (в части реализации основных средств по указанному имуществу)"]
[606,"1 14 03050 05 0000 440","Средства от распоряжения и реализации конфискованного и иного имущества, обращенного в доходы муниципальных районов (в части реализации материальных запасов по указанному имуществу)"]
[606,"1 14 04050 05 0000 420","Доходы от продажи нематериальных активов, находящихся в собственности муниципальных районов"]
[606,"1 14 06000 00 0000 430","Доходы от продажи земельных участков, находящихся в государственной и муниципальной собственности (за исключением земельных участков бюджетных и автономных учреждений)"]
[606,"1 14 06010 00 0000 430","Доходы от продажи земельных участков, государственная собственность на которые не разграничена"]
[606,"1 14 06013 05 0000 430","Доходы от продажи земельных участков, государственная собственность на которые не разграничена и которые расположены в границах межселенных территорий муниципальных районов"]
[606,"1 14 06020 00 0000 430","Доходы от продажи земельных участков, государственная собственность на которые разграничена (за исключением земельных участков бюджетных и автономных учреждений)"]
[606,"1 14 06025 05 0000 430","Доходы от продажи земельных участков, находящихся в собственности муниципальных районов (за исключением земельных участков муниципальных бюджетных и автономных учреждений)"]
[606,"1 14 06025 10 0000 430","Доходы от продажи земельных участков, находящихся в собственности поселений (за исключением земельных участков муниципальных бюджетных и автономных учреждений)"]
[606,"1 17 01050 05 0000 180","Невыясненные поступления, зачисляемые в бюджеты муниципальных районов"]
[606,"1 17 02020 05 0000 180","Возмещение потерь сельскохозяйственного производства, связанных с изъятием сельскохозяйственных угодий, расположенных на межселенных территориях (по обязательствам, возникшим до 1 января 2008 года)"]
[606,"1 17 02020 10 0000 180","Возмещение потерь сельскохозяйственного производства, связанных с изъятием сельскохозяйственных угодий, расположенных на территориях поселений (по обязательствам, возникшим до 1 января 2008 года)"]
[]
[]
["             Глава Района                                   С.Д.Димитриев"]

{"sheet":"7","index":7,"n_rows":25,"n_cols":3,"rows_kept":25,"cut":false,"hidden":true,"merged":[[13,0,13,2],[5,0,5,2],[6,0,6,2],[7,0,7,2],[8,0,8,2],[10,0,10,1],[10,2,11,2]]}
[null,null,{"$f":"дата!$A$2&дата!$D$9","v":"Приложение №7"}]
["                                                                                        к решению Кукморского районного",null,"к решению Кукморского"]
["                                                                                                                                                                                                                 Совета народных депутатов",null,"районного Совета"]
["                                                                                                                                                                                                                         от 24 декабря 2004г. №20",null,{"$f":"дата!D1","v":"от08 декабря 2017 г. №131"}]
[]
["Перечень главных администраторов и администраторов  "]
["источников финансирования дефицита  бюджета муниципального района  "]
["на 2018 год и на плановый период 2019 и 2020 годов-"]
[" органов местного самоуправления"]
[]
["коды бюджетной классификации",null,"Наименование "]
["код администратора источника финансирования","источника финансирования дефицита бюджета"]
[]
["Финансово-бюджетная палата Кукморского муниципального района"]
[605,"01 02 00 00 05 0000 710"," Получение кредитов от кредитных организаций бюджетом муниципального района в валюте Российской Федерации "]
["605","01 02 00 00 05 0000 810"," Погашение бюджетом муниципального района кредитов от кредитных организаций в валюте Российской Федерации "]
[605,"01 03 00 00 05 0000 710","Получение  кредитов от других бюджетов бюджетной системы Российской Федерации  бюджетом муниципального района в валюте Российской Федерации."]
["605","1 03 00 00 05 0000 810","Погашение  бюджетом муниципального района кредитов от других бюджетов бюджетной системы Российской Федерации  в валюте Российской Федерации."]
[605,"01 05 02 01 00 0000 510","Увеличение прочих остатков денежных  средств бюджетов"]
[605,"01 05 02 01 00 0000 610","Уменьшение прочих остатков денежных средств бюджетов "]
[605,"01 06 04 00 01 0000 810","Исполнение государственных гарантии муниципальных районов в валюте Российской Федерации"]
[605,"01 06 05 01 05 0000 640","Возврат бюджетных кредитов, предоставленных юридическим лицам из муниципального бюджета "]
[]
[]
["             Глава Района                                   С.Д.Димитриев"]

{"sheet":"8","index":8,"n_rows":428,"n_cols":5,"rows_kept":428,"cut":false,"hidden":false,"merged":[[5,0,5,4],[6,0,6,4],[7,0,7,4],[9,4,10,4],[9,0,10,0],[9,1,10,1],[9,2,10,2],[9,3,10,3]]}
[null,{"$f":"дата!$A$2&дата!$C$10","v":"Приложение №4"}]
[null,"к решению Совета Кукморского"]
[null,"муниципального района"]
[null,{"$f":"дата!C1","v":"от____марта 2019 г. №______"}]
[]
["Распределение бюджетных ассигнований по разделам и подразделам,"]
["          целевым статьям и видам расходов классификации расходов бюджетов"]
["бюджета Кукморского муниципального района на 2019 год"]
[null,null,null,null,"(рублей)"]
["Наименование","РЗ, ПР","ЦСР","ВР","Сумма"]
[]
["Итого",null,null,null,1236277038.53]
["ОБЩЕГОСУДАРСТВЕННЫЕ ВОПРОСЫ","0100",null,null,58894818.380000003]
["Функционирование высшего должностного лица субъекта Российской Федерации и муниципального образования","0102",null,null,1601000]
["Непрограммные направления расходов","0102","9900000000",null,1601000]
["Глава муниципального района","0102","9900002030",null,1601000]
["Фонд оплаты труда государственных (муниципальных) органов","0102","9900002030","121",1230000]
["Взносы по обязательному социальному страхованию на выплаты денежного содержания и иные выплаты работникам государственных (муниципальных) органов","0102","9900002030","129",371000]
["Функционирование законодательных (представительных) органов государственной власти и представительных органов муниципальных образований","0103",null,null,9135349.3399999999]
["Непрограммные направления расходов","0103","9900000000",null,9135349.3399999999]
["Центральный аппарат","0103","9900002040",null,9135349.3399999999]
["Фонд оплаты труда государственных (муниципальных) органов","0103","9900002040","121",4021000]
["Иные выплаты персоналу государственных (муниципальных) органов, за исключением фонда оплаты труда","0103","9900002040","122",1400]
["Взносы по обязательному социальному страхованию на выплаты денежного содержания и иные выплаты работникам государственных (муниципальных) органов","0103","9900002040","129",963800]
["Прочая закупка товаров, работ и услуг для обеспечения государственных (муниципальных) нужд","0103","9900002040","244",4112637.34]
["Уплата прочих налогов, сборов","0103","9900002040","852",36512]
["Функционирование Правительства Российской Федерации, высших исполнительных органов государственной власти субъектов Российской Федерации, местных администраций","0104",null,null,19101624.129999999]
["Муниципальная программа «Развитие образования Кукморского муниципального района Республики Татарстан на 2018-2020 годы»","0104","0200000000",null,341400]
["Подпрограмма «Развитие общего образования на 2018-2020 годы»","0104","0220000000",null,341400]
["Основное мероприятие «Обеспечение государственных гарантий реализации прав на получение общедоступного и бесплатного дошкольного, начального общего, основного общего, среднего общего образования в муниципальных общеобразовательных организациях, обеспечение дополнительного образования детей в муниципальных общеобразовательных организациях»","0104","0220800000",null,341400]
["Реализация государственных полномочий в области образования (аппарат управления)","0104","0220825302",null,341400]
["Фонд оплаты труда государственных (муниципальных) органов","0104","0220825302","121",262200]
["Взносы по обязательному социальному страхованию на выплаты денежного содержания и иные выплаты работникам государственных (муниципальных) органов","0104","0220825302","129",79200]
["Государственная программа \"Развитие юстиции в Республике Татарстан на 2014 – 2020 годы\"","0104","2400000000",null,4300]
["Подпрограмма \"Реализация государственной политики в сфере юстиции в Республике Татарстан на 2014 – 2020 годы\"","0104","2410000000",null,4300]
["Основное мероприятие \"Осуществление политики в сфере юстиции в пределах полномочий Республики Татарстан\"","0104","2410100000",null,4300]
["Субвенции на реализацию полномочий по сбору информации от поселений, входящих в МР, необходимой для ведения регистра муниципальных нормативных правовых актов РТ","0104","2410125390",null,4300]
["Фонд оплаты труда государственных (муниципальных) органов","0104","2410125390","121",3300]
["Взносы по обязательному социальному страхованию на выплаты денежного содержания и иные выплаты работникам государственных (муниципальных) органов","0104","2410125390","129",1000]
["Непрограммные направления расходов","0104","9900000000",null,18755924.129999999]
["Центральный аппарат","0104","9900002040",null,18755924.129999999]
["Фонд оплаты труда государственных (муниципальных) органов","0104","9900002040","121",8892870]
["Иные выплаты персоналу государственных (муниципальных) органов, за исключением фонда оплаты труда","0104","9900002040","122",3220]
["Взносы по обязательному социальному страхованию на выплаты денежного содержания и иные выплаты работникам государственных (муниципальных) органов","0104","9900002040","129",2637730]
["Прочая закупка товаров, работ и услуг для обеспечения государственных (муниципальных) нужд","0104","9900002040","244",7191694.1299999999]
["Уплата прочих налогов, сборов","0104","9900002040","852",29410]
["Уплата иных платежей","0104","9900002040","853",1000]
["Судебная система","0105",null,null,15900]
["Непрограммные направления расходов","0105","9900000000",null,15900]
["Составление (изменение) списков кандидатов в присяжные заседатели федеральных судов общей юрисдикции в Российской Федерации за счет средств федерального бюджета","0105","9900051200",null,15900]
["Прочая закупка товаров, работ и услуг для обеспечения государственных (муниципальных) нужд","0105","9900051200","244",15900]
["Обеспечение деятельности финансовых, налоговых и таможенных органов и органов финансового (финансово-бюджетного) надзора","0106",null,null,4801260]
["Муниципальная программа «Управление муниципальными финансами Кукморского муниципального района Республики Татарстан на 2018 – 2020 годы»","0106","1800000000",null,4185260]
["Основное мероприятие \"Обеспечение долгосрочной сбалансированности и устойчивости бюджетной системы\"","0106","1800100000",null,4185260]
["Центральный аппарат","0106","1800102040",null,4185260]
["Фонд оплаты труда государственных (муниципальных) органов","0106","1800102040","121",2751000]
["Взносы по обязательному социальному страхованию на выплаты денежного содержания и иные выплаты работникам государственных (муниципальных) органов","0106","1800102040","129",828700]
["Прочая закупка товаров, работ и услуг для обеспечения государственных (муниципальных) нужд","0106","1800102040","244",605560]
["Непрограммные направления расходов","0106","9900000000",null,616000]
["Центральный аппарат","0106","9900002040",null,616000]
["Фонд оплаты труда государственных (муниципальных) органов","0106","9900002040","121",453000]
["Иные выплаты персоналу государственных (муниципальных) органов, за исключением фонда оплаты труда","0106","9900002040","122",16000]
["Взносы по обязательному социальному страхованию на выплаты денежного содержания и иные выплаты работникам государственных (муниципальных) органов","0106","9900002040","129",137000]
["Прочая закупка товаров, работ и услуг для обеспечения государственных (муниципальных) нужд","0106","9900002040","244",10000]
["Другие общегосударственные вопросы","0113",null,null,24239684.91]
["Муниципальная программа «Социальная поддержка граждан Кукморского муниципального района Республики Татарстан» на 2018-2020 годы","0113","0300000000",null,947200]
["Подпрограмма \"Улучшение социально-экономического положения семей\" на 2015 – 2020 годы","0113","0350000000",null,947200]
["Основное мероприятие \"Создание благоприятных условий для устройства детей-сирот и детей, оставшихся без попечения родителей, на воспитание в семью\"","0113","0350300000",null,947200]
["Реализация государственных полномочий в области опеки и попечительства","0113","0350325330",null,947200]
["Фонд оплаты труда учреждений","0113","0350325330","111",708260]
["Взносы по обязательному социальному страхованию на выплаты по оплате труда работников и иные выплаты работникам учреждений","0113","0350325330","119",213940]
["Прочая закупка товаров, работ и услуг для обеспечения государственных (муниципальных) нужд","0113","0350325330","244",25000]
["Муниципальная программа «Обеспечение общественного порядка и противодействие преступности в Кукморском муниципальном районе на 2018– 2020 годы»","0113","0600000000",null,55000]
["Подпрограмма «Профилактика терроризма и экстремизма в Кукморском муниципальном районе на 2018 - 2020гг.»","0113","0630000000",null,55000]
["Основное мероприятие \"Профилактика терроризма и экстремизма\"","0113","0630100000",null,55000]
["Реализация программных мероприятий063","0113","0630110990",null,55000]
["Иные выплаты, за исключением фонда оплаты труда учреждений, лицам, привлекаемым согласно законодательству для выполнения отдельных полномочий","0113","0630110990","113",15000]
["Прочая закупка товаров, работ и услуг для обеспечения государственных (муниципальных) нужд","0113","0630110990","244",40000]
["Муниципальная программа «Развитие культуры Кукморского муниципального района Республики Татарстан на 2018 - 2020 годы»","0113","0800000000",null,793858.08]
["Подпрограмма \"Развитие архивного дела на 2018 – 2020 годы\"","0113","08Е0000000",null,793858.08]
["Основное мероприятие \"Реализация государственной политики в области архивного дела\"","0113","08Е0100000",null,793858.08]
["Обеспечение хранения, учета, комплектования и использования документов архивного фонда Республики Татарстан и других архивных документов","0113","08Е0144020",null,793858.08]
["Фонд оплаты труда учреждений","0113","08Е0144020","111",488000]
["Иные выплаты персоналу учреждений, за исключением фонда оплаты труда","0113","08Е0144020","112",808]
["Взносы по обязательному социальному страхованию на выплаты по оплате труда работников и иные выплаты работникам учреждений","0113","08Е0144020","119",147000]
["Прочая закупка товаров, работ и услуг для обеспечения государственных (муниципальных) нужд","0113","08Е0144020","244",158050.07999999999]
["Муниципальная программа «Управление муниципальным имуществом Кукморского муниципального района Республики Татарстан на 2018 – 2020 годы»","0113","1600000000",null,1962100]
["Основное мероприятие \"Обеспечение эффективного распоряжения и использования государственного имущества и земельных участков\"","0113","1600100000",null,1962100]
["Центральный аппарат","0113","1600102040",null,1960100]
["Фонд оплаты труда государственных (муниципальных) органов","0113","1600102040","121",999000]
["Взносы по обязательному социальному страхованию на выплаты денежного содержания и иные выплаты работникам государственных (муниципальных) органов","0113","1600102040","129",302000]
["Прочая закупка товаров, работ и услуг для обеспечения государственных (муниципальных) нужд","0113","1600102040","244",626100]
["Уплата прочих налогов, сборов","0113","1600102040","852",33000]
["Уплата налога на имущество организаций и земельного налога","0113","1600102950",null,2000]
["Уплата налога на имущество организаций и земельного налога","0113","1600102950","851",2000]
["Муниципальная программа «Управление муниципальными финансами Кукморского муниципального района Республики Татарстан на 2018 – 2020 годы»","0113","1800000000",null,14570900]
["Основное мероприятие \"Обеспечение долгосрочной сбалансированности и устойчивости бюджетной системы\"","0113","1800100000",null,14570900]
["Центральный аппарат","0113","1800102040",null,2300]
["Уплата прочих налогов, сборов","0113","1800102040","852",2300]
["Реализация программных мероприятий","0113","1800129900",null,14568600]
["Фонд оплаты труда учреждений","0113","1800129900","111",10956845.52]
["Взносы по обязательному социальному страхованию на выплаты по оплате труда работников и иные выплаты работникам учреждений","0113","1800129900","119",2443000]
["Прочая закупка товаров, работ и услуг для обеспечения государственных (муниципальных) нужд","0113","1800129900","244",1166754.48]
["Уплата прочих налогов, сборов","0113","1800129900","852",2000]
["Программа по реализации государственной национальной политики в Кукморском муниципальном районе на 2015-2020 годы","0113","2000000000",null,80000]
["Основное мероприятие «Реализация государственной национальной политики в Республике Татарстан, цивилизованное развитие представителей народов, проживающих на территории Республики Татарстан, сохранение межэтнического и межконфессионального мира и согласия, упрочение общероссийской гражданской идентичности (российской нации), успешная социокультурная адаптация и интеграция мигрантов»","0113","2000100000",null,80000]
["Реализация программных мероприятий200","0113","2000110990",null,80000]
["Иные выплаты, за исключением фонда оплаты труда учреждений, лицам, привлекаемым согласно законодательству для выполнения отдельных полномочий","0113","2000110990","113",80000]
["Муниципальная программа «Реализация антикоррупционной политики в Кукморском муниципальном районе Республики Татарстан на 2015-2020 годы»","0113","2700000000",null,5000]
["Основное мероприятие \"Выявление и устранение причин коррупции, противодействие условиям, способствующим ее проявлениям, формирование в обществе нетерпимого отношения к коррупции\"","0113","2700100000",null,5000]
["Реализация программных мероприятий270","0113","2700110990",null,5000]
["Иные выплаты, за исключением фонда оплаты труда учреждений, лицам, привлекаемым согласно законодательству для выполнения отдельных полномочий","0113","2700110990","113",5000]
["Непрограммные направления расходов","0113","9900000000",null,5825626.8300000001]
["Центральный аппарат","0113","9900002040",null,3000]
["Уплата прочих налогов, сборов","0113","9900002040","852",3000]
["Уплата налога на имущество организаций и земельного налога","0113","9900002950",null,546247]
["Уплата налога на имущество организаций и земельного налога","0113","9900002950","851",546247]
["Реализация государственных полномочий по образованию и организации деятельности комиссий по делам несовершеннолетних и защите их прав","0113","9900025260",null,715500]
["Фонд оплаты труда учреждений","0113","9900025260","111",518240]
["Взносы по обязательному социальному страхованию на выплаты по оплате труда работников и иные выплаты работникам учреждений","0113","9900025260","119",156560]
["Прочая закупка товаров, работ и услуг для обеспечения государственных (муниципальных) нужд","0113","9900025260","244",40700]
["Реализация государственных полномочий по образованию и организации деятельности административных комиссий","0113","9900025270",null,363500]
["Фонд оплаты труда учреждений","0113","9900025270","111",279190]
["Взносы по обязательному социальному страхованию на выплаты по оплате труда работников и иные выплаты работникам учреждений","0113","9900025270","119",84310]
["Реализация государственных полномочий в области архивного дела","0113","9900025340",null,66400]
["Прочая закупка товаров, работ и услуг для обеспечения государственных (муниципальных) нужд","0113","9900025340","244",66400]
["Реализация государственных полномочий по определению перечня должностных лиц, уполномоченных составлять протоколы об административных правонарушениях","0113","9900025350",null,500]
["Фонд оплаты труда учреждений","0113","9900025350","111",500]
["Реализация государственных полномочий по распоряжению земельными участками, государственная собственность на которые не разграничена","0113","9900025400",null,1400]
["Фонд оплаты труда государственных (муниципальных) органов","0113","9900025400","121",1080]
["Взносы по обязательному социальному страхованию на выплаты денежного содержания и иные выплаты работникам государственных (муниципальных) органов","0113","9900025400","129",320]
["Государственная регистрация актов гражданского состояния за счет средств федерального бюджета","0113","9900059300",null,2707200]
["Фонд оплаты труда государственных (муниципальных) органов","0113","9900059300","121",900000]
["Иные выплаты персоналу государственных (муниципальных) органов, за исключением фонда оплаты труда","0113","9900059300","122",20000]
["Взносы по обязательному социальному страхованию на выплаты денежного содержания и иные выплаты работникам государственных (муниципальных) органов","0113","9900059300","129",272000]
["Прочая закупка товаров, работ и услуг для обеспечения государственных (муниципальных) нужд","0113","9900059300","244",1515200]
["Обеспечение деятельности подведомственных учреждений","0113","9900092990",null,852595.91]
["Прочая закупка товаров, работ и услуг для обеспечения государственных (муниципальных) нужд","0113","9900092990","244",602595.91]
["Исполнение судебных актов Российской Федерации и мировых соглашений по возмещению причиненного вреда","0113","9900092990","831",250000]
["Диспансеризация муниципальных служащих","0113","9900097071",null,569283.92000000004]
["Прочая закупка товаров, работ и услуг для обеспечения государственных (муниципальных) нужд","0113","9900097071","244",569283.92000000004]
["НАЦИОНАЛЬНАЯ ОБОРОНА","0200",null,null,2764900]
["Мобилизационная и вневойсковая подготовка","0203",null,null,2764900]
["Непрограммные направления расходов","0203","9900000000",null,2764900]
["Осуществление первичного воинского учета на территориях, где отсутствуют военные комиссариаты за счет средств федерального бюджета","0203","9900051180",null,2764900]
["Субвенции","0203","9900051180","530",2764900]
["НАЦИОНАЛЬНАЯ БЕЗОПАСНОСТЬ И ПРАВООХРАНИТЕЛЬНАЯ ДЕЯТЕЛЬНОСТЬ","0300",null,null,2142900]
["Защита населения и территории от чрезвычайных ситуаций природного и техногенного характера, гражданская оборона","0309",null,null,1621600]
["Муниципальная программа «Защита населения и территорий от чрезвычайных ситуаций, обеспечение пожарной безопасности и безопасности людей на водных объектах в Кукморском муниципальном районе Республики Татарстан на 2018 - 2020 годы»","0309","0700000000",null,1621600]
["Муниципальная программа «Защита населения и территорий от чрезвычайных ситуаций, обеспечение пожарной безопасности и безопасности людей на водных объектах в Кукморском муниципальном районе Республики Татарстан на 2018 - 2020 годы»","0309","0700000000",null,1587325.17]
["Мероприятия по предупреждению и ликвидации последствий чрезвычайных ситуаций и стихийных бедствий","0309","0700007420",null,100000]
["Прочая закупка товаров, работ и услуг для обеспечения государственных (муниципальных) нужд","0309","0700007420","244",100000]
["Управление организацией и проведением мероприятий в области гражданской обороны и защиты в чрезвычайных ситуациях","0309","0700022670",null,1487325.17]
["Фонд оплаты труда учреждений","0309","0700022670","111",845200]
["Взносы по обязательному социальному страхованию на выплаты по оплате труда работников и иные выплаты работникам учреждений","0309","0700022670","119",258525.17]
["Прочая закупка товаров, работ и услуг для обеспечения государственных (муниципальных) нужд","0309","0700022670","244",383600]
["Подпрограмма «Снижение рисков и смягчение последствий чрезвычайных ситуаций природного и техногенного характера в Кукморском муниципальном районе Республики Татарстан на 2018 - 2020 годы»","0309","0720000000",null,34274.83]
["Основное мероприятие \"Повышение эффективности управления в области гражданской обороны, предупреждения и ликвидации чрезвычайных ситуаций\"","0309","0720100000",null,34274.83]
["Управление организацией и проведением мероприятий в области гражданской обороны и защиты в чрезвычайных ситуациях","0309","0720122670",null,34274.83]
["Фонд оплаты труда учреждений","0309","0720122670","111",28800]
["Взносы по обязательному социальному страхованию на выплаты по оплате труда работников и иные выплаты работникам учреждений","0309","0720122670","119",5474.83]
["Другие вопросы в области национальной безопасности и правоохранительной деятельности","0314",null,null,521300]
["Муниципальная программа «Обеспечение общественного порядка и противодействие преступности в Кукморском муниципальном районе на 2018– 2020 годы»","0314","0600000000",null,521300]
["Подпрограмма \"Организация деятельности по профилактике правонарушений и преступлений в Республике Татарстан на 2014 – 2020 годы\"","0314","0610000000",null,521300]
["Основное мероприятие \"Совершенствование деятельности по профилактике правонарушений и преступлений\"","0314","0610100000",null,521300]
["Реализация программных мероприятий","0314","0610110990",null,521300]
["Фонд оплаты труда учреждений","0314","0610110990","111",334000]
["Взносы по обязательному социальному страхованию на выплаты по оплате труда работников и иные выплаты работникам учреждений","0314","0610110990","119",101000]
["Прочая закупка товаров, работ и услуг для обеспечения государственных (муниципальных) нужд","0314","0610110990","244",86300]
["НАЦИОНАЛЬНАЯ ЭКОНОМИКА","0400",null,null,31086916.23]
["Сельское хозяйство и рыболовство","0405",null,null,1967100]
["Государственная программа \"Развитие сельского хозяйства и регулирование рынков сельскохозяйственной продукции, сырья и продовольствия в Республике Татарстан на 2013 – 2020 годы\"","0405","1400000000",null,1967100]
["Подпрограмма \"Развитие подотрасли животноводства, переработки и реализации продукции животноводства\"","0405","1420000000",null,1967100]
[null,"0405","1420900000",null,1967100]
["Субвенции на реализацию госполномочий в сфере организации проведения мероприятий по предупреждению и ликвидации болезней животных и их лечению","0405","1420925360",null,1967100]
["Прочая закупка товаров, работ и услуг для обеспечения государственных (муниципальных) нужд","0405","1420925360","244",1967100]
["Водное хозяйство","0406",null,null,223900]
["Непрограммные направления расходов","0406","9900000000",null,223900]
["Расходы на содержание и ремонт гидротехнических сооружений","0406","9900090430",null,223900]
["Прочая закупка товаров, работ и услуг для обеспечения государственных (муниципальных) нужд","0406","9900090430","244",223900]
["Дорожное хозяйство (дорожные фонды)","0409",null,null,28895916.23]
["Основное мероприятие \"Благоустройство\"","0409","Б100000000",null,4072190]
["Строительство, содержание и ремонт автомобильных дорог и инженерных сооружений на них в границах городских округов и поселений в рамках благоустройства","0409","Б100078020",null,4072190]
["Прочая закупка товаров, работ и услуг для обеспечения государственных (муниципальных) нужд","0409","Б100078020","244",4072190]
[null,"0409","Д100000000",null,24823726.23]
["Строительство, реконструкция и ремонт (текущий и капитальный) автомобильных дорог за счет муниципального Дорожного фонда","0409","Д100003650",null,24823726.23]
["Прочая закупка товаров, работ и услуг для обеспечения государственных (муниципальных) нужд","0409","Д100003650","244",24823726.23]
["ЖИЛИЩНО-КОММУНАЛЬНОЕ ХОЗЯЙСТВО","0500",null,null,13979227.35]
["Жилищное хозяйство","0501",null,null,11324227.35]
["Муниципальная программа «Обеспечение качественным жильем и услугами жилищно-коммунального хозяйства населения, благоустройства территории Кукморского муниципального района Республики Татарстан на 2018 - 2020 годы»","0501","0400000000",null,11324227.35]
["Подпрограмма «Реализация мероприятий муниципальной программы капитального ремонта общего имущества в многоквартирных домах, расположенных на территории Кукморского муниципального района Республики Татарстан в 2018 - 2020 годах»","0501","0450000000",null,4388000]
["Основное мероприятие \"Организация своевременного проведения капитального ремонта общего имущества в многоквартирных домах\"","0501","0450100000",null,4388000]
["Обеспечение мероприятий по капитальному ремонту многоквартирных домов и переселению граждан из аварийного жилищного фонда за счет средств бюджета Республики Татарстан и бюджета Кукморского муниципального района","0501","0450196010",null,4388000]
["Субсидии (гранты в форме субсидий) на финансовое обеспечение затрат в связи с производством (реализацией) товаров, выполнением работ, оказанием услуг, порядком (правилами) предоставления которых установлено требование о последующем подтверждении их использования в соответствии с условиями и (или) целями предоставления","0501","0450196010","632",4388000]
["Подпрограмма «Реализация муниципальной политики в сфере архитектуры, градо-строительства, строительства, промышленности строительных материалов, в жилищной сфере и коммунальном хозяйстве на 2018 - 2020 годы»","0501","0480000000",null,6936227.3499999996]
["Основное мероприятие \"Другие мероприятия в области жилищно-коммунального хозяйства \"","0501","0480400000",null,6936227.3499999996]
["Мероприятия в области жилищно-коммунального хозяйства","0501","0480476040",null,6936227.3499999996]
["Прочая закупка товаров, работ и услуг для обеспечения государственных (муниципальных) нужд","0501","0480476040","244",6936227.3499999996]
["Благоустройство","0503",null,null,2655000]
["Муниципальная программа «Обеспечение качественным жильем и услугами жилищно-коммунального хозяйства населения, благоустройства территории Кукморского муниципального района Республики Татарстан на 2018 - 2020 годы»","0503","0400000000",null,1155000]
["Подпрограмма «Благоустройство территории Кукморского муниципального района на 2018– 2020 годы»","0503","0490000000",null,1155000]
["Основное мероприятие \"Благоустройство\"","0503","0490200000",null,1155000]
["Организация и содержаение мест захоронения","0503","0490278040",null,1155000]
["Прочая закупка товаров, работ и услуг для обеспечения государственных (муниципальных) нужд","0503","0490278040","244",1155000]
["Муниципальная программа «Обеспечение общественного порядка и противодействие преступности в Кукморском муниципальном районе на 2018– 2020 годы»","0503","0600000000",null,1500000]
["Подпрограмма «Повышение безопасности дорожного движения в Кукморском муниципальном районе на 2015-2020 годы»","0503","0620000000",null,1500000]
["Основное мероприятие \"Обеспечение безопасности дорожного движения, сокращение смертности от дорожно-транспортных происшествий и количества дорожно-транспортных происшествий с пострадавшими\"","0503","0620100000",null,1500000]
["Реализация программных мероприятий062","0503","0620178020",null,1500000]
["Прочая закупка товаров, работ и услуг для обеспечения государственных (муниципальных) нужд","0503","0620178020","244",1500000]
["ОХРАНА ОКРУЖАЮЩЕЙ СРЕДЫ","0600",null,null,1058000]
["Охрана объектов растительного и животного мира и среды их обитания","0603",null,null,1058000]
["Муниципальная программа «Охрана окружающей среды, воспроизводство и использование природных ресурсов Кукморского муниципального района Республики Татарстан на 2018 – 2020 год»","0603","0900000000",null,1058000]
["Подпрограмма \"Регулирование качества окружающей среды Кукморского муниципального района на 2018 – 2020год\"","0603","0910000000",null,1058000]
["Основное мероприятие \"Обеспечение охраны окружающей среды\"","0603","0910100000",null,1058000]
["Мероприятия по регулированию качества окружающей среды","0603","0910119100",null,1058000]
["Прочая закупка товаров, работ и услуг для обеспечения государственных (муниципальных) нужд","0603","0910119100","244",1058000]
["ОБРАЗОВАНИЕ","0700",null,null,928251475.89999998]
["Дошкольное образование","0701",null,null,208945989.08000001]
["Муниципальная программа «Развитие образования Кукморского муниципального района Республики Татарстан на 2018-2020 годы»","0701","0200000000",null,208105989.08000001]
["Подпрограмма «Развитие дошкольного образования на 2018-2020 годы»","0701","0210000000",null,208105989.08000001]
["Основное мероприятие \"Обеспечение государственных гарантий реализации прав на получение общедоступного и бесплатного дошкольного образования в муниципальных дошкольных образовательных организациях\"","0701","0210100000",null,83576801]
["Реализация государственных полномочий на обеспечение государственных гарантий реализации прав на получение общедоступного и бесплатного дошкольного образования в муниципальных дошкольных образовательных организациях","0701","0210125370",null,83576801]
["Субсидии бюджетным учреждениям на финансовое обеспечение государственного (муниципального) задания на оказание государственных (муниципальных) услуг (выполнение работ)","0701","0210125370","611",83576801]
["Основное мероприятие \"Реализация дошкольного образования в образовательных организациях\"","0701","0210300000",null,124529188.08]
["Развитие дошкольных образовательных учреждений","0701","0210342000",null,124529188.08]
["Субсидии бюджетным учреждениям на финансовое обеспечение государственного (муниципального) задания на оказание государственных (муниципальных) услуг (выполнение работ)","0701","0210342000","611",119237061.53]
["Субсидии бюджетным учреждениям на иные цели","0701","0210342000","612",5292126.55]
["Муниципальная программа «Обеспечение общественного порядка и противодействие преступности в Кукморском муниципальном районе на 2018– 2020 годы»","0701","0600000000",null,840000]
["Подпрограмма «Профилактика терроризма и экстремизма в Кукморском муниципальном районе на 2018 - 2020гг.»","0701","0630000000",null,840000]
["Основное мероприятие \"Профилактика терроризма и экстремизма\"","0701","0630100000",null,840000]
["Реализация программных мероприятий063","0701","0630110990",null,840000]
["Субсидии бюджетным учреждениям на финансовое обеспечение государственного (муниципального) задания на оказание государственных (муниципальных) услуг (выполнение работ)","0701","0630110990","611",840000]
["Общее образование","0702",null,null,582752742.87]
["Муниципальная программа «Развитие образования Кукморского муниципального района Республики Татарстан на 2018-2020 годы»","0702","0200000000",null,581408742.87]
["Подпрограмма «Развитие дошкольного образования на 2018-2020 годы»","0702","0210000000",null,24289675.629999999]
["Основное мероприятие \"Обеспечение государственных гарантий реализации прав на получение общедоступного и бесплатного дошкольного образования в муниципальных дошкольных образовательных организациях\"","0702","0210100000",null,12936399]
["Реализация государственных полномочий на обеспечение государственных гарантий реализации прав на получение общедоступного и бесплатного дошкольного образования в муниципальных дошкольных образовательных организациях","0702","0210125370",null,12936399]
["Субсидии бюджетным учреждениям на финансовое обеспечение государственного (муниципального) задания на оказание государственных (муниципальных) услуг (выполнение работ)","0702","0210125370","611",12936399]
["Основное мероприятие \"Реализация дошкольного образования в образовательных организациях\"","0702","0210300000",null,11353276.630000001]
["Развитие дошкольных образовательных учреждений","0702","0210342000",null,11353276.630000001]
["Субсидии бюджетным учреждениям на финансовое обеспечение государственного (муниципального) задания на оказание государственных (муниципальных) услуг (выполнение работ)","0702","0210342000","611",11353276.630000001]
["Подпрограмма «Развитие общего образования на 2018-2020 годы»","0702","0220000000",null,557119067.24000001]
["Основное мероприятие \"Реализация общего образования в государственных образовательных организациях\"","0702","0220200000",null,268513267.24000001]
["Развитие общеобразовательных организаций, включая школы – детские сады","0702","0220242100",null,268513267.24000001]
["Субсидии бюджетным учреждениям на финансовое обеспечение государственного (муниципального) задания на оказание государственных (муниципальных) услуг (выполнение работ)","0702","0220242100","611",262314632.49000001]
["Субсидии бюджетным учреждениям на иные цели","0702","0220242100","612",6198634.75]
["Основное мероприятие «Обеспечение государственных гарантий реализации прав на получение общедоступного и бесплатного дошкольного, начального общего, основного общего, среднего общего образования в муниципальных общеобразовательных организациях, обеспечение дополнительного образования детей в муниципальных общеобразовательных организациях»","0702","0220800000",null,288605800]
["Обеспечение государственных гарантий реализации прав на получение общедоступного и бесплатного дошкольного, начального общего, основного общего, среднего общего образования в муниципальных общеобразовательных организациях, обеспечение дополнительного образования детей в муниципальных общеобразовательных организациях","0702","0220825280",null,288605800]
["Субсидии бюджетным учреждениям на финансовое обеспечение государственного (муниципального) задания на оказание государственных (муниципальных) услуг (выполнение работ)","0702","0220825280","611",288605800]
["Муниципальная программа «Обеспечение общественного порядка и противодействие преступности в Кукморском муниципальном районе на 2018– 2020 годы»","0702","0600000000",null,1344000]
["Подпрограмма «Профилактика терроризма и экстремизма в Кукморском муниципальном районе на 2018 - 2020гг.»","0702","0630000000",null,1344000]
["Основное мероприятие \"Профилактика терроризма и экстремизма\"","0702","0630100000",null,1344000]
["Реализация программных мероприятий063","0702","0630110990",null,1344000]
["Субсидии бюджетным учреждениям на финансовое обеспечение государственного (муниципального) задания на оказание государственных (муниципальных) услуг (выполнение работ)","0702","0630110990","611",1344000]
["Дополнительное образование детей","0703",null,null,104045839.97]
["Муниципальная программа «Развитие образования Кукморского муниципального района Республики Татарстан на 2018-2020 годы»","0703","0200000000",null,103988156.92]
["Подпрограмма «Развитие дополнительного образования на 2018-2020 годы»","0703","0230000000",null,103988156.92]
["Основное мероприятие \"Организация предоставления дополнительного образования детей в государственных образовательных организациях\"","0703","0230100000",null,103988156.92]
["Развитие муниципальных учреждений дополнительного образования детей многопрофильной направленности","0703","0230142310",null,29860675.100000001]
["Субсидии бюджетным учреждениям на финансовое обеспечение государственного (муниципального) задания на оказание государственных (муниципальных) услуг (выполнение работ)","0703","0230142310","611",29836219.170000002]
["Субсидии бюджетным учреждениям на иные цели","0703","0230142310","612",24455.93]
["Развитие муниципальных учреждений дополнительного образования детей художественно-эстетической направленности","0703","0230142320",null,22297058.600000001]
["Субсидии бюджетным учреждениям на финансовое обеспечение государственного (муниципального) задания на оказание государственных (муниципальных) услуг (выполнение работ)","0703","0230142320","611",22297058.600000001]
["Развитие муниципальных учреждений дополнительного образования детей спортивной направленности","0703","0230142330",null,51830423.219999999]
["Субсидии бюджетным учреждениям на финансовое обеспечение государственного (муниципального) задания на оказание государственных (муниципальных) услуг (выполнение работ)","0703","0230142330","611",51830423.219999999]
["Муниципальная программа «Обеспечение общественного порядка и противодействие преступности в Кукморском муниципальном районе на 2018– 2020 годы»","0703","0600000000",null,48000]
["Подпрограмма «Профилактика терроризма и экстремизма в Кукморском муниципальном районе на 2018 - 2020гг.»","0703","0630000000",null,48000]
["Основное мероприятие \"Профилактика терроризма и экстремизма\"","0703","0630100000",null,48000]
["Реализация программных мероприятий063","0703","0630110990",null,48000]
["Субсидии бюджетным учреждениям на финансовое обеспечение государственного (муниципального) задания на оказание государственных (муниципальных) услуг (выполнение работ)","0703","0630110990","611",48000]
["Муниципальная программа «Развитие молодежной политики, физической культуры и спорта в Кукморском муниципальном районе Республики Татарстан на 2018 – 2020 годы»","0703","1000000000",null,9683.0499999999993]
["Подпрограмма «Развитие физической культуры и спорта в Кукморском муниципальном районе Республики Татарстан на 2018 – 2020 годы»","0703","1010000000",null,9683.0499999999993]
["Основное мероприятие \"Реализация муниципальной политики в области физической культуры и спорта в Кукморском муниципальном районе\"","0703","1010100000",null,9683.0499999999993]
["Мероприятия, направленные на поддержку тренеров-преподавателей и спортсменов-инструкторов, работающих в учреждениях по внешкольной работе с детьми за высокие результаты","0703","1010142330",null,9683.0499999999993]
["Субсидии бюджетным учреждениям на финансовое обеспечение государственного (муниципального) задания на оказание государственных (муниципальных) услуг (выполнение работ)","0703","1010142330","611",9683.0499999999993]
["Молодежная политика","0707",null,null,22347400]
["Муниципальная программа «Обеспечение общественного порядка и противодействие преступности в Кукморском муниципальном районе на 2018– 2020 годы»","0707","0600000000",null,1000]
["Подпрограмма «Профилактика терроризма и экстремизма в Кукморском муниципальном районе на 2018 - 2020гг.»","0707","0630000000",null,1000]
["Основное мероприятие \"Профилактика терроризма и экстремизма\"","0707","0630100000",null,1000]
["Реализация программных мероприятий063","0707","0630110990",null,1000]
["Иные выплаты, за исключением фонда оплаты труда учреждений, лицам, привлекаемым согласно законодательству для выполнения отдельных полномочий","0707","0630110990","113",1000]
["Муниципальная программа «Развитие молодежной политики, физической культуры и спорта в Кукморском муниципальном районе Республики Татарстан на 2018 – 2020 годы»","0707","1000000000",null,22127400]
["Подпрограмма \"Организация отдыха детей и молодежи, их оздоровления и занятости на 2018– 2020 годы»","0707","1020000000",null,6898500]
["Основное мероприятие \"Создание условий для организации отдыха детей и молодежи, их оздоровления, обеспечение их занятости и повышение оздоровительного эффекта\"","0707","1020100000",null,6898500]
["Мероприятия по организации отдыха, оздоровления, занятости детей и молодежи","0707","1020121320",null,6898500]
["Иные выплаты, за исключением фонда оплаты труда учреждений, лицам, привлекаемым согласно законодательству для выполнения отдельных полномочий","0707","1020121320","113",6898500]
["Подпрограмма «Сельская молодежь Кукморского муниципального района Республики Татарстан на 2018– 2020 годы»","0707","1040000000",null,15228900]
["Основное мероприятие \"Развитие государственной молодежной политики в Кукморском муниципальном районе\"","0707","1040100000",null,15228900]
["Обеспечение деятельности  учреждений молодежной политики","0707","1040143190",null,15228900]
["Субсидии бюджетным учреждениям на финансовое обеспечение государственного (муниципального) задания на оказание государственных (муниципальных) услуг (выполнение работ)","0707","1040143190","611",15228900]
["Программа по реализации государственной национальной политики в Кукморском муниципальном районе на 2015-2020 годы","0707","2000000000",null,198000]
["Основное мероприятие «Реализация государственной национальной политики в Республике Татарстан, цивилизованное развитие представителей народов, проживающих на территории Республики Татарстан, сохранение межэтнического и межконфессионального мира и согласия, упрочение общероссийской гражданской идентичности (российской нации), успешная социокультурная адаптация и интеграция мигрантов»","0707","2000100000",null,198000]
["Реализация программных мероприятий200","0707","2000110990",null,198000]
["Иные выплаты персоналу учреждений, за исключением фонда оплаты труда","0707","2000110990","112",25000]
["Иные выплаты, за исключением фонда оплаты труда учреждений, лицам, привлекаемым согласно законодательству для выполнения отдельных полномочий","0707","2000110990","113",80200]
["Прочая закупка товаров, работ и услуг для обеспечения государственных (муниципальных) нужд","0707","2000110990","244",92800]
["Муниципальная программа «Реализация антикоррупционной политики в Кукморском муниципальном районе Республики Татарстан на 2015-2020 годы»","0707","2700000000",null,21000]
["Основное мероприятие \"Выявление и устранение причин коррупции, противодействие условиям, способствующим ее проявлениям, формирование в обществе нетерпимого отношения к коррупции\"","0707","2700100000",null,21000]
["Реализация программных мероприятий270","0707","2700110990",null,21000]
["Иные выплаты, за исключением фонда оплаты труда учреждений, лицам, привлекаемым согласно законодательству для выполнения отдельных полномочий","0707","2700110990","113",21000]
["Другие вопросы в области образования","0709",null,null,10159503.98]
["Муниципальная программа «Развитие образования Кукморского муниципального района Республики Татарстан на 2018-2020 годы»","0709","0200000000",null,9874992.1899999995]
["Подпрограмма «Развитие общего образования на 2018-2020 годы»","0709","0220000000",null,5259800]
["Основное мероприятие «Обеспечение государственных гарантий реализации прав на получение общедоступного и бесплатного дошкольного, начального общего, основного общего, среднего общего образования в муниципальных общеобразовательных организациях, обеспечение дополнительного образования детей в муниципальных общеобразовательных организациях»","0709","0220800000",null,5259800]
["Реализация государственных полномочий в области образования (ИМЦ)","0709","0220825301",null,5259800]
["Фонд оплаты труда учреждений","0709","0220825301","111",3772126]
["Иные выплаты персоналу учреждений, за исключением фонда оплаты труда","0709","0220825301","112",32000]
["Иные выплаты, за исключением фонда оплаты труда учреждений, лицам, привлекаемым согласно законодательству для выполнения отдельных полномочий","0709","0220825301","113",40000]
["Взносы по обязательному социальному страхованию на выплаты по оплате труда работников и иные выплаты работникам учреждений","0709","0220825301","119",1139200]
["Прочая закупка товаров, работ и услуг для обеспечения государственных (муниципальных) нужд","0709","0220825301","244",276474]
["Подпрограмма «Развитие системы оценки качества образования на 2018-2020 годы»","0709","0250000000",null,4615192.1900000004]
["Основное мероприятие \"Содержание прочих учреждений образования\"","0709","0250200000",null,4615192.1900000004]
["Учебно-методические кабинеты, централизованные бухгалтерии, группы хозяйственного обслуживания, учебные фильмотеки, межшкольные учебно-производственные комбинаты, логопедические пункты","0709","0250242520",null,4615192.1900000004]
["Фонд оплаты труда учреждений","0709","0250242520","111",1641000]
["Иные выплаты персоналу учреждений, за исключением фонда оплаты труда","0709","0250242520","112",479744.7]
["Иные выплаты, за исключением фонда оплаты труда учреждений, лицам, привлекаемым согласно законодательству для выполнения отдельных полномочий","0709","0250242520","113",282062]
["Взносы по обязательному социальному страхованию на выплаты по оплате труда работников и иные выплаты работникам учреждений","0709","0250242520","119",430392.08]
["Прочая закупка товаров, работ и услуг для обеспечения государственных (муниципальных) нужд","0709","0250242520","244",1755749.41]
["Уплата налога на имущество организаций и земельного налога","0709","0250242520","851",17000]
["Уплата прочих налогов, сборов","0709","0250242520","852",9244]
["Муниципальная программа улучшения условий и охраны труда в Кукморском муниципальном районе на 2018– 2020 годы","0709","0500000000",null,10000]
["Подпрограмма улучшения условий и охраны труда в Кукморском муниципальном районе на 2018 - 2020 годы","0709","0520000000",null,10000]
["Основное мероприятие \"Реализация мероприятий в области охраны труда\"","0709","0520100000",null,10000]
["Мероприятия по улучшению условий и охраны труда","0709","0520115500",null,10000]
["Иные выплаты, за исключением фонда оплаты труда учреждений, лицам, привлекаемым согласно законодательству для выполнения отдельных полномочий","0709","0520115500","113",10000]
["Муниципальная программа «Обеспечение общественного порядка и противодействие преступности в Кукморском муниципальном районе на 2018– 2020 годы»","0709","0600000000",null,3500]
["Подпрограмма «Профилактика терроризма и экстремизма в Кукморском муниципальном районе на 2018 - 2020гг.»","0709","0630000000",null,3500]
["Основное мероприятие \"Профилактика терроризма и экстремизма\"","0709","0630100000",null,3500]
["Реализация программных мероприятий063","0709","0630110990",null,3500]
["Иные выплаты, за исключением фонда оплаты труда учреждений, лицам, привлекаемым согласно законодательству для выполнения отдельных полномочий","0709","0630110990","113",3500]
["Программа по реализации государственной национальной политики в Кукморском муниципальном районе на 2015-2020 годы","0709","2000000000",null,261011.79]
["Основное мероприятие «Реализация государственной национальной политики в Республике Татарстан, цивилизованное развитие представителей народов, проживающих на территории Республики Татарстан, сохранение межэтнического и межконфессионального мира и согласия, упрочение общероссийской гражданской идентичности (российской нации), успешная социокультурная адаптация и интеграция мигрантов»","0709","2000100000",null,261011.79]
["Реализация программных мероприятий200","0709","2000110990",null,261011.79]
["Иные выплаты, за исключением фонда оплаты труда учреждений, лицам, привлекаемым согласно законодательству для выполнения отдельных полномочий","0709","2000110990","113",261011.79]
["Муниципальная программа «Реализация антикоррупционной политики в Кукморском муниципальном районе Республики Татарстан на 2015-2020 годы»","0709","2700000000",null,10000]
["Основное мероприятие \"Выявление и устранение причин коррупции, противодействие условиям, способствующим ее проявлениям, формирование в обществе нетерпимого отношения к коррупции\"","0709","2700100000",null,10000]
["Реализация программных мероприятий270","0709","2700110990",null,10000]
["Иные выплаты, за исключением фонда оплаты труда учреждений, лицам, привлекаемым согласно законодательству для выполнения отдельных полномочий","0709","2700110990","113",10000]
["КУЛЬТУРА, КИНЕМАТОГРАФИЯ","0800",null,null,142428962.66999999]
["Культура","0801",null,null,142428962.66999999]
["Муниципальная программа «Обеспечение общественного порядка и противодействие преступности в Кукморском муниципальном районе на 2018– 2020 годы»","0801","0600000000",null,3500]
["Подпрограмма «Профилактика терроризма и экстремизма в Кукморском муниципальном районе на 2018 - 2020гг.»","0801","0630000000",null,3500]
["Основное мероприятие \"Профилактика терроризма и экстремизма\"","0801","0630100000",null,3500]
["Реализация программных мероприятий063","0801","0630110990",null,3500]
["Субсидии бюджетным учреждениям на финансовое обеспечение государственного (муниципального) задания на оказание государственных (муниципальных) услуг (выполнение работ)","0801","0630110990","611",3500]
["Муниципальная программа «Развитие культуры Кукморского муниципального района Республики Татарстан на 2018 - 2020 годы»","0801","0800000000",null,142413462.66999999]
["Подпрограмма «Развитие музейного дела на 2018 – 2020 годы»","0801","0810000000",null,3993276.15]
["Основное мероприятие \"Комплексное развитие музеев\"","0801","0810100000",null,3993276.15]
["Обеспечение деятельности подведомственных учреждений культуры","0801","0810144090",null,3993276.15]
["Субсидии бюджетным учреждениям на финансовое обеспечение государственного (муниципального) задания на оказание государственных (муниципальных) услуг (выполнение работ)","0801","0810144090","611",3972058.2]
["Субсидии бюджетным учреждениям на иные цели","0801","0810144090","612",21217.95]
["Подпрограмма «Развитие библиотечного дела на 2018 – 2020 годы»","0801","0830000000",null,25772306.620000001]
["Основное мероприятие \"Развитие системы библиотечного обслуживания\"","0801","0830100000",null,25772306.620000001]
["Обеспечение деятельности подведомственных учреждений культуры","0801","0830144090",null,25772306.620000001]
["Субсидии бюджетным учреждениям на финансовое обеспечение государственного (муниципального) задания на оказание государственных (муниципальных) услуг (выполнение работ)","0801","0830144090","611",25710518.57]
["Субсидии бюджетным учреждениям на иные цели","0801","0830144090","612",61788.05]
["Подпрограмма «Развитие клубов на 2018 – 2020 годы»","0801","0840000000",null,105980819.90000001]
["Основное мероприятие \"Развитие клубных учреждений\"","0801","0840100000",null,105980819.90000001]
["Обеспечение деятельности подведомственных учреждений культуры","0801","0840144091",null,105980819.90000001]
["Субсидии бюджетным учреждениям на финансовое обеспечение государственного (муниципального) задания на оказание государственных (муниципальных) услуг (выполнение работ)","0801","0840144091","611",105587709.23]
["Субсидии бюджетным учреждениям на иные цели","0801","0840144091","612",393110.67]
["Подпрограмма \"Развитие системы государственного управления отрасли на 2014 – 2020 годы\"","0801","08Ж0000000",null,6667060]
["Основное мероприятие \"Обеспечение реализации государственной политики и регулирования отношений в сфере культуры, искусства, кинематографии, охраны и использования объектов культурного наследия\"","0801","08Ж0100000",null,6667060]
["Мероприятия в сфере культуры и кинематографии","0801","08Ж0144100",null,6667060]
["Субсидии бюджетным учреждениям на иные цели","0801","08Ж0144100","612",6667060]
["Муниципальная программа «Реализация антикоррупционной политики в Кукморском муниципальном районе Республики Татарстан на 2015-2020 годы»","0801","2700000000",null,12000]
["Основное мероприятие \"Выявление и устранение причин коррупции, противодействие условиям, способствующим ее проявлениям, формирование в обществе нетерпимого отношения к коррупции\"","0801","2700100000",null,12000]
["Реализация программных мероприятий270","0801","2700110990",null,12000]
["Субсидии бюджетным учреждениям на финансовое обеспечение государственного (муниципального) задания на оказание государственных (муниципальных) услуг (выполнение работ)","0801","2700110990","611",12000]
["ЗДРАВООХРАНЕНИЕ","0900",null,null,779000]
["Санитарно-эпидемиологическое благополучие","0907",null,null,779000]
["Муниципальная программа «Развитие здравоохранения Кукморского муниципального района Республики Татарстан на 2018-2020 годы»","0907","0100000000",null,779000]
["Подпрограмма «Профилактика заболеваний и формирование здорового образа жизни. Развитие первичной медико-санитарной помощи»","0907","0110000000",null,779000]
["Основное мероприятие \"Профилактика инфекционных заболеваний, включая иммунопрофилактику\"","0907","0110200000",null,779000]
["Реализация государственных полномочий по организации осуществления мероприятий по проведению дезинфекции, дезинсекции и дератизации, санитарно-противоэпидемических (профилактических) мероприятий, проводимых с применением лабораторных методов исследования, в очагах инфекционных заболеваний, а также на территориях и в помещениях, где имеются и сохраняются условия для возникновения или распространения инфекционных заболеваний","0907","0110202110",null,779000]
["Прочая закупка товаров, работ и услуг для обеспечения государственных (муниципальных) нужд","0907","0110202110","244",779000]
["СОЦИАЛЬНАЯ ПОЛИТИКА","1000",null,null,20057600]
["Охрана семьи и детства","1004",null,null,20057600]
["Муниципальная программа «Социальная поддержка граждан Кукморского муниципального района Республики Татарстан» на 2018-2020 годы","1004","0300000000",null,20057600]
["Подпрограмма «Социальные выплаты» на 2018-2020 годы","1004","0310000000",null,8839200]
["Основное мероприятие \"Предоставление мер социальной поддержки отдельным категориям граждан, установленных федеральным и республиканским законодательством\"","1004","0310100000",null,515200]
["Мероприятия в области социальной политики","1004","0310105410",null,515200]
["Иные выплаты, за исключением фонда оплаты труда учреждений, лицам, привлекаемым согласно законодательству для выполнения отдельных полномочий","1004","0310105410","113",515200]
["Основное мероприятие \"Обеспечение питанием обучающихся в образовательных организациях\"","1004","0310200000",null,8324000]
["Оказание других видов социальной помощи","1004","0310205510",null,8324000]
["Субсидии бюджетным учреждениям на финансовое обеспечение государственного (муниципального) задания на оказание государственных (муниципальных) услуг (выполнение работ)","1004","0310205510","611",8324000]
["Подпрограмма \"Улучшение социально-экономического положения семей\" на 2015 – 2020 годы","1004","0350000000",null,11218400]
["Основное мероприятие \"Развитие системы мер социальной поддержки семей\"","1004","0350100000",null,11218400]
["Компенсация за присмотр и уход за ребенком в образовательных организациях, реализующих образовательную программу дошкольного образования","1004","0350113200",null,11218400]
["Пособия, компенсации, меры социальной поддержки по публичным нормативным обязательствам","1004","0350113200","313",11218400]
["ФИЗИЧЕСКАЯ КУЛЬТУРА И СПОРТ","1100",null,null,1383069]
["Массовый спорт","1102",null,null,1383069]
["Муниципальная программа «Социальная поддержка граждан Кукморского муниципального района Республики Татарстан» на 2018-2020 годы","1102","0300000000",null,385500]
["Подпрограмма Кукморского муниципального района \"Доступная среда на 2018-2020 годы\"","1102","0360000000",null,385500]
["Основное мероприятие \"Мероприятия по формированию доступной среды\"","1102","0360100000",null,385500]
["Мероприятия физической культуры и спорта в области массового спорта036","1102","0360112870",null,385500]
["Иные выплаты, за исключением фонда оплаты труда учреждений, лицам, привлекаемым согласно законодательству для выполнения отдельных полномочий","1102","0360112870","113",288462.5]
["Прочая закупка товаров, работ и услуг для обеспечения государственных (муниципальных) нужд","1102","0360112870","244",97037.5]
["Муниципальная программа «Развитие молодежной политики, физической культуры и спорта в Кукморском муниципальном районе Республики Татарстан на 2018 – 2020 годы»","1102","1000000000",null,582629]
["Подпрограмма «Развитие физической культуры и спорта в Кукморском муниципальном районе Республики Татарстан на 2018 – 2020 годы»","1102","1010000000",null,582629]
["Основное мероприятие \"Реализация муниципальной политики в области физической культуры и спорта в Кукморском муниципальном районе\"","1102","1010100000",null,582629]
["Мероприятия физической культуры и спорта в области массового спорта101","1102","1010112870",null,582629]
["Иные выплаты, за исключением фонда оплаты труда учреждений, лицам, привлекаемым согласно законодательству для выполнения отдельных полномочий","1102","1010112870","113",353207]
["Прочая закупка товаров, работ и услуг для обеспечения государственных (муниципальных) нужд","1102","1010112870","244",229422]
["Программа по реализации государственной национальной политики в Кукморском муниципальном районе на 2015-2020 годы","1102","2000000000",null,414940]
["Основное мероприятие «Реализация государственной национальной политики в Республике Татарстан, цивилизованное развитие представителей народов, проживающих на территории Республики Татарстан, сохранение межэтнического и межконфессионального мира и согласия, упрочение общероссийской гражданской идентичности (российской нации), успешная социокультурная адаптация и интеграция мигрантов»","1102","2000100000",null,414940]
["Реализация программных мероприятий200","1102","2000110990",null,414940]
["Иные выплаты, за исключением фонда оплаты труда учреждений, лицам, привлекаемым согласно законодательству для выполнения отдельных полномочий","1102","2000110990","113",414940]
["МЕЖБЮДЖЕТНЫЕ ТРАНСФЕРТЫ ОБЩЕГО ХАРАКТЕРА БЮДЖЕТАМ БЮДЖЕТНОЙ СИСТЕМЫ РОССИЙСКОЙ ФЕДЕРАЦИИ","1400",null,null,33450169]
["Дотации на выравнивание бюджетной обеспеченности субъектов Российской Федерации и муниципальных образований","1401",null,null,29654200]
["Непрограммные направления расходов","1401","9900000000",null,29654200]
["Предоставление субсидий бюджетам муниципальных районов на выравнивание бюджетной обеспеченности и предоставление иных межбюджетных трансфертов бюджетам поселений, входящих в состав муниципального района","1401","9900025040",null,3128900]
["Дотации на выравнивание бюджетной обеспеченности","1401","9900025040","511",3128900]
["Предоставление субсидий бюджетам муниципальных районов на выравнивание бюджетной обеспеченности и предоставление иных межбюджетных трансфертов бюджетам поселений, входящих в состав муниципального района","1401","9900080040",null,24217000]
["Дотации на выравнивание бюджетной обеспеченности","1401","9900080040","511",24217000]
["Предоставление субвенций бюджетам муниципальных районов на осуществление государственных полномочий Республики Татарстан по расчету и предоставлению дотаций бюджетам городских, сельских поселений за счет средств бюджета Республики Татарстан","1401","9900080060",null,2308300]
["Дотации на выравнивание бюджетной обеспеченности","1401","9900080060","511",2308300]
["Иные дотации","1402",null,null,2257600]
["Непрограммные направления расходов","1402","9900000000",null,2257600]
["Предоставление субсидий бюджетам муниципальных районов на выравнивание бюджетной обеспеченности и предоставление иных межбюджетных трансфертов бюджетам поселений, входящих в состав муниципального района","1402","9900080040",null,2257600]
["Иные дотации","1402","9900080040","512",2257600]
["Прочие межбюджетные трансферты общего характера","1403",null,null,1538369]
["Непрограммные направления расходов","1403","9900000000",null,1538369]
["Межбюджетные трансферты, передаваемые бюджетам муниципальных образований для компенсации дополнительных расходов, возникших в результате решений, принятых органами власти другого уровня","1403","9900025151",null,1538369]
["Иные межбюджетные трансферты","1403","9900025151","540",1538369]
[]
[]
["             Глава Района                                   С.Д.Димитриев"]

{"sheet":"9","index":9,"n_rows":589,"n_cols":8,"rows_kept":589,"cut":false,"hidden":true,"merged":[[5,0,5,5],[6,0,6,5],[7,0,7,5],[9,0,10,0],[9,1,10,1],[9,2,10,2],[9,3,10,3],[9,4,9,5]]}
[null,{"$f":"дата!$A$2&дата!$D$11","v":"Приложение №9"}]
[null,"к решению Кукморского"]
[null,"районного Совета"]
[null,{"$f":"дата!D1","v":"от08 декабря 2017 г. №131"}]
[]
["Распределение бюджетных ассигнований по разделам и подразделам,"]
["          целевым статьям и видам расходов классификации расходов бюджетов"]
["бюджета Кукморского муниципального района на плановый период 2019 и 2020 годов"]
[null,null,null,null,null,"(рублей)",{"$f":"SUBTOTAL(9,E15:E1816)","v":7746928029.9999981},{"$f":"SUBTOTAL(9,F15:F1816)","v":7819485489.9999981}]
["Наименование","Рз, ПР","ЦСР","ВР","Сумма"]
[null,null,null,null,"2019 год","2020 год"]
["Итого",null,null,null,{"$f":"E14+E186+E191+E216+E249+E279+E289+E466+E514+E521+E547+E566","v":1139593430.0000002},{"$f":"F14+F186+F191+F216+F249+F279+F289+F466+F514+F521+F547+F566","v":1151082390.0000002},{"$f":"E12-'11'!F11","v":-999.99999976158142},{"$f":"F12-'11'!G11","v":-999.99999976158142}]
[]
["ОБЩЕГОСУДАРСТВЕННЫЕ ВОПРОСЫ","0100",null,null,{"$f":"E15+E22+E37+E58+E62+E80+E76","v":51178260},{"$f":"F15+F22+F37+F58+F62+F80+F76","v":52644080}]
["Функционирование высшего должностного лица субъекта Российской Федерации и муниципального образования","0102",null,null,{"$f":"E16","v":1601000},{"$f":"F16","v":1601000}]
["Непрограммные направления расходов","0102","9900000000",null,{"$f":"E17+E20","v":1601000},{"$f":"F17+F20","v":1601000}]
["Глава муниципального района","0102","9900002030",null,{"$f":"SUM(E18:E19)","v":1601000},{"$f":"SUM(F18:F19)","v":1601000}]
["Фонд оплаты труда государственных (муниципальных) органов и взносы по обязательному социальному страхованию","0102","9900002030","121",{"$f":"SUMIF('11'!$H$18:$H$1925,B18&C18&A18,'11'!$F$18:$F$1925)","v":1230000},{"$f":"SUMIF('11'!$H$18:$H$1925,B18&C18&A18,'11'!$G$18:$G$1925)","v":1230000}]
["Взносы по обязательному социальному страхованию на выплату денежного содержания и иные выплаты работникам государственных (муниципальных) органов","0102","9900002030","129",{"$f":"SUMIF('11'!$H$18:$H$1925,B19&C19&A19,'11'!$F$18:$F$1925)","v":371000},{"$f":"SUMIF('11'!$H$18:$H$1925,B19&C19&A19,'11'!$G$18:$G$1925)","v":371000}]
["Межбюджетные трансферты, передаваемые бюджетам муниципальных образований для компенсации дополнительных расходов, возникших в результате решений, принятых органами власти другого уровня","0102","9900025151",null,{"$f":"E21","v":0},{"$f":"F21","v":0}]
["Иные межбюджетные трансферты","0102","9900025151","540",{"$f":"SUMIF('11'!$H$18:$H$1925,B21&C21&A21,'11'!$F$18:$F$1925)","v":0},{"$f":"SUMIF('11'!$H$18:$H$1925,B21&C21&A21,'11'!$G$18:$G$1925)","v":0}]
["Функционирование законодательных (представительных) органов государственной власти и представительных органов муниципальных образований","0103",null,null,{"$f":"E23+E29","v":5970000.0000000009},{"$f":"F23+F29","v":5970000.0000000009}]
["Государственная программа \"Развитие юстиции в Республике Татарстан на 2014 – 2020 годы\"","0103","2400000000",null,{"$f":"E24","v":0},{"$f":"F24","v":0}]
["Подпрограмма \"Реализация государственной политики в сфере юстиции в Республике Татарстан на 2014 – 2020 годы\"","0103","2410000000",null,{"$f":"E25","v":0},0]
["Основное мероприятие \"Осуществление политики в сфере юстиции в пределах полномочий Республики Татарстан\"","0103","2410100000",null,0,0]
["Субвенции на реализацию полномочий по сбору информации от поселений, входящих в МР, необходимой для ведения регистра муниципальных нормативных правовых актов РТ","0103","2410125390",null,{"$f":"SUM(E27:E28)","v":0},{"$f":"SUM(F27:F28)","v":0}]
["Фонд оплаты труда государственных (муниципальных) органов и взносы по обязательному социальному страхованию","0103","2410125390","121",{"$f":"SUMIF('11'!$H$18:$H$1925,B27&C27&A27,'11'!$F$18:$F$1925)","v":0},{"$f":"SUMIF('11'!$H$18:$H$1925,B27&C27&A27,'11'!$G$18:$G$1925)","v":0}]
["Взносы по обязательному социальному страхованию на выплату денежного содержания и иные выплаты работникам государственных (муниципальных) органов","0103","2410125390","129",{"$f":"SUMIF('11'!$H$18:$H$1925,B28&C28&A28,'11'!$F$18:$F$1925)","v":0},{"$f":"SUMIF('11'!$H$18:$H$1925,B28&C28&A28,'11'!$G$18:$G$1925)","v":0}]
["Непрограммные направления расходов","0103","9900000000",null,{"$f":"E30","v":5970000.0000000009},{"$f":"F30","v":5970000.0000000009}]
["Центральный аппарат","0103","9900002040",null,{"$f":"SUM(E31:E36)","v":5970000.0000000009},{"$f":"SUM(F31:F36)","v":5970000.0000000009}]
["Фонд оплаты труда государственных (муниципальных) органов и взносы по обязательному социальному страхованию","0103","9900002040","121",{"$f":"SUMIF('11'!$H$18:$H$1925,B31&C31&A31,'11'!$F$18:$F$1925)","v":4021000},{"$f":"SUMIF('11'!$H$18:$H$1925,B31&C31&A31,'11'!$G$18:$G$1925)","v":4021000}]
["Иные выплаты персоналу государственных (муниципальных) органов, за исключением фонда оплаты труда","0103","9900002040","122",{"$f":"SUMIF('11'!$H$18:$H$1925,B32&C32&A32,'11'!$F$18:$F$1925)","v":0},{"$f":"SUMIF('11'!$H$18:$H$1925,B32&C32&A32,'11'!$G$18:$G$1925)","v":0}]
["Взносы по обязательному социальному страхованию на выплату денежного содержания и иные выплаты работникам государственных (муниципальных) органов","0103","9900002040","129",{"$f":"SUMIF('11'!$H$18:$H$1925,B33&C33&A33,'11'!$F$18:$F$1925)","v":963800},{"$f":"SUMIF('11'!$H$18:$H$1925,B33&C33&A33,'11'!$G$18:$G$1925)","v":963800}]
["Прочая закупка товаров, работ и услуг для обеспечения государственных (муниципальных) нужд","0103","9900002040","244",{"$f":"SUMIF('11'!$H$18:$H$1925,B34&C34&A34,'11'!$F$18:$F$1925)","v":985200.00000000093},{"$f":"SUMIF('11'!$H$18:$H$1925,B34&C34&A34,'11'!$G$18:$G$1925)","v":985200.00000000093}]
["Уплата прочих налогов, сборов и иных платежей","0103","9900002040","852",{"$f":"SUMIF('11'!$H$18:$H$1925,B35&C35&A35,'11'!$F$18:$F$1925)","v":0},{"$f":"SUMIF('11'!$H$18:$H$1925,B35&C35&A35,'11'!$G$18:$G$1925)","v":0}]
["Уплата иных платежей","0103","9900002040","853",{"$f":"SUMIF('11'!$H$18:$H$1925,B36&C36&A36,'11'!$F$18:$F$1925)","v":0},{"$f":"SUMIF('11'!$H$18:$H$1925,B36&C36&A36,'11'!$G$18:$G$1925)","v":0}]
["Функционирование Правительства Российской Федерации, высших исполнительных органов государственной власти субъектов Российской Федерации, местных администраций","0104",null,null,{"$f":"E38+E45","v":14865660},{"$f":"F38+F45","v":15834660}]
["Муниципальная программа «Развитие образования Кукморского муниципального района Республики Татарстан на 2018 – 2020 годы»","0104","0200000000",null,{"$f":"E39","v":276100},{"$f":"F39","v":286600}]
["Подпрограмма «Развитие общего образования на 2018 – 2020 годы»","0104","0220000000",null,{"$f":"E40","v":276100},286600]
["Основное мероприятие «Обеспечение государственных гарантий реализации прав на получение общедоступного и бесплатного дошкольного, начального общего, основного общего, среднего общего образования в муниципальных общеобразовательных организациях, обеспечение дополнительного образования детей в муниципальных общеобразовательных организациях»","0104","0220800000",null,276100,286600]
["Реализация государственных полномочий в области образования (аппарат управления)","0104","0220825302",null,{"$f":"SUM(E42:E44)","v":276100},{"$f":"SUM(F42:F44)","v":286600}]
["Фонд оплаты труда государственных (муниципальных) органов и взносы по обязательному социальному страхованию","0104","0220825302","121",{"$f":"SUMIF('11'!$H$18:$H$1925,B42&C42&A42,'11'!$F$18:$F$1925)","v":214399.99999999997},{"$f":"SUMIF('11'!$H$18:$H$1925,B42&C42&A42,'11'!$G$18:$G$1925)","v":220100}]
["Взносы по обязательному социальному страхованию на выплату денежного содержания и иные выплаты работникам государственных (муниципальных) органов","0104","0220825302","129",{"$f":"SUMIF('11'!$H$18:$H$1925,B43&C43&A43,'11'!$F$18:$F$1925)","v":61700},{"$f":"SUMIF('11'!$H$18:$H$1925,B43&C43&A43,'11'!$G$18:$G$1925)","v":66500}]
["Прочая закупка товаров, работ и услуг для обеспечения государственных (муниципальных) нужд","0104","0220825302","244",{"$f":"SUMIF('11'!$H$18:$H$1925,B44&C44&A44,'11'!$F$18:$F$1925)","v":-1.4210854715202004E-11},{"$f":"SUMIF('11'!$H$18:$H$1925,B44&C44&A44,'11'!$G$18:$G$1925)","v":-1.4210854715202004E-11}]
["Непрограммные направления расходов","0104","9900000000",null,{"$f":"E46+E52+E54","v":14589560},{"$f":"F46+F52+F54","v":15548060}]
["Центральный аппарат","0104","9900002040",null,{"$f":"SUM(E47:E51)","v":14313460},{"$f":"SUM(F47:F51)","v":15261460}]
["Фонд оплаты труда государственных (муниципальных) органов и взносы по обязательному социальному страхованию","0104","9900002040","121",{"$f":"SUMIF('11'!$H$18:$H$1925,B47&C47&A47,'11'!$F$18:$F$1925)","v":9284450},{"$f":"SUMIF('11'!$H$18:$H$1925,B47&C47&A47,'11'!$G$18:$G$1925)","v":10066450}]
["Иные выплаты персоналу государственных (муниципальных) органов, за исключением фонда оплаты труда","0104","9900002040","122",{"$f":"SUMIF('11'!$H$18:$H$1925,B48&C48&A48,'11'!$F$18:$F$1925)","v":0},{"$f":"SUMIF('11'!$H$18:$H$1925,B48&C48&A48,'11'!$G$18:$G$1925)","v":0}]
["Взносы по обязательному социальному страхованию на выплату денежного содержания и иные выплаты работникам государственных (муниципальных) органов","0104","9900002040","129",{"$f":"SUMIF('11'!$H$18:$H$1925,B49&C49&A49,'11'!$F$18:$F$1925)","v":2822010},{"$f":"SUMIF('11'!$H$18:$H$1925,B49&C49&A49,'11'!$G$18:$G$1925)","v":2988010}]
["Прочая закупка товаров, работ и услуг для обеспечения государственных (муниципальных) нужд","0104","9900002040","244",{"$f":"SUMIF('11'!$H$18:$H$1925,B50&C50&A50,'11'!$F$18:$F$1925)","v":2207000},{"$f":"SUMIF('11'!$H$18:$H$1925,B50&C50&A50,'11'!$G$18:$G$1925)","v":2207000}]
["Уплата прочих налогов, сборов и иных платежей","0104","9900002040","852",{"$f":"SUMIF('11'!$H$18:$H$1925,B51&C51&A51,'11'!$F$18:$F$1925)","v":0},{"$f":"SUMIF('11'!$H$18:$H$1925,B51&C51&A51,'11'!$G$18:$G$1925)","v":0}]
["Межбюджетные трансферты, передаваемые бюджетам муниципальных образований для компенсации дополнительных расходов, возникших в результате решений, принятых органами власти другого уровня","0104","9900025151",null,{"$f":"E53","v":0},{"$f":"F53","v":0}]
["Иные межбюджетные трансферты","0104","9900025151","540",{"$f":"SUMIF('11'!$H$18:$H$1925,B53&C53&A53,'11'!$F$18:$F$1925)","v":0},{"$f":"SUMIF('11'!$H$18:$H$1925,B53&C53&A53,'11'!$G$18:$G$1925)","v":0}]
["Реализация государственных полномочий в области молодежной политики","0104","9900025240",null,{"$f":"SUM(E55:E57)","v":276100},{"$f":"SUM(F55:F57)","v":286600}]
["Фонд оплаты труда государственных (муниципальных) органов и взносы по обязательному социальному страхованию","0104","9900025240","121",{"$f":"SUMIF('11'!$H$18:$H$1925,B55&C55&A55,'11'!$F$18:$F$1925)","v":214399.99999999997},{"$f":"SUMIF('11'!$H$18:$H$1925,B55&C55&A55,'11'!$G$18:$G$1925)","v":220100}]
["Взносы по обязательному социальному страхованию на выплату денежного содержания и иные выплаты работникам государственных (муниципальных) органов","0104","9900025240","129",{"$f":"SUMIF('11'!$H$18:$H$1925,B56&C56&A56,'11'!$F$18:$F$1925)","v":61700},{"$f":"SUMIF('11'!$H$18:$H$1925,B56&C56&A56,'11'!$G$18:$G$1925)","v":66500}]
["Прочая закупка товаров, работ и услуг для обеспечения государственных (муниципальных) нужд","0104","9900025240","244",{"$f":"SUMIF('11'!$H$18:$H$1925,B57&C57&A57,'11'!$F$18:$F$1925)","v":-1.4210854715202004E-11},{"$f":"SUMIF('11'!$H$18:$H$1925,B57&C57&A57,'11'!$G$18:$G$1925)","v":-1.4210854715202004E-11}]
["Судебная система","0105",null,null,{"$f":"E59","v":13000},{"$f":"F59","v":21000}]
["Непрограммные направления расходов","0105","9900000000",null,{"$f":"E60","v":13000},21000]
["Составление (изменение) списков кандидатов в присяжные заседатели федеральных судов общей юрисдикции в Российской Федерации за счет средств федерального бюджета","0105","9900051200",null,13000,21000]
["Прочая закупка товаров, работ и услуг для обеспечения государственных (муниципальных) нужд","0105","9900051200","244",{"$f":"SUMIF('11'!$H$18:$H$1925,B61&C61&A61,'11'!$F$18:$F$1925)","v":13000},{"$f":"SUMIF('11'!$H$18:$H$1925,B61&C61&A61,'11'!$G$18:$G$1925)","v":21000}]
["Обеспечение деятельности финансовых, налоговых и таможенных органов и органов финансового (финансово-бюджетного) надзора","0106",null,null,{"$f":"E63+E70","v":4623700},{"$f":"F63+F70","v":4623700}]
["Муниципальная программа «Управление муниципальными финансами Кукморского муниципального района Республики Татарстан на 2018 – 2020 годы»","0106","1800000000",null,{"$f":"E64","v":4007700},{"$f":"F64","v":4007700}]
["Основное мероприятие \"Обеспечение долгосрочной сбалансированности и устойчивости бюджетной системы\"","0106","1800100000",null,{"$f":"E65","v":4007700},4007700]
["Центральный аппарат","0106","1800102040",null,{"$f":"SUM(E66:E69)","v":4007700},{"$f":"SUM(F66:F69)","v":4007700}]
["Фонд оплаты труда государственных (муниципальных) органов и взносы по обязательному социальному страхованию","0106","1800102040","121",{"$f":"SUMIF('11'!$H$18:$H$1925,B66&C66&A66,'11'!$F$18:$F$1925)","v":2751000},{"$f":"SUMIF('11'!$H$18:$H$1925,B66&C66&A66,'11'!$G$18:$G$1925)","v":2751000}]
["Иные выплаты персоналу государственных (муниципальных) органов, за исключением фонда оплаты труда","0106","1800102040","122",{"$f":"SUMIF('11'!$H$18:$H$1925,B67&C67&A67,'11'!$F$18:$F$1925)","v":0},{"$f":"SUMIF('11'!$H$18:$H$1925,B67&C67&A67,'11'!$G$18:$G$1925)","v":0}]
["Взносы по обязательному социальному страхованию на выплату денежного содержания и иные выплаты работникам государственных (муниципальных) органов","0106","1800102040","129",{"$f":"SUMIF('11'!$H$18:$H$1925,B68&C68&A68,'11'!$F$18:$F$1925)","v":828700},{"$f":"SUMIF('11'!$H$18:$H$1925,B68&C68&A68,'11'!$G$18:$G$1925)","v":828700}]
["Прочая закупка товаров, работ и услуг для обеспечения государственных (муниципальных) нужд","0106","1800102040","244",{"$f":"SUMIF('11'!$H$18:$H$1925,B69&C69&A69,'11'!$F$18:$F$1925)","v":427999.99999999977},{"$f":"SUMIF('11'!$H$18:$H$1925,B69&C69&A69,'11'!$G$18:$G$1925)","v":427999.99999999977}]
["Непрограммные направления расходов","0106","9900000000",null,{"$f":"E71","v":616000},{"$f":"F71","v":616000}]
["Центральный аппарат","0106","9900002040",null,{"$f":"SUM(E72:E75)","v":616000},{"$f":"SUM(F72:F75)","v":616000}]
["Фонд оплаты труда государственных (муниципальных) органов и взносы по обязательному социальному страхованию","0106","9900002040","121",{"$f":"SUMIF('11'!$H$18:$H$1925,B72&C72&A72,'11'!$F$18:$F$1925)","v":453000},{"$f":"SUMIF('11'!$H$18:$H$1925,B72&C72&A72,'11'!$G$18:$G$1925)","v":453000}]
["Иные выплаты персоналу государственных (муниципальных) органов, за исключением фонда оплаты труда","0106","9900002040","122",{"$f":"SUMIF('11'!$H$18:$H$1925,B73&C73&A73,'11'!$F$18:$F$1925)","v":1000},{"$f":"SUMIF('11'!$H$18:$H$1925,B73&C73&A73,'11'!$G$18:$G$1925)","v":1000}]
["Взносы по обязательному социальному страхованию на выплату денежного содержания и иные выплаты работникам государственных (муниципальных) органов","0106","9900002040","129",{"$f":"SUMIF('11'!$H$18:$H$1925,B74&C74&A74,'11'!$F$18:$F$1925)","v":137000},{"$f":"SUMIF('11'!$H$18:$H$1925,B74&C74&A74,'11'!$G$18:$G$1925)","v":137000}]
["Прочая закупка товаров, работ и услуг для обеспечения государственных (муниципальных) нужд","0106","9900002040","244",{"$f":"SUMIF('11'!$H$18:$H$1925,B75&C75&A75,'11'!$F$18:$F$1925)","v":25000},{"$f":"SUMIF('11'!$H$18:$H$1925,B75&C75&A75,'11'!$G$18:$G$1925)","v":25000}]
["Резервные фонды ","0111","","",{"$f":"E77","v":5845700},5845700]
["Непрограммные направления расходов","0111","9900000000","",5845700,5845700]
["Резервные фонды местных администраций","0111","9900007410","",{"$f":"E79","v":5845700},{"$f":"F79","v":5845700}]
["Уплата иных платежей","0111","9900007410","870",{"$f":"SUMIF('11'!$H$18:$H$1925,B79&C79&A79,'11'!$F$18:$F$1925)","v":5845700},{"$f":"SUMIF('11'!$H$18:$H$1925,B79&C79&A79,'11'!$G$18:$G$1925)","v":5845700}]
["Другие общегосударственные вопросы","0113",null,null,{"$f":"E81+E87+E95+E100+E108+E113+E123+E135+E143+E147+E139","v":18259200},{"$f":"F81+F87+F95+F100+F108+F113+F123+F135+F143+F147+F139","v":18748020}]
["Муниципальная программа «Развитие образования Кукморского муниципального района Республики Татарстан на 2018 – 2020 годы»","0113","0200000000",null,{"$f":"E82","v":0},{"$f":"F82","v":0}]
["Подпрограмма «Развитие системы оценки качества образования на 2018 – 2020 годы»","0113","0250000000",null,{"$f":"E83","v":0},0]
["Основное мероприятие \"Содержание прочих учреждений образования\"","0113","0250200000",null,0,0]
["Учебно-методические кабинеты, централизованные бухгалтерии, группы хозяйственного обслуживания, учебные фильмотеки, межшкольные учебно-производственные комбинаты, логопедические пункты","0113","0250242520",null,{"$f":"SUM(E85:E86)","v":0},{"$f":"SUM(F85:F86)","v":0}]
["Уплата налога на имущество организаций и земельного налога","0113","0250242520","851",{"$f":"SUMIF('11'!$H$18:$H$1925,B85&C85&A85,'11'!$F$18:$F$1925)","v":0},{"$f":"SUMIF('11'!$H$18:$H$1925,B85&C85&A85,'11'!$G$18:$G$1925)","v":0}]
["Уплата прочих налогов, сборов и иных платежей","0113","0250242520","852",{"$f":"SUMIF('11'!$H$18:$H$1925,B86&C86&A86,'11'!$F$18:$F$1925)","v":0},{"$f":"SUMIF('11'!$H$18:$H$1925,B86&C86&A86,'11'!$G$18:$G$1925)","v":0}]
["Муниципальная программа «Социальная поддержка граждан Кукморского муниципального района Республики Татарстан» на 2018 – 2020 годы","0113","0300000000",null,{"$f":"E88","v":770600},{"$f":"F88","v":799200}]
["Подпрограмма \"Улучшение социально-экономического положения семей\" на 2018 – 2020 годы","0113","0350000000",null,{"$f":"E89","v":770600},799200]
["Основное мероприятие \"Создание благоприятных условий для устройства детей-сирот и детей, оставшихся без попечения родителей, на воспитание в семью\"","0113","0350300000",null,770600,799200]
["Реализация государственных полномочий в области опеки и попечительства","0113","0350325330",null,{"$f":"SUM(E91:E94)","v":770600},{"$f":"SUM(F91:F94)","v":799200}]
["Фонд оплаты труда казенных учреждений и взносы по обязательному социальному страхованию","0113","0350325330","111",{"$f":"SUMIF('11'!$H$18:$H$1925,B91&C91&A91,'11'!$F$18:$F$1925)","v":570700},{"$f":"SUMIF('11'!$H$18:$H$1925,B91&C91&A91,'11'!$G$18:$G$1925)","v":594600}]
["Иные выплаты персоналу казенных учреждений, за исключением фонда оплаты труда","0113","0350325330","112",{"$f":"SUMIF('11'!$H$18:$H$1925,B92&C92&A92,'11'!$F$18:$F$1925)","v":0},{"$f":"SUMIF('11'!$H$18:$H$1925,B92&C92&A92,'11'!$G$18:$G$1925)","v":0}]
["Взносы по обязательному социальному страхованию на выплаты по оплате труда работников и иные выплаты работникам учреждений","0113","0350325330","119",{"$f":"SUMIF('11'!$H$18:$H$1925,B93&C93&A93,'11'!$F$18:$F$1925)","v":174900},{"$f":"SUMIF('11'!$H$18:$H$1925,B93&C93&A93,'11'!$G$18:$G$1925)","v":179600}]
["Прочая закупка товаров, работ и услуг для обеспечения государственных (муниципальных) нужд","0113","0350325330","244",{"$f":"SUMIF('11'!$H$18:$H$1925,B94&C94&A94,'11'!$F$18:$F$1925)","v":25000.000000000029},{"$f":"SUMIF('11'!$H$18:$H$1925,B94&C94&A94,'11'!$G$18:$G$1925)","v":25000.000000000029}]
["Муниципальная программа «Обеспечение общественного порядка и противодействие преступности в Кукморском муниципальном районе на 2018 - 2020 годы\"","0113","0600000000",null,{"$f":"E96","v":55000},{"$f":"F96","v":55000}]
["Подпрограмма «Профилактика терроризма и экстремизма в Кукморском муниципальном районе на 2018-2020гг.»","0113","0630000000",null,{"$f":"E97","v":55000},55000]
["Основное мероприятие \"Профилактика терроризма и экстремизма\"","0113","0630100000",null,55000,55000]
["Реализация программных мероприятий063","0113","0630110990",null,55000,55000]
["Прочая закупка товаров, работ и услуг для обеспечения государственных (муниципальных) нужд","0113","0630110990","244",{"$f":"SUMIF('11'!$H$18:$H$1925,B99&C99&A99,'11'!$F$18:$F$1925)","v":55000},{"$f":"SUMIF('11'!$H$18:$H$1925,B99&C99&A99,'11'!$G$18:$G$1925)","v":55000}]
["Муниципальная программа «Развитие культуры Кукморского муниципального района Республики Татарстан на 2018 – 2020 годы»","0113","0800000000",null,{"$f":"E101","v":683000},{"$f":"F101","v":683000}]
["Подпрограмма \"Развитие архивного дела на 2018 - 2020 годы\"","0113","08Е0000000",null,{"$f":"E102","v":683000},683000]
["Основное мероприятие \"Реализация государственной политики в области архивного дела\"","0113","08Е0100000",null,683000,683000]
["Обеспечение хранения, учета, комплектования и использования документов архивного фонда Республики Татарстан и других архивных документов","0113","08Е0144020",null,{"$f":"SUM(E104:E107)","v":683000},{"$f":"SUM(F104:F107)","v":683000}]
["Фонд оплаты труда казенных учреждений и взносы по обязательному социальному страхованию","0113","08Е0144020","111",{"$f":"SUMIF('11'!$H$18:$H$1925,B104&C104&A104,'11'!$F$18:$F$1925)","v":488000},{"$f":"SUMIF('11'!$H$18:$H$1925,B104&C104&A104,'11'!$G$18:$G$1925)","v":488000}]
["Иные выплаты персоналу казенных учреждений, за исключением фонда оплаты труда","0113","08Е0144020","112",{"$f":"SUMIF('11'!$H$18:$H$1925,B105&C105&A105,'11'!$F$18:$F$1925)","v":0},{"$f":"SUMIF('11'!$H$18:$H$1925,B105&C105&A105,'11'!$G$18:$G$1925)","v":0}]
["Взносы по обязательному социальному страхованию на выплаты по оплате труда работников и иные выплаты работникам учреждений","0113","08Е0144020","119",{"$f":"SUMIF('11'!$H$18:$H$1925,B106&C106&A106,'11'!$F$18:$F$1925)","v":147000},{"$f":"SUMIF('11'!$H$18:$H$1925,B106&C106&A106,'11'!$G$18:$G$1925)","v":147000}]
["Прочая закупка товаров, работ и услуг для обеспечения государственных (муниципальных) нужд","0113","08Е0144020","244",{"$f":"SUMIF('11'!$H$18:$H$1925,B107&C107&A107,'11'!$F$18:$F$1925)","v":48000},{"$f":"SUMIF('11'!$H$18:$H$1925,B107&C107&A107,'11'!$G$18:$G$1925)","v":48000}]
["Государственная программа \"Экономическое развитие и инновационная экономика Республики Татарстан на 2014 – 2020 годы\"","0113","1100000000",null,{"$f":"E109","v":0},{"$f":"F109","v":0}]
["Подпрограмма \"Совершенствование государственной экономической политики в Республике Татарстан на 2014 – 2020 годы\"","0113","1110000000",null,{"$f":"E110","v":0},0]
["Основное мероприятие «Повышение эффективности государственного управления, увеличение активности жителей в общественно-политической жизни Республики Татарстан, создание условий для развития инновационной деятельности и промышленного производства»","0113","1110100000",null,0,0]
["Мероприятия, направленные на развитие системы территориального общественного самоуправления Республики Татарстан","0113","1110125180",null,0,0]
["Субсидии, за исключением субсидий на софинансирование капитальных вложений в объекты государственной (муниципальной) собственности","0113","1110125180","521",{"$f":"SUMIF('11'!$H$18:$H$1925,B112&C112&A112,'11'!$F$18:$F$1925)","v":0},{"$f":"SUMIF('11'!$H$18:$H$1925,B112&C112&A112,'11'!$G$18:$G$1925)","v":0}]
["Муниципальная программа «Управление муниципальным имуществом Кукморского муниципального района Республики Татарстан на 2018 – 2020 годы»","0113","1600000000",null,{"$f":"E114","v":1413000},{"$f":"F114","v":1413000}]
["Основное мероприятие \"Обеспечение эффективного распоряжения и использования государственного имущества и земельных участков\"","0113","1600100000",null,{"$f":"E115+E121","v":1413000},{"$f":"F115+F121","v":1413000}]
["Центральный аппарат","0113","1600102040",null,{"$f":"SUM(E116:E120)","v":1413000},{"$f":"SUM(F116:F120)","v":1413000}]
["Фонд оплаты труда государственных (муниципальных) органов и взносы по обязательному социальному страхованию","0113","1600102040","121",{"$f":"SUMIF('11'!$H$18:$H$1925,B116&C116&A116,'11'!$F$18:$F$1925)","v":999000},{"$f":"SUMIF('11'!$H$18:$H$1925,B116&C116&A116,'11'!$G$18:$G$1925)","v":999000}]
["Взносы по обязательному социальному страхованию на выплату денежного содержания и иные выплаты работникам государственных (муниципальных) органов","0113","1600102040","129",{"$f":"SUMIF('11'!$H$18:$H$1925,B117&C117&A117,'11'!$F$18:$F$1925)","v":302000},{"$f":"SUMIF('11'!$H$18:$H$1925,B117&C117&A117,'11'!$G$18:$G$1925)","v":302000}]
["Прочая закупка товаров, работ и услуг для обеспечения государственных (муниципальных) нужд","0113","1600102040","244",{"$f":"SUMIF('11'!$H$18:$H$1925,B118&C118&A118,'11'!$F$18:$F$1925)","v":112000},{"$f":"SUMIF('11'!$H$18:$H$1925,B118&C118&A118,'11'!$G$18:$G$1925)","v":112000}]
["Уплата прочих налогов, сборов и иных платежей","0113","1600102040","852",{"$f":"SUMIF('11'!$H$18:$H$1925,B119&C119&A119,'11'!$F$18:$F$1925)","v":0},{"$f":"SUMIF('11'!$H$18:$H$1925,B119&C119&A119,'11'!$G$18:$G$1925)","v":0}]
["Уплата иных платежей","0113","1600102040","853",{"$f":"SUMIF('11'!$H$18:$H$1925,B120&C120&A120,'11'!$F$18:$F$1925)","v":0},{"$f":"SUMIF('11'!$H$18:$H$1925,B120&C120&A120,'11'!$G$18:$G$1925)","v":0}]
["Уплата налога на имущество организаций и земельного налога","0113","1600102950",null,{"$f":"E122","v":0},{"$f":"F122","v":0}]
["Уплата налога на имущество организаций и земельного налога","0113","1600102950","851",{"$f":"SUMIF('11'!$H$18:$H$1925,B122&C122&A122,'11'!$F$18:$F$1925)","v":0},{"$f":"SUMIF('11'!$H$18:$H$1925,B122&C122&A122,'11'!$G$18:$G$1925)","v":0}]
["Муниципальная программа «Управление муниципальными финансами Кукморского муниципального района Республики Татарстан на 2018 – 2020 годы»","0113","1800000000",null,{"$f":"E124","v":12037400},{"$f":"F124","v":12408800}]
["Основное мероприятие \"Обеспечение долгосрочной сбалансированности и устойчивости бюджетной системы\"","0113","1800100000",null,{"$f":"E125+E127+E129","v":12037400},{"$f":"F125+F127+F129","v":12408800}]
["Центральный аппарат","0113","1800102040",null,{"$f":"E126","v":0},{"$f":"F126","v":0}]
["Уплата прочих налогов, сборов и иных платежей","0113","1800102040","852",{"$f":"SUMIF('11'!$H$18:$H$1925,B126&C126&A126,'11'!$F$18:$F$1925)","v":0},{"$f":"SUMIF('11'!$H$18:$H$1925,B126&C126&A126,'11'!$G$18:$G$1925)","v":0}]
["Уплата налога на имущество организаций и земельного налога","0113","1800102950",null,{"$f":"E128","v":0},{"$f":"F128","v":0}]
["Уплата налога на имущество организаций и земельного налога","0113","1800102950","851",{"$f":"SUMIF('11'!$H$18:$H$1925,B128&C128&A128,'11'!$F$18:$F$1925)","v":0},{"$f":"SUMIF('11'!$H$18:$H$1925,B128&C128&A128,'11'!$G$18:$G$1925)","v":0}]
["Реализация программных мероприятий","0113","1800129900",null,{"$f":"SUM(E130:E134)","v":12037400},{"$f":"SUM(F130:F134)","v":12408800}]
["Фонд оплаты труда казенных учреждений и взносы по обязательному социальному страхованию","0113","1800129900","111",{"$f":"SUMIF('11'!$H$18:$H$1925,B130&C130&A130,'11'!$F$18:$F$1925)","v":8339100},{"$f":"SUMIF('11'!$H$18:$H$1925,B130&C130&A130,'11'!$G$18:$G$1925)","v":8649500}]
["Взносы по обязательному социальному страхованию на выплаты по оплате труда работников и иные выплаты работникам учреждений","0113","1800129900","119",{"$f":"SUMIF('11'!$H$18:$H$1925,B131&C131&A131,'11'!$F$18:$F$1925)","v":2551000},{"$f":"SUMIF('11'!$H$18:$H$1925,B131&C131&A131,'11'!$G$18:$G$1925)","v":2612000}]
["Прочая закупка товаров, работ и услуг для обеспечения государственных (муниципальных) нужд","0113","1800129900","244",{"$f":"SUMIF('11'!$H$18:$H$1925,B132&C132&A132,'11'!$F$18:$F$1925)","v":1147300.0000000002},{"$f":"SUMIF('11'!$H$18:$H$1925,B132&C132&A132,'11'!$G$18:$G$1925)","v":1147300.0000000002}]
["Уплата прочих налогов, сборов и иных платежей","0113","1800129900","852",{"$f":"SUMIF('11'!$H$18:$H$1925,B133&C133&A133,'11'!$F$18:$F$1925)","v":0},{"$f":"SUMIF('11'!$H$18:$H$1925,B133&C133&A133,'11'!$G$18:$G$1925)","v":0}]
["Уплата иных платежей","0113","1800129900","853",{"$f":"SUMIF('11'!$H$18:$H$1925,B134&C134&A134,'11'!$F$18:$F$1925)","v":0},{"$f":"SUMIF('11'!$H$18:$H$1925,B134&C134&A134,'11'!$G$18:$G$1925)","v":0}]
["Программа по реализации государственной национальной политики в Кукморском муниципальном районе на 2018-2020 годы","0113","2000000000",null,{"$f":"E136","v":80000},{"$f":"F136","v":80000}]
["Основное мероприятие «Реализация государственной национальной политики в Республике Татарстан, цивилизованное развитие представителей народов, проживающих на территории Республики Татарстан, сохранение межэтнического и межконфессионального мира и согласия, упрочение общероссийской гражданской идентичности (российской нации), успешная социокультурная адаптация и интеграция мигрантов»","0113","2000100000",null,{"$f":"E137","v":80000},80000]
["Реализация программных мероприятий200","0113","2000110990",null,80000,80000]
["Прочая закупка товаров, работ и услуг для обеспечения государственных (муниципальных) нужд","0113","2000110990","244",{"$f":"SUMIF('11'!$H$18:$H$1925,B138&C138&A138,'11'!$F$18:$F$1925)","v":80000},{"$f":"SUMIF('11'!$H$18:$H$1925,B138&C138&A138,'11'!$G$18:$G$1925)","v":80000}]
["Государственная программа \"Развитие юстиции в Республике Татарстан на 2014 – 2020 годы\"","0113","2400000000",null,{"$f":"E140","v":3300},{"$f":"F140","v":3399.9999999999995}]
["Подпрограмма \"Реализация государственной политики в сфере юстиции в Республике Татарстан на 2014 – 2020 годы\"","0113","2410100000",null,{"$f":"E141","v":3300},3399.9999999999995]
["Субвенции на реализацию полномочий по сбору информации от поселений, входящих в МР, необходимой для ведения регистра муниципальных нормативных правовых актов РТ","0113","2410125390",null,3300,3399.9999999999995]
["Прочая закупка товаров, работ и услуг для обеспечения государственных (муниципальных) нужд","0113","2410125390","244",{"$f":"SUMIF('11'!$H$18:$H$1925,B142&C142&A142,'11'!$F$18:$F$1925)","v":3300},{"$f":"SUMIF('11'!$H$18:$H$1925,B142&C142&A142,'11'!$G$18:$G$1925)","v":3399.9999999999995}]
["Муниципальная программа «Реализация антикоррупционной политики в Кукморском муниципальном районе Республики Татарстан на 2018-2020 годы»","0113","2700000000",null,{"$f":"E144","v":5000},{"$f":"F144","v":5000}]
["Основное мероприятие \"Выявление и устранение причин коррупции, противодействие условиям, способствующим ее проявлениям, формирование в обществе нетерпимого отношения к коррупции\"","0113","2700100000",null,{"$f":"E145","v":5000},5000]
["Реализация программных мероприятий270","0113","2700110990",null,5000,5000]
["Прочая закупка товаров, работ и услуг для обеспечения государственных (муниципальных) нужд","0113","2700110990","244",{"$f":"SUMIF('11'!$H$18:$H$1925,B146&C146&A146,'11'!$F$18:$F$1925)","v":5000},{"$f":"SUMIF('11'!$H$18:$H$1925,B146&C146&A146,'11'!$G$18:$G$1925)","v":5000}]
["Непрограммные направления расходов","0113","9900000000",null,{"$f":"E148+E151+E155+E160+E165+E167+E169+E173+E175+E181","v":3211900},{"$f":"F148+F151+F155+F160+F165+F167+F169+F173+F175+F181","v":3300620}]
["Центральный аппарат","0113","9900002040",null,{"$f":"SUM(E149:E150)","v":0},{"$f":"SUM(F149:F150)","v":0}]
["Уплата прочих налогов, сборов и иных платежей","0113","9900002040","852",{"$f":"SUMIF('11'!$H$18:$H$1925,B149&C149&A149,'11'!$F$18:$F$1925)","v":0},{"$f":"SUMIF('11'!$H$18:$H$1925,B149&C149&A149,'11'!$G$18:$G$1925)","v":0}]
["Уплата иных платежей","0113","9900002040","853",{"$f":"SUMIF('11'!$H$18:$H$1925,B150&C150&A150,'11'!$F$18:$F$1925)","v":0},{"$f":"SUMIF('11'!$H$18:$H$1925,B150&C150&A150,'11'!$G$18:$G$1925)","v":0}]
["Уплата налога на имущество организаций и земельного налога","0113","9900002950",null,{"$f":"SUM(E152:E154)","v":567100},{"$f":"SUM(F152:F154)","v":567100}]
["Уплата налога на имущество организаций и земельного налога","0113","9900002950","851",{"$f":"SUMIF('11'!$H$18:$H$1925,B152&C152&A152,'11'!$F$18:$F$1925)","v":526800},{"$f":"SUMIF('11'!$H$18:$H$1925,B152&C152&A152,'11'!$G$18:$G$1925)","v":526800}]
["Уплата прочих налогов, сборов и иных платежей","0113","9900002950","852",{"$f":"SUMIF('11'!$H$18:$H$1925,B153&C153&A153,'11'!$F$18:$F$1925)","v":40300},{"$f":"SUMIF('11'!$H$18:$H$1925,B153&C153&A153,'11'!$G$18:$G$1925)","v":40300}]
["Уплата иных платежей","0113","9900002950","853",{"$f":"SUMIF('11'!$H$18:$H$1925,B154&C154&A154,'11'!$F$18:$F$1925)","v":0},{"$f":"SUMIF('11'!$H$18:$H$1925,B154&C154&A154,'11'!$G$18:$G$1925)","v":0}]
["Реализация государственных полномочий по образованию и организации деятельности комиссий по делам несовершеннолетних и защите их прав","0113","9900025260",null,{"$f":"SUM(E156:E159)","v":547200},{"$f":"SUM(F156:F159)","v":567600}]
["Фонд оплаты труда казенных учреждений и взносы по обязательному социальному страхованию","0113","9900025260","111",{"$f":"SUMIF('11'!$H$18:$H$1925,B156&C156&A156,'11'!$F$18:$F$1925)","v":387600},{"$f":"SUMIF('11'!$H$18:$H$1925,B156&C156&A156,'11'!$G$18:$G$1925)","v":404900}]
["Иные выплаты персоналу казенных учреждений, за исключением фонда оплаты труда","0113","9900025260","112",{"$f":"SUMIF('11'!$H$18:$H$1925,B157&C157&A157,'11'!$F$18:$F$1925)","v":0},{"$f":"SUMIF('11'!$H$18:$H$1925,B157&C157&A157,'11'!$G$18:$G$1925)","v":0}]
["Взносы по обязательному социальному страхованию на выплаты по оплате труда работников и иные выплаты работникам учреждений","0113","9900025260","119",{"$f":"SUMIF('11'!$H$18:$H$1925,B158&C158&A158,'11'!$F$18:$F$1925)","v":118900},{"$f":"SUMIF('11'!$H$18:$H$1925,B158&C158&A158,'11'!$G$18:$G$1925)","v":122000}]
["Прочая закупка товаров, работ и услуг для обеспечения государственных (муниципальных) нужд","0113","9900025260","244",{"$f":"SUMIF('11'!$H$18:$H$1925,B159&C159&A159,'11'!$F$18:$F$1925)","v":40700.000000000044},{"$f":"SUMIF('11'!$H$18:$H$1925,B159&C159&A159,'11'!$G$18:$G$1925)","v":40700.000000000044}]
["Реализация государственных полномочий по образованию и организации деятельности административных комиссий","0113","9900025270",null,{"$f":"SUM(E161:E164)","v":263100},{"$f":"SUM(F161:F164)","v":272500}]
["Фонд оплаты труда казенных учреждений и взносы по обязательному социальному страхованию","0113","9900025270","111",{"$f":"SUMIF('11'!$H$18:$H$1925,B161&C161&A161,'11'!$F$18:$F$1925)","v":204200},{"$f":"SUMIF('11'!$H$18:$H$1925,B161&C161&A161,'11'!$G$18:$G$1925)","v":213600}]
["Иные выплаты персоналу казенных учреждений, за исключением фонда оплаты труда","0113","9900025270","112",{"$f":"SUMIF('11'!$H$18:$H$1925,B162&C162&A162,'11'!$F$18:$F$1925)","v":0},{"$f":"SUMIF('11'!$H$18:$H$1925,B162&C162&A162,'11'!$G$18:$G$1925)","v":0}]
["Взносы по обязательному социальному страхованию на выплаты по оплате труда работников и иные выплаты работникам учреждений","0113","9900025270","119",{"$f":"SUMIF('11'!$H$18:$H$1925,B163&C163&A163,'11'!$F$18:$F$1925)","v":58900},{"$f":"SUMIF('11'!$H$18:$H$1925,B163&C163&A163,'11'!$G$18:$G$1925)","v":58900}]
["Прочая закупка товаров, работ и услуг для обеспечения государственных (муниципальных) нужд","0113","9900025270","244",{"$f":"SUMIF('11'!$H$18:$H$1925,B164&C164&A164,'11'!$F$18:$F$1925)","v":7.1054273576010019E-12},{"$f":"SUMIF('11'!$H$18:$H$1925,B164&C164&A164,'11'!$G$18:$G$1925)","v":7.1054273576010019E-12}]
["Реализация государственных полномочий в области архивного дела","0113","9900025340",null,{"$f":"E166","v":55900},{"$f":"F166","v":55900}]
["Прочая закупка товаров, работ и услуг для обеспечения государственных (муниципальных) нужд","0113","9900025340","244",{"$f":"SUMIF('11'!$H$18:$H$1925,B166&C166&A166,'11'!$F$18:$F$1925)","v":55900},{"$f":"SUMIF('11'!$H$18:$H$1925,B166&C166&A166,'11'!$G$18:$G$1925)","v":55900}]
["Реализация государственных полномочий по определению перечня должностных лиц, уполномоченных составлять протоколы об административных правонарушениях","0113","9900025350",null,{"$f":"E168","v":400},{"$f":"F168","v":420}]
["Прочая закупка товаров, работ и услуг для обеспечения государственных (муниципальных) нужд","0113","9900025350","244",{"$f":"SUMIF('11'!$H$18:$H$1925,B168&C168&A168,'11'!$F$18:$F$1925)","v":400},{"$f":"SUMIF('11'!$H$18:$H$1925,B168&C168&A168,'11'!$G$18:$G$1925)","v":420}]
["Реализация государственных полномочий по распоряжению земельными участками, государственная собственность на которые не разграничена","0113","9900025400",null,{"$f":"SUM(E170:E172)","v":7600},{"$f":"SUM(F170:F172)","v":7899.9999999999991}]
["Фонд оплаты труда государственных (муниципальных) органов и взносы по обязательному социальному страхованию","0113","9900025400","121",{"$f":"SUMIF('11'!$H$18:$H$1925,B170&C170&A170,'11'!$F$18:$F$1925)","v":5800},{"$f":"SUMIF('11'!$H$18:$H$1925,B170&C170&A170,'11'!$G$18:$G$1925)","v":6199.9999999999991}]
["Взносы по обязательному социальному страхованию на выплату денежного содержания и иные выплаты работникам государственных (муниципальных) органов","0113","9900025400","129",{"$f":"SUMIF('11'!$H$18:$H$1925,B171&C171&A171,'11'!$F$18:$F$1925)","v":1800},{"$f":"SUMIF('11'!$H$18:$H$1925,B171&C171&A171,'11'!$G$18:$G$1925)","v":1700}]
["Прочая закупка товаров, работ и услуг для обеспечения государственных (муниципальных) нужд","0113","9900025400","244",{"$f":"SUMIF('11'!$H$18:$H$1925,B172&C172&A172,'11'!$F$18:$F$1925)","v":2.2204460492503131E-13},{"$f":"SUMIF('11'!$H$18:$H$1925,B172&C172&A172,'11'!$G$18:$G$1925)","v":2.2204460492503131E-13}]
["Проведение Всероссийской сельскохозяйственной переписи в 2016 году за счет средств федерального бюджета","0113","9900053910",null,{"$f":"E174","v":0},{"$f":"F174","v":0}]
["Прочая закупка товаров, работ и услуг для обеспечения государственных (муниципальных) нужд","0113","9900053910","244",{"$f":"SUMIF('11'!$H$18:$H$1925,B174&C174&A174,'11'!$F$18:$F$1925)","v":0},{"$f":"SUMIF('11'!$H$18:$H$1925,B174&C174&A174,'11'!$G$18:$G$1925)","v":0}]
["Государственная регистрация актов гражданского состояния за счет средств федерального бюджета","0113","9900059300",null,{"$f":"SUM(E176:E180)","v":1770600},{"$f":"SUM(F176:F180)","v":1829200}]
["Фонд оплаты труда государственных (муниципальных) органов и взносы по обязательному социальному страхованию","0113","9900059300","121",{"$f":"SUMIF('11'!$H$18:$H$1925,B176&C176&A176,'11'!$F$18:$F$1925)","v":691200},{"$f":"SUMIF('11'!$H$18:$H$1925,B176&C176&A176,'11'!$G$18:$G$1925)","v":739800}]
["Иные выплаты персоналу государственных (муниципальных) органов, за исключением фонда оплаты труда","0113","9900059300","122",{"$f":"SUMIF('11'!$H$18:$H$1925,B177&C177&A177,'11'!$F$18:$F$1925)","v":18000},{"$f":"SUMIF('11'!$H$18:$H$1925,B177&C177&A177,'11'!$G$18:$G$1925)","v":18000}]
["Взносы по обязательному социальному страхованию на выплату денежного содержания и иные выплаты работникам государственных (муниципальных) органов","0113","9900059300","129",{"$f":"SUMIF('11'!$H$18:$H$1925,B178&C178&A178,'11'!$F$18:$F$1925)","v":213000},{"$f":"SUMIF('11'!$H$18:$H$1925,B178&C178&A178,'11'!$G$18:$G$1925)","v":223000}]
["Прочая закупка товаров, работ и услуг для обеспечения государственных (муниципальных) нужд","0113","9900059300","244",{"$f":"SUMIF('11'!$H$18:$H$1925,B179&C179&A179,'11'!$F$18:$F$1925)","v":848400.00000000012},{"$f":"SUMIF('11'!$H$18:$H$1925,B179&C179&A179,'11'!$G$18:$G$1925)","v":848400.00000000012}]
["Субвенции","0113","9900059300","530",{"$f":"SUMIF('11'!$H$18:$H$1925,B180&C180&A180,'11'!$F$18:$F$1925)","v":0},{"$f":"SUMIF('11'!$H$18:$H$1925,B180&C180&A180,'11'!$G$18:$G$1925)","v":0}]
["Обеспечение деятельности подведомственных учреждений","0113","9900092990",null,{"$f":"SUM(E182:E185)","v":0},{"$f":"SUM(F182:F185)","v":0}]
["Иные выплаты, за исключением фонда оплаты труда казенных учреждений, лицам, привлекаемым согласно законодательству для выполнения отдельных полномочий","0113","9900092990","113",{"$f":"SUMIF('11'!$H$18:$H$1925,B182&C182&A182,'11'!$F$18:$F$1925)","v":0},{"$f":"SUMIF('11'!$H$18:$H$1925,B182&C182&A182,'11'!$G$18:$G$1925)","v":0}]
["Прочая закупка товаров, работ и услуг для обеспечения государственных (муниципальных) нужд","0113","9900092990","244",{"$f":"SUMIF('11'!$H$18:$H$1925,B183&C183&A183,'11'!$F$18:$F$1925)","v":0},{"$f":"SUMIF('11'!$H$18:$H$1925,B183&C183&A183,'11'!$G$18:$G$1925)","v":0}]
["Исполнение судебных актов Российской Федерации и мировых соглашений по возмещению вреда, причиненного в результате незаконных действий (бездействия) органов государственной власти (государственных органов), органов местного самоуправления либо должностных лиц этих органов, а также в результате деятельности казенных учреждений","0113","9900092990","831",0,0]
["Уплата прочих налогов, сборов и иных платежей","0113","9900092990","852",{"$f":"SUMIF('11'!$H$18:$H$1925,B185&C185&A185,'11'!$F$18:$F$1925)","v":0},{"$f":"SUMIF('11'!$H$18:$H$1925,B185&C185&A185,'11'!$G$18:$G$1925)","v":0}]
["НАЦИОНАЛЬНАЯ ОБОРОНА","0200",null,null,{"$f":"E187","v":2681699.9999999995},{"$f":"F187","v":2780799.9999999991}]
["Мобилизационная и вневойсковая подготовка","0203",null,null,{"$f":"E188","v":2681699.9999999995},2780799.9999999991]
["Непрограммные направления расходов","0203","9900000000",null,2681699.9999999995,2780799.9999999991]
["Осуществление первичного воинского учета на территориях, где отсутствуют военные комиссариаты за счет средств федерального бюджета","0203","9900051180",null,2681699.9999999995,2780799.9999999991]
["Субвенции","0203","9900051180","530",{"$f":"SUMIF('11'!$H$18:$H$1925,B190&C190&A190,'11'!$F$18:$F$1925)","v":2681699.9999999995},{"$f":"SUMIF('11'!$H$18:$H$1925,B190&C190&A190,'11'!$G$18:$G$1925)","v":2780799.9999999991}]
["НАЦИОНАЛЬНАЯ БЕЗОПАСНОСТЬ И ПРАВООХРАНИТЕЛЬНАЯ ДЕЯТЕЛЬНОСТЬ","0300",null,null,{"$f":"E192+E208","v":2079400},{"$f":"F192+F208","v":2158100}]
["Защита населения и территории от чрезвычайных ситуаций природного и техногенного характера, гражданская оборона","0309",null,null,{"$f":"E193+E205","v":1558100},{"$f":"F193+F205","v":1636800}]
["Муниципальная программа «Защита населения и территорий от чрезвычайных ситуаций, обеспечение пожарной безопасности и безопасности людей на водных объектах в Кукморском муниципальном районе Республики Татарстан на 2018 – 2020 годы»","0309","0700000000",null,{"$f":"E194","v":1558100},{"$f":"F194","v":1636800}]
["Подпрограмма «Снижение рисков и смягчение последствий чрезвычайных ситуаций природного и техногенного характера в Кукморском муниципальном районе Республики Татарстан на 2018 – 2020 годы»","0309","0720000000",null,{"$f":"E195","v":1558100},1636800]
["Основное мероприятие \"Повышение эффективности управления в области гражданской обороны, предупреждения и ликвидации чрезвычайных ситуаций\"","0309","0720100000",null,{"$f":"E196+E198","v":1558100},{"$f":"F196+F198","v":1636800}]
["Мероприятия по предупреждению и ликвидации последствий чрезвычайных ситуаций и стихийных бедствий","0309","0720107420",null,{"$f":"E197","v":100000},{"$f":"F197","v":100000}]
["Прочая закупка товаров, работ и услуг для обеспечения государственных (муниципальных) нужд","0309","0720107420","244",{"$f":"SUMIF('11'!$H$18:$H$1925,B197&C197&A197,'11'!$F$18:$F$1925)","v":100000},{"$f":"SUMIF('11'!$H$18:$H$1925,B197&C197&A197,'11'!$G$18:$G$1925)","v":100000}]
["Управление организацией и проведением мероприятий в области гражданской обороны и защиты в чрезвычайных ситуациях","0309","0720122670",null,{"$f":"SUM(E199:E204)","v":1458100},{"$f":"SUM(F199:F204)","v":1536800}]
["Фонд оплаты труда казенных учреждений и взносы по обязательному социальному страхованию","0309","0720122670","111",{"$f":"SUMIF('11'!$H$18:$H$1925,B199&C199&A199,'11'!$F$18:$F$1925)","v":933400},{"$f":"SUMIF('11'!$H$18:$H$1925,B199&C199&A199,'11'!$G$18:$G$1925)","v":992600}]
["Взносы по обязательному социальному страхованию на выплаты по оплате труда работников и иные выплаты работникам учреждений","0309","0720122670","119",{"$f":"SUMIF('11'!$H$18:$H$1925,B200&C200&A200,'11'!$F$18:$F$1925)","v":280300},{"$f":"SUMIF('11'!$H$18:$H$1925,B200&C200&A200,'11'!$G$18:$G$1925)","v":299800}]
["Прочая закупка товаров, работ и услуг для обеспечения государственных (муниципальных) нужд","0309","0720122670","244",{"$f":"SUMIF('11'!$H$18:$H$1925,B201&C201&A201,'11'!$F$18:$F$1925)","v":244400.00000000009},{"$f":"SUMIF('11'!$H$18:$H$1925,B201&C201&A201,'11'!$G$18:$G$1925)","v":244400.00000000009}]
["Уплата налога на имущество организаций и земельного налога","0309","0720122670","851",{"$f":"SUMIF('11'!$H$18:$H$1925,B202&C202&A202,'11'!$F$18:$F$1925)","v":0},{"$f":"SUMIF('11'!$H$18:$H$1925,B202&C202&A202,'11'!$G$18:$G$1925)","v":0}]
["Уплата прочих налогов, сборов и иных платежей","0309","0720122670","852",{"$f":"SUMIF('11'!$H$18:$H$1925,B203&C203&A203,'11'!$F$18:$F$1925)","v":0},{"$f":"SUMIF('11'!$H$18:$H$1925,B203&C203&A203,'11'!$G$18:$G$1925)","v":0}]
["Уплата иных платежей","0309","0720122670","853",{"$f":"SUMIF('11'!$H$18:$H$1925,B204&C204&A204,'11'!$F$18:$F$1925)","v":0},{"$f":"SUMIF('11'!$H$18:$H$1925,B204&C204&A204,'11'!$G$18:$G$1925)","v":0}]
["Непрограммные направления расходов","0309","9900000000",null,{"$f":"E206","v":0},{"$f":"F206","v":0}]
["Межбюджетные трансферты, передаваемые бюджетам муниципальных образований для компенсации дополнительных расходов, возникших в результате решений, принятых органами власти другого уровня","0309","9900025151",null,{"$f":"E207","v":0},{"$f":"F207","v":0}]
["Иные межбюджетные трансферты","0309","9900025151","540",{"$f":"SUMIF('11'!$H$18:$H$1925,B207&C207&A207,'11'!$F$18:$F$1925)","v":0},{"$f":"SUMIF('11'!$H$18:$H$1925,B207&C207&A207,'11'!$G$18:$G$1925)","v":0}]
["Другие вопросы в области национальной безопасности и правоохранительной деятельности","0314",null,null,{"$f":"E209","v":521299.99999999994},{"$f":"F209","v":521299.99999999994}]
["Муниципальная программа «Обеспечение общественного порядка и противодействие преступности в Кукморском муниципальном районе на 2018 - 2020 годы\"","0314","0600000000",null,{"$f":"E210","v":521299.99999999994},521299.99999999994]
["Подпрограмма \"Организация деятельности по профилактике правонарушений и преступлений в Республике Татарстан на 2014 – 2020 годы\"","0314","0610000000",null,521299.99999999994,521299.99999999994]
["Основное мероприятие \"Совершенствование деятельности по профилактике правонарушений и преступлений\"","0314","0610100000",null,521299.99999999994,521299.99999999994]
["Реализация программных мероприятий","0314","0610110990",null,{"$f":"SUM(E213:E215)","v":521299.99999999994},{"$f":"SUM(F213:F215)","v":521299.99999999994}]
["Фонд оплаты труда казенных учреждений и взносы по обязательному социальному страхованию","0314","0610110990","111",{"$f":"SUMIF('11'!$H$18:$H$1925,B213&C213&A213,'11'!$F$18:$F$1925)","v":334000},{"$f":"SUMIF('11'!$H$18:$H$1925,B213&C213&A213,'11'!$G$18:$G$1925)","v":334000}]
["Взносы по обязательному социальному страхованию на выплаты по оплате труда работников и иные выплаты работникам учреждений","0314","0610110990","119",{"$f":"SUMIF('11'!$H$18:$H$1925,B214&C214&A214,'11'!$F$18:$F$1925)","v":101000},{"$f":"SUMIF('11'!$H$18:$H$1925,B214&C214&A214,'11'!$G$18:$G$1925)","v":101000}]
["Прочая закупка товаров, работ и услуг для обеспечения государственных (муниципальных) нужд","0314","0610110990","244",{"$f":"SUMIF('11'!$H$18:$H$1925,B215&C215&A215,'11'!$F$18:$F$1925)","v":86299.999999999956},{"$f":"SUMIF('11'!$H$18:$H$1925,B215&C215&A215,'11'!$G$18:$G$1925)","v":86299.999999999956}]
["НАЦИОНАЛЬНАЯ ЭКОНОМИКА","0400",null,null,{"$f":"E217+E226+E230+E241","v":30397900},{"$f":"F217+F226+F230+F241","v":31597900}]
["Сельское хозяйство и рыболовство","0405",null,null,{"$f":"E218+E222","v":2012800.0000000002},{"$f":"F218+F222","v":2012800.0000000002}]
["Программа по реализации государственной национальной политики в Кукморском муниципальном районе на 2018-2020 годы","0405","2000000000",null,{"$f":"E219","v":0},{"$f":"F219","v":0}]
["Основное мероприятие «Реализация государственной национальной политики в Республике Татарстан, цивилизованное развитие представителей народов, проживающих на территории Республики Татарстан, сохранение межэтнического и межконфессионального мира и согласия, упрочение общероссийской гражданской идентичности (российской нации), успешная социокультурная адаптация и интеграция мигрантов»","0405","2000100000",null,{"$f":"E220","v":0},0]
["Реализация программных мероприятий200","0405","2000110990",null,0,0]
["Прочая закупка товаров, работ и услуг для обеспечения государственных (муниципальных) нужд","0405","2000110990","244",{"$f":"SUMIF('11'!$H$18:$H$1925,B221&C221&A221,'11'!$F$18:$F$1925)","v":0},{"$f":"SUMIF('11'!$H$18:$H$1925,B221&C221&A221,'11'!$G$18:$G$1925)","v":0}]
["Государственная программа \"Система химической и биологической безопасности Республики Татарстан на 2018 – 2020 годы\"","0405","2800000000",null,{"$f":"E223","v":2012800.0000000002},{"$f":"F223","v":2012800.0000000002}]
["Основное мероприятие \"Предупреждение болезней животных и защита населения от болезней общих для человека и животных\"","0405","2800100000",null,{"$f":"E224","v":2012800.0000000002},2012800.0000000002]
["Реализация государственных полномочий в сфере организации проведения мероприятий по предупреждению и ликвидации болезней животных, их лечению, отлову и содержанию безнадзорных животных, защите населения от болезней, общих для человека и животных","0405","2800125360",null,2012800.0000000002,2012800.0000000002]
["Прочая закупка товаров, работ и услуг для обеспечения государственных (муниципальных) нужд","0405","2800125360","244",{"$f":"SUMIF('11'!$H$18:$H$1925,B225&C225&A225,'11'!$F$18:$F$1925)","v":2012800.0000000002},{"$f":"SUMIF('11'!$H$18:$H$1925,B225&C225&A225,'11'!$G$18:$G$1925)","v":2012800.0000000002}]
["Водное хозяйство","0406",null,null,{"$f":"E227","v":367900},{"$f":"F227","v":367900}]
["Непрограммные направления расходов","0406","9900000000",null,{"$f":"E228","v":367900},367900]
["Расходы на содержание и ремонт гидротехнических сооружений","0406","9900090430",null,367900,367900]
["Прочая закупка товаров, работ и услуг для обеспечения государственных (муниципальных) нужд","0406","9900090430","244",{"$f":"SUMIF('11'!$H$18:$H$1925,B229&C229&A229,'11'!$F$18:$F$1925)","v":367900},{"$f":"SUMIF('11'!$H$18:$H$1925,B229&C229&A229,'11'!$G$18:$G$1925)","v":367900}]
["Дорожное хозяйство (дорожные фонды)","0409",null,null,{"$f":"E231+E234+E237","v":28017200},{"$f":"F231+F234+F237","v":29217200}]
["Непрограммные направления расходов","0409","9900000000",null,{"$f":"E232","v":0},{"$f":"F232","v":0}]
["Межбюджетные трансферты, передаваемые бюджетам муниципальных образований для компенсации дополнительных расходов, возникших в результате решений, принятых органами власти другого уровня","0409","9900025151",null,{"$f":"E233","v":0},{"$f":"F233","v":0}]
["Иные межбюджетные трансферты","0409","9900025151","540",{"$f":"SUMIF('11'!$H$18:$H$1925,B233&C233&A233,'11'!$F$18:$F$1925)","v":0},{"$f":"SUMIF('11'!$H$18:$H$1925,B233&C233&A233,'11'!$G$18:$G$1925)","v":0}]
["Муниципальный дорожный фонд","0409","Д100000000",null,{"$f":"E235","v":24300000},25500000]
["Строительство, реконструкция и ремонт (текущий и капитальный) автомобильных дорог за счет муниципального Дорожного фонда","0409","Д100003650",null,24300000,25500000]
["Прочая закупка товаров, работ и услуг для обеспечения государственных (муниципальных) нужд","0409","Д100003650","244",{"$f":"SUMIF('11'!$H$18:$H$1925,B236&C236&A236,'11'!$F$18:$F$1925)","v":24300000},{"$f":"SUMIF('11'!$H$18:$H$1925,B236&C236&A236,'11'!$G$18:$G$1925)","v":25500000}]
["Муниципальная программа «Обеспечение качественным жильем и услугами жилищно-коммунального хозяйства населения, благоустройства территории Кукморского муниципального района Республики Татарстан на 2018 - 2020 годы»","0409","0400000000",null,{"$f":"E238","v":3717200},3717200]
["Подпрограмма «Благоустройство территории Кукморского муниципального района на 2018 – 2020 годы»","0409","0490200000",null,3717200,3717200]
["Строительство, реконструкция и ремонт (текущий и капитальный) автомобильных дорог за счет муниципального Дорожного фонда","0409","0490278020",null,3717200,3717200]
["Прочая закупка товаров, работ и услуг для обеспечения государственных (муниципальных) нужд","0409","0490278020","244",{"$f":"SUMIF('11'!$H$18:$H$1925,B240&C240&A240,'11'!$F$18:$F$1925)","v":3717200},{"$f":"SUMIF('11'!$H$18:$H$1925,B240&C240&A240,'11'!$G$18:$G$1925)","v":3717200}]
["Другие вопросы в области национальной экономики","0412",null,null,{"$f":"SUM(E242+E246)","v":0},{"$f":"SUM(F242+F246)","v":0}]
["Муниципальная программа «Управление муниципальным имуществом Кукморского муниципального района Республики Татарстан на 2018 – 2020 годы»","0412","1600000000",null,{"$f":"E243","v":0},{"$f":"F243","v":0}]
["Основное мероприятие \"Обеспечение эффективного распоряжения и использования государственного имущества и земельных участков\"","0412","1600100000",null,{"$f":"E244","v":0},0]
["Мероприятия по землеустройству и землепользованию","0412","1600173440",null,0,0]
["Прочая закупка товаров, работ и услуг для обеспечения государственных (муниципальных) нужд","0412","1600173440","244",{"$f":"SUMIF('11'!$H$18:$H$1925,B245&C245&A245,'11'!$F$18:$F$1925)","v":0},{"$f":"SUMIF('11'!$H$18:$H$1925,B245&C245&A245,'11'!$G$18:$G$1925)","v":0}]
["Непрограммные направления расходов","0412","9900000000",null,{"$f":"E247","v":0},{"$f":"F247","v":0}]
["Средства, передаваемые для компенсации дополнительных расходов, возникших в результате решений, принятых органами власти другого уровня","0412","9900025150",null,{"$f":"E248","v":0},{"$f":"F248","v":0}]
["Иные межбюджетные трансферты","0412","9900025150","540",{"$f":"SUMIF('11'!$H$18:$H$1925,B248&C248&A248,'11'!$F$18:$F$1925)","v":0},{"$f":"SUMIF('11'!$H$18:$H$1925,B248&C248&A248,'11'!$G$18:$G$1925)","v":0}]
["ЖИЛИЩНО-КОММУНАЛЬНОЕ ХОЗЯЙСТВО","0500",null,null,{"$f":"E250+E266+E270","v":22919580},{"$f":"F250+F266+F270","v":23470720}]
["Жилищное хозяйство","0501",null,null,{"$f":"E251","v":20264580},{"$f":"F251","v":20815720}]
["Муниципальная программа «Обеспечение качественным жильем и услугами жилищно-коммунального хозяйства населения, благоустройства территории Кукморского муниципального района Республики Татарстан на 2018 - 2020 годы»","0501","0400000000",null,{"$f":"E252+E258+E262","v":20264580},{"$f":"F252+F258+F262","v":20815720}]
["Подпрограмма \"Реализация мероприятий Республиканской адресной программы по переселению граждан из аварийного жилищного фонда в 2014 – 2020 годах\"","0501","0440000000",null,{"$f":"E253","v":0},{"$f":"F253","v":0}]
["Основное мероприятие \"Переселение граждан из жилищного фонда, признанного аварийным и непригодным для проживания; снос или реконструкция многоквартирных домов, признанных аварийными и подлежащими сносу или реконструкции\"","0501","0440100000",null,{"$f":"E254+E256","v":0},{"$f":"F254+F256","v":0}]
["Обеспечение мероприятий по переселению граждан из аварийного жилищного фонда за счет средств Фонда содействия реформированию жилищно-коммунального хозяйства","0501","0440195020",null,{"$f":"E255","v":0},{"$f":"F255","v":0}]
["Иные выплаты населению","0501","0440195020","360",{"$f":"SUMIF('11'!$H$18:$H$1925,B255&C255&A255,'11'!$F$18:$F$1925)","v":0},{"$f":"SUMIF('11'!$H$18:$H$1925,B255&C255&A255,'11'!$G$18:$G$1925)","v":0}]
["Обеспечение мероприятий по переселению граждан из аварийного жилищного фонда","0501","0440196020",null,{"$f":"E257","v":0},{"$f":"F257","v":0}]
["Иные выплаты населению","0501","0440196020","360",{"$f":"SUMIF('11'!$H$18:$H$1925,B257&C257&A257,'11'!$F$18:$F$1925)","v":0},{"$f":"SUMIF('11'!$H$18:$H$1925,B257&C257&A257,'11'!$G$18:$G$1925)","v":0}]
["Подпрограмма «Реализация мероприятий муниципальной программы капитального ремонта общего имущества в многоквартирных домах, расположенных на территории Кукморского муниципального района Республики Татарстан в 2018 – 2020 годах»","0501","0450000000",null,{"$f":"E259","v":4603090},{"$f":"F259","v":4603090}]
["Основное мероприятие \"Организация своевременного проведения капитального ремонта общего имущества в многоквартирных домах\"","0501","0450100000",null,{"$f":"E260","v":4603090},4603090]
["Обеспечение мероприятий по капитальному ремонту многоквартирных домов и переселению граждан из аварийного жилищного фонда за счет средств бюджета Республики Татарстан и бюджета Кукморского муниципального района","0501","0450196010",null,4603090,4603090]
["Субсидии некоммерческим организациям (за исключением государственных (муниципальных) учреждений)","0501","0450196010","630",{"$f":"SUMIF('11'!$H$18:$H$1925,B261&C261&A261,'11'!$F$18:$F$1925)","v":4603090},{"$f":"SUMIF('11'!$H$18:$H$1925,B261&C261&A261,'11'!$G$18:$G$1925)","v":4603090}]
["Подпрограмма «Реализация муниципальной политики в сфере архитектуры, градо-строительства, строительства, промышленности строительных материалов, в жилищной сфере и коммунальном хозяйстве на 2018 – 2020 годы»","0501","0480000000",null,{"$f":"E263","v":15661490},{"$f":"F263","v":16212630.000000002}]
["Основное мероприятие \"Другие мероприятия в области жилищно-коммунального хозяйства \"","0501","0480400000",null,{"$f":"E264","v":15661490},16212630.000000002]
["Мероприятия в области жилищно-коммунального хозяйства","0501","0480476040",null,15661490,16212630.000000002]
["Прочая закупка товаров, работ и услуг для обеспечения государственных (муниципальных) нужд","0501","0480476040","244",{"$f":"SUMIF('11'!$H$18:$H$1925,B265&C265&A265,'11'!$F$18:$F$1925)","v":15661490},{"$f":"SUMIF('11'!$H$18:$H$1925,B265&C265&A265,'11'!$G$18:$G$1925)","v":16212630.000000002}]
["Коммунальное хозяйство","0502",null,null,{"$f":"E267","v":0},{"$f":"F267","v":0}]
["Непрограммные направления расходов","0502","9900000000",null,{"$f":"E268","v":0},0]
["Межбюджетные трансферты, передаваемые бюджетам муниципальных образований для компенсации дополнительных расходов, возникших в результате решений, принятых органами власти другого уровня","0502","9900025151",null,0,0]
["Иные межбюджетные трансферты","0502","9900025151","540",{"$f":"SUMIF('11'!$H$18:$H$1925,B269&C269&A269,'11'!$F$18:$F$1925)","v":0},{"$f":"SUMIF('11'!$H$18:$H$1925,B269&C269&A269,'11'!$G$18:$G$1925)","v":0}]
["Благоустройство","0503",null,null,{"$f":"E271+E275","v":2655000},{"$f":"F271+F275","v":2655000}]
["Муниципальная программа «Обеспечение качественным жильем и услугами жилищно-коммунального хозяйства населения, благоустройства территории Кукморского муниципального района Республики Татарстан на 2018 - 2020 годы»","0503","0400000000",null,{"$f":"E272","v":1155000},1155000]
["Подпрограмма «Благоустройство территории Кукморского муниципального района на 2018 – 2020 годы»","0503","0490200000",null,1155000,1155000]
["Организация и содержаение мест захоронения","0503","0490278040",null,1155000,1155000]
["Прочая закупка товаров, работ и услуг для обеспечения государственных (муниципальных) нужд","0503","0490278040","244",{"$f":"SUMIF('11'!$H$18:$H$1925,B274&C274&A274,'11'!$F$18:$F$1925)","v":1155000},{"$f":"SUMIF('11'!$H$18:$H$1925,B274&C274&A274,'11'!$G$18:$G$1925)","v":1155000}]
["Муниципальная программа «Обеспечение общественного порядка и противодействие преступности в Кукморском муниципальном районе на 2018 - 2020 годы\"","0503","0600000000",null,{"$f":"E276","v":1500000},1500000]
["Подпрограмма «Повышение безопасности дорожного движения в Кукморском муниципальном районе на 2018-2020 годы»","0503","0620100000",null,1500000,1500000]
["Реализация программных мероприятий062","0503","0620178020",null,{"$f":"E278","v":1500000},{"$f":"F278","v":1500000}]
["Прочая закупка товаров, работ и услуг для обеспечения государственных (муниципальных) нужд","0503","0620178020","244",{"$f":"SUMIF('11'!$H$18:$H$1925,B278&C278&A278,'11'!$F$18:$F$1925)","v":1500000},{"$f":"SUMIF('11'!$H$18:$H$1925,B278&C278&A278,'11'!$G$18:$G$1925)","v":1500000}]
["ОХРАНА ОКРУЖАЮЩЕЙ СРЕДЫ","0600",null,null,{"$f":"E280","v":1528000},{"$f":"F280","v":1528000}]
["Охрана объектов растительного и животного мира и среды их обитания","0603",null,null,{"$f":"E281+E286","v":1528000},{"$f":"F281+F286","v":1528000}]
["Муниципальная программа «Охрана окружающей среды, воспроизводство и использование природных ресурсов Кукморского муниципального района Республики Татарстан на 2018 - 2020 годы»","0603","0900000000",null,{"$f":"E282","v":1528000},{"$f":"F282","v":1528000}]
["Подпрограмма \"Регулирование качества окружающей среды Республики Татарстан на 2014 – 2020 годы\"","0603","0910000000",null,{"$f":"E283","v":1528000},1528000]
["Основное мероприятие \"Обеспечение охраны окружающей среды\"","0603","0910100000",null,1528000,1528000]
["Мероприятия по регулированию качества окружающей среды","0603","0910119100",null,1528000,1528000]
["Прочая закупка товаров, работ и услуг для обеспечения государственных (муниципальных) нужд","0603","0910119100","244",{"$f":"SUMIF('11'!$H$18:$H$1925,B285&C285&A285,'11'!$F$18:$F$1925)","v":1528000},{"$f":"SUMIF('11'!$H$18:$H$1925,B285&C285&A285,'11'!$G$18:$G$1925)","v":1528000}]
["Непрограммные направления расходов","0603","9900000000",null,{"$f":"E287","v":0},{"$f":"F287","v":0}]
["Межбюджетные трансферты, передаваемые бюджетам муниципальных образований для компенсации дополнительных расходов, возникших в результате решений, принятых органами власти другого уровня","0603","9900025151",null,{"$f":"E288","v":0},{"$f":"F288","v":0}]
["Иные межбюджетные трансферты","0603","9900025151","540",{"$f":"SUMIF('11'!$H$18:$H$1925,B288&C288&A288,'11'!$F$18:$F$1925)","v":0},{"$f":"SUMIF('11'!$H$18:$H$1925,B288&C288&A288,'11'!$G$18:$G$1925)","v":0}]
["ОБРАЗОВАНИЕ","0700",null,null,{"$f":"E290+E312+E381+E413+E371","v":853952190.00000012},{"$f":"F290+F312+F381+F413+F371","v":859373490.00000012}]
["Дошкольное образование","0701",null,null,{"$f":"E291+E302+E307","v":190315173.12000006},{"$f":"F291+F302+F307","v":192555173.12000006}]
["Муниципальная программа «Развитие образования Кукморского муниципального района Республики Татарстан на 2018 – 2020 годы»","0701","0200000000",null,{"$f":"E292","v":190315173.12000006},{"$f":"F292","v":192555173.12000006}]
["Подпрограмма «Развитие дошкольного образования на 2018 – 2020 годы»","0701","0210000000",null,{"$f":"E293+E296+E299","v":190315173.12000006},{"$f":"F293+F296+F299","v":192555173.12000006}]
["Основное мероприятие \"Обеспечение государственных гарантий реализации прав на получение общедоступного и бесплатного дошкольного образования в муниципальных дошкольных образовательных организациях\"","0701","0210100000",null,{"$f":"E294","v":82319208.000000015},{"$f":"F294","v":82319208.000000015}]
["Реализация государственных полномочий на обеспечение государственных гарантий реализации прав на получение общедоступного и бесплатного дошкольного образования в муниципальных дошкольных образовательных организациях","0701","0210125370",null,{"$f":"E295","v":82319208.000000015},{"$f":"F295","v":82319208.000000015}]
["Субсидии бюджетным учреждениям на финансовое обеспечение государственного (муниципального) задания на оказание государственных (муниципальных) услуг (выполнение работ)","0701","0210125370","611",{"$f":"SUMIF('11'!$H$18:$H$1925,B295&C295&A295,'11'!$F$18:$F$1925)","v":82319208.000000015},{"$f":"SUMIF('11'!$H$18:$H$1925,B295&C295&A295,'11'!$G$18:$G$1925)","v":82319208.000000015}]
["Основное мероприятие \"Реализация дошкольного образования в образовательных организациях\"","0701","0210300000",null,{"$f":"E297","v":107995965.12000003},{"$f":"F297","v":110235965.12000003}]
["Развитие дошкольных образовательных учреждений","0701","0210342000",null,{"$f":"E298","v":107995965.12000003},{"$f":"F298","v":110235965.12000003}]
["Субсидии бюджетным учреждениям на финансовое обеспечение государственного (муниципального) задания на оказание государственных (муниципальных) услуг (выполнение работ)","0701","0210342000","611",{"$f":"SUMIF('11'!$H$18:$H$1925,B298&C298&A298,'11'!$F$18:$F$1925)","v":107995965.12000003},{"$f":"SUMIF('11'!$H$18:$H$1925,B298&C298&A298,'11'!$G$18:$G$1925)","v":110235965.12000003}]
["Основное мероприятие \"Укрепление кадрового потенциала и привлечение молодых специалистов в дошкольных образовательных организациях\"","0701","0210400000",null,{"$f":"E300","v":0},{"$f":"F300","v":0}]
["Мероприятия в области образования, направленные на поддержку молодых специалистов в дошкольных образовательных организациях","0701","0210443625",null,{"$f":"E301","v":0},{"$f":"F301","v":0}]
["Субсидии бюджетным учреждениям на финансовое обеспечение государственного (муниципального) задания на оказание государственных (муниципальных) услуг (выполнение работ)","0701","0210443625","611",{"$f":"SUMIF('11'!$H$18:$H$1925,B301&C301&A301,'11'!$F$18:$F$1925)","v":0},{"$f":"SUMIF('11'!$H$18:$H$1925,B301&C301&A301,'11'!$G$18:$G$1925)","v":0}]
["Муниципальная программа улучшения условий и охраны труда в Кукморском муниципальном районе на 2018 - 2020 годы","0701","0500000000",null,{"$f":"E303","v":0},{"$f":"F303","v":0}]
["Подпрограмма улучшения условий и охраны труда в Кукморском муниципальном районе на 2018 - 2020 годы","0701","0520000000",null,{"$f":"E304","v":0},0]
["Основное мероприятие \"Реализация мероприятий в области охраны труда\"","0701","0520100000",null,0,0]
["Мероприятия по улучшению условий и охраны труда","0701","0520115500",null,0,0]
["Субсидии бюджетным учреждениям на финансовое обеспечение государственного (муниципального) задания на оказание государственных (муниципальных) услуг (выполнение работ)","0701","0520115500","611",{"$f":"SUMIF('11'!$H$18:$H$1925,B306&C306&A306,'11'!$F$18:$F$1925)","v":0},{"$f":"SUMIF('11'!$H$18:$H$1925,B306&C306&A306,'11'!$G$18:$G$1925)","v":0}]
["Муниципальная программа «Обеспечение общественного порядка и противодействие преступности в Кукморском муниципальном районе на 2018 - 2020 годы\"","0701","0600000000",null,{"$f":"E308","v":0},{"$f":"F308","v":0}]
["Подпрограмма «Профилактика терроризма и экстремизма в Кукморском муниципальном районе на 2018-2020гг.»","0701","0630000000",null,{"$f":"E309","v":0},0]
["Основное мероприятие \"Профилактика терроризма и экстремизма\"","0701","0630100000",null,0,0]
["Реализация программных мероприятий063","0701","0630110990",null,0,0]
["Субсидии бюджетным учреждениям на финансовое обеспечение государственного (муниципального) задания на оказание государственных (муниципальных) услуг (выполнение работ)","0701","0630110990","611",{"$f":"SUMIF('11'!$H$18:$H$1925,B311&C311&A311,'11'!$F$18:$F$1925)","v":0},{"$f":"SUMIF('11'!$H$18:$H$1925,B311&C311&A311,'11'!$G$18:$G$1925)","v":0}]
["Общее образование","0702",null,null,{"$f":"E313+E348+E353+E358+E364+E368","v":548527759.30999994},{"$f":"F313+F348+F353+F358+F364+F368","v":551160059.30999994}]
["Муниципальная программа «Развитие образования Кукморского муниципального района Республики Татарстан на 2018 – 2020 годы»","0702","0200000000",null,{"$f":"E314+E321+E334","v":548527759.30999994},{"$f":"F314+F321+F334","v":551160059.30999994}]
["Подпрограмма «Развитие дошкольного образования на 2018 – 2020 годы»","0702","0210000000",null,{"$f":"E315+E318","v":21090362.220000006},{"$f":"F315+F318","v":21090362.220000006}]
["Основное мероприятие \"Обеспечение государственных гарантий реализации прав на получение общедоступного и бесплатного дошкольного образования в муниципальных дошкольных образовательных организациях\"","0702","0210100000",null,{"$f":"E316","v":9990992},{"$f":"F316","v":9990992}]
["Реализация государственных полномочий на обеспечение государственных гарантий реализации прав на получение общедоступного и бесплатного дошкольного образования в муниципальных дошкольных образовательных организациях","0702","0210125370",null,{"$f":"E317","v":9990992},{"$f":"F317","v":9990992}]
["Субсидии бюджетным учреждениям на финансовое обеспечение государственного (муниципального) задания на оказание государственных (муниципальных) услуг (выполнение работ)","0702","0210125370","611",{"$f":"SUMIF('11'!$H$18:$H$1925,B317&C317&A317,'11'!$F$18:$F$1925)","v":9990992},{"$f":"SUMIF('11'!$H$18:$H$1925,B317&C317&A317,'11'!$G$18:$G$1925)","v":9990992}]
["Основное мероприятие \"Реализация дошкольного образования в образовательных организациях\"","0702","0210300000",null,{"$f":"E319","v":11099370.220000004},{"$f":"F319","v":11099370.220000004}]
["Развитие дошкольных образовательных учреждений","0702","0210342000",null,{"$f":"E320","v":11099370.220000004},{"$f":"F320","v":11099370.220000004}]
["Субсидии бюджетным учреждениям на финансовое обеспечение государственного (муниципального) задания на оказание государственных (муниципальных) услуг (выполнение работ)","0702","0210342000","611",{"$f":"SUMIF('11'!$H$18:$H$1925,B320&C320&A320,'11'!$F$18:$F$1925)","v":11099370.220000004},{"$f":"SUMIF('11'!$H$18:$H$1925,B320&C320&A320,'11'!$G$18:$G$1925)","v":11099370.220000004}]
["Подпрограмма «Развитие общего образования на 2018 – 2020 годы»","0702","0220000000",null,{"$f":"E322+E325+E331","v":527437397.08999997},{"$f":"F322+F325+F331","v":530069697.08999997}]
["Основное мероприятие \"Укрепление кадрового потенциала и привлечение молодых специалистов в образовательные организации\"","0702","0220100000",null,{"$f":"E323","v":0},{"$f":"F323","v":0}]
["Мероприятия в области образования, направленные на поддержку молодых специалистов в общеобразовательных организациях","0702","0220143624",null,{"$f":"E324","v":0},{"$f":"F324","v":0}]
["Субсидии бюджетным учреждениям на финансовое обеспечение государственного (муниципального) задания на оказание государственных (муниципальных) услуг (выполнение работ)","0702","0220143624","611",{"$f":"SUMIF('11'!$H$18:$H$1925,B324&C324&A324,'11'!$F$18:$F$1925)","v":0},{"$f":"SUMIF('11'!$H$18:$H$1925,B324&C324&A324,'11'!$G$18:$G$1925)","v":0}]
["Основное мероприятие \"Реализация общего образования в государственных образовательных организациях\"","0702","0220200000",null,{"$f":"E326","v":244894397.08999997},{"$f":"F326","v":247526697.08999997}]
["Развитие общеобразовательных организаций, включая школы – детские сады","0702","0220242100",null,{"$f":"SUM(E327:E330)","v":244894397.08999997},{"$f":"SUM(F327:F330)","v":247526697.08999997}]
["Фонд оплаты труда казенных учреждений и взносы по обязательному социальному страхованию","0702","0220242100","111",{"$f":"SUMIF('11'!$H$18:$H$1925,B327&C327&A327,'11'!$F$18:$F$1925)","v":0},{"$f":"SUMIF('11'!$H$18:$H$1925,B327&C327&A327,'11'!$G$18:$G$1925)","v":0}]
["Иные выплаты, за исключением фонда оплаты труда казенных учреждений, лицам, привлекаемым согласно законодательству для выполнения отдельных полномочий","0702","0220242100","113",{"$f":"SUMIF('11'!$H$18:$H$1925,B328&C328&A328,'11'!$F$18:$F$1925)","v":0},{"$f":"SUMIF('11'!$H$18:$H$1925,B328&C328&A328,'11'!$G$18:$G$1925)","v":0}]
["Прочая закупка товаров, работ и услуг для обеспечения государственных (муниципальных) нужд","0702","0220242100","244",{"$f":"SUMIF('11'!$H$18:$H$1925,B329&C329&A329,'11'!$F$18:$F$1925)","v":0},{"$f":"SUMIF('11'!$H$18:$H$1925,B329&C329&A329,'11'!$G$18:$G$1925)","v":0}]
["Субсидии бюджетным учреждениям на финансовое обеспечение государственного (муниципального) задания на оказание государственных (муниципальных) услуг (выполнение работ)","0702","0220242100","611",{"$f":"SUMIF('11'!$H$18:$H$1925,B330&C330&A330,'11'!$F$18:$F$1925)","v":244894397.08999997},{"$f":"SUMIF('11'!$H$18:$H$1925,B330&C330&A330,'11'!$G$18:$G$1925)","v":247526697.08999997}]
["Основное мероприятие «Обеспечение государственных гарантий реализации прав на получение общедоступного и бесплатного дошкольного, начального общего, основного общего, среднего общего образования в муниципальных общеобразовательных организациях, обеспечение дополнительного образования детей в муниципальных общеобразовательных организациях»","0702","0220800000",null,{"$f":"E332","v":282543000},{"$f":"F332","v":282543000}]
["Обеспечение государственных гарантий реализации прав на получение общедоступного и бесплатного дошкольного, начального общего, основного общего, среднего общего образования в муниципальных общеобразовательных организациях, обеспечение дополнительного образования детей в муниципальных общеобразовательных организациях","0702","0220825280",null,{"$f":"E333","v":282543000},{"$f":"F333","v":282543000}]
["Субсидии бюджетным учреждениям на финансовое обеспечение государственного (муниципального) задания на оказание государственных (муниципальных) услуг (выполнение работ)","0702","0220825280","611",{"$f":"SUMIF('11'!$H$18:$H$1925,B333&C333&A333,'11'!$F$18:$F$1925)","v":282543000},{"$f":"SUMIF('11'!$H$18:$H$1925,B333&C333&A333,'11'!$G$18:$G$1925)","v":282543000}]
["Подпрограмма «Развитие дополнительного образования на 2018 – 2020 годы»","0702","0230000000",null,{"$f":"E335+E343","v":0},{"$f":"F335+F343","v":0}]
["Основное мероприятие \"Организация предоставления дополнительного образования детей в государственных образовательных организациях\"","0702","0230100000",null,{"$f":"E336+E338+E340","v":0},{"$f":"F336+F338+F340","v":0}]
["Развитие муниципальных учреждений дополнительного образования детей многопрофильной направленности","0702","0230142310",null,{"$f":"E337","v":0},{"$f":"F337","v":0}]
["Субсидии бюджетным учреждениям на финансовое обеспечение государственного (муниципального) задания на оказание государственных (муниципальных) услуг (выполнение работ)","0702","0230142310","611",{"$f":"SUMIF('11'!$H$18:$H$1925,B337&C337&A337,'11'!$F$18:$F$1925)","v":0},{"$f":"SUMIF('11'!$H$18:$H$1925,B337&C337&A337,'11'!$G$18:$G$1925)","v":0}]
["Развитие муниципальных учреждений дополнительного образования детей художественно-эстетической направленности","0702","0230142320",null,{"$f":"E339","v":0},{"$f":"F339","v":0}]
["Субсидии бюджетным учреждениям на финансовое обеспечение государственного (муниципального) задания на оказание государственных (муниципальных) услуг (выполнение работ)","0702","0230142320","611",{"$f":"SUMIF('11'!$H$18:$H$1925,B339&C339&A339,'11'!$F$18:$F$1925)","v":0},{"$f":"SUMIF('11'!$H$18:$H$1925,B339&C339&A339,'11'!$G$18:$G$1925)","v":0}]
["Развитие муниципальных учреждений дополнительного образования детей спортивной направленности","0702","0230142330",null,{"$f":"SUM(E341:E342)","v":0},{"$f":"SUM(F341:F342)","v":0}]
["Субсидии бюджетным учреждениям на финансовое обеспечение государственного (муниципального) задания на оказание государственных (муниципальных) услуг (выполнение работ)","0702","0230142330","611",{"$f":"SUMIF('11'!$H$18:$H$1925,B341&C341&A341,'11'!$F$18:$F$1925)","v":0},{"$f":"SUMIF('11'!$H$18:$H$1925,B341&C341&A341,'11'!$G$18:$G$1925)","v":0}]
["Субсидии бюджетным учреждениям на иные цели","0702","0230142330","612",{"$f":"SUMIF('11'!$H$18:$H$1925,B342&C342&A342,'11'!$F$18:$F$1925)","v":0},{"$f":"SUMIF('11'!$H$18:$H$1925,B342&C342&A342,'11'!$G$18:$G$1925)","v":0}]
["Основное мероприятие \"Укрепление кадрового потенциала и привлечение молодых специалистов в учреждениях дополнительного образования\"","0702","0230400000",null,{"$f":"E344+E346","v":0},{"$f":"F344+F346","v":0}]
["Мероприятия в области образования, направленные на поддержку молодых специалистов в многопрофильных организациях дополнительного образования","0702","0230443621",null,{"$f":"E345","v":0},{"$f":"F345","v":0}]
["Субсидии бюджетным учреждениям на финансовое обеспечение государственного (муниципального) задания на оказание государственных (муниципальных) услуг (выполнение работ)","0702","0230443621","611",{"$f":"SUMIF('11'!$H$18:$H$1925,B345&C345&A345,'11'!$F$18:$F$1925)","v":0},{"$f":"SUMIF('11'!$H$18:$H$1925,B345&C345&A345,'11'!$G$18:$G$1925)","v":0}]
["Мероприятия в области образования, направленные на поддержку молодых специалистов в организациях дополнительного образования художественно-эстетической направленности","0702","0230443622",null,{"$f":"E347","v":0},{"$f":"F347","v":0}]
["Субсидии бюджетным учреждениям на финансовое обеспечение государственного (муниципального) задания на оказание государственных (муниципальных) услуг (выполнение работ)","0702","0230443622","611",{"$f":"SUMIF('11'!$H$18:$H$1925,B347&C347&A347,'11'!$F$18:$F$1925)","v":0},{"$f":"SUMIF('11'!$H$18:$H$1925,B347&C347&A347,'11'!$G$18:$G$1925)","v":0}]
["Муниципальная программа улучшения условий и охраны труда в Кукморском муниципальном районе на 2018 - 2020 годы","0702","0500000000",null,{"$f":"E349","v":0},{"$f":"F349","v":0}]
["Подпрограмма улучшения условий и охраны труда в Кукморском муниципальном районе на 2018 - 2020 годы","0702","0520000000",null,{"$f":"E350","v":0},{"$f":"F350","v":0}]
["Основное мероприятие \"Реализация мероприятий в области охраны труда\"","0702","0520100000",null,{"$f":"E351","v":0},0]
["Мероприятия по улучшению условий и охраны труда","0702","0520115500",null,0,0]
["Субсидии бюджетным учреждениям на финансовое обеспечение государственного (муниципального) задания на оказание государственных (муниципальных) услуг (выполнение работ)","0702","0520115500","611",{"$f":"SUMIF('11'!$H$18:$H$1925,B352&C352&A352,'11'!$F$18:$F$1925)","v":0},{"$f":"SUMIF('11'!$H$18:$H$1925,B352&C352&A352,'11'!$G$18:$G$1925)","v":0}]
["Муниципальная программа «Обеспечение общественного порядка и противодействие преступности в Кукморском муниципальном районе на 2018 - 2020 годы\"","0702","0600000000",null,{"$f":"E354","v":0},{"$f":"F354","v":0}]
["Подпрограмма «Профилактика терроризма и экстремизма в Кукморском муниципальном районе на 2018-2020гг.»","0702","0630000000",null,{"$f":"E355","v":0},0]
["Основное мероприятие \"Профилактика терроризма и экстремизма\"","0702","0630100000",null,0,0]
["Реализация программных мероприятий063","0702","0630110990",null,0,0]
["Субсидии бюджетным учреждениям на финансовое обеспечение государственного (муниципального) задания на оказание государственных (муниципальных) услуг (выполнение работ)","0702","0630110990","611",{"$f":"SUMIF('11'!$H$18:$H$1925,B357&C357&A357,'11'!$F$18:$F$1925)","v":0},{"$f":"SUMIF('11'!$H$18:$H$1925,B357&C357&A357,'11'!$G$18:$G$1925)","v":0}]
["Муниципальная программа «Развитие молодежной политики, физической культуры и спорта в Кукморском муниципальном районе Республики Татарстан на 2018 – 2020 годы»","0702","1000000000",null,{"$f":"E359","v":0},{"$f":"F359","v":0}]
["Подпрограмма «Развитие физической культуры и спорта в Кукморском муниципальном районе Республики Татарстан на 2018 – 2020 годы»","0702","1010000000",null,{"$f":"E360","v":0},0]
["Основное мероприятие \"Реализация государственной политики в области физической культуры и спорта в Республике Татарстан\"","0702","1010100000",null,0,0]
["Мероприятия, направленные на поддержку тренеров-преподавателей и спортсменов-инструкторов, работающих в учреждениях по внешкольной работе с детьми за высокие результаты","0702","1010142330",null,{"$f":"SUM(E362:E363)","v":0},{"$f":"SUM(F362:F363)","v":0}]
["Фонд оплаты труда казенных учреждений и взносы по обязательному социальному страхованию","0702","1010142330","111",{"$f":"SUMIF('11'!$H$18:$H$1925,B362&C362&A362,'11'!$F$18:$F$1925)","v":0},{"$f":"SUMIF('11'!$H$18:$H$1925,B362&C362&A362,'11'!$G$18:$G$1925)","v":0}]
["Субсидии бюджетным учреждениям на финансовое обеспечение государственного (муниципального) задания на оказание государственных (муниципальных) услуг (выполнение работ)","0702","1010142330","611",{"$f":"SUMIF('11'!$H$18:$H$1925,B363&C363&A363,'11'!$F$18:$F$1925)","v":0},{"$f":"SUMIF('11'!$H$18:$H$1925,B363&C363&A363,'11'!$G$18:$G$1925)","v":0}]
["Программа по реализации государственной национальной политики в Кукморском муниципальном районе на 2018-2020 годы","0702","2000000000",null,{"$f":"E365","v":0},{"$f":"F365","v":0}]
["Основное мероприятие «Реализация государственной национальной политики в Республике Татарстан, цивилизованное развитие представителей народов, проживающих на территории Республики Татарстан, сохранение межэтнического и межконфессионального мира и согласия, упрочение общероссийской гражданской идентичности (российской нации), успешная социокультурная адаптация и интеграция мигрантов»","0702","2000100000",null,{"$f":"E366","v":0},0]
["Реализация программных мероприятий200","0702","2000110990",null,0,0]
["Субсидии бюджетным учреждениям на финансовое обеспечение государственного (муниципального) задания на оказание государственных (муниципальных) услуг (выполнение работ)","0702","2000110990","611",{"$f":"SUMIF('11'!$H$18:$H$1925,B367&C367&A367,'11'!$F$18:$F$1925)","v":0},{"$f":"SUMIF('11'!$H$18:$H$1925,B367&C367&A367,'11'!$G$18:$G$1925)","v":0}]
["Непрограммные направления расходов","0702","9900000000",null,0,0]
["Бюджетные инвестиции и капитальный ремонт социальной и инженерной инфраструктуры государственной (муниципальной) собственности Республики Татарстан","0702","9900072310",null,0,0]
["Субсидии бюджетным учреждениям на иные цели","0702","9900072310","612",{"$f":"SUMIF('11'!$H$18:$H$1925,B370&C370&A370,'11'!$F$18:$F$1925)","v":0},{"$f":"SUMIF('11'!$H$18:$H$1925,B370&C370&A370,'11'!$G$18:$G$1925)","v":0}]
["Дополнительное образование детей","0703",null,null,{"$f":"E372","v":87684516.619999975},87684516.619999975]
["Муниципальная программа «Развитие образования Кукморского муниципального района Республики Татарстан на 2018 – 2020 годы»","0703","0200000000",null,87684516.619999975,87684516.619999975]
["Подпрограмма «Развитие дополнительного образования на 2018 – 2020 годы»","0703","0230000000",null,87684516.619999975,87684516.619999975]
["Основное мероприятие \"Организация предоставления дополнительного образования детей в государственных образовательных организациях\"","0703","0230100000",null,{"$f":"E375+E377+E379","v":87684516.619999975},{"$f":"F375+F377+F379","v":87684516.619999975}]
["Развитие муниципальных учреждений дополнительного образования детей многопрофильной направленности","0703","0230142310",null,{"$f":"E376","v":20851198.790000003},{"$f":"F376","v":20851198.790000003}]
["Субсидии бюджетным учреждениям на финансовое обеспечение государственного (муниципального) задания на оказание государственных (муниципальных) услуг (выполнение работ)","0703","0230142310","611",{"$f":"SUMIF('11'!$H$18:$H$1925,B376&C376&A376,'11'!$F$18:$F$1925)","v":20851198.790000003},{"$f":"SUMIF('11'!$H$18:$H$1925,B376&C376&A376,'11'!$G$18:$G$1925)","v":20851198.790000003}]
["Развитие муниципальных учреждений дополнительного образования детей художественно-эстетической направленности","0703","0230142320",null,{"$f":"E378","v":18713526.960000001},{"$f":"F378","v":18713526.960000001}]
["Субсидии бюджетным учреждениям на финансовое обеспечение государственного (муниципального) задания на оказание государственных (муниципальных) услуг (выполнение работ)","0703","0230142320","611",{"$f":"SUMIF('11'!$H$18:$H$1925,B378&C378&A378,'11'!$F$18:$F$1925)","v":18713526.960000001},{"$f":"SUMIF('11'!$H$18:$H$1925,B378&C378&A378,'11'!$G$18:$G$1925)","v":18713526.960000001}]
["Развитие муниципальных учреждений дополнительного образования детей спортивной направленности","0703","0230142330",null,{"$f":"E380","v":48119790.869999982},{"$f":"F380","v":48119790.869999982}]
["Субсидии бюджетным учреждениям на финансовое обеспечение государственного (муниципального) задания на оказание государственных (муниципальных) услуг (выполнение работ)","0703","0230142330","611",{"$f":"SUMIF('11'!$H$18:$H$1925,B380&C380&A380,'11'!$F$18:$F$1925)","v":48119790.869999982},{"$f":"SUMIF('11'!$H$18:$H$1925,B380&C380&A380,'11'!$G$18:$G$1925)","v":48119790.869999982}]
["Молодежная политика и оздоровление детей","0707",null,null,{"$f":"E382+E387+E393+E403+E409","v":14617100.000000002},{"$f":"F382+F387+F393+F403+F409","v":15166100.000000002}]
["Муниципальная программа улучшения условий и охраны труда в Кукморском муниципальном районе на 2018 - 2020 годы","0707","0500000000",null,{"$f":"E383","v":0},{"$f":"F383","v":0}]
["Подпрограмма улучшения условий и охраны труда в Кукморском муниципальном районе на 2018 - 2020 годы","0707","0520000000",null,{"$f":"E384","v":0},0]
["Основное мероприятие \"Реализация мероприятий в области охраны труда\"","0707","0520100000",null,0,0]
["Мероприятия по улучшению условий и охраны труда","0707","0520115500",null,0,0]
["Субсидии бюджетным учреждениям на финансовое обеспечение государственного (муниципального) задания на оказание государственных (муниципальных) услуг (выполнение работ)","0707","0520115500","611",{"$f":"SUMIF('11'!$H$18:$H$1925,B386&C386&A386,'11'!$F$18:$F$1925)","v":0},{"$f":"SUMIF('11'!$H$18:$H$1925,B386&C386&A386,'11'!$G$18:$G$1925)","v":0}]
["Муниципальная программа «Обеспечение общественного порядка и противодействие преступности в Кукморском муниципальном районе на 2018 - 2020 годы\"","0707","0600000000",null,{"$f":"E388","v":1000},{"$f":"F388","v":1000}]
["Подпрограмма «Профилактика терроризма и экстремизма в Кукморском муниципальном районе на 2018-2020гг.»","0707","0630000000",null,{"$f":"E389","v":1000},1000]
["Основное мероприятие \"Профилактика терроризма и экстремизма\"","0707","0630100000",null,1000,1000]
["Реализация программных мероприятий063","0707","0630110990",null,{"$f":"SUM(E391:E392)","v":1000},{"$f":"SUM(F391:F392)","v":1000}]
["Прочая закупка товаров, работ и услуг для обеспечения государственных (муниципальных) нужд","0707","0630110990","244",{"$f":"SUMIF('11'!$H$18:$H$1925,B391&C391&A391,'11'!$F$18:$F$1925)","v":1000},{"$f":"SUMIF('11'!$H$18:$H$1925,B391&C391&A391,'11'!$G$18:$G$1925)","v":1000}]
["Субсидии бюджетным учреждениям на финансовое обеспечение государственного (муниципального) задания на оказание государственных (муниципальных) услуг (выполнение работ)","0707","0630110990","611",{"$f":"SUMIF('11'!$H$18:$H$1925,B392&C392&A392,'11'!$F$18:$F$1925)","v":0},{"$f":"SUMIF('11'!$H$18:$H$1925,B392&C392&A392,'11'!$G$18:$G$1925)","v":0}]
["Муниципальная программа «Развитие молодежной политики, физической культуры и спорта в Кукморском муниципальном районе Республики Татарстан на 2018 – 2020 годы»","0707","1000000000",null,{"$f":"E394+E399","v":14397100.000000002},{"$f":"F394+F399","v":14946100.000000002}]
["Подпрограмма \"Организация отдыха детей и молодежи, их оздоровления и занятости на 2018 – 2020 годы\"","0707","1020000000",null,{"$f":"E395","v":0},{"$f":"F395","v":0}]
["Основное мероприятие \"Создание условий для организации отдыха детей и молодежи, их оздоровления, обеспечение их занятости и повышение оздоровительного эффекта\"","0707","1020100000",null,{"$f":"E396","v":0},{"$f":"F396","v":0}]
["Мероприятия по организации отдыха, оздоровления, занятости детей и молодежи","0707","1020121320",null,{"$f":"SUM(E397:E398)","v":0},{"$f":"SUM(F397:F398)","v":0}]
["Прочая закупка товаров, работ и услуг для обеспечения государственных (муниципальных) нужд","0707","1020121320","244",{"$f":"SUMIF('11'!$H$18:$H$1925,B397&C397&A397,'11'!$F$18:$F$1925)","v":0},{"$f":"SUMIF('11'!$H$18:$H$1925,B397&C397&A397,'11'!$G$18:$G$1925)","v":0}]
["Субсидии бюджетным учреждениям на иные цели","0707","1020121320","612",{"$f":"SUMIF('11'!$H$18:$H$1925,B398&C398&A398,'11'!$F$18:$F$1925)","v":0},{"$f":"SUMIF('11'!$H$18:$H$1925,B398&C398&A398,'11'!$G$18:$G$1925)","v":0}]
["Подпрограмма «Сельская молодежь Кукморского муниципального района Республики Татарстан на 2018 – 2020 годы»","0707","1040000000",null,{"$f":"E400","v":14397100.000000002},{"$f":"F400","v":14946100.000000002}]
["Основное мероприятие \"Развитие государственной молодежной политики в Республике Татарстан\"","0707","1040100000",null,{"$f":"E401","v":14397100.000000002},14946100.000000002]
["Обеспечение деятельности  учреждений молодежной политики","0707","1040143190",null,14397100.000000002,14946100.000000002]
["Субсидии бюджетным учреждениям на финансовое обеспечение государственного (муниципального) задания на оказание государственных (муниципальных) услуг (выполнение работ)","0707","1040143190","611",{"$f":"SUMIF('11'!$H$18:$H$1925,B402&C402&A402,'11'!$F$18:$F$1925)","v":14397100.000000002},{"$f":"SUMIF('11'!$H$18:$H$1925,B402&C402&A402,'11'!$G$18:$G$1925)","v":14946100.000000002}]
["Программа по реализации государственной национальной политики в Кукморском муниципальном районе на 2018-2020 годы","0707","2000000000",null,{"$f":"E404","v":198000},{"$f":"F404","v":198000}]
["Основное мероприятие «Реализация государственной национальной политики в Республике Татарстан, цивилизованное развитие представителей народов, проживающих на территории Республики Татарстан, сохранение межэтнического и межконфессионального мира и согласия, упрочение общероссийской гражданской идентичности (российской нации), успешная социокультурная адаптация и интеграция мигрантов»","0707","2000100000",null,{"$f":"E405","v":198000},{"$f":"F405","v":198000}]
["Реализация программных мероприятий200","0707","2000110990",null,{"$f":"SUM(E406:E408)","v":198000},{"$f":"SUM(F406:F408)","v":198000}]
["Иные выплаты персоналу казенных учреждений, за исключением фонда оплаты труда","0707","2000110990","112",{"$f":"SUMIF('11'!$H$18:$H$1925,B406&C406&A406,'11'!$F$18:$F$1925)","v":20000},{"$f":"SUMIF('11'!$H$18:$H$1925,B406&C406&A406,'11'!$G$18:$G$1925)","v":20000}]
["Иные выплаты, за исключением фонда оплаты труда казенных учреждений, лицам, привлекаемым согласно законодательству для выполнения отдельных полномочий","0707","2000110990","113",{"$f":"SUMIF('11'!$H$18:$H$1925,B407&C407&A407,'11'!$F$18:$F$1925)","v":0},{"$f":"SUMIF('11'!$H$18:$H$1925,B407&C407&A407,'11'!$G$18:$G$1925)","v":0}]
["Прочая закупка товаров, работ и услуг для обеспечения государственных (муниципальных) нужд","0707","2000110990","244",{"$f":"SUMIF('11'!$H$18:$H$1925,B408&C408&A408,'11'!$F$18:$F$1925)","v":178000},{"$f":"SUMIF('11'!$H$18:$H$1925,B408&C408&A408,'11'!$G$18:$G$1925)","v":178000}]
["Муниципальная программа «Реализация антикоррупционной политики в Кукморском муниципальном районе Республики Татарстан на 2018-2020 годы»","0707","2700000000",null,{"$f":"E410","v":21000},{"$f":"F410","v":21000}]
["Основное мероприятие \"Выявление и устранение причин коррупции, противодействие условиям, способствующим ее проявлениям, формирование в обществе нетерпимого отношения к коррупции\"","0707","2700100000",null,{"$f":"E411","v":21000},21000]
["Реализация программных мероприятий270","0707","2700110990",null,21000,21000]
["Прочая закупка товаров, работ и услуг для обеспечения государственных (муниципальных) нужд","0707","2700110990","244",{"$f":"SUMIF('11'!$H$18:$H$1925,B412&C412&A412,'11'!$F$18:$F$1925)","v":21000},{"$f":"SUMIF('11'!$H$18:$H$1925,B412&C412&A412,'11'!$G$18:$G$1925)","v":21000}]
["Другие вопросы в области образования","0709",null,null,{"$f":"E414+E447+E452+E457+E462+E442","v":12807640.949999999},{"$f":"F414+F447+F452+F457+F462+F442","v":12807640.949999999}]
["Муниципальная программа «Развитие образования Кукморского муниципального района Республики Татарстан на 2018 – 2020 годы»","0709","0200000000",null,{"$f":"E415+E430","v":9072140.9499999993},{"$f":"F415+F430","v":9072140.9499999993}]
["Подпрограмма «Развитие общего образования на 2018 – 2020 годы»","0709","0220000000",null,{"$f":"E416+E419+E426","v":5072899.9999999991},{"$f":"F416+F419+F426","v":5072899.9999999991}]
["Основное мероприятие \"Укрепление кадрового потенциала и привлечение молодых специалистов в образовательные организации\"","0709","0220100000",null,{"$f":"E417","v":0},{"$f":"F417","v":0}]
["Мероприятия в области образования, направленные на поддержку молодых специалистов в общеобразовательных организациях","0709","0220143624",null,{"$f":"E418","v":0},{"$f":"F418","v":0}]
["Фонд оплаты труда казенных учреждений и взносы по обязательному социальному страхованию","0709","0220143624","111",{"$f":"SUMIF('11'!$H$18:$H$1925,B418&C418&A418,'11'!$F$18:$F$1925)","v":0},{"$f":"SUMIF('11'!$H$18:$H$1925,B418&C418&A418,'11'!$G$18:$G$1925)","v":0}]
["Основное мероприятие «Обеспечение государственных гарантий реализации прав на получение общедоступного и бесплатного дошкольного, начального общего, основного общего, среднего общего образования в муниципальных общеобразовательных организациях, обеспечение дополнительного образования детей в муниципальных общеобразовательных организациях»","0709","0220800000",null,{"$f":"E420","v":5072899.9999999991},{"$f":"F420","v":5072899.9999999991}]
["Реализация государственных полномочий в области образования (ИМЦ)","0709","0220825301",null,{"$f":"SUM(E421:E425)","v":5072899.9999999991},{"$f":"SUM(F421:F425)","v":5072899.9999999991}]
["Фонд оплаты труда казенных учреждений и взносы по обязательному социальному страхованию","0709","0220825301","111",{"$f":"SUMIF('11'!$H$18:$H$1925,B421&C421&A421,'11'!$F$18:$F$1925)","v":3602490.36},{"$f":"SUMIF('11'!$H$18:$H$1925,B421&C421&A421,'11'!$G$18:$G$1925)","v":3602490.36}]
["Иные выплаты персоналу казенных учреждений, за исключением фонда оплаты труда","0709","0220825301","112",{"$f":"SUMIF('11'!$H$18:$H$1925,B422&C422&A422,'11'!$F$18:$F$1925)","v":12000},{"$f":"SUMIF('11'!$H$18:$H$1925,B422&C422&A422,'11'!$G$18:$G$1925)","v":12000}]
["Взносы по обязательному социальному страхованию на выплаты по оплате труда работников и иные выплаты работникам учреждений","0709","0220825301","119",{"$f":"SUMIF('11'!$H$18:$H$1925,B423&C423&A423,'11'!$F$18:$F$1925)","v":1088000},{"$f":"SUMIF('11'!$H$18:$H$1925,B423&C423&A423,'11'!$G$18:$G$1925)","v":1088000}]
["Прочая закупка товаров, работ и услуг для обеспечения государственных (муниципальных) нужд","0709","0220825301","244",{"$f":"SUMIF('11'!$H$18:$H$1925,B424&C424&A424,'11'!$F$18:$F$1925)","v":370409.63999999984},{"$f":"SUMIF('11'!$H$18:$H$1925,B424&C424&A424,'11'!$G$18:$G$1925)","v":370409.63999999984}]
["Уплата прочих налогов, сборов и иных платежей","0709","0220825301","852",{"$f":"SUMIF('11'!$H$18:$H$1925,B425&C425&A425,'11'!$F$18:$F$1925)","v":0},{"$f":"SUMIF('11'!$H$18:$H$1925,B425&C425&A425,'11'!$G$18:$G$1925)","v":0}]
["Основное мероприятие \"Модернизация системы общего образования, проведение мероприятий в области образования\"","0709","0220900000",null,{"$f":"E427","v":0},{"$f":"F427","v":0}]
["Мероприятия, направленные на развитие образования в Республике Татарстан","0709","0220921110",null,{"$f":"SUM(E428:E429)","v":0},{"$f":"SUM(F428:F429)","v":0}]
["Прочая закупка товаров, работ и услуг для обеспечения государственных (муниципальных) нужд","0709","0220921110","244",{"$f":"SUMIF('11'!$H$18:$H$1925,B428&C428&A428,'11'!$F$18:$F$1925)","v":0},{"$f":"SUMIF('11'!$H$18:$H$1925,B428&C428&A428,'11'!$G$18:$G$1925)","v":0}]
["Субсидии бюджетным учреждениям на иные цели","0709","0220921110","612",{"$f":"SUMIF('11'!$H$18:$H$1925,B429&C429&A429,'11'!$F$18:$F$1925)","v":0},{"$f":"SUMIF('11'!$H$18:$H$1925,B429&C429&A429,'11'!$G$18:$G$1925)","v":0}]
["Подпрограмма «Развитие системы оценки качества образования на 2018 – 2020 годы»","0709","0250000000",null,{"$f":"E431","v":3999240.95},{"$f":"F431","v":3999240.95}]
["Основное мероприятие \"Содержание прочих учреждений образования\"","0709","0250200000",null,{"$f":"E432","v":3999240.95},3999240.95]
["Учебно-методические кабинеты, централизованные бухгалтерии, группы хозяйственного обслуживания, учебные фильмотеки, межшкольные учебно-производственные комбинаты, логопедические пункты","0709","0250242520",null,{"$f":"SUM(E433:E441)","v":3999240.95},{"$f":"SUM(F433:F441)","v":3999240.95}]
["Фонд оплаты труда казенных учреждений и взносы по обязательному социальному страхованию","0709","0250242520","111",{"$f":"SUMIF('11'!$H$18:$H$1925,B433&C433&A433,'11'!$F$18:$F$1925)","v":2181000},{"$f":"SUMIF('11'!$H$18:$H$1925,B433&C433&A433,'11'!$G$18:$G$1925)","v":2181000}]
["Иные выплаты персоналу казенных учреждений, за исключением фонда оплаты труда","0709","0250242520","112",{"$f":"SUMIF('11'!$H$18:$H$1925,B434&C434&A434,'11'!$F$18:$F$1925)","v":40000},{"$f":"SUMIF('11'!$H$18:$H$1925,B434&C434&A434,'11'!$G$18:$G$1925)","v":40000}]
["Иные выплаты, за исключением фонда оплаты труда казенных учреждений, лицам, привлекаемым согласно законодательству для выполнения отдельных полномочий","0709","0250242520","113",{"$f":"SUMIF('11'!$H$18:$H$1925,B435&C435&A435,'11'!$F$18:$F$1925)","v":0},{"$f":"SUMIF('11'!$H$18:$H$1925,B435&C435&A435,'11'!$G$18:$G$1925)","v":0}]
["Взносы по обязательному социальному страхованию на выплаты по оплате труда работников и иные выплаты работникам учреждений","0709","0250242520","119",{"$f":"SUMIF('11'!$H$18:$H$1925,B436&C436&A436,'11'!$F$18:$F$1925)","v":675691.95000000007},{"$f":"SUMIF('11'!$H$18:$H$1925,B436&C436&A436,'11'!$G$18:$G$1925)","v":675691.95000000007}]
["Прочая закупка товаров, работ и услуг для обеспечения государственных (муниципальных) нужд","0709","0250242520","244",{"$f":"SUMIF('11'!$H$18:$H$1925,B437&C437&A437,'11'!$F$18:$F$1925)","v":1085549},{"$f":"SUMIF('11'!$H$18:$H$1925,B437&C437&A437,'11'!$G$18:$G$1925)","v":1085549}]
["Бюджетные инвестиции на приобретение объектов недвижимого имущества в государственную (муниципальную) собственность","0709","0250242520","412",{"$f":"SUMIF('11'!$H$18:$H$1925,B438&C438&A438,'11'!$F$18:$F$1925)","v":0},{"$f":"SUMIF('11'!$H$18:$H$1925,B438&C438&A438,'11'!$G$18:$G$1925)","v":0}]
["Уплата налога на имущество организаций и земельного налога","0709","0250242520","851",{"$f":"SUMIF('11'!$H$18:$H$1925,B439&C439&A439,'11'!$F$18:$F$1925)","v":17000},{"$f":"SUMIF('11'!$H$18:$H$1925,B439&C439&A439,'11'!$G$18:$G$1925)","v":17000}]
["Уплата прочих налогов, сборов и иных платежей","0709","0250242520","852",{"$f":"SUMIF('11'!$H$18:$H$1925,B440&C440&A440,'11'!$F$18:$F$1925)","v":0},{"$f":"SUMIF('11'!$H$18:$H$1925,B440&C440&A440,'11'!$G$18:$G$1925)","v":0}]
["Уплата иных платежей","0709","0250242520","853",{"$f":"SUMIF('11'!$H$18:$H$1925,B441&C441&A441,'11'!$F$18:$F$1925)","v":0},{"$f":"SUMIF('11'!$H$18:$H$1925,B441&C441&A441,'11'!$G$18:$G$1925)","v":0}]
["Муниципальная программа улучшения условий и охраны труда в Кукморском муниципальном районе на 2018 - 2020 годы","0709","0500000000",null,{"$f":"E443","v":10000},10000]
["Подпрограмма улучшения условий и охраны труда в Кукморском муниципальном районе на 2018 - 2020 годы","0709","0520000000",null,10000,10000]
["Основное мероприятие \"Реализация мероприятий в области охраны труда\"","0709","0520100000",null,10000,10000]
["Мероприятия по улучшению условий и охраны труда","0709","0520115500",null,{"$f":"E446","v":10000},{"$f":"F446","v":10000}]
["Прочая закупка товаров, работ и услуг для обеспечения государственных (муниципальных) нужд","0709","0520115500","244",{"$f":"SUMIF('11'!$H$18:$H$1925,B446&C446&A446,'11'!$F$18:$F$1925)","v":10000},{"$f":"SUMIF('11'!$H$18:$H$1925,B446&C446&A446,'11'!$G$18:$G$1925)","v":10000}]
["Муниципальная программа «Обеспечение общественного порядка и противодействие преступности в Кукморском муниципальном районе на 2018 - 2020 годы\"","0709","0600000000",null,{"$f":"E448","v":3315500},3315500]
["Подпрограмма «Профилактика терроризма и экстремизма в Кукморском муниципальном районе на 2018-2020гг.»","0709","0630000000",null,3315500,3315500]
["Основное мероприятие \"Профилактика терроризма и экстремизма\"","0709","0630100000",null,3315500,3315500]
["Реализация программных мероприятий063","0709","0630110990",null,{"$f":"E451","v":3315500},{"$f":"F451","v":3315500}]
["Прочая закупка товаров, работ и услуг для обеспечения государственных (муниципальных) нужд","0709","0630110990","244",{"$f":"SUMIF('11'!$H$18:$H$1925,B451&C451&A451,'11'!$F$18:$F$1925)","v":3315500},{"$f":"SUMIF('11'!$H$18:$H$1925,B451&C451&A451,'11'!$G$18:$G$1925)","v":3315500}]
["Муниципальная программа «Развитие молодежной политики, физической культуры и спорта в Кукморском муниципальном районе Республики Татарстан на 2018 – 2020 годы»","0709","1000000000",null,{"$f":"E453","v":0},{"$f":"F453","v":0}]
["Подпрограмма «Развитие физической культуры и спорта в Кукморском муниципальном районе Республики Татарстан на 2018 – 2020 годы»","0709","1010000000",null,{"$f":"E454","v":0},0]
["Основное мероприятие \"Реализация государственной политики в области физической культуры и спорта в Республике Татарстан\"","0709","1010100000",null,0,0]
["Развитие детско-юношеского спорта","0709","1010143650",null,0,0]
["Субсидии бюджетным учреждениям на финансовое обеспечение государственного (муниципального) задания на оказание государственных (муниципальных) услуг (выполнение работ)","0709","1010143650","611",{"$f":"SUMIF('11'!$H$18:$H$1925,B456&C456&A456,'11'!$F$18:$F$1925)","v":0},{"$f":"SUMIF('11'!$H$18:$H$1925,B456&C456&A456,'11'!$G$18:$G$1925)","v":0}]
["Программа по реализации государственной национальной политики в Кукморском муниципальном районе на 2018-2020 годы","0709","2000000000",null,{"$f":"E458","v":400000},{"$f":"F458","v":400000}]
["Основное мероприятие «Реализация государственной национальной политики в Республике Татарстан, цивилизованное развитие представителей народов, проживающих на территории Республики Татарстан, сохранение межэтнического и межконфессионального мира и согласия, упрочение общероссийской гражданской идентичности (российской нации), успешная социокультурная адаптация и интеграция мигрантов»","0709","2000100000",null,{"$f":"E459","v":400000},400000]
["Реализация программных мероприятий200","0709","2000110990",null,{"$f":"SUM(E460:E461)","v":400000},{"$f":"SUM(F460:F461)","v":400000}]
["Иные выплаты, за исключением фонда оплаты труда казенных учреждений, лицам, привлекаемым согласно законодательству для выполнения отдельных полномочий","0709","2000110990","113",{"$f":"SUMIF('11'!$H$18:$H$1925,B460&C460&A460,'11'!$F$18:$F$1925)","v":0},{"$f":"SUMIF('11'!$H$18:$H$1925,B460&C460&A460,'11'!$G$18:$G$1925)","v":0}]
["Прочая закупка товаров, работ и услуг для обеспечения государственных (муниципальных) нужд","0709","2000110990","244",{"$f":"SUMIF('11'!$H$18:$H$1925,B461&C461&A461,'11'!$F$18:$F$1925)","v":400000},{"$f":"SUMIF('11'!$H$18:$H$1925,B461&C461&A461,'11'!$G$18:$G$1925)","v":400000}]
["Муниципальная программа «Реализация антикоррупционной политики в Кукморском муниципальном районе Республики Татарстан на 2018-2020 годы»","0709","2700000000",null,{"$f":"E463","v":10000},{"$f":"F463","v":10000}]
["Основное мероприятие \"Выявление и устранение причин коррупции, противодействие условиям, способствующим ее проявлениям, формирование в обществе нетерпимого отношения к коррупции\"","0709","2700100000",null,{"$f":"E464","v":10000},10000]
["Реализация программных мероприятий270","0709","2700110990",null,10000,10000]
["Прочая закупка товаров, работ и услуг для обеспечения государственных (муниципальных) нужд","0709","2700110990","244",{"$f":"SUMIF('11'!$H$18:$H$1925,B465&C465&A465,'11'!$F$18:$F$1925)","v":10000},{"$f":"SUMIF('11'!$H$18:$H$1925,B465&C465&A465,'11'!$G$18:$G$1925)","v":10000}]
["КУЛЬТУРА, КИНЕМАТОГРАФИЯ","0800",null,null,{"$f":"E467","v":120131300.00000001},{"$f":"F467","v":121106500.00000001}]
["Культура","0801",null,null,{"$f":"E468+E473+E478+E501+E505+E509","v":120131300.00000001},{"$f":"F468+F473+F478+F501+F505+F509","v":121106500.00000001}]
["Муниципальная программа улучшения условий и охраны труда в Кукморском муниципальном районе на 2018 - 2020 годы","0801","0500000000",null,{"$f":"E469","v":0},{"$f":"F469","v":0}]
["Подпрограмма улучшения условий и охраны труда в Кукморском муниципальном районе на 2018 - 2020 годы","0801","0520000000",null,{"$f":"E470","v":0},0]
["Основное мероприятие \"Реализация мероприятий в области охраны труда\"","0801","0520100000",null,0,0]
["Мероприятия по улучшению условий и охраны труда","0801","0520115500",null,0,0]
["Субсидии бюджетным учреждениям на финансовое обеспечение государственного (муниципального) задания на оказание государственных (муниципальных) услуг (выполнение работ)","0801","0520115500","611",{"$f":"SUMIF('11'!$H$18:$H$1925,B472&C472&A472,'11'!$F$18:$F$1925)","v":0},{"$f":"SUMIF('11'!$H$18:$H$1925,B472&C472&A472,'11'!$G$18:$G$1925)","v":0}]
["Муниципальная программа «Обеспечение общественного порядка и противодействие преступности в Кукморском муниципальном районе на 2018 - 2020 годы\"","0801","0600000000",null,{"$f":"E474","v":3500},{"$f":"F474","v":3500}]
["Подпрограмма «Профилактика терроризма и экстремизма в Кукморском муниципальном районе на 2018-2020гг.»","0801","0630000000",null,{"$f":"E475","v":3500},3500]
["Основное мероприятие \"Профилактика терроризма и экстремизма\"","0801","0630100000",null,3500,3500]
["Реализация программных мероприятий063","0801","0630110990",null,3500,3500]
["Субсидии бюджетным учреждениям на финансовое обеспечение государственного (муниципального) задания на оказание государственных (муниципальных) услуг (выполнение работ)","0801","0630110990","611",{"$f":"SUMIF('11'!$H$18:$H$1925,B477&C477&A477,'11'!$F$18:$F$1925)","v":3500},{"$f":"SUMIF('11'!$H$18:$H$1925,B477&C477&A477,'11'!$G$18:$G$1925)","v":3500}]
["Муниципальная программа «Развитие культуры Кукморского муниципального района Республики Татарстан на 2018 – 2020 годы»","0801","0800000000",null,{"$f":"E479+E485+E491+E495","v":119700800.00000001},{"$f":"F479+F485+F491+F495","v":120676000.00000001}]
["Подпрограмма «Развитие музейного дела на 2018 – 2020 годы»","0801","0810000000",null,{"$f":"E480","v":3582328.9300000006},{"$f":"F480","v":3582328.9300000006}]
["Основное мероприятие \"Комплексное развитие музеев\"","0801","0810100000",null,{"$f":"E481+E483","v":3582328.9300000006},{"$f":"F481+F483","v":3582328.9300000006}]
["Гранты","0801","0810144050",null,{"$f":"E482","v":0},{"$f":"F482","v":0}]
["Субсидии бюджетным учреждениям на иные цели","0801","0810144050","612",{"$f":"SUMIF('11'!$H$18:$H$1925,B482&C482&A482,'11'!$F$18:$F$1925)","v":0},{"$f":"SUMIF('11'!$H$18:$H$1925,B482&C482&A482,'11'!$G$18:$G$1925)","v":0}]
["Обеспечение деятельности подведомственных учреждений культуры","0801","0810144090",null,{"$f":"E484","v":3582328.9300000006},{"$f":"F484","v":3582328.9300000006}]
["Субсидии бюджетным учреждениям на финансовое обеспечение государственного (муниципального) задания на оказание государственных (муниципальных) услуг (выполнение работ)","0801","0810144090","611",{"$f":"SUMIF('11'!$H$18:$H$1925,B484&C484&A484,'11'!$F$18:$F$1925)","v":3582328.9300000006},{"$f":"SUMIF('11'!$H$18:$H$1925,B484&C484&A484,'11'!$G$18:$G$1925)","v":3582328.9300000006}]
["Подпрограмма «Развитие библиотечного дела на 2018 – 2020 годы»","0801","0830000000",null,{"$f":"E486","v":25044941.57},{"$f":"F486","v":25044941.57}]
["Основное мероприятие \"Развитие системы библиотечного обслуживания\"","0801","0830100000",null,{"$f":"E487+E489","v":25044941.57},{"$f":"F487+F489","v":25044941.57}]
["Обеспечение деятельности подведомственных учреждений культуры","0801","0830144090",null,{"$f":"E488","v":25044941.57},{"$f":"F488","v":25044941.57}]
["Субсидии бюджетным учреждениям на финансовое обеспечение государственного (муниципального) задания на оказание государственных (муниципальных) услуг (выполнение работ)","0801","0830144090","611",{"$f":"SUMIF('11'!$H$18:$H$1925,B488&C488&A488,'11'!$F$18:$F$1925)","v":25044941.57},{"$f":"SUMIF('11'!$H$18:$H$1925,B488&C488&A488,'11'!$G$18:$G$1925)","v":25044941.57}]
["Комплектование книжных фондов библиотек муниципальных образований за счет средств федерального бюджета","0801","0830151440",null,{"$f":"E490","v":0},{"$f":"F490","v":0}]
["Субсидии бюджетным учреждениям на иные цели","0801","0830151440","612",{"$f":"SUMIF('11'!$H$18:$H$1925,B490&C490&A490,'11'!$F$18:$F$1925)","v":0},{"$f":"SUMIF('11'!$H$18:$H$1925,B490&C490&A490,'11'!$G$18:$G$1925)","v":0}]
["Подпрограмма «Развитие клубов на 2018 – 2020 годы»","0801","0840000000",null,{"$f":"E492","v":91073529.500000015},{"$f":"F492","v":92048729.500000015}]
["Основное мероприятие \"Развитие современного музыкального искусства\"","0801","0840100000",null,{"$f":"E493","v":91073529.500000015},92048729.500000015]
["Обеспечение деятельности подведомственных учреждений культуры","0801","0840144091",null,91073529.500000015,92048729.500000015]
["Субсидии бюджетным учреждениям на финансовое обеспечение государственного (муниципального) задания на оказание государственных (муниципальных) услуг (выполнение работ)","0801","0840144091","611",{"$f":"SUMIF('11'!$H$18:$H$1925,B494&C494&A494,'11'!$F$18:$F$1925)","v":91073529.500000015},{"$f":"SUMIF('11'!$H$18:$H$1925,B494&C494&A494,'11'!$G$18:$G$1925)","v":92048729.500000015}]
["Подпрограмма \"Развитие системы государственного управления отрасли на 2014 – 2020 годы\"","0801","08Ж0000000",null,{"$f":"E496","v":0},{"$f":"F496","v":0}]
["Основное мероприятие \"Обеспечение реализации государственной политики и регулирования отношений в сфере культуры, искусства, кинематографии, охраны и использования объектов культурного наследия\"","0801","08Ж0100000",null,{"$f":"E497+E499","v":0},{"$f":"F497+F499","v":0}]
["Государственная поддержка муниципальных учреждений культуры за счет средств федерального бюджета","0801","08Ж0151470",null,{"$f":"E498","v":0},{"$f":"F498","v":0}]
["Субсидии бюджетным учреждениям на иные цели","0801","08Ж0151470","612",{"$f":"SUMIF('11'!$H$18:$H$1925,B498&C498&A498,'11'!$F$18:$F$1925)","v":0},{"$f":"SUMIF('11'!$H$18:$H$1925,B498&C498&A498,'11'!$G$18:$G$1925)","v":0}]
["Государственная поддержка лучших работников муниципальных учреждений культуры, находящихся на территориях сельских поселений, за счет средств федерального бюджета","0801","08Ж0151480",null,{"$f":"E500","v":0},{"$f":"F500","v":0}]
["Субсидии бюджетным учреждениям на иные цели","0801","08Ж0151480","612",{"$f":"SUMIF('11'!$H$18:$H$1925,B500&C500&A500,'11'!$F$18:$F$1925)","v":0},{"$f":"SUMIF('11'!$H$18:$H$1925,B500&C500&A500,'11'!$G$18:$G$1925)","v":0}]
["Программа по реализации государственной национальной политики в Кукморском муниципальном районе на 2018-2020 годы","0801","2000000000",null,{"$f":"E502","v":415000},{"$f":"F502","v":415000}]
["Основное мероприятие «Реализация государственной национальной политики в Республике Татарстан, цивилизованное развитие представителей народов, проживающих на территории Республики Татарстан, сохранение межэтнического и межконфессионального мира и согласия, упрочение общероссийской гражданской идентичности (российской нации), успешная социокультурная адаптация и интеграция мигрантов»","0801","2000100000",null,{"$f":"E503","v":415000},415000]
["Реализация программных мероприятий200","0801","2000110990",null,415000,415000]
["Субсидии бюджетным учреждениям на финансовое обеспечение государственного (муниципального) задания на оказание государственных (муниципальных) услуг (выполнение работ)","0801","2000110990","611",{"$f":"SUMIF('11'!$H$18:$H$1925,B504&C504&A504,'11'!$F$18:$F$1925)","v":415000},{"$f":"SUMIF('11'!$H$18:$H$1925,B504&C504&A504,'11'!$G$18:$G$1925)","v":415000}]
["Муниципальная программа «Реализация антикоррупционной политики в Кукморском муниципальном районе Республики Татарстан на 2018-2020 годы»","0801","2700000000",null,{"$f":"E506","v":12000},12000]
["Основное мероприятие \"Выявление и устранение причин коррупции, противодействие условиям, способствующим ее проявлениям, формирование в обществе нетерпимого отношения к коррупции\"","0801","2700100000",null,12000,12000]
["Реализация программных мероприятий270","0801","2700110990",null,{"$f":"E508","v":12000},{"$f":"F508","v":12000}]
["Субсидии бюджетным учреждениям на финансовое обеспечение государственного (муниципального) задания на оказание государственных (муниципальных) услуг (выполнение работ)","0801","2700110990","611",{"$f":"SUMIF('11'!$H$18:$H$1925,B508&C508&A508,'11'!$F$18:$F$1925)","v":12000},{"$f":"SUMIF('11'!$H$18:$H$1925,B508&C508&A508,'11'!$G$18:$G$1925)","v":12000}]
["Непрограммные направления расходов","0801","9900000000",null,{"$f":"E510+E512","v":0},{"$f":"F510+F512","v":0}]
["Межбюджетные трансферты, передаваемые бюджетам муниципальных образований для компенсации дополнительных расходов, возникших в результате решений, принятых органами власти другого уровня","0801","9900025151",null,{"$f":"E511","v":0},{"$f":"F511","v":0}]
["Иные межбюджетные трансферты","0801","9900025151","540",{"$f":"SUMIF('11'!$H$18:$H$1925,B511&C511&A511,'11'!$F$18:$F$1925)","v":0},{"$f":"SUMIF('11'!$H$18:$H$1925,B511&C511&A511,'11'!$G$18:$G$1925)","v":0}]
["Бюджетные инвестиции и капитальный ремонт социальной и инженерной инфраструктуры государственной (муниципальной) собственности Республики Татарстан","0801","9900072310",null,{"$f":"E513","v":0},{"$f":"F513","v":0}]
["Субсидии бюджетным учреждениям на иные цели","0801","9900072310","612",{"$f":"SUMIF('11'!$H$18:$H$1925,B513&C513&A513,'11'!$F$18:$F$1925)","v":0},{"$f":"SUMIF('11'!$H$18:$H$1925,B513&C513&A513,'11'!$G$18:$G$1925)","v":0}]
["ЗДРАВООХРАНЕНИЕ","0900",null,null,{"$f":"E515","v":779300},{"$f":"F515","v":808900}]
["Санитарно-эпидемиологическое благополучие","0907",null,null,{"$f":"E516","v":779300},808900]
["Муниципальная программа «Развитие здравоохранения Кукморского муниципального района Республики Татарстан на 2018-2020 годы»","0907","0100000000",null,779300,808900]
["Подпрограмма «Профилактика заболеваний и формирование здорового образа жизни. Развитие первичной медико-санитарной помощи»","0907","0110000000",null,779300,808900]
["Основное мероприятие \"Профилактика инфекционных заболеваний, включая иммунопрофилактику\"","0907","0110200000",null,779300,808900]
["Реализация государственных полномочий по организации осуществления мероприятий по проведению дезинфекции, дезинсекции и дератизации, санитарно-противоэпидемических (профилактических) мероприятий, проводимых с применением лабораторных методов исследования, в очагах инфекционных заболеваний, а также на территориях и в помещениях, где имеются и сохраняются условия для возникновения или распространения инфекционных заболеваний","0907","0110202110",null,779300,808900]
["Прочая закупка товаров, работ и услуг для обеспечения государственных (муниципальных) нужд","0907","0110202110","244",{"$f":"SUMIF('11'!$H$18:$H$1925,B520&C520&A520,'11'!$F$18:$F$1925)","v":779300},{"$f":"SUMIF('11'!$H$18:$H$1925,B520&C520&A520,'11'!$G$18:$G$1925)","v":808900}]
["СОЦИАЛЬНАЯ ПОЛИТИКА","1000",null,null,{"$f":"E522+E541","v":19939200},{"$f":"F522+F541","v":20288000}]
["Социальное обеспечение населения","1003",null,null,{"$f":"E523+E531+E538","v":8720800},{"$f":"F523+F531+F538","v":9069600}]
["Муниципальная программа «Социальная поддержка граждан Кукморского муниципального района Республики Татарстан» на 2018 – 2020 годы","1003","0300000000",null,{"$f":"E527+E524","v":8720800},{"$f":"F527+F524","v":9069600}]
["Основное мероприятие \"Предоставление мер социальной поддержки отдельным категориям граждан, установленных федеральным и республиканским законодательством\"","1003","0310100000",null,{"$f":"E525","v":643400},643400]
["Мероприятия в области социальной политики","1003","0310105410",null,643400,643400]
["Прочая закупка товаров, работ и услуг для обеспечения государственных (муниципальных) нужд","1003","0310105410","244",{"$f":"SUMIF('11'!$H$18:$H$1925,B526&C526&A526,'11'!$F$18:$F$1925)","v":643400},{"$f":"SUMIF('11'!$H$18:$H$1925,B526&C526&A526,'11'!$G$18:$G$1925)","v":643400}]
["Подпрограмма «Социальные выплаты» на 2018 – 2020 годы","1003","0310000000",null,{"$f":"E528","v":8077400},8426200]
["Основное мероприятие \"Обеспечение питанием обучающихся в профессиональных образовательных организациях\"","1003","0310200000",null,8077400,8426200]
["Оказание других видов социальной помощи","1003","0310205510",null,8077400,8426200]
["Субсидии бюджетным учреждениям на финансовое обеспечение государственного (муниципального) задания на оказание государственных (муниципальных) услуг (выполнение работ)","1003","0310205510","611",{"$f":"SUMIF('11'!$H$18:$H$1925,B530&C530&A530,'11'!$F$18:$F$1925)","v":8077400},{"$f":"SUMIF('11'!$H$18:$H$1925,B530&C530&A530,'11'!$G$18:$G$1925)","v":8426200}]
["Государственная программа \"Развитие сельского хозяйства и регулирование рынков сельскохозяйственной продукции, сырья и продовольствия в Республике Татарстан на 2013 – 2020 годы\"","1003","1400000000",null,{"$f":"E532","v":0},{"$f":"F532","v":0}]
["Подпрограмма \"Устойчивое развитие сельских территорий\"","1003","1470000000",null,{"$f":"E533","v":0},0]
["Основное мероприятие \"Мероприятия по реализации подпрограммы \"Устойчивое развитие сельских территорий\"","1003","1470100000",null,{"$f":"E534+E536","v":0},{"$f":"F534+F536","v":0}]
["Реализация мероприятий подпрограммы \"Устойчивое развитие сельских территорий\" за счет средств федерального бюджета","1003","1470150180",null,{"$f":"E535","v":0},{"$f":"F535","v":0}]
["Субсидии гражданам на приобретение жилья","1003","1470150180","322",{"$f":"SUMIF('11'!$H$18:$H$1925,B535&C535&A535,'11'!$F$18:$F$1925)","v":0},{"$f":"SUMIF('11'!$H$18:$H$1925,B535&C535&A535,'11'!$G$18:$G$1925)","v":0}]
["Реализация мероприятий подпрограммы \"Устойчивое развитие сельских территорий\" за счет средств Республики Татарстан","1003","14701R0180",null,{"$f":"E537","v":0},{"$f":"F537","v":0}]
["Субсидии гражданам на приобретение жилья","1003","14701R0180","322",{"$f":"SUMIF('11'!$H$18:$H$1925,B537&C537&A537,'11'!$F$18:$F$1925)","v":0},{"$f":"SUMIF('11'!$H$18:$H$1925,B537&C537&A537,'11'!$G$18:$G$1925)","v":0}]
["Непрограммные направления расходов","1003","9900000000",null,{"$f":"E539","v":0},{"$f":"F539","v":0}]
["Межбюджетные трансферты, передаваемые бюджетам муниципальных образований для компенсации дополнительных расходов, возникших в результате решений, принятых органами власти другого уровня","1003","9900025151",null,{"$f":"E540","v":0},{"$f":"F540","v":0}]
["Иные межбюджетные трансферты","1003","9900025151","540",{"$f":"SUMIF('11'!$H$18:$H$1925,B540&C540&A540,'11'!$F$18:$F$1925)","v":0},{"$f":"SUMIF('11'!$H$18:$H$1925,B540&C540&A540,'11'!$G$18:$G$1925)","v":0}]
["Охрана семьи и детства","1004",null,null,{"$f":"E542","v":11218400},11218400]
["Муниципальная программа «Социальная поддержка граждан Кукморского муниципального района Республики Татарстан» на 2018 – 2020 годы","1004","0300000000",null,11218400,11218400]
["Подпрограмма \"Улучшение социально-экономического положения семей\" на 2018 – 2020 годы","1004","0350000000",null,11218400,11218400]
["Основное мероприятие \"Развитие системы мер социальной поддержки семей\"","1004","0350100000",null,11218400,11218400]
["Компенсация за присмотр и уход за ребенком в образовательных организациях, реализующих образовательную программу дошкольного образования","1004","0350113200",null,11218400,11218400]
["Пособия, компенсации, меры социальной поддержки по публичным нормативным обязательствам","1004","0350113200","313",{"$f":"SUMIF('11'!$H$18:$H$1925,B546&C546&A546,'11'!$F$18:$F$1925)","v":11218400},{"$f":"SUMIF('11'!$H$18:$H$1925,B546&C546&A546,'11'!$G$18:$G$1925)","v":11218400}]
["ФИЗИЧЕСКАЯ КУЛЬТУРА И СПОРТ","1100",null,null,{"$f":"E548","v":1398200},{"$f":"F548","v":1398200}]
["Массовый спорт","1102",null,null,{"$f":"E549+E555+E561","v":1398200},{"$f":"F549+F555+F561","v":1398200}]
["Муниципальная программа «Социальная поддержка граждан Кукморского муниципального района Республики Татарстан» на 2018 – 2020 годы","1102","0300000000",null,{"$f":"E550","v":385500},{"$f":"F550","v":385500}]
["Подпрограмма Кукморского муниципального района \"Доступная среда на 2018-2020 годы\"","1102","0360000000",null,{"$f":"E551","v":385500},385500]
["Основное мероприятие \"Мероприятия по формированию доступной среды\"","1102","0360100000",null,385500,385500]
["Мероприятия физической культуры и спорта в области массового спорта036","1102","0360112870",null,{"$f":"SUM(E553:E554)","v":385500},{"$f":"SUM(F553:F554)","v":385500}]
["Иные выплаты, за исключением фонда оплаты труда казенных учреждений, лицам, привлекаемым согласно законодательству для выполнения отдельных полномочий","1102","0360112870","113",{"$f":"SUMIF('11'!$H$18:$H$1925,B553&C553&A553,'11'!$F$18:$F$1925)","v":0},{"$f":"SUMIF('11'!$H$18:$H$1925,B553&C553&A553,'11'!$G$18:$G$1925)","v":0}]
["Прочая закупка товаров, работ и услуг для обеспечения государственных (муниципальных) нужд","1102","0360112870","244",{"$f":"SUMIF('11'!$H$18:$H$1925,B554&C554&A554,'11'!$F$18:$F$1925)","v":385500},{"$f":"SUMIF('11'!$H$18:$H$1925,B554&C554&A554,'11'!$G$18:$G$1925)","v":385500}]
["Муниципальная программа «Развитие молодежной политики, физической культуры и спорта в Кукморском муниципальном районе Республики Татарстан на 2018 – 2020 годы»","1102","1000000000",null,{"$f":"E556","v":597700},{"$f":"F556","v":597700}]
["Подпрограмма «Развитие физической культуры и спорта в Кукморском муниципальном районе Республики Татарстан на 2018 – 2020 годы»","1102","1010000000",null,{"$f":"E557","v":597700},597700]
["Основное мероприятие \"Реализация государственной политики в области физической культуры и спорта в Республике Татарстан\"","1102","1010100000",null,597700,597700]
["Мероприятия физической культуры и спорта в области массового спорта101","1102","1010112870",null,{"$f":"SUM(E559:E560)","v":597700},{"$f":"SUM(F559:F560)","v":597700}]
["Иные выплаты, за исключением фонда оплаты труда казенных учреждений, лицам, привлекаемым согласно законодательству для выполнения отдельных полномочий","1102","1010112870","113",{"$f":"SUMIF('11'!$H$18:$H$1925,B559&C559&A559,'11'!$F$18:$F$1925)","v":0},{"$f":"SUMIF('11'!$H$18:$H$1925,B559&C559&A559,'11'!$G$18:$G$1925)","v":0}]
["Прочая закупка товаров, работ и услуг для обеспечения государственных (муниципальных) нужд","1102","1010112870","244",{"$f":"SUMIF('11'!$H$18:$H$1925,B560&C560&A560,'11'!$F$18:$F$1925)","v":597700},{"$f":"SUMIF('11'!$H$18:$H$1925,B560&C560&A560,'11'!$G$18:$G$1925)","v":597700}]
["Программа по реализации государственной национальной политики в Кукморском муниципальном районе на 2018-2020 годы","1102","2000000000",null,{"$f":"E562","v":415000},{"$f":"F562","v":415000}]
["Основное мероприятие «Реализация государственной национальной политики в Республике Татарстан, цивилизованное развитие представителей народов, проживающих на территории Республики Татарстан, сохранение межэтнического и межконфессионального мира и согласия, упрочение общероссийской гражданской идентичности (российской нации), успешная социокультурная адаптация и интеграция мигрантов»","1102","2000100000",null,{"$f":"E563","v":415000},415000]
["Реализация программных мероприятий200","1102","2000110990",null,{"$f":"SUM(E564:E565)","v":415000},{"$f":"SUM(F564:F565)","v":415000}]
["Иные выплаты, за исключением фонда оплаты труда казенных учреждений, лицам, привлекаемым согласно законодательству для выполнения отдельных полномочий","1102","2000110990","113",{"$f":"SUMIF('11'!$H$18:$H$1925,B564&C564&A564,'11'!$F$18:$F$1925)","v":0},{"$f":"SUMIF('11'!$H$18:$H$1925,B564&C564&A564,'11'!$G$18:$G$1925)","v":0}]
["Прочая закупка товаров, работ и услуг для обеспечения государственных (муниципальных) нужд","1102","2000110990","244",{"$f":"SUMIF('11'!$H$18:$H$1925,B565&C565&A565,'11'!$F$18:$F$1925)","v":415000},{"$f":"SUMIF('11'!$H$18:$H$1925,B565&C565&A565,'11'!$G$18:$G$1925)","v":415000}]
["МЕЖБЮДЖЕТНЫЕ ТРАНСФЕРТЫ ОБЩЕГО ХАРАКТЕРА БЮДЖЕТАМ СУБЪЕКТОВ РОССИЙСКОЙ ФЕДЕРАЦИИ И МУНИЦИПАЛЬНЫХ ОБРАЗОВАНИЙ","1400",null,null,{"$f":"E567+E574+E579","v":32608400.000000007},{"$f":"F567+F574+F579","v":33927700}]
["Дотации на выравнивание бюджетной обеспеченности субъектов Российской Федерации и муниципальных образований","1401",null,null,{"$f":"E568","v":31979700.000000007},{"$f":"F568","v":33130100.000000004}]
["Муниципальная программа «Управление муниципальными финансами Кукморского муниципального района Республики Татарстан на 2018 – 2020 годы»","1401","1800000000",null,{"$f":"E569","v":31979700.000000007},33130100.000000004]
["Основное мероприятие \"Повышение эффективности межбюджетных отношений с местными бюджетами\"","1401","1800300000",null,{"$f":"E570+E572","v":31979700.000000007},{"$f":"F570+F572","v":33130100.000000004}]
["Предоставление субсидий бюджетам муниципальных районов на выравнивание бюджетной обеспеченности и предоставление иных межбюджетных трансфертов бюджетам поселений, входящих в состав муниципального района","1401","1800380040",null,{"$f":"E571","v":30774300.000000007},{"$f":"F571","v":31926800.000000004}]
["Дотации на выравнивание бюджетной обеспеченности","1401","1800380040","511",{"$f":"SUMIF('11'!$H$18:$H$1925,B571&C571&A571,'11'!$F$18:$F$1925)","v":30774300.000000007},{"$f":"SUMIF('11'!$H$18:$H$1925,B571&C571&A571,'11'!$G$18:$G$1925)","v":31926800.000000004}]
["Предоставление субвенций бюджетам муниципальных районов на осуществление государственных полномочий Республики Татарстан по расчету и предоставлению дотаций бюджетам городских, сельских поселений за счет средств бюджета Республики Татарстан","1401","1800380060",null,{"$f":"E573","v":1205400.0000000002},{"$f":"F573","v":1203300.0000000002}]
["Дотации на выравнивание бюджетной обеспеченности","1401","1800380060","511",{"$f":"SUMIF('11'!$H$18:$H$1925,B573&C573&A573,'11'!$F$18:$F$1925)","v":1205400.0000000002},{"$f":"SUMIF('11'!$H$18:$H$1925,B573&C573&A573,'11'!$G$18:$G$1925)","v":1203300.0000000002}]
["Иные дотации","1402",null,null,{"$f":"E575","v":628700},{"$f":"F575","v":797599.99999999988}]
["Муниципальная программа «Управление муниципальными финансами Кукморского муниципального района Республики Татарстан на 2018 – 2020 годы»","1402","1800000000",null,{"$f":"E576","v":628700},797599.99999999988]
["Основное мероприятие \"Повышение эффективности межбюджетных отношений с местными бюджетами\"","1402","1800300000",null,628700,797599.99999999988]
["Предоставление субсидий бюджетам муниципальных районов на выравнивание бюджетной обеспеченности и предоставление иных межбюджетных трансфертов бюджетам поселений, входящих в состав муниципального района","1402","1800380040",null,628700,797599.99999999988]
["Иные дотации","1402","1800380040","512",{"$f":"SUMIF('11'!$H$18:$H$1925,B578&C578&A578,'11'!$F$18:$F$1925)","v":628700},{"$f":"SUMIF('11'!$H$18:$H$1925,B578&C578&A578,'11'!$G$18:$G$1925)","v":797599.99999999988}]
["Прочие межбюджетные трансферты общего характера","1403",null,null,{"$f":"E580","v":0},{"$f":"F580","v":0}]
["Непрограммные направления расходов","1403","9900000000",null,{"$f":"E581+E583+E585","v":0},{"$f":"F581+F583+F585","v":0}]
["Межбюджетные трансферты, передаваемые бюджетам поселений на решение вопросов местного значения, осуществляемое с привлечением средств самообложения граждан, за счет средств бюджета Республики Татарстан","1403","9900025141",null,{"$f":"E582","v":0},{"$f":"F582","v":0}]
["Иные межбюджетные трансферты","1403","9900025141","540",{"$f":"SUMIF('11'!$H$18:$H$1925,B582&C582&A582,'11'!$F$18:$F$1925)","v":0},{"$f":"SUMIF('11'!$H$18:$H$1925,B582&C582&A582,'11'!$G$18:$G$1925)","v":0}]
["Межбюджетные трансферты, передаваемые бюджетам муниципальных образований для компенсации дополнительных расходов, возникших в результате решений, принятых органами власти другого уровня","1403","9900025151",null,{"$f":"E584","v":0},{"$f":"F584","v":0}]
["Иные межбюджетные трансферты","1403","9900025151","540",{"$f":"SUMIF('11'!$H$18:$H$1925,B584&C584&A584,'11'!$F$18:$F$1925)","v":0},{"$f":"SUMIF('11'!$H$18:$H$1925,B584&C584&A584,'11'!$G$18:$G$1925)","v":0}]
["Межбюджетные трансферты, передаваемые бюджетам муниципальных образований  на предоставление грантов сельским поселениям Республики Татарстан","1403","9900025190",null,{"$f":"E586","v":0},{"$f":"F586","v":0}]
["Иные межбюджетные трансферты","1403","9900025190","540",{"$f":"SUMIF('11'!$H$18:$H$1925,B586&C586&A586,'11'!$F$18:$F$1925)","v":0},{"$f":"SUMIF('11'!$H$18:$H$1925,B586&C586&A586,'11'!$G$18:$G$1925)","v":0}]
[]
[]
["             Глава Района                                   С.Д.Димитриев"]

{"sheet":"10","index":10,"n_rows":320,"n_cols":7,"rows_kept":320,"cut":false,"hidden":false,"merged":[[5,0,5,5],[6,0,6,5],[8,0,9,0],[8,2,9,2],[8,3,9,3],[8,4,9,4],[8,5,9,5],[8,1,9,1]]}
[null,null,{"$f":"дата!$A$2&дата!$C$12","v":"Приложение №5"}]
[null,null,"к решению Совета  Кукморского"]
[null,null,"муниципального района"]
[null,null,{"$f":"дата!C1","v":"от____марта 2019 г. №______"}]
[]
["Ведомственная структура расходов"]
["бюджета Кукморского муниципального района на 2019 год"]
[null,null,null,null,null,"(рублей)"]
["Наименование","КВСР","Рз, ПР","ЦСР","ВР","Сумма"]
[]
["Итого",null,null,null,null,1236277038.53]
["Исполнительный комитет Кукморского муниципального района Республики Татарстан","601",null,null,null,84478633.269999996]
["Функционирование Правительства Российской Федерации, высших исполнительных органов государственной власти субъектов Российской Федерации, местных администраций","601","0104",null,null,15302600.84,{"$f":"G11-F11","v":-1236277038.53}]
["Субвенции на реализацию полномочий по сбору информации от поселений, входящих в МР, необходимой для ведения регистра муниципальных нормативных правовых актов РТ","601","0104","2410125390",null,4300]
["Фонд оплаты труда государственных (муниципальных) органов","601","0104","2410125390","121",3300]
["Взносы по обязательному социальному страхованию на выплаты денежного содержания и иные выплаты работникам государственных (муниципальных) органов","601","0104","2410125390","129",1000]
["Центральный аппарат","601","0104","9900002040",null,15298300.84]
["Фонд оплаты труда государственных (муниципальных) органов","601","0104","9900002040","121",6395070,{"$f":"C18&D18&A18","v":"01049900002040Фонд оплаты труда государственных (муниципальных) органов"}]
["Иные выплаты персоналу государственных (муниципальных) органов, за исключением фонда оплаты труда","601","0104","9900002040","122",3220,{"$f":"C19&D19&A19","v":"01049900002040Иные выплаты персоналу государственных (муниципальных) органов, за исключением фонда оплаты труда"}]
["Взносы по обязательному социальному страхованию на выплаты денежного содержания и иные выплаты работникам государственных (муниципальных) органов","601","0104","9900002040","129",1883530,"01049900002040Взносы по обязательному социальному страхованию на выплаты денежного содержания и иные выплаты работникам государственных (муниципальных) органов"]
["Прочая закупка товаров, работ и услуг для обеспечения государственных (муниципальных) нужд","601","0104","9900002040","244",6994571.8399999999,"01049900002040Прочая закупка товаров, работ и услуг для обеспечения государственных (муниципальных) нужд"]
["Уплата прочих налогов, сборов","601","0104","9900002040","852",20909,"01049900002040Уплата прочих налогов, сборов"]
["Уплата иных платежей","601","0104","9900002040","853",1000]
["Судебная система","601","0105",null,null,15900]
["Составление (изменение) списков кандидатов в присяжные заседатели федеральных судов общей юрисдикции в Российской Федерации за счет средств федерального бюджета","601","0105","9900051200",null,15900]
["Прочая закупка товаров, работ и услуг для обеспечения государственных (муниципальных) нужд","601","0105","9900051200","244",15900]
["Другие общегосударственные вопросы","601","0113",null,null,20880788.850000001]
["Реализация государственных полномочий в области опеки и попечительства","601","0113","0350325330",null,947200]
["Фонд оплаты труда учреждений","601","0113","0350325330","111",708260]
["Взносы по обязательному социальному страхованию на выплаты по оплате труда работников и иные выплаты работникам учреждений","601","0113","0350325330","119",213940]
["Прочая закупка товаров, работ и услуг для обеспечения государственных (муниципальных) нужд","601","0113","0350325330","244",25000]
["Реализация программных мероприятий063","601","0113","0630110990",null,55000]
["Иные выплаты, за исключением фонда оплаты труда учреждений, лицам, привлекаемым согласно законодательству для выполнения отдельных полномочий","601","0113","0630110990","113",15000]
["Прочая закупка товаров, работ и услуг для обеспечения государственных (муниципальных) нужд","601","0113","0630110990","244",40000]
["Обеспечение хранения, учета, комплектования и использования документов архивного фонда Республики Татарстан и других архивных документов","601","0113","08Е0144020",null,793858.08]
["Фонд оплаты труда учреждений","601","0113","08Е0144020","111",488000,{"$f":"C36&D36&A36","v":"011308Е0144020Фонд оплаты труда учреждений"}]
["Иные выплаты персоналу учреждений, за исключением фонда оплаты труда","601","0113","08Е0144020","112",808]
["Взносы по обязательному социальному страхованию на выплаты по оплате труда работников и иные выплаты работникам учреждений","601","0113","08Е0144020","119",147000]
["Прочая закупка товаров, работ и услуг для обеспечения государственных (муниципальных) нужд","601","0113","08Е0144020","244",158050.07999999999]
["Реализация программных мероприятий","601","0113","1800129900",null,14308600]
["Фонд оплаты труда учреждений","601","0113","1800129900","111",10756845.52]
["Взносы по обязательному социальному страхованию на выплаты по оплате труда работников и иные выплаты работникам учреждений","601","0113","1800129900","119",2383000,{"$f":"C42&D42&A42","v":"01131800129900Взносы по обязательному социальному страхованию на выплаты по оплате труда работников и иные выплаты работникам учреждений"}]
["Прочая закупка товаров, работ и услуг для обеспечения государственных (муниципальных) нужд","601","0113","1800129900","244",1166754.48]
["Уплата прочих налогов, сборов","601","0113","1800129900","852",2000]
["Реализация программных мероприятий200","601","0113","2000110990",null,80000]
["Иные выплаты, за исключением фонда оплаты труда учреждений, лицам, привлекаемым согласно законодательству для выполнения отдельных полномочий","601","0113","2000110990","113",80000]
["Реализация программных мероприятий270","601","0113","2700110990",null,5000]
["Иные выплаты, за исключением фонда оплаты труда учреждений, лицам, привлекаемым согласно законодательству для выполнения отдельных полномочий","601","0113","2700110990","113",5000]
["Уплата налога на имущество организаций и земельного налога","601","0113","9900002950",null,320847]
["Уплата налога на имущество организаций и земельного налога","601","0113","9900002950","851",320847]
["Реализация государственных полномочий по образованию и организации деятельности комиссий по делам несовершеннолетних и защите их прав","601","0113","9900025260",null,715500]
["Фонд оплаты труда учреждений","601","0113","9900025260","111",518240]
["Взносы по обязательному социальному страхованию на выплаты по оплате труда работников и иные выплаты работникам учреждений","601","0113","9900025260","119",156560]
["Прочая закупка товаров, работ и услуг для обеспечения государственных (муниципальных) нужд","601","0113","9900025260","244",40700]
["Реализация государственных полномочий по образованию и организации деятельности административных комиссий","601","0113","9900025270",null,363500,{"$f":"C55&D55&A55","v":"01139900025270Реализация государственных полномочий по образованию и организации деятельности административных комиссий"}]
["Фонд оплаты труда учреждений","601","0113","9900025270","111",279190]
["Взносы по обязательному социальному страхованию на выплаты по оплате труда работников и иные выплаты работникам учреждений","601","0113","9900025270","119",84310]
["Реализация государственных полномочий в области архивного дела","601","0113","9900025340",null,66400]
["Прочая закупка товаров, работ и услуг для обеспечения государственных (муниципальных) нужд","601","0113","9900025340","244",66400]
["Реализация государственных полномочий по определению перечня должностных лиц, уполномоченных составлять протоколы об административных правонарушениях","601","0113","9900025350",null,500]
["Фонд оплаты труда учреждений","601","0113","9900025350","111",500,{"$f":"C61&D61&A61","v":"01139900025350Фонд оплаты труда учреждений"}]
["Государственная регистрация актов гражданского состояния за счет средств федерального бюджета","601","0113","9900059300",null,2707200,"01139900059300Государственная регистрация актов гражданского состояния за счет средств федерального бюджета"]
["Фонд оплаты труда государственных (муниципальных) органов","601","0113","9900059300","121",900000]
["Иные выплаты персоналу государственных (муниципальных) органов, за исключением фонда оплаты труда","601","0113","9900059300","122",20000]
["Взносы по обязательному социальному страхованию на выплаты денежного содержания и иные выплаты работникам государственных (муниципальных) органов","601","0113","9900059300","129",272000,{"$f":"C65&D65&A65","v":"01139900059300Взносы по обязательному социальному страхованию на выплаты денежного содержания и иные выплаты работникам государственных (муниципальных) органов"}]
["Прочая закупка товаров, работ и услуг для обеспечения государственных (муниципальных) нужд","601","0113","9900059300","244",1515200,"01139900059300Прочая закупка товаров, работ и услуг для обеспечения государственных (муниципальных) нужд"]
["Обеспечение деятельности подведомственных учреждений","601","0113","9900092990",null,469775.91,"01139900092990Обеспечение деятельности подведомственных учреждений"]
["Прочая закупка товаров, работ и услуг для обеспечения государственных (муниципальных) нужд","601","0113","9900092990","244",219775.91,"01139900092990Прочая закупка товаров, работ и услуг для обеспечения государственных (муниципальных) нужд"]
["Исполнение судебных актов Российской Федерации и мировых соглашений по возмещению причиненного вреда","601","0113","9900092990","831",250000]
["Диспансеризация муниципальных служащих","601","0113","9900097071",null,47407.86]
["Прочая закупка товаров, работ и услуг для обеспечения государственных (муниципальных) нужд","601","0113","9900097071","244",47407.86]
["Защита населения и территории от чрезвычайных ситуаций природного и техногенного характера, гражданская оборона","601","0309",null,null,1621600]
["Мероприятия по предупреждению и ликвидации последствий чрезвычайных ситуаций и стихийных бедствий","601","0309","0700007420",null,100000]
["Прочая закупка товаров, работ и услуг для обеспечения государственных (муниципальных) нужд","601","0309","0700007420","244",100000]
["Управление организацией и проведением мероприятий в области гражданской обороны и защиты в чрезвычайных ситуациях","601","0309","0700022670",null,1487325.17]
["Фонд оплаты труда учреждений","601","0309","0700022670","111",845200]
["Взносы по обязательному социальному страхованию на выплаты по оплате труда работников и иные выплаты работникам учреждений","601","0309","0700022670","119",258525.17]
["Прочая закупка товаров, работ и услуг для обеспечения государственных (муниципальных) нужд","601","0309","0700022670","244",383600]
["Управление организацией и проведением мероприятий в области гражданской обороны и защиты в чрезвычайных ситуациях","601","0309","0720122670",null,34274.83]
["Фонд оплаты труда учреждений","601","0309","0720122670","111",28800]
["Взносы по обязательному социальному страхованию на выплаты по оплате труда работников и иные выплаты работникам учреждений","601","0309","0720122670","119",5474.83]
["Другие вопросы в области национальной безопасности и правоохранительной деятельности","601","0314",null,null,521300]
["Реализация программных мероприятий","601","0314","0610110990",null,521300,{"$f":"C83&D83&A83","v":"03140610110990Реализация программных мероприятий"}]
["Фонд оплаты труда учреждений","601","0314","0610110990","111",334000,"03140610110990Фонд оплаты труда учреждений"]
["Взносы по обязательному социальному страхованию на выплаты по оплате труда работников и иные выплаты работникам учреждений","601","0314","0610110990","119",101000]
["Прочая закупка товаров, работ и услуг для обеспечения государственных (муниципальных) нужд","601","0314","0610110990","244",86300]
["Сельское хозяйство и рыболовство","601","0405",null,null,1967100]
["Субвенции на реализацию госполномочий в сфере организации проведения мероприятий по предупреждению и ликвидации болезней животных и их лечению","601","0405","1420925360",null,1967100]
["Прочая закупка товаров, работ и услуг для обеспечения государственных (муниципальных) нужд","601","0405","1420925360","244",1967100]
["Дорожное хозяйство (дорожные фонды)","601","0409",null,null,28895916.23,{"$f":"C90&D90&A90","v":"0409Дорожное хозяйство (дорожные фонды)"}]
["Строительство, содержание и ремонт автомобильных дорог и инженерных сооружений на них в границах городских округов и поселений в рамках благоустройства","601","0409","Б100078020",null,4072190]
["Прочая закупка товаров, работ и услуг для обеспечения государственных (муниципальных) нужд","601","0409","Б100078020","244",4072190]
["Строительство, реконструкция и ремонт (текущий и капитальный) автомобильных дорог за счет муниципального Дорожного фонда","601","0409","Д100003650",null,24823726.23]
["Прочая закупка товаров, работ и услуг для обеспечения государственных (муниципальных) нужд","601","0409","Д100003650","244",24823726.23]
["Жилищное хозяйство","601","0501",null,null,11324227.35,{"$f":"C95&D95&A95","v":"0501Жилищное хозяйство"}]
["Обеспечение мероприятий по капитальному ремонту многоквартирных домов и переселению граждан из аварийного жилищного фонда за счет средств бюджета Республики Татарстан и бюджета Кукморского муниципального района","601","0501","0450196010",null,4388000]
["Субсидии (гранты в форме субсидий) на финансовое обеспечение затрат в связи с производством (реализацией) товаров, выполнением работ, оказанием услуг, порядком (правилами) предоставления которых установлено требование о последующем подтверждении их использования в соответствии с условиями и (или) целями предоставления","601","0501","0450196010","632",4388000,"05010450196010Субсидии (гранты в форме субсидий) на финансовое обеспечение затрат в связи с производством (реализацией) товаров, выполнением работ, оказанием услуг, порядком (правилами) предоставления которых установлено требование о последующем подтверждении их использования в соответствии с условиями и (или) целями предоставления"]
["Мероприятия в области жилищно-коммунального хозяйства","601","0501","0480476040",null,6936227.3499999996]
["Прочая закупка товаров, работ и услуг для обеспечения государственных (муниципальных) нужд","601","0501","0480476040","244",6936227.3499999996]
["Благоустройство","601","0503",null,null,2655000]
["Организация и содержаение мест захоронения","601","0503","0490278040",null,1155000]
["Прочая закупка товаров, работ и услуг для обеспечения государственных (муниципальных) нужд","601","0503","0490278040","244",1155000]
["Реализация программных мероприятий062","601","0503","0620178020",null,1500000]
["Прочая закупка товаров, работ и услуг для обеспечения государственных (муниципальных) нужд","601","0503","0620178020","244",1500000]
["Санитарно-эпидемиологическое благополучие","601","0907",null,null,779000,{"$f":"C105&D105&A105","v":"0907Санитарно-эпидемиологическое благополучие"}]
["Реализация государственных полномочий по организации осуществления мероприятий по проведению дезинфекции, дезинсекции и дератизации, санитарно-противоэпидемических (профилактических) мероприятий, проводимых с применением лабораторных методов исследования, в очагах инфекционных заболеваний, а также на территориях и в помещениях, где имеются и сохраняются условия для возникновения или распространения инфекционных заболеваний","601","0907","0110202110",null,779000]
["Прочая закупка товаров, работ и услуг для обеспечения государственных (муниципальных) нужд","601","0907","0110202110","244",779000,{"$f":"C107&D107&A107","v":"09070110202110Прочая закупка товаров, работ и услуг для обеспечения государственных (муниципальных) нужд"}]
["Охрана семьи и детства","601","1004",null,null,515200]
["Мероприятия в области социальной политики","601","1004","0310105410",null,515200]
["Иные выплаты, за исключением фонда оплаты труда учреждений, лицам, привлекаемым согласно законодательству для выполнения отдельных полномочий","601","1004","0310105410","113",515200]
["Кукморский районный Совет","602",null,null,null,11717945.4]
["Функционирование высшего должностного лица субъекта Российской Федерации и муниципального образования","602","0102",null,null,1601000]
["Глава муниципального района","602","0102","9900002030",null,1601000]
["Фонд оплаты труда государственных (муниципальных) органов","602","0102","9900002030","121",1230000,{"$f":"C114&D114&A114","v":"01029900002030Фонд оплаты труда государственных (муниципальных) органов"}]
["Взносы по обязательному социальному страхованию на выплаты денежного содержания и иные выплаты работникам государственных (муниципальных) органов","602","0102","9900002030","129",371000,"01029900002030Взносы по обязательному социальному страхованию на выплаты денежного содержания и иные выплаты работникам государственных (муниципальных) органов"]
["Функционирование законодательных (представительных) органов государственной власти и представительных органов муниципальных образований","602","0103",null,null,9135349.3399999999,"0103Функционирование законодательных (представительных) органов государственной власти и представительных органов муниципальных образований"]
["Центральный аппарат","602","0103","9900002040",null,9135349.3399999999,"01039900002040Центральный аппарат"]
["Фонд оплаты труда государственных (муниципальных) органов","602","0103","9900002040","121",4021000]
["Иные выплаты персоналу государственных (муниципальных) органов, за исключением фонда оплаты труда","602","0103","9900002040","122",1400]
["Взносы по обязательному социальному страхованию на выплаты денежного содержания и иные выплаты работникам государственных (муниципальных) органов","602","0103","9900002040","129",963800]
["Прочая закупка товаров, работ и услуг для обеспечения государственных (муниципальных) нужд","602","0103","9900002040","244",4112637.34]
["Уплата прочих налогов, сборов","602","0103","9900002040","852",36512]
["Другие общегосударственные вопросы","602","0113",null,null,981596.06]
["Уплата налога на имущество организаций и земельного налога","602","0113","9900002950",null,176900]
["Уплата налога на имущество организаций и земельного налога","602","0113","9900002950","851",176900]
["Обеспечение деятельности подведомственных учреждений","602","0113","9900092990",null,282820]
["Прочая закупка товаров, работ и услуг для обеспечения государственных (муниципальных) нужд","602","0113","9900092990","244",282820]
["Диспансеризация муниципальных служащих","602","0113","9900097071",null,521876.06]
["Прочая закупка товаров, работ и услуг для обеспечения государственных (муниципальных) нужд","602","0113","9900097071","244",521876.06,{"$f":"C129&D129&A129","v":"01139900097071Прочая закупка товаров, работ и услуг для обеспечения государственных (муниципальных) нужд"}]
["Контрольно-счетная палата Кукморского муниципального района","603",null,null,null,616000,"Контрольно-счетная палата Кукморского муниципального района"]
["Обеспечение деятельности финансовых, налоговых и таможенных органов и органов финансового (финансово-бюджетного) надзора","603","0106",null,null,616000,"0106Обеспечение деятельности финансовых, налоговых и таможенных органов и органов финансового (финансово-бюджетного) надзора"]
["Центральный аппарат","603","0106","9900002040",null,616000]
["Фонд оплаты труда государственных (муниципальных) органов","603","0106","9900002040","121",453000]
["Иные выплаты персоналу государственных (муниципальных) органов, за исключением фонда оплаты труда","603","0106","9900002040","122",16000]
["Взносы по обязательному социальному страхованию на выплаты денежного содержания и иные выплаты работникам государственных (муниципальных) органов","603","0106","9900002040","129",137000]
["Прочая закупка товаров, работ и услуг для обеспечения государственных (муниципальных) нужд","603","0106","9900002040","244",10000]
["Финансово-бюджетная палата Кукморского муниципального района","605",null,null,null,41684529]
["Обеспечение деятельности финансовых, налоговых и таможенных органов и органов финансового (финансово-бюджетного) надзора","605","0106",null,null,4185260]
["Центральный аппарат","605","0106","1800102040",null,4185260]
["Фонд оплаты труда государственных (муниципальных) органов","605","0106","1800102040","121",2751000]
["Взносы по обязательному социальному страхованию на выплаты денежного содержания и иные выплаты работникам государственных (муниципальных) органов","605","0106","1800102040","129",828700]
["Прочая закупка товаров, работ и услуг для обеспечения государственных (муниципальных) нужд","605","0106","1800102040","244",605560]
["Другие общегосударственные вопросы","605","0113",null,null,2300]
["Центральный аппарат","605","0113","1800102040",null,2300]
["Уплата прочих налогов, сборов","605","0113","1800102040","852",2300,{"$f":"C145&D145&A145","v":"01131800102040Уплата прочих налогов, сборов"}]
["Мобилизационная и вневойсковая подготовка","605","0203",null,null,2764900]
["Осуществление первичного воинского учета на территориях, где отсутствуют военные комиссариаты за счет средств федерального бюджета","605","0203","9900051180",null,2764900]
["Субвенции","605","0203","9900051180","530",2764900]
["Водное хозяйство","605","0406",null,null,223900]
["Расходы на содержание и ремонт гидротехнических сооружений","605","0406","9900090430",null,223900]
["Прочая закупка товаров, работ и услуг для обеспечения государственных (муниципальных) нужд","605","0406","9900090430","244",223900]
["Охрана объектов растительного и животного мира и среды их обитания","605","0603",null,null,1058000]
["Мероприятия по регулированию качества окружающей среды","605","0603","0910119100",null,1058000]
["Прочая закупка товаров, работ и услуг для обеспечения государственных (муниципальных) нужд","605","0603","0910119100","244",1058000]
["Дотации на выравнивание бюджетной обеспеченности субъектов Российской Федерации и муниципальных образований","605","1401",null,null,29654200]
["Предоставление субсидий бюджетам муниципальных районов на выравнивание бюджетной обеспеченности и предоставление иных межбюджетных трансфертов бюджетам поселений, входящих в состав муниципального района","605","1401","9900025040",null,3128900]
["Дотации на выравнивание бюджетной обеспеченности","605","1401","9900025040","511",3128900]
["Предоставление субсидий бюджетам муниципальных районов на выравнивание бюджетной обеспеченности и предоставление иных межбюджетных трансфертов бюджетам поселений, входящих в состав муниципального района","605","1401","9900080040",null,24217000]
["Дотации на выравнивание бюджетной обеспеченности","605","1401","9900080040","511",24217000]
["Предоставление субвенций бюджетам муниципальных районов на осуществление государственных полномочий Республики Татарстан по расчету и предоставлению дотаций бюджетам городских, сельских поселений за счет средств бюджета Республики Татарстан","605","1401","9900080060",null,2308300]
["Дотации на выравнивание бюджетной обеспеченности","605","1401","9900080060","511",2308300]
["Иные дотации","605","1402",null,null,2257600]
["Предоставление субсидий бюджетам муниципальных районов на выравнивание бюджетной обеспеченности и предоставление иных межбюджетных трансфертов бюджетам поселений, входящих в состав муниципального района","605","1402","9900080040",null,2257600]
["Иные дотации","605","1402","9900080040","512",2257600,{"$f":"C164&D164&A164","v":"14029900080040Иные дотации"}]
["Прочие межбюджетные трансферты общего характера","605","1403",null,null,1538369]
["Межбюджетные трансферты, передаваемые бюджетам муниципальных образований для компенсации дополнительных расходов, возникших в результате решений, принятых органами власти другого уровня","605","1403","9900025151",null,1538369,{"$f":"C166&D166&A166","v":"14039900025151Межбюджетные трансферты, передаваемые бюджетам муниципальных образований для компенсации дополнительных расходов, возникших в результате решений, принятых органами власти другого уровня"}]
["Иные межбюджетные трансферты","605","1403","9900025151","540",1538369]
["Палата имущественных и земельных отношений Кукморского муниципального района","606",null,null,null,2323500]
["Другие общегосударственные вопросы","606","0113",null,null,2323500]
["Центральный аппарат","606","0113","1600102040",null,1960100]
["Фонд оплаты труда государственных (муниципальных) органов","606","0113","1600102040","121",999000]
["Взносы по обязательному социальному страхованию на выплаты денежного содержания и иные выплаты работникам государственных (муниципальных) органов","606","0113","1600102040","129",302000]
["Прочая закупка товаров, работ и услуг для обеспечения государственных (муниципальных) нужд","606","0113","1600102040","244",626100]
["Уплата прочих налогов, сборов","606","0113","1600102040","852",33000]
["Уплата налога на имущество организаций и земельного налога","606","0113","1600102950",null,2000]
["Уплата налога на имущество организаций и земельного налога","606","0113","1600102950","851",2000]
["Реализация программных мероприятий","606","0113","1800129900",null,260000]
["Фонд оплаты труда учреждений","606","0113","1800129900","111",200000]
["Взносы по обязательному социальному страхованию на выплаты по оплате труда работников и иные выплаты работникам учреждений","606","0113","1800129900","119",60000]
["Реализация государственных полномочий по распоряжению земельными участками, государственная собственность на которые не разграничена","606","0113","9900025400",null,1400]
["Фонд оплаты труда государственных (муниципальных) органов","606","0113","9900025400","121",1080]
["Взносы по обязательному социальному страхованию на выплаты денежного содержания и иные выплаты работникам государственных (муниципальных) органов","606","0113","9900025400","129",320]
["Обеспечение деятельности подведомственных учреждений","606","0113","9900092990",null,100000]
["Прочая закупка товаров, работ и услуг для обеспечения государственных (муниципальных) нужд","606","0113","9900092990","244",100000]
["Управление образования Кукморского муниципального района","611",null,null,null,864303527.59000003]
["Функционирование Правительства Российской Федерации, высших исполнительных органов государственной власти субъектов Российской Федерации, местных администраций","611","0104",null,null,1867200]
["Реализация государственных полномочий в области образования (аппарат управления)","611","0104","0220825302",null,341400]
["Фонд оплаты труда государственных (муниципальных) органов","611","0104","0220825302","121",262200]
["Взносы по обязательному социальному страхованию на выплаты денежного содержания и иные выплаты работникам государственных (муниципальных) органов","611","0104","0220825302","129",79200]
["Центральный аппарат","611","0104","9900002040",null,1525800,{"$f":"C190&D190&A190","v":"01049900002040Центральный аппарат"}]
["Фонд оплаты труда государственных (муниципальных) органов","611","0104","9900002040","121",1115800]
["Взносы по обязательному социальному страхованию на выплаты денежного содержания и иные выплаты работникам государственных (муниципальных) органов","611","0104","9900002040","129",337000]
["Прочая закупка товаров, работ и услуг для обеспечения государственных (муниципальных) нужд","611","0104","9900002040","244",67310]
["Уплата прочих налогов, сборов","611","0104","9900002040","852",5690]
["Другие общегосударственные вопросы","611","0113",null,null,41400]
["Уплата налога на имущество организаций и земельного налога","611","0113","9900002950",null,41400]
["Уплата налога на имущество организаций и земельного налога","611","0113","9900002950","851",41400]
["Дошкольное образование","611","0701",null,null,208945989.08000001]
["Реализация государственных полномочий на обеспечение государственных гарантий реализации прав на получение общедоступного и бесплатного дошкольного образования в муниципальных дошкольных образовательных организациях","611","0701","0210125370",null,83576801]
["Субсидии бюджетным учреждениям на финансовое обеспечение государственного (муниципального) задания на оказание государственных (муниципальных) услуг (выполнение работ)","611","0701","0210125370","611",83576801]
["Развитие дошкольных образовательных учреждений","611","0701","0210342000",null,124529188.08]
["Субсидии бюджетным учреждениям на финансовое обеспечение государственного (муниципального) задания на оказание государственных (муниципальных) услуг (выполнение работ)","611","0701","0210342000","611",119237061.53]
["Субсидии бюджетным учреждениям на иные цели","611","0701","0210342000","612",5292126.55]
["Реализация программных мероприятий063","611","0701","0630110990",null,840000]
["Субсидии бюджетным учреждениям на финансовое обеспечение государственного (муниципального) задания на оказание государственных (муниципальных) услуг (выполнение работ)","611","0701","0630110990","611",840000,{"$f":"C205&D205&A205","v":"07010630110990Субсидии бюджетным учреждениям на финансовое обеспечение государственного (муниципального) задания на оказание государственных (муниципальных) услуг (выполнение работ)"}]
["Общее образование","611","0702",null,null,582752742.87]
["Реализация государственных полномочий на обеспечение государственных гарантий реализации прав на получение общедоступного и бесплатного дошкольного образования в муниципальных дошкольных образовательных организациях","611","0702","0210125370",null,12936399]
["Субсидии бюджетным учреждениям на финансовое обеспечение государственного (муниципального) задания на оказание государственных (муниципальных) услуг (выполнение работ)","611","0702","0210125370","611",12936399]
["Развитие дошкольных образовательных учреждений","611","0702","0210342000",null,11353276.630000001]
["Субсидии бюджетным учреждениям на финансовое обеспечение государственного (муниципального) задания на оказание государственных (муниципальных) услуг (выполнение работ)","611","0702","0210342000","611",11353276.630000001]
["Развитие общеобразовательных организаций, включая школы – детские сады","611","0702","0220242100",null,268513267.24000001]
["Субсидии бюджетным учреждениям на финансовое обеспечение государственного (муниципального) задания на оказание государственных (муниципальных) услуг (выполнение работ)","611","0702","0220242100","611",262314632.49000001]
["Субсидии бюджетным учреждениям на иные цели","611","0702","0220242100","612",6198634.75]
["Обеспечение государственных гарантий реализации прав на получение общедоступного и бесплатного дошкольного, начального общего, основного общего, среднего общего образования в муниципальных общеобразовательных организациях, обеспечение дополнительного образования детей в муниципальных общеобразовательных организациях","611","0702","0220825280",null,288605800]
["Субсидии бюджетным учреждениям на финансовое обеспечение государственного (муниципального) задания на оказание государственных (муниципальных) услуг (выполнение работ)","611","0702","0220825280","611",288605800]
["Реализация программных мероприятий063","611","0702","0630110990",null,1344000]
["Субсидии бюджетным учреждениям на финансовое обеспечение государственного (муниципального) задания на оказание государственных (муниципальных) услуг (выполнение работ)","611","0702","0630110990","611",1344000]
["Дополнительное образование детей","611","0703",null,null,40994291.659999996,{"$f":"C218&D218&A218","v":"0703Дополнительное образование детей"}]
["Развитие муниципальных учреждений дополнительного образования детей многопрофильной направленности","611","0703","0230142310",null,29860675.100000001,"07030230142310Развитие муниципальных учреждений дополнительного образования детей многопрофильной направленности"]
["Субсидии бюджетным учреждениям на финансовое обеспечение государственного (муниципального) задания на оказание государственных (муниципальных) услуг (выполнение работ)","611","0703","0230142310","611",29836219.170000002]
["Субсидии бюджетным учреждениям на иные цели","611","0703","0230142310","612",24455.93]
["Развитие муниципальных учреждений дополнительного образования детей художественно-эстетической направленности","611","0703","0230142320",null,11133616.560000001]
["Субсидии бюджетным учреждениям на финансовое обеспечение государственного (муниципального) задания на оказание государственных (муниципальных) услуг (выполнение работ)","611","0703","0230142320","611",11133616.560000001,{"$f":"C223&D223&A223","v":"07030230142320Субсидии бюджетным учреждениям на финансовое обеспечение государственного (муниципального) задания на оказание государственных (муниципальных) услуг (выполнение работ)"}]
["Другие вопросы в области образования","611","0709",null,null,10159503.98,"0709Другие вопросы в области образования"]
["Реализация государственных полномочий в области образования (ИМЦ)","611","0709","0220825301",null,5259800,"07090220825301Реализация государственных полномочий в области образования (ИМЦ)"]
["Фонд оплаты труда учреждений","611","0709","0220825301","111",3772126,"07090220825301Фонд оплаты труда учреждений"]
["Иные выплаты персоналу учреждений, за исключением фонда оплаты труда","611","0709","0220825301","112",32000,"07090220825301Иные выплаты персоналу учреждений, за исключением фонда оплаты труда"]
["Иные выплаты, за исключением фонда оплаты труда учреждений, лицам, привлекаемым согласно законодательству для выполнения отдельных полномочий","611","0709","0220825301","113",40000]
["Взносы по обязательному социальному страхованию на выплаты по оплате труда работников и иные выплаты работникам учреждений","611","0709","0220825301","119",1139200]
["Прочая закупка товаров, работ и услуг для обеспечения государственных (муниципальных) нужд","611","0709","0220825301","244",276474]
["Учебно-методические кабинеты, централизованные бухгалтерии, группы хозяйственного обслуживания, учебные фильмотеки, межшкольные учебно-производственные комбинаты, логопедические пункты","611","0709","0250242520",null,4615192.1900000004,{"$f":"C231&D231&A231","v":"07090250242520Учебно-методические кабинеты, централизованные бухгалтерии, группы хозяйственного обслуживания, учебные фильмотеки, межшкольные учебно-производственные комбинаты, логопедические пункты"}]
["Фонд оплаты труда учреждений","611","0709","0250242520","111",1641000]
["Иные выплаты персоналу учреждений, за исключением фонда оплаты труда","611","0709","0250242520","112",479744.7]
["Иные выплаты, за исключением фонда оплаты труда учреждений, лицам, привлекаемым согласно законодательству для выполнения отдельных полномочий","611","0709","0250242520","113",282062]
["Взносы по обязательному социальному страхованию на выплаты по оплате труда работников и иные выплаты работникам учреждений","611","0709","0250242520","119",430392.08,{"$f":"C235&D235&A235","v":"07090250242520Взносы по обязательному социальному страхованию на выплаты по оплате труда работников и иные выплаты работникам учреждений"}]
["Прочая закупка товаров, работ и услуг для обеспечения государственных (муниципальных) нужд","611","0709","0250242520","244",1755749.41]
["Уплата налога на имущество организаций и земельного налога","611","0709","0250242520","851",17000]
["Уплата прочих налогов, сборов","611","0709","0250242520","852",9244]
["Мероприятия по улучшению условий и охраны труда","611","0709","0520115500",null,10000]
["Иные выплаты, за исключением фонда оплаты труда учреждений, лицам, привлекаемым согласно законодательству для выполнения отдельных полномочий","611","0709","0520115500","113",10000]
["Реализация программных мероприятий063","611","0709","0630110990",null,3500]
["Иные выплаты, за исключением фонда оплаты труда учреждений, лицам, привлекаемым согласно законодательству для выполнения отдельных полномочий","611","0709","0630110990","113",3500]
["Реализация программных мероприятий200","611","0709","2000110990",null,261011.79]
["Иные выплаты, за исключением фонда оплаты труда учреждений, лицам, привлекаемым согласно законодательству для выполнения отдельных полномочий","611","0709","2000110990","113",261011.79]
["Реализация программных мероприятий270","611","0709","2700110990",null,10000]
["Иные выплаты, за исключением фонда оплаты труда учреждений, лицам, привлекаемым согласно законодательству для выполнения отдельных полномочий","611","0709","2700110990","113",10000]
["Охрана семьи и детства","611","1004",null,null,19542400]
["Оказание других видов социальной помощи","611","1004","0310205510",null,8324000,{"$f":"C248&D248&A248","v":"10040310205510Оказание других видов социальной помощи"}]
["Субсидии бюджетным учреждениям на финансовое обеспечение государственного (муниципального) задания на оказание государственных (муниципальных) услуг (выполнение работ)","611","1004","0310205510","611",8324000,"10040310205510Субсидии бюджетным учреждениям на финансовое обеспечение государственного (муниципального) задания на оказание государственных (муниципальных) услуг (выполнение работ)"]
["Компенсация за присмотр и уход за ребенком в образовательных организациях, реализующих образовательную программу дошкольного образования","611","1004","0350113200",null,11218400]
["Пособия, компенсации, меры социальной поддержки по публичным нормативным обязательствам","611","1004","0350113200","313",11218400]
["Управление по делам молодежи и спорту Кукморского муниципального района","612",null,null,null,76624935.269999996]
["Функционирование Правительства Российской Федерации, высших исполнительных органов государственной власти субъектов Российской Федерации, местных администраций","612","0104",null,null,996260]
["Центральный аппарат","612","0104","9900002040",null,996260]
["Фонд оплаты труда государственных (муниципальных) органов","612","0104","9900002040","121",765000,{"$f":"C255&D255&A255","v":"01049900002040Фонд оплаты труда государственных (муниципальных) органов"}]
["Взносы по обязательному социальному страхованию на выплаты денежного содержания и иные выплаты работникам государственных (муниципальных) органов","612","0104","9900002040","129",231200]
["Уплата прочих налогов, сборов","612","0104","9900002040","852",60]
["Другие общегосударственные вопросы","612","0113",null,null,10100]
["Центральный аппарат","612","0113","9900002040",null,3000,{"$f":"C259&D259&A259","v":"01139900002040Центральный аппарат"}]
["Уплата прочих налогов, сборов","612","0113","9900002040","852",3000]
["Уплата налога на имущество организаций и земельного налога","612","0113","9900002950",null,7100]
["Уплата налога на имущество организаций и земельного налога","612","0113","9900002950","851",7100]
["Дополнительное образование детей","612","0703",null,null,51888106.270000003]
["Развитие муниципальных учреждений дополнительного образования детей спортивной направленности","612","0703","0230142330",null,51830423.219999999]
["Субсидии бюджетным учреждениям на финансовое обеспечение государственного (муниципального) задания на оказание государственных (муниципальных) услуг (выполнение работ)","612","0703","0230142330","611",51830423.219999999,{"$f":"C265&D265&A265","v":"07030230142330Субсидии бюджетным учреждениям на финансовое обеспечение государственного (муниципального) задания на оказание государственных (муниципальных) услуг (выполнение работ)"}]
["Реализация программных мероприятий063","612","0703","0630110990",null,48000,"07030630110990Реализация программных мероприятий063"]
["Субсидии бюджетным учреждениям на финансовое обеспечение государственного (муниципального) задания на оказание государственных (муниципальных) услуг (выполнение работ)","612","0703","0630110990","611",48000]
["Мероприятия, направленные на поддержку тренеров-преподавателей и спортсменов-инструкторов, работающих в учреждениях по внешкольной работе с детьми за высокие результаты","612","0703","1010142330",null,9683.0499999999993]
["Субсидии бюджетным учреждениям на финансовое обеспечение государственного (муниципального) задания на оказание государственных (муниципальных) услуг (выполнение работ)","612","0703","1010142330","611",9683.0499999999993]
["Молодежная политика","612","0707",null,null,22347400]
["Реализация программных мероприятий063","612","0707","0630110990",null,1000]
["Иные выплаты, за исключением фонда оплаты труда учреждений, лицам, привлекаемым согласно законодательству для выполнения отдельных полномочий","612","0707","0630110990","113",1000]
["Мероприятия по организации отдыха, оздоровления, занятости детей и молодежи","612","0707","1020121320",null,6898500,{"$f":"C273&D273&A273","v":"07071020121320Мероприятия по организации отдыха, оздоровления, занятости детей и молодежи"}]
["Иные выплаты, за исключением фонда оплаты труда учреждений, лицам, привлекаемым согласно законодательству для выполнения отдельных полномочий","612","0707","1020121320","113",6898500]
["Обеспечение деятельности  учреждений молодежной политики","612","0707","1040143190",null,15228900]
["Субсидии бюджетным учреждениям на финансовое обеспечение государственного (муниципального) задания на оказание государственных (муниципальных) услуг (выполнение работ)","612","0707","1040143190","611",15228900]
["Реализация программных мероприятий200","612","0707","2000110990",null,198000,{"$f":"C277&D277&A277","v":"07072000110990Реализация программных мероприятий200"}]
["Иные выплаты персоналу учреждений, за исключением фонда оплаты труда","612","0707","2000110990","112",25000]
["Иные выплаты, за исключением фонда оплаты труда учреждений, лицам, привлекаемым согласно законодательству для выполнения отдельных полномочий","612","0707","2000110990","113",80200]
["Прочая закупка товаров, работ и услуг для обеспечения государственных (муниципальных) нужд","612","0707","2000110990","244",92800,{"$f":"C280&D280&A280","v":"07072000110990Прочая закупка товаров, работ и услуг для обеспечения государственных (муниципальных) нужд"}]
["Реализация программных мероприятий270","612","0707","2700110990",null,21000]
["Иные выплаты, за исключением фонда оплаты труда учреждений, лицам, привлекаемым согласно законодательству для выполнения отдельных полномочий","612","0707","2700110990","113",21000]
["Массовый спорт","612","1102",null,null,1383069,{"$f":"C283&D283&A283","v":"1102Массовый спорт"}]
["Мероприятия физической культуры и спорта в области массового спорта036","612","1102","0360112870",null,385500]
["Иные выплаты, за исключением фонда оплаты труда учреждений, лицам, привлекаемым согласно законодательству для выполнения отдельных полномочий","612","1102","0360112870","113",288462.5]
["Прочая закупка товаров, работ и услуг для обеспечения государственных (муниципальных) нужд","612","1102","0360112870","244",97037.5]
["Мероприятия физической культуры и спорта в области массового спорта101","612","1102","1010112870",null,582629]
["Иные выплаты, за исключением фонда оплаты труда учреждений, лицам, привлекаемым согласно законодательству для выполнения отдельных полномочий","612","1102","1010112870","113",353207]
["Прочая закупка товаров, работ и услуг для обеспечения государственных (муниципальных) нужд","612","1102","1010112870","244",229422]
["Реализация программных мероприятий200","612","1102","2000110990",null,414940]
["Иные выплаты, за исключением фонда оплаты труда учреждений, лицам, привлекаемым согласно законодательству для выполнения отдельных полномочий","612","1102","2000110990","113",414940]
["Управление культуры Кукморского муниципального района","613",null,null,null,154527968]
["Функционирование Правительства Российской Федерации, высших исполнительных органов государственной власти субъектов Российской Федерации, местных администраций","613","0104",null,null,935563.29,{"$f":"C293&D293&A293","v":"0104Функционирование Правительства Российской Федерации, высших исполнительных органов государственной власти субъектов Российской Федерации, местных администраций"}]
["Центральный аппарат","613","0104","9900002040",null,935563.29]
["Фонд оплаты труда государственных (муниципальных) органов","613","0104","9900002040","121",617000]
["Взносы по обязательному социальному страхованию на выплаты денежного содержания и иные выплаты работникам государственных (муниципальных) органов","613","0104","9900002040","129",186000]
["Прочая закупка товаров, работ и услуг для обеспечения государственных (муниципальных) нужд","613","0104","9900002040","244",129812.29]
["Уплата прочих налогов, сборов","613","0104","9900002040","852",2751]
["Дополнительное образование детей","613","0703",null,null,11163442.039999999]
["Развитие муниципальных учреждений дополнительного образования детей художественно-эстетической направленности","613","0703","0230142320",null,11163442.039999999]
["Субсидии бюджетным учреждениям на финансовое обеспечение государственного (муниципального) задания на оказание государственных (муниципальных) услуг (выполнение работ)","613","0703","0230142320","611",11163442.039999999]
["Культура","613","0801",null,null,142428962.66999999,{"$f":"C302&D302&A302","v":"0801Культура"}]
["Реализация программных мероприятий063","613","0801","0630110990",null,3500]
["Субсидии бюджетным учреждениям на финансовое обеспечение государственного (муниципального) задания на оказание государственных (муниципальных) услуг (выполнение работ)","613","0801","0630110990","611",3500]
["Обеспечение деятельности подведомственных учреждений культуры","613","0801","0810144090",null,3993276.15]
["Субсидии бюджетным учреждениям на финансовое обеспечение государственного (муниципального) задания на оказание государственных (муниципальных) услуг (выполнение работ)","613","0801","0810144090","611",3972058.2,{"$f":"C306&D306&A306","v":"08010810144090Субсидии бюджетным учреждениям на финансовое обеспечение государственного (муниципального) задания на оказание государственных (муниципальных) услуг (выполнение работ)"}]
["Субсидии бюджетным учреждениям на иные цели","613","0801","0810144090","612",21217.95]
["Обеспечение деятельности подведомственных учреждений культуры","613","0801","0830144090",null,25772306.620000001]
["Субсидии бюджетным учреждениям на финансовое обеспечение государственного (муниципального) задания на оказание государственных (муниципальных) услуг (выполнение работ)","613","0801","0830144090","611",25710518.57]
["Субсидии бюджетным учреждениям на иные цели","613","0801","0830144090","612",61788.05]
["Обеспечение деятельности подведомственных учреждений культуры","613","0801","0840144091",null,105980819.90000001,{"$f":"C311&D311&A311","v":"08010840144091Обеспечение деятельности подведомственных учреждений культуры"}]
["Субсидии бюджетным учреждениям на финансовое обеспечение государственного (муниципального) задания на оказание государственных (муниципальных) услуг (выполнение работ)","613","0801","0840144091","611",105587709.23]
["Субсидии бюджетным учреждениям на иные цели","613","0801","0840144091","612",393110.67]
["Мероприятия в сфере культуры и кинематографии","613","0801","08Ж0144100",null,6667060]
["Субсидии бюджетным учреждениям на иные цели","613","0801","08Ж0144100","612",6667060]
["Реализация программных мероприятий270","613","0801","2700110990",null,12000]
["Субсидии бюджетным учреждениям на финансовое обеспечение государственного (муниципального) задания на оказание государственных (муниципальных) услуг (выполнение работ)","613","0801","2700110990","611",12000,{"$f":"C317&D317&A317","v":"08012700110990Субсидии бюджетным учреждениям на финансовое обеспечение государственного (муниципального) задания на оказание государственных (муниципальных) услуг (выполнение работ)"}]
[]
[]
["             Глава Района                                   С.Д.Димитриев"]

{"sheet":"11","index":11,"n_rows":744,"n_cols":9,"rows_kept":744,"cut":false,"hidden":true,"merged":[[5,0,5,6],[6,0,6,6],[8,0,9,0],[8,1,9,1],[8,2,9,2],[8,3,9,3],[8,4,9,4],[8,5,8,6]]}
[null,null,{"$f":"дата!$A$2&дата!$D$13","v":"Приложение №11"}]
[null,null,"к решению Кукморского"]
[null,null,"районного Совета"]
[null,null,{"$f":"дата!D1","v":"от08 декабря 2017 г. №131"}]
[]
["Ведомственная структура расходов"]
["бюджета Кукморского муниципального района на плановый период 2019 и 2020 годов"]
[null,null,null,null,null,null,"(рублей)",{"$f":"SUBTOTAL(9,F13:F14010)","v":8937702720}]
["Наименование","КВСР","Рз, ПР","ЦСР","ВР","Сумма"]
[null,null,null,null,null,"2019 год","2020 год",{"$f":"F11-H11","v":1000.0000004768372},{"$f":"G11-I11","v":999.99999952316284}]
["Итого",null,null,null,null,{"$f":"F13+F206+F236+F250+F362+F392+F555+F664","v":1139594430},{"$f":"G13+G206+G236+G250+G362+G392+G555+G664","v":1151083390},{"$f":"свод19!$I$13*1000","v":1139593429.9999995},{"$f":"свод20!$I$13*1000","v":1151082390.0000005}]
[]
["Исполнительный комитет Кукморского муниципального района Республики Татарстан","601",null,null,null,{"$f":"F14+F118+F140+F158+F184+F191+F198","v":90075740},{"$f":"G14+G118+G140+G158+G184+G191+G198","v":93380000},{"$f":"H11-F11","v":-1000.0000004768372},{"$f":"I11-G11","v":-999.99999952316284}]
["ОБЩЕГОСУДАРСТВЕННЫЕ ВОПРОСЫ","601","0100",null,null,{"$f":"F15+F23+F31+F27","v":33624060},{"$f":"G15+G23+G31+G27","v":35068880}]
["Функционирование Правительства Российской Федерации, высших исполнительных органов государственной власти субъектов Российской Федерации, местных администраций","601","0104",null,null,{"$f":"F16","v":11184860},{"$f":"G16","v":12132860}]
["Непрограммные направления расходов","601","0104","9900000000",null,{"$f":"F17","v":11184860},{"$f":"G17","v":12132860}]
["Центральный аппарат","601","0104","9900002040",null,{"$f":"SUM(F18:F22)","v":11184860},{"$f":"SUM(G18:G22)","v":12132860}]
["Фонд оплаты труда государственных (муниципальных) органов и взносы по обязательному социальному страхованию","601","0104","9900002040","121",{"$f":"SUMIF(свод19!$N$15:$N$1600,B18&C18&D18&A18,свод19!$I$15:$I$1600)*1000","v":6932849.9999999991},{"$f":"SUMIF(свод20!$N$15:$N$1600,B18&C18&D18&A18,свод20!$I$15:$I$1600)*1000","v":7714849.9999999991},{"$f":"C18&D18&A18","v":"01049900002040Фонд оплаты труда государственных (муниципальных) органов и взносы по обязательному социальному страхованию"}]
["Иные выплаты персоналу государственных (муниципальных) органов, за исключением фонда оплаты труда","601","0104","9900002040","122",{"$f":"SUMIF(свод19!$N$15:$N$1600,B19&C19&D19&A19,свод19!$I$15:$I$1600)*1000","v":0},{"$f":"SUMIF(свод20!$N$15:$N$1600,B19&C19&D19&A19,свод20!$I$15:$I$1600)*1000","v":0},{"$f":"C19&D19&A19","v":"01049900002040Иные выплаты персоналу государственных (муниципальных) органов, за исключением фонда оплаты труда"}]
["Взносы по обязательному социальному страхованию на выплату денежного содержания и иные выплаты работникам государственных (муниципальных) органов","601","0104","9900002040","129",{"$f":"SUMIF(свод19!$N$15:$N$1600,B20&C20&D20&A20,свод19!$I$15:$I$1600)*1000","v":2113010},{"$f":"SUMIF(свод20!$N$15:$N$1600,B20&C20&D20&A20,свод20!$I$15:$I$1600)*1000","v":2279010},"01049900002040Взносы по обязательному социальному страхованию на выплату денежного содержания и иные выплаты работникам государственных (муниципальных) органов"]
["Прочая закупка товаров, работ и услуг для обеспечения государственных (муниципальных) нужд","601","0104","9900002040","244",{"$f":"SUMIF(свод19!$N$15:$N$1600,B21&C21&D21&A21,свод19!$I$15:$I$1600)*1000","v":2139000},{"$f":"SUMIF(свод20!$N$15:$N$1600,B21&C21&D21&A21,свод20!$I$15:$I$1600)*1000","v":2139000},"01049900002040Прочая закупка товаров, работ и услуг для обеспечения государственных (муниципальных) нужд"]
["Уплата прочих налогов, сборов и иных платежей","601","0104","9900002040","852",{"$f":"SUMIF(свод19!$N$15:$N$1600,B22&C22&D22&A22,свод19!$I$15:$I$1600)*1000","v":0},{"$f":"SUMIF(свод20!$N$15:$N$1600,B22&C22&D22&A22,свод20!$I$15:$I$1600)*1000","v":0},"01049900002040Уплата прочих налогов, сборов и иных платежей"]
["Судебная система","601","0105",null,null,{"$f":"F24","v":13000},{"$f":"G24","v":21000}]
["Непрограммные направления расходов","601","0105","9900000000",null,{"$f":"F25","v":13000},21000]
["Составление (изменение) списков кандидатов в присяжные заседатели федеральных судов общей юрисдикции в Российской Федерации за счет средств федерального бюджета","601","0105","9900051200",null,13000,21000]
["Прочая закупка товаров, работ и услуг для обеспечения государственных (муниципальных) нужд","601","0105","9900051200","244",{"$f":"SUMIF(свод19!$N$15:$N$1600,B26&C26&D26&A26,свод19!$I$15:$I$1600)*1000","v":13000},{"$f":"SUMIF(свод20!$N$15:$N$1600,B26&C26&D26&A26,свод20!$I$15:$I$1600)*1000","v":21000},{"$f":"C26&D26&A26","v":"01059900051200Прочая закупка товаров, работ и услуг для обеспечения государственных (муниципальных) нужд"}]
["Резервные фонды ","601","0111","","",{"$f":"F28","v":5845700},5845700]
["Непрограммные направления расходов","601","0111","9900000000","",5845700,5845700]
["Резервные фонды местных администраций","601","0111","9900007410","",{"$f":"F30","v":5845700},{"$f":"G30","v":5845700}]
["Уплата иных платежей","601","0111","9900007410","870",{"$f":"SUMIF(свод19!$N$15:$N$1600,B30&C30&D30&A30,свод19!$I$15:$I$1600)*1000","v":5845700},{"$f":"SUMIF(свод20!$N$15:$N$1600,B30&C30&D30&A30,свод20!$I$15:$I$1600)*1000","v":5845700},{"$f":"C30&D30&A30","v":"01119900007410Уплата иных платежей"}]
["Другие общегосударственные вопросы","601","0113",null,null,{"$f":"F32+F37+F45+F50+F58+F69+F77+F81+F73","v":16580500},{"$f":"G32+G37+G45+G50+G58+G69+G77+G81+G73","v":17069320}]
["Муниципальная программа «Развитие образования Кукморского муниципального района Республики Татарстан на 2018 – 2020 годы»","601","0113","0200000000",null,{"$f":"F33","v":0},{"$f":"G33","v":0}]
["Подпрограмма «Развитие системы оценки качества образования на 2018 – 2020 годы»","601","0113","0250000000",null,{"$f":"F34","v":0},0]
["Основное мероприятие \"Содержание прочих учреждений образования\"","601","0113","0250200000",null,0,0]
["Учебно-методические кабинеты, централизованные бухгалтерии, группы хозяйственного обслуживания, учебные фильмотеки, межшкольные учебно-производственные комбинаты, логопедические пункты","601","0113","0250242520",null,0,0]
["Уплата налога на имущество организаций и земельного налога","601","0113","0250242520","851",{"$f":"SUMIF(свод19!$N$15:$N$1600,B36&C36&D36&A36,свод19!$I$15:$I$1600)*1000","v":0},{"$f":"SUMIF(свод20!$N$15:$N$1600,B36&C36&D36&A36,свод20!$I$15:$I$1600)*1000","v":0},{"$f":"C36&D36&A36","v":"01130250242520Уплата налога на имущество организаций и земельного налога"}]
["Муниципальная программа «Социальная поддержка граждан Кукморского муниципального района Республики Татарстан» на 2018 – 2020 годы","601","0113","0300000000",null,{"$f":"F38","v":770600},{"$f":"G38","v":799200}]
["Подпрограмма \"Улучшение социально-экономического положения семей\" на 2018 – 2020 годы","601","0113","0350000000",null,{"$f":"F39","v":770600},799200]
["Основное мероприятие \"Создание благоприятных условий для устройства детей-сирот и детей, оставшихся без попечения родителей, на воспитание в семью\"","601","0113","0350300000",null,770600,799200]
["Реализация государственных полномочий в области опеки и попечительства","601","0113","0350325330",null,{"$f":"SUM(F41:F44)","v":770600},{"$f":"SUM(G41:G44)","v":799200}]
["Фонд оплаты труда казенных учреждений и взносы по обязательному социальному страхованию","601","0113","0350325330","111",{"$f":"SUMIF(свод19!$N$15:$N$1600,B41&C41&D41&A41,свод19!$I$15:$I$1600)*1000","v":570700},{"$f":"SUMIF(свод20!$N$15:$N$1600,B41&C41&D41&A41,свод20!$I$15:$I$1600)*1000","v":594600},{"$f":"C41&D41&A41","v":"01130350325330Фонд оплаты труда казенных учреждений и взносы по обязательному социальному страхованию"}]
["Иные выплаты персоналу казенных учреждений, за исключением фонда оплаты труда","601","0113","0350325330","112",{"$f":"SUMIF(свод19!$N$15:$N$1600,B42&C42&D42&A42,свод19!$I$15:$I$1600)*1000","v":0},{"$f":"SUMIF(свод20!$N$15:$N$1600,B42&C42&D42&A42,свод20!$I$15:$I$1600)*1000","v":0},"01130350325330Иные выплаты персоналу казенных учреждений, за исключением фонда оплаты труда"]
["Взносы по обязательному социальному страхованию на выплаты по оплате труда работников и иные выплаты работникам учреждений","601","0113","0350325330","119",{"$f":"SUMIF(свод19!$N$15:$N$1600,B43&C43&D43&A43,свод19!$I$15:$I$1600)*1000","v":174900},{"$f":"SUMIF(свод20!$N$15:$N$1600,B43&C43&D43&A43,свод20!$I$15:$I$1600)*1000","v":179600},"01130350325330Взносы по обязательному социальному страхованию на выплаты по оплате труда работников и иные выплаты работникам учреждений"]
["Прочая закупка товаров, работ и услуг для обеспечения государственных (муниципальных) нужд","601","0113","0350325330","244",{"$f":"SUMIF(свод19!$N$15:$N$1600,B44&C44&D44&A44,свод19!$I$15:$I$1600)*1000","v":25000.000000000029},{"$f":"SUMIF(свод20!$N$15:$N$1600,B44&C44&D44&A44,свод20!$I$15:$I$1600)*1000","v":25000.000000000029},"01130350325330Прочая закупка товаров, работ и услуг для обеспечения государственных (муниципальных) нужд"]
["Муниципальная программа «Обеспечение общественного порядка и противодействие преступности в Кукморском муниципальном районе на 2018 - 2020 годы\"","601","0113","0600000000",null,{"$f":"F46","v":55000},{"$f":"G46","v":55000}]
["Подпрограмма «Профилактика терроризма и экстремизма в Кукморском муниципальном районе на 2018-2020гг.»","601","0113","0630000000",null,{"$f":"F47","v":55000},55000]
["Основное мероприятие \"Профилактика терроризма и экстремизма\"","601","0113","0630100000",null,55000,55000]
["Реализация программных мероприятий063","601","0113","0630110990",null,55000,55000]
["Прочая закупка товаров, работ и услуг для обеспечения государственных (муниципальных) нужд","601","0113","0630110990","244",{"$f":"SUMIF(свод19!$N$15:$N$1600,B49&C49&D49&A49,свод19!$I$15:$I$1600)*1000","v":55000},{"$f":"SUMIF(свод20!$N$15:$N$1600,B49&C49&D49&A49,свод20!$I$15:$I$1600)*1000","v":55000},{"$f":"C49&D49&A49","v":"01130630110990Прочая закупка товаров, работ и услуг для обеспечения государственных (муниципальных) нужд"}]
["Муниципальная программа «Развитие культуры Кукморского муниципального района Республики Татарстан на 2018 – 2020 годы»","601","0113","0800000000",null,{"$f":"F51","v":683000},{"$f":"G51","v":683000}]
["Подпрограмма \"Развитие архивного дела на 2018 - 2020 годы\"","601","0113","08Е0000000",null,{"$f":"F52","v":683000},683000]
["Основное мероприятие \"Реализация государственной политики в области архивного дела\"","601","0113","08Е0100000",null,683000,683000]
["Обеспечение хранения, учета, комплектования и использования документов архивного фонда Республики Татарстан и других архивных документов","601","0113","08Е0144020",null,{"$f":"SUM(F54:F57)","v":683000},{"$f":"SUM(G54:G57)","v":683000}]
["Фонд оплаты труда казенных учреждений и взносы по обязательному социальному страхованию","601","0113","08Е0144020","111",{"$f":"SUMIF(свод19!$N$15:$N$1600,B54&C54&D54&A54,свод19!$I$15:$I$1600)*1000","v":488000},{"$f":"SUMIF(свод20!$N$15:$N$1600,B54&C54&D54&A54,свод20!$I$15:$I$1600)*1000","v":488000},{"$f":"C54&D54&A54","v":"011308Е0144020Фонд оплаты труда казенных учреждений и взносы по обязательному социальному страхованию"}]
["Иные выплаты персоналу казенных учреждений, за исключением фонда оплаты труда","601","0113","08Е0144020","112",{"$f":"SUMIF(свод19!$N$15:$N$1600,B55&C55&D55&A55,свод19!$I$15:$I$1600)*1000","v":0},{"$f":"SUMIF(свод20!$N$15:$N$1600,B55&C55&D55&A55,свод20!$I$15:$I$1600)*1000","v":0},"011308Е0144020Иные выплаты персоналу казенных учреждений, за исключением фонда оплаты труда"]
["Взносы по обязательному социальному страхованию на выплаты по оплате труда работников и иные выплаты работникам учреждений","601","0113","08Е0144020","119",{"$f":"SUMIF(свод19!$N$15:$N$1600,B56&C56&D56&A56,свод19!$I$15:$I$1600)*1000","v":147000},{"$f":"SUMIF(свод20!$N$15:$N$1600,B56&C56&D56&A56,свод20!$I$15:$I$1600)*1000","v":147000},"011308Е0144020Взносы по обязательному социальному страхованию на выплаты по оплате труда работников и иные выплаты работникам учреждений"]
["Прочая закупка товаров, работ и услуг для обеспечения государственных (муниципальных) нужд","601","0113","08Е0144020","244",{"$f":"SUMIF(свод19!$N$15:$N$1600,B57&C57&D57&A57,свод19!$I$15:$I$1600)*1000","v":48000},{"$f":"SUMIF(свод20!$N$15:$N$1600,B57&C57&D57&A57,свод20!$I$15:$I$1600)*1000","v":48000},"011308Е0144020Прочая закупка товаров, работ и услуг для обеспечения государственных (муниципальных) нужд"]
["Муниципальная программа «Управление муниципальными финансами Кукморского муниципального района Республики Татарстан на 2018 – 2020 годы»","601","0113","1800000000",null,{"$f":"F59","v":12037400},{"$f":"G59","v":12408800}]
["Основное мероприятие \"Обеспечение долгосрочной сбалансированности и устойчивости бюджетной системы\"","601","0113","1800100000",null,{"$f":"SUM(F60+F63)","v":12037400},{"$f":"SUM(G60+G63)","v":12408800}]
["Уплата налога на имущество организаций и земельного налога","601","0113","1800102950",null,{"$f":"F62","v":0},{"$f":"G62","v":0}]
["Уплата налога на имущество организаций и земельного налога","601","0113","1800102950","851",{"$f":"SUMIF(свод19!$N$15:$N$1600,B61&C61&D61&A61,свод19!$I$15:$I$1600)*1000","v":0},{"$f":"SUMIF(свод20!$N$15:$N$1600,B61&C61&D61&A61,свод20!$I$15:$I$1600)*1000","v":0},{"$f":"C61&D61&A61","v":"01131800102950Уплата налога на имущество организаций и земельного налога"}]
["Уплата прочих налогов, сборов и иных платежей","601","0113","1800102950","852",{"$f":"SUMIF(свод19!$N$15:$N$1600,B62&C62&D62&A62,свод19!$I$15:$I$1600)*1000","v":0},{"$f":"SUMIF(свод20!$N$15:$N$1600,B62&C62&D62&A62,свод20!$I$15:$I$1600)*1000","v":0},"01131800102950Уплата прочих налогов, сборов и иных платежей"]
["Реализация программных мероприятий","601","0113","1800129900",null,{"$f":"SUM(F64:F68)","v":12037400},{"$f":"SUM(G64:G68)","v":12408800}]
["Фонд оплаты труда казенных учреждений и взносы по обязательному социальному страхованию","601","0113","1800129900","111",{"$f":"SUMIF(свод19!$N$15:$N$1600,B64&C64&D64&A64,свод19!$I$15:$I$1600)*1000","v":8339100},{"$f":"SUMIF(свод20!$N$15:$N$1600,B64&C64&D64&A64,свод20!$I$15:$I$1600)*1000","v":8649500},{"$f":"C64&D64&A64","v":"01131800129900Фонд оплаты труда казенных учреждений и взносы по обязательному социальному страхованию"}]
["Взносы по обязательному социальному страхованию на выплаты по оплате труда работников и иные выплаты работникам учреждений","601","0113","1800129900","119",{"$f":"SUMIF(свод19!$N$15:$N$1600,B65&C65&D65&A65,свод19!$I$15:$I$1600)*1000","v":2551000},{"$f":"SUMIF(свод20!$N$15:$N$1600,B65&C65&D65&A65,свод20!$I$15:$I$1600)*1000","v":2612000},"01131800129900Взносы по обязательному социальному страхованию на выплаты по оплате труда работников и иные выплаты работникам учреждений"]
["Прочая закупка товаров, работ и услуг для обеспечения государственных (муниципальных) нужд","601","0113","1800129900","244",{"$f":"SUMIF(свод19!$N$15:$N$1600,B66&C66&D66&A66,свод19!$I$15:$I$1600)*1000","v":1147300.0000000002},{"$f":"SUMIF(свод20!$N$15:$N$1600,B66&C66&D66&A66,свод20!$I$15:$I$1600)*1000","v":1147300.0000000002},"01131800129900Прочая закупка товаров, работ и услуг для обеспечения государственных (муниципальных) нужд"]
["Уплата прочих налогов, сборов и иных платежей","601","0113","1800129900","852",{"$f":"SUMIF(свод19!$N$15:$N$1600,B67&C67&D67&A67,свод19!$I$15:$I$1600)*1000","v":0},{"$f":"SUMIF(свод20!$N$15:$N$1600,B67&C67&D67&A67,свод20!$I$15:$I$1600)*1000","v":0},"01131800129900Уплата прочих налогов, сборов и иных платежей"]
["Уплата иных платежей","601","0113","1800129900","853",{"$f":"SUMIF(свод19!$N$15:$N$1600,B68&C68&D68&A68,свод19!$I$15:$I$1600)*1000","v":0},{"$f":"SUMIF(свод20!$N$15:$N$1600,B68&C68&D68&A68,свод20!$I$15:$I$1600)*1000","v":0},"01131800129900Уплата иных платежей"]
["Программа по реализации государственной национальной политики в Кукморском муниципальном районе на 2018-2020 годы","601","0113","2000000000",null,{"$f":"F70","v":80000},{"$f":"G70","v":80000}]
["Основное мероприятие «Реализация государственной национальной политики в Республике Татарстан, цивилизованное развитие представителей народов, проживающих на территории Республики Татарстан, сохранение межэтнического и межконфессионального мира и согласия, упрочение общероссийской гражданской идентичности (российской нации), успешная социокультурная адаптация и интеграция мигрантов»","601","0113","2000100000",null,{"$f":"F71","v":80000},80000]
["Реализация программных мероприятий200","601","0113","2000110990",null,80000,80000]
["Прочая закупка товаров, работ и услуг для обеспечения государственных (муниципальных) нужд","601","0113","2000110990","244",{"$f":"SUMIF(свод19!$N$15:$N$1600,B72&C72&D72&A72,свод19!$I$15:$I$1600)*1000","v":80000},{"$f":"SUMIF(свод20!$N$15:$N$1600,B72&C72&D72&A72,свод20!$I$15:$I$1600)*1000","v":80000},{"$f":"C72&D72&A72","v":"01132000110990Прочая закупка товаров, работ и услуг для обеспечения государственных (муниципальных) нужд"}]
["Государственная программа \"Развитие юстиции в Республике Татарстан на 2014 – 2020 годы\"","601","0113","2400000000",null,{"$f":"F74","v":3300},{"$f":"G74","v":3399.9999999999995}]
["Подпрограмма \"Реализация государственной политики в сфере юстиции в Республике Татарстан на 2014 – 2020 годы\"","601","0113","2410100000",null,{"$f":"F75","v":3300},3399.9999999999995]
["Субвенции на реализацию полномочий по сбору информации от поселений, входящих в МР, необходимой для ведения регистра муниципальных нормативных правовых актов РТ","601","0113","2410125390",null,3300,3399.9999999999995]
["Прочая закупка товаров, работ и услуг для обеспечения государственных (муниципальных) нужд","601","0113","2410125390","244",{"$f":"SUMIF(свод19!$N$15:$N$1600,B76&C76&D76&A76,свод19!$I$15:$I$1600)*1000","v":3300},{"$f":"SUMIF(свод20!$N$15:$N$1600,B76&C76&D76&A76,свод20!$I$15:$I$1600)*1000","v":3399.9999999999995},{"$f":"C76&D76&A76","v":"01132410125390Прочая закупка товаров, работ и услуг для обеспечения государственных (муниципальных) нужд"}]
["Муниципальная программа «Реализация антикоррупционной политики в Кукморском муниципальном районе Республики Татарстан на 2018-2020 годы»","601","0113","2700000000",null,{"$f":"F78","v":5000},{"$f":"G78","v":5000}]
["Основное мероприятие \"Выявление и устранение причин коррупции, противодействие условиям, способствующим ее проявлениям, формирование в обществе нетерпимого отношения к коррупции\"","601","0113","2700100000",null,{"$f":"F79","v":5000},5000]
["Реализация программных мероприятий270","601","0113","2700110990",null,5000,5000]
["Прочая закупка товаров, работ и услуг для обеспечения государственных (муниципальных) нужд","601","0113","2700110990","244",{"$f":"SUMIF(свод19!$N$15:$N$1600,B80&C80&D80&A80,свод19!$I$15:$I$1600)*1000","v":5000},{"$f":"SUMIF(свод20!$N$15:$N$1600,B80&C80&D80&A80,свод20!$I$15:$I$1600)*1000","v":5000},{"$f":"C80&D80&A80","v":"01132700110990Прочая закупка товаров, работ и услуг для обеспечения государственных (муниципальных) нужд"}]
["Непрограммные направления расходов","601","0113","9900000000",null,{"$f":"F82+F85+F88+F93+F98+F100+F102+F106+F108+F113","v":2946200},{"$f":"G82+G85+G88+G93+G98+G100+G102+G106+G108+G113","v":3034920}]
["Центральный аппарат","601","0113","9900002040",null,{"$f":"SUM(F83:F84)","v":0},{"$f":"SUM(G83:G84)","v":0}]
["Уплата прочих налогов, сборов и иных платежей","601","0113","9900002040","852",{"$f":"SUMIF(свод19!$N$15:$N$1600,B83&C83&D83&A83,свод19!$I$15:$I$1600)*1000","v":0},{"$f":"SUMIF(свод20!$N$15:$N$1600,B83&C83&D83&A83,свод20!$I$15:$I$1600)*1000","v":0},{"$f":"C83&D83&A83","v":"01139900002040Уплата прочих налогов, сборов и иных платежей"}]
["Уплата иных платежей","601","0113","9900002040","853",{"$f":"SUMIF(свод19!$N$15:$N$1600,B84&C84&D84&A84,свод19!$I$15:$I$1600)*1000","v":0},{"$f":"SUMIF(свод20!$N$15:$N$1600,B84&C84&D84&A84,свод20!$I$15:$I$1600)*1000","v":0},"01139900002040Уплата иных платежей"]
["Уплата налога на имущество организаций и земельного налога","601","0113","9900002950",null,{"$f":"SUM(F86:F87)","v":301400},{"$f":"SUM(G86:G87)","v":301400}]
["Уплата налога на имущество организаций и земельного налога","601","0113","9900002950","851",{"$f":"SUMIF(свод19!$N$15:$N$1600,B86&C86&D86&A86,свод19!$I$15:$I$1600)*1000","v":299400},{"$f":"SUMIF(свод20!$N$15:$N$1600,B86&C86&D86&A86,свод20!$I$15:$I$1600)*1000","v":299400},{"$f":"C86&D86&A86","v":"01139900002950Уплата налога на имущество организаций и земельного налога"}]
["Уплата прочих налогов, сборов и иных платежей","601","0113","9900002950","852",{"$f":"SUMIF(свод19!$N$15:$N$1600,B87&C87&D87&A87,свод19!$I$15:$I$1600)*1000","v":2000},{"$f":"SUMIF(свод20!$N$15:$N$1600,B87&C87&D87&A87,свод20!$I$15:$I$1600)*1000","v":2000},"01139900002950Уплата прочих налогов, сборов и иных платежей"]
["Реализация государственных полномочий по образованию и организации деятельности комиссий по делам несовершеннолетних и защите их прав","601","0113","9900025260",null,{"$f":"SUM(F89:F92)","v":547200},{"$f":"SUM(G89:G92)","v":567600}]
["Фонд оплаты труда казенных учреждений и взносы по обязательному социальному страхованию","601","0113","9900025260","111",{"$f":"SUMIF(свод19!$N$15:$N$1600,B89&C89&D89&A89,свод19!$I$15:$I$1600)*1000","v":387600},{"$f":"SUMIF(свод20!$N$15:$N$1600,B89&C89&D89&A89,свод20!$I$15:$I$1600)*1000","v":404900},{"$f":"C89&D89&A89","v":"01139900025260Фонд оплаты труда казенных учреждений и взносы по обязательному социальному страхованию"}]
["Иные выплаты персоналу казенных учреждений, за исключением фонда оплаты труда","601","0113","9900025260","112",{"$f":"SUMIF(свод19!$N$15:$N$1600,B90&C90&D90&A90,свод19!$I$15:$I$1600)*1000","v":0},{"$f":"SUMIF(свод20!$N$15:$N$1600,B90&C90&D90&A90,свод20!$I$15:$I$1600)*1000","v":0},"01139900025260Иные выплаты персоналу казенных учреждений, за исключением фонда оплаты труда"]
["Взносы по обязательному социальному страхованию на выплаты по оплате труда работников и иные выплаты работникам учреждений","601","0113","9900025260","119",{"$f":"SUMIF(свод19!$N$15:$N$1600,B91&C91&D91&A91,свод19!$I$15:$I$1600)*1000","v":118900},{"$f":"SUMIF(свод20!$N$15:$N$1600,B91&C91&D91&A91,свод20!$I$15:$I$1600)*1000","v":122000},"01139900025260Взносы по обязательному социальному страхованию на выплаты по оплате труда работников и иные выплаты работникам учреждений"]
["Прочая закупка товаров, работ и услуг для обеспечения государственных (муниципальных) нужд","601","0113","9900025260","244",{"$f":"SUMIF(свод19!$N$15:$N$1600,B92&C92&D92&A92,свод19!$I$15:$I$1600)*1000","v":40700.000000000044},{"$f":"SUMIF(свод20!$N$15:$N$1600,B92&C92&D92&A92,свод20!$I$15:$I$1600)*1000","v":40700.000000000044},"01139900025260Прочая закупка товаров, работ и услуг для обеспечения государственных (муниципальных) нужд"]
["Реализация государственных полномочий по образованию и организации деятельности административных комиссий","601","0113","9900025270",null,{"$f":"SUM(F94:F97)","v":263100},{"$f":"SUM(G94:G97)","v":272500}]
["Фонд оплаты труда казенных учреждений и взносы по обязательному социальному страхованию","601","0113","9900025270","111",{"$f":"SUMIF(свод19!$N$15:$N$1600,B94&C94&D94&A94,свод19!$I$15:$I$1600)*1000","v":204200},{"$f":"SUMIF(свод20!$N$15:$N$1600,B94&C94&D94&A94,свод20!$I$15:$I$1600)*1000","v":213600},{"$f":"C94&D94&A94","v":"01139900025270Фонд оплаты труда казенных учреждений и взносы по обязательному социальному страхованию"}]
["Иные выплаты персоналу казенных учреждений, за исключением фонда оплаты труда","601","0113","9900025270","112",{"$f":"SUMIF(свод19!$N$15:$N$1600,B95&C95&D95&A95,свод19!$I$15:$I$1600)*1000","v":0},{"$f":"SUMIF(свод20!$N$15:$N$1600,B95&C95&D95&A95,свод20!$I$15:$I$1600)*1000","v":0},"01139900025270Иные выплаты персоналу казенных учреждений, за исключением фонда оплаты труда"]
["Взносы по обязательному социальному страхованию на выплаты по оплате труда работников и иные выплаты работникам учреждений","601","0113","9900025270","119",{"$f":"SUMIF(свод19!$N$15:$N$1600,B96&C96&D96&A96,свод19!$I$15:$I$1600)*1000","v":58900},{"$f":"SUMIF(свод20!$N$15:$N$1600,B96&C96&D96&A96,свод20!$I$15:$I$1600)*1000","v":58900},"01139900025270Взносы по обязательному социальному страхованию на выплаты по оплате труда работников и иные выплаты работникам учреждений"]
["Прочая закупка товаров, работ и услуг для обеспечения государственных (муниципальных) нужд","601","0113","9900025270","244",{"$f":"SUMIF(свод19!$N$15:$N$1600,B97&C97&D97&A97,свод19!$I$15:$I$1600)*1000","v":7.1054273576010019E-12},{"$f":"SUMIF(свод20!$N$15:$N$1600,B97&C97&D97&A97,свод20!$I$15:$I$1600)*1000","v":7.1054273576010019E-12},"01139900025270Прочая закупка товаров, работ и услуг для обеспечения государственных (муниципальных) нужд"]
["Реализация государственных полномочий в области архивного дела","601","0113","9900025340",null,{"$f":"F99","v":55900},{"$f":"G99","v":55900}]
["Прочая закупка товаров, работ и услуг для обеспечения государственных (муниципальных) нужд","601","0113","9900025340","244",{"$f":"SUMIF(свод19!$N$15:$N$1600,B99&C99&D99&A99,свод19!$I$15:$I$1600)*1000","v":55900},{"$f":"SUMIF(свод20!$N$15:$N$1600,B99&C99&D99&A99,свод20!$I$15:$I$1600)*1000","v":55900},{"$f":"C99&D99&A99","v":"01139900025340Прочая закупка товаров, работ и услуг для обеспечения государственных (муниципальных) нужд"}]
["Реализация государственных полномочий по определению перечня должностных лиц, уполномоченных составлять протоколы об административных правонарушениях","601","0113","9900025350",null,{"$f":"F101","v":400},{"$f":"G101","v":420}]
["Прочая закупка товаров, работ и услуг для обеспечения государственных (муниципальных) нужд","601","0113","9900025350","244",{"$f":"SUMIF(свод19!$N$15:$N$1600,B101&C101&D101&A101,свод19!$I$15:$I$1600)*1000","v":400},{"$f":"SUMIF(свод20!$N$15:$N$1600,B101&C101&D101&A101,свод20!$I$15:$I$1600)*1000","v":420},{"$f":"C101&D101&A101","v":"01139900025350Прочая закупка товаров, работ и услуг для обеспечения государственных (муниципальных) нужд"}]
["Реализация государственных полномочий по распоряжению земельными участками, государственная собственность на которые не разграничена","601","0113","9900025400",null,{"$f":"SUM(F103:F105)","v":7600},{"$f":"SUM(G103:G105)","v":7899.9999999999991}]
["Фонд оплаты труда государственных (муниципальных) органов и взносы по обязательному социальному страхованию","601","0113","9900025400","121",{"$f":"SUMIF(свод19!$N$15:$N$1600,B103&C103&D103&A103,свод19!$I$15:$I$1600)*1000","v":5800},{"$f":"SUMIF(свод20!$N$15:$N$1600,B103&C103&D103&A103,свод20!$I$15:$I$1600)*1000","v":6199.9999999999991},{"$f":"C103&D103&A103","v":"01139900025400Фонд оплаты труда государственных (муниципальных) органов и взносы по обязательному социальному страхованию"}]
["Взносы по обязательному социальному страхованию на выплату денежного содержания и иные выплаты работникам государственных (муниципальных) органов","601","0113","9900025400","129",{"$f":"SUMIF(свод19!$N$15:$N$1600,B104&C104&D104&A104,свод19!$I$15:$I$1600)*1000","v":1800},{"$f":"SUMIF(свод20!$N$15:$N$1600,B104&C104&D104&A104,свод20!$I$15:$I$1600)*1000","v":1700},"01139900025400Взносы по обязательному социальному страхованию на выплату денежного содержания и иные выплаты работникам государственных (муниципальных) органов"]
["Прочая закупка товаров, работ и услуг для обеспечения государственных (муниципальных) нужд","601","0113","9900025400","244",{"$f":"SUMIF(свод19!$N$15:$N$1600,B105&C105&D105&A105,свод19!$I$15:$I$1600)*1000","v":2.2204460492503131E-13},{"$f":"SUMIF(свод20!$N$15:$N$1600,B105&C105&D105&A105,свод20!$I$15:$I$1600)*1000","v":2.2204460492503131E-13},{"$f":"C105&D105&A105","v":"01139900025400Прочая закупка товаров, работ и услуг для обеспечения государственных (муниципальных) нужд"}]
["Проведение Всероссийской сельскохозяйственной переписи в 2016 году за счет средств федерального бюджета","601","0113","9900053910",null,{"$f":"F107","v":0},{"$f":"G107","v":0}]
["Прочая закупка товаров, работ и услуг для обеспечения государственных (муниципальных) нужд","601","0113","9900053910","244",{"$f":"SUMIF(свод19!$N$15:$N$1600,B107&C107&D107&A107,свод19!$I$15:$I$1600)*1000","v":0},{"$f":"SUMIF(свод20!$N$15:$N$1600,B107&C107&D107&A107,свод20!$I$15:$I$1600)*1000","v":0},{"$f":"C107&D107&A107","v":"01139900053910Прочая закупка товаров, работ и услуг для обеспечения государственных (муниципальных) нужд"}]
["Государственная регистрация актов гражданского состояния за счет средств федерального бюджета","601","0113","9900059300",null,{"$f":"SUM(F109:F112)","v":1770600},{"$f":"SUM(G109:G112)","v":1829200}]
["Фонд оплаты труда государственных (муниципальных) органов и взносы по обязательному социальному страхованию","601","0113","9900059300","121",{"$f":"SUMIF(свод19!$N$15:$N$1600,B109&C109&D109&A109,свод19!$I$15:$I$1600)*1000","v":691200},{"$f":"SUMIF(свод20!$N$15:$N$1600,B109&C109&D109&A109,свод20!$I$15:$I$1600)*1000","v":739800},{"$f":"C109&D109&A109","v":"01139900059300Фонд оплаты труда государственных (муниципальных) органов и взносы по обязательному социальному страхованию"}]
["Иные выплаты персоналу государственных (муниципальных) органов, за исключением фонда оплаты труда","601","0113","9900059300","122",{"$f":"SUMIF(свод19!$N$15:$N$1600,B110&C110&D110&A110,свод19!$I$15:$I$1600)*1000","v":18000},{"$f":"SUMIF(свод20!$N$15:$N$1600,B110&C110&D110&A110,свод20!$I$15:$I$1600)*1000","v":18000},"01139900059300Иные выплаты персоналу государственных (муниципальных) органов, за исключением фонда оплаты труда"]
["Взносы по обязательному социальному страхованию на выплату денежного содержания и иные выплаты работникам государственных (муниципальных) органов","601","0113","9900059300","129",{"$f":"SUMIF(свод19!$N$15:$N$1600,B111&C111&D111&A111,свод19!$I$15:$I$1600)*1000","v":213000},{"$f":"SUMIF(свод20!$N$15:$N$1600,B111&C111&D111&A111,свод20!$I$15:$I$1600)*1000","v":223000},"01139900059300Взносы по обязательному социальному страхованию на выплату денежного содержания и иные выплаты работникам государственных (муниципальных) органов"]
["Прочая закупка товаров, работ и услуг для обеспечения государственных (муниципальных) нужд","601","0113","9900059300","244",{"$f":"SUMIF(свод19!$N$15:$N$1600,B112&C112&D112&A112,свод19!$I$15:$I$1600)*1000","v":848400.00000000012},{"$f":"SUMIF(свод20!$N$15:$N$1600,B112&C112&D112&A112,свод20!$I$15:$I$1600)*1000","v":848400.00000000012},"01139900059300Прочая закупка товаров, работ и услуг для обеспечения государственных (муниципальных) нужд"]
["Обеспечение деятельности подведомственных учреждений","601","0113","9900092990",null,{"$f":"SUM(F114:F117)","v":0},{"$f":"SUM(G114:G117)","v":0}]
["Иные выплаты, за исключением фонда оплаты труда казенных учреждений, лицам, привлекаемым согласно законодательству для выполнения отдельных полномочий","601","0113","9900092990","113",{"$f":"SUMIF(свод19!$N$15:$N$1600,B114&C114&D114&A114,свод19!$I$15:$I$1600)*1000","v":0},{"$f":"SUMIF(свод20!$N$15:$N$1600,B114&C114&D114&A114,свод20!$I$15:$I$1600)*1000","v":0},{"$f":"C114&D114&A114","v":"01139900092990Иные выплаты, за исключением фонда оплаты труда казенных учреждений, лицам, привлекаемым согласно законодательству для выполнения отдельных полномочий"}]
["Прочая закупка товаров, работ и услуг для обеспечения государственных (муниципальных) нужд","601","0113","9900092990","244",{"$f":"SUMIF(свод19!$N$15:$N$1600,B115&C115&D115&A115,свод19!$I$15:$I$1600)*1000","v":0},{"$f":"SUMIF(свод20!$N$15:$N$1600,B115&C115&D115&A115,свод20!$I$15:$I$1600)*1000","v":0},"01139900092990Прочая закупка товаров, работ и услуг для обеспечения государственных (муниципальных) нужд"]
["Исполнение судебных актов Российской Федерации и мировых соглашений по возмещению вреда, причиненного в результате незаконных действий (бездействия) органов государственной власти (государственных органов), органов местного самоуправления либо должностных лиц этих органов, а также в результате деятельности казенных учреждений","601","0113","9900092990","831",0,0,"01139900092990Исполнение судебных актов Российской Федерации и мировых соглашений по возмещению вреда, причиненного в результате незаконных действий (бездействия) органов государственной власти (государственных органов), органов местного самоуправления либо должностных лиц этих органов, а также в результате деятельности казенных учреждений"]
["Уплата прочих налогов, сборов и иных платежей","601","0113","9900092990","852",{"$f":"SUMIF(свод19!$N$15:$N$1600,B117&C117&D117&A117,свод19!$I$15:$I$1600)*1000","v":0},{"$f":"SUMIF(свод20!$N$15:$N$1600,B117&C117&D117&A117,свод20!$I$15:$I$1600)*1000","v":0},"01139900092990Уплата прочих налогов, сборов и иных платежей"]
["НАЦИОНАЛЬНАЯ БЕЗОПАСНОСТЬ И ПРАВООХРАНИТЕЛЬНАЯ ДЕЯТЕЛЬНОСТЬ","601","0300",null,null,{"$f":"F119+F132","v":2079400},{"$f":"G119+G132","v":2158100}]
["Защита населения и территории от чрезвычайных ситуаций природного и техногенного характера, гражданская оборона","601","0309",null,null,{"$f":"F120","v":1558100},1636800]
["Муниципальная программа «Защита населения и территорий от чрезвычайных ситуаций, обеспечение пожарной безопасности и безопасности людей на водных объектах в Кукморском муниципальном районе Республики Татарстан на 2018 – 2020 годы»","601","0309","0700000000",null,1558100,1636800]
["Подпрограмма «Снижение рисков и смягчение последствий чрезвычайных ситуаций природного и техногенного характера в Кукморском муниципальном районе Республики Татарстан на 2018 – 2020 годы»","601","0309","0720000000",null,1558100,1636800]
["Основное мероприятие \"Повышение эффективности управления в области гражданской обороны, предупреждения и ликвидации чрезвычайных ситуаций\"","601","0309","0720100000",null,{"$f":"F123+F125","v":1558100},{"$f":"G123+G125","v":1636800}]
["Мероприятия по предупреждению и ликвидации последствий чрезвычайных ситуаций и стихийных бедствий","601","0309","0720107420",null,{"$f":"F124","v":100000},{"$f":"G124","v":100000}]
["Прочая закупка товаров, работ и услуг для обеспечения государственных (муниципальных) нужд","601","0309","0720107420","244",{"$f":"SUMIF(свод19!$N$15:$N$1600,B124&C124&D124&A124,свод19!$I$15:$I$1600)*1000","v":100000},{"$f":"SUMIF(свод20!$N$15:$N$1600,B124&C124&D124&A124,свод20!$I$15:$I$1600)*1000","v":100000},{"$f":"C124&D124&A124","v":"03090720107420Прочая закупка товаров, работ и услуг для обеспечения государственных (муниципальных) нужд"}]
["Управление организацией и проведением мероприятий в области гражданской обороны и защиты в чрезвычайных ситуациях","601","0309","0720122670",null,{"$f":"SUM(F126:F131)","v":1458100},{"$f":"SUM(G126:G131)","v":1536800}]
["Фонд оплаты труда казенных учреждений и взносы по обязательному социальному страхованию","601","0309","0720122670","111",{"$f":"SUMIF(свод19!$N$15:$N$1600,B126&C126&D126&A126,свод19!$I$15:$I$1600)*1000","v":933400},{"$f":"SUMIF(свод20!$N$15:$N$1600,B126&C126&D126&A126,свод20!$I$15:$I$1600)*1000","v":992600},{"$f":"C126&D126&A126","v":"03090720122670Фонд оплаты труда казенных учреждений и взносы по обязательному социальному страхованию"}]
["Взносы по обязательному социальному страхованию на выплаты по оплате труда работников и иные выплаты работникам учреждений","601","0309","0720122670","119",{"$f":"SUMIF(свод19!$N$15:$N$1600,B127&C127&D127&A127,свод19!$I$15:$I$1600)*1000","v":280300},{"$f":"SUMIF(свод20!$N$15:$N$1600,B127&C127&D127&A127,свод20!$I$15:$I$1600)*1000","v":299800},"03090720122670Взносы по обязательному социальному страхованию на выплаты по оплате труда работников и иные выплаты работникам учреждений"]
["Прочая закупка товаров, работ и услуг для обеспечения государственных (муниципальных) нужд","601","0309","0720122670","244",{"$f":"SUMIF(свод19!$N$15:$N$1600,B128&C128&D128&A128,свод19!$I$15:$I$1600)*1000","v":244400.00000000009},{"$f":"SUMIF(свод20!$N$15:$N$1600,B128&C128&D128&A128,свод20!$I$15:$I$1600)*1000","v":244400.00000000009},"03090720122670Прочая закупка товаров, работ и услуг для обеспечения государственных (муниципальных) нужд"]
["Уплата налога на имущество организаций и земельного налога","601","0309","0720122670","851",{"$f":"SUMIF(свод19!$N$15:$N$1600,B129&C129&D129&A129,свод19!$I$15:$I$1600)*1000","v":0},{"$f":"SUMIF(свод20!$N$15:$N$1600,B129&C129&D129&A129,свод20!$I$15:$I$1600)*1000","v":0},"03090720122670Уплата налога на имущество организаций и земельного налога"]
["Уплата прочих налогов, сборов и иных платежей","601","0309","0720122670","852",{"$f":"SUMIF(свод19!$N$15:$N$1600,B130&C130&D130&A130,свод19!$I$15:$I$1600)*1000","v":0},{"$f":"SUMIF(свод20!$N$15:$N$1600,B130&C130&D130&A130,свод20!$I$15:$I$1600)*1000","v":0},"03090720122670Уплата прочих налогов, сборов и иных платежей"]
["Уплата иных платежей","601","0309","0720122670","853",{"$f":"SUMIF(свод19!$N$15:$N$1600,B131&C131&D131&A131,свод19!$I$15:$I$1600)*1000","v":0},{"$f":"SUMIF(свод20!$N$15:$N$1600,B131&C131&D131&A131,свод20!$I$15:$I$1600)*1000","v":0},"03090720122670Уплата иных платежей"]
["Другие вопросы в области национальной безопасности и правоохранительной деятельности","601","0314",null,null,{"$f":"F133","v":521299.99999999994},{"$f":"G133","v":521299.99999999994}]
["Муниципальная программа «Обеспечение общественного порядка и противодействие преступности в Кукморском муниципальном районе на 2018 - 2020 годы\"","601","0314","0600000000",null,{"$f":"F134","v":521299.99999999994},521299.99999999994]
["Подпрограмма \"Организация деятельности по профилактике правонарушений и преступлений в Республике Татарстан на 2014 – 2020 годы\"","601","0314","0610000000",null,521299.99999999994,521299.99999999994]
["Основное мероприятие \"Совершенствование деятельности по профилактике правонарушений и преступлений\"","601","0314","0610100000",null,521299.99999999994,521299.99999999994]
["Реализация программных мероприятий","601","0314","0610110990",null,{"$f":"SUM(F137:F139)","v":521299.99999999994},{"$f":"SUM(G137:G139)","v":521299.99999999994}]
["Фонд оплаты труда казенных учреждений и взносы по обязательному социальному страхованию","601","0314","0610110990","111",{"$f":"SUMIF(свод19!$N$15:$N$1600,B137&C137&D137&A137,свод19!$I$15:$I$1600)*1000","v":334000},{"$f":"SUMIF(свод20!$N$15:$N$1600,B137&C137&D137&A137,свод20!$I$15:$I$1600)*1000","v":334000},{"$f":"C137&D137&A137","v":"03140610110990Фонд оплаты труда казенных учреждений и взносы по обязательному социальному страхованию"}]
["Взносы по обязательному социальному страхованию на выплаты по оплате труда работников и иные выплаты работникам учреждений","601","0314","0610110990","119",{"$f":"SUMIF(свод19!$N$15:$N$1600,B138&C138&D138&A138,свод19!$I$15:$I$1600)*1000","v":101000},{"$f":"SUMIF(свод20!$N$15:$N$1600,B138&C138&D138&A138,свод20!$I$15:$I$1600)*1000","v":101000},{"$f":"C138&D138&A138","v":"03140610110990Взносы по обязательному социальному страхованию на выплаты по оплате труда работников и иные выплаты работникам учреждений"}]
["Прочая закупка товаров, работ и услуг для обеспечения государственных (муниципальных) нужд","601","0314","0610110990","244",{"$f":"SUMIF(свод19!$N$15:$N$1600,B139&C139&D139&A139,свод19!$I$15:$I$1600)*1000","v":86299.999999999956},{"$f":"SUMIF(свод20!$N$15:$N$1600,B139&C139&D139&A139,свод20!$I$15:$I$1600)*1000","v":86299.999999999956},"03140610110990Прочая закупка товаров, работ и услуг для обеспечения государственных (муниципальных) нужд"]
["НАЦИОНАЛЬНАЯ ЭКОНОМИКА","601","0400",null,null,{"$f":"F141+F150","v":30030000},{"$f":"G141+G150","v":31230000}]
["Сельское хозяйство и рыболовство","601","0405",null,null,{"$f":"F142+F146","v":2012800.0000000002},{"$f":"G142+G146","v":2012800.0000000002}]
["Программа по реализации государственной национальной политики в Кукморском муниципальном районе на 2018-2020 годы","601","0405","2000000000",null,{"$f":"F143","v":0},0]
["Основное мероприятие «Реализация государственной национальной политики в Республике Татарстан, цивилизованное развитие представителей народов, проживающих на территории Республики Татарстан, сохранение межэтнического и межконфессионального мира и согласия, упрочение общероссийской гражданской идентичности (российской нации), успешная социокультурная адаптация и интеграция мигрантов»","601","0405","2000100000",null,0,0]
["Реализация программных мероприятий200","601","0405","2000110990",null,0,0]
["Прочая закупка товаров, работ и услуг для обеспечения государственных (муниципальных) нужд","601","0405","2000110990","244",{"$f":"SUMIF(свод19!$N$15:$N$1600,B145&C145&D145&A145,свод19!$I$15:$I$1600)*1000","v":0},{"$f":"SUMIF(свод20!$N$15:$N$1600,B145&C145&D145&A145,свод20!$I$15:$I$1600)*1000","v":0},{"$f":"C145&D145&A145","v":"04052000110990Прочая закупка товаров, работ и услуг для обеспечения государственных (муниципальных) нужд"}]
["Государственная программа \"Система химической и биологической безопасности Республики Татарстан на 2018 – 2020 годы\"","601","0405","2800000000",null,{"$f":"F147","v":2012800.0000000002},{"$f":"G147","v":2012800.0000000002}]
["Основное мероприятие \"Предупреждение болезней животных и защита населения от болезней общих для человека и животных\"","601","0405","2800100000",null,{"$f":"F148","v":2012800.0000000002},2012800.0000000002]
["Реализация государственных полномочий в сфере организации проведения мероприятий по предупреждению и ликвидации болезней животных, их лечению, отлову и содержанию безнадзорных животных, защите населения от болезней, общих для человека и животных","601","0405","2800125360",null,2012800.0000000002,2012800.0000000002]
["Прочая закупка товаров, работ и услуг для обеспечения государственных (муниципальных) нужд","601","0405","2800125360","244",{"$f":"SUMIF(свод19!$N$15:$N$1600,B149&C149&D149&A149,свод19!$I$15:$I$1600)*1000","v":2012800.0000000002},{"$f":"SUMIF(свод20!$N$15:$N$1600,B149&C149&D149&A149,свод20!$I$15:$I$1600)*1000","v":2012800.0000000002},{"$f":"C149&D149&A149","v":"04052800125360Прочая закупка товаров, работ и услуг для обеспечения государственных (муниципальных) нужд"}]
["Дорожное хозяйство (дорожные фонды)","601","0409",null,null,{"$f":"F151+F154","v":28017200},{"$f":"G151+G154","v":29217200}]
["Муниципальный дорожный фонд","601","0409","Д100000000",null,{"$f":"F152","v":24300000},25500000]
["Строительство, реконструкция и ремонт (текущий и капитальный) автомобильных дорог за счет муниципального Дорожного фонда","601","0409","Д100003650",null,24300000,25500000]
["Прочая закупка товаров, работ и услуг для обеспечения государственных (муниципальных) нужд","601","0409","Д100003650","244",{"$f":"SUMIF(свод19!$N$15:$N$1600,B153&C153&D153&A153,свод19!$I$15:$I$1600)*1000","v":24300000},{"$f":"SUMIF(свод20!$N$15:$N$1600,B153&C153&D153&A153,свод20!$I$15:$I$1600)*1000","v":25500000},{"$f":"C153&D153&A153","v":"0409Д100003650Прочая закупка товаров, работ и услуг для обеспечения государственных (муниципальных) нужд"}]
["Муниципальная программа «Обеспечение качественным жильем и услугами жилищно-коммунального хозяйства населения, благоустройства территории Кукморского муниципального района Республики Татарстан на 2018 - 2020 годы»","601","0409","0400000000",null,3717200,3717200]
["Подпрограмма «Благоустройство территории Кукморского муниципального района на 2018 – 2020 годы»","601","0409","0490200000",null,3717200,3717200]
["Строительство, реконструкция и ремонт (текущий и капитальный) автомобильных дорог за счет муниципального Дорожного фонда","601","0409","0490278020",null,3717200,3717200]
["Прочая закупка товаров, работ и услуг для обеспечения государственных (муниципальных) нужд","601","0409","0490278020","244",{"$f":"SUMIF(свод19!$N$15:$N$1600,B157&C157&D157&A157,свод19!$I$15:$I$1600)*1000","v":3717200},{"$f":"SUMIF(свод20!$N$15:$N$1600,B157&C157&D157&A157,свод20!$I$15:$I$1600)*1000","v":3717200},{"$f":"C157&D157&A157","v":"04090490278020Прочая закупка товаров, работ и услуг для обеспечения государственных (муниципальных) нужд"}]
["ЖИЛИЩНО-КОММУНАЛЬНОЕ ХОЗЯЙСТВО","601","0500",null,null,{"$f":"F159+F175","v":22919580},{"$f":"G159+G175","v":23470720}]
["Жилищное хозяйство","601","0501",null,null,{"$f":"F160","v":20264580},{"$f":"G160","v":20815720}]
["Муниципальная программа «Обеспечение качественным жильем и услугами жилищно-коммунального хозяйства населения, благоустройства территории Кукморского муниципального района Республики Татарстан на 2018 - 2020 годы»","601","0501","0400000000",null,{"$f":"F161+F167+F171","v":20264580},{"$f":"G161+G167+G171","v":20815720}]
["Подпрограмма \"Реализация мероприятий Республиканской адресной программы по переселению граждан из аварийного жилищного фонда в 2014 – 2020 годах\"","601","0501","0440000000",null,{"$f":"F162","v":0},{"$f":"G162","v":0}]
["Основное мероприятие \"Переселение граждан из жилищного фонда, признанного аварийным и непригодным для проживания; снос или реконструкция многоквартирных домов, признанных аварийными и подлежащими сносу или реконструкции\"","601","0501","0440100000",null,{"$f":"F163+F165","v":0},{"$f":"G163+G165","v":0}]
["Обеспечение мероприятий по переселению граждан из аварийного жилищного фонда за счет средств Фонда содействия реформированию жилищно-коммунального хозяйства","601","0501","0440195020",null,{"$f":"F164","v":0},{"$f":"G164","v":0}]
["Иные выплаты населению","601","0501","0440195020","360",{"$f":"SUMIF(свод19!$N$15:$N$1600,B164&C164&D164&A164,свод19!$I$15:$I$1600)*1000","v":0},{"$f":"SUMIF(свод20!$N$15:$N$1600,B164&C164&D164&A164,свод20!$I$15:$I$1600)*1000","v":0},{"$f":"C164&D164&A164","v":"05010440195020Иные выплаты населению"}]
["Обеспечение мероприятий по переселению граждан из аварийного жилищного фонда","601","0501","0440196020",null,{"$f":"F166","v":0},{"$f":"G166","v":0}]
["Иные выплаты населению","601","0501","0440196020","360",{"$f":"SUMIF(свод19!$N$15:$N$1600,B166&C166&D166&A166,свод19!$I$15:$I$1600)*1000","v":0},{"$f":"SUMIF(свод20!$N$15:$N$1600,B166&C166&D166&A166,свод20!$I$15:$I$1600)*1000","v":0},{"$f":"C166&D166&A166","v":"05010440196020Иные выплаты населению"}]
["Подпрограмма «Реализация мероприятий муниципальной программы капитального ремонта общего имущества в многоквартирных домах, расположенных на территории Кукморского муниципального района Республики Татарстан в 2018 – 2020 годах»","601","0501","0450000000",null,{"$f":"F168","v":4603090},{"$f":"G168","v":4603090}]
["Основное мероприятие \"Организация своевременного проведения капитального ремонта общего имущества в многоквартирных домах\"","601","0501","0450100000",null,{"$f":"F169","v":4603090},4603090]
["Обеспечение мероприятий по капитальному ремонту многоквартирных домов и переселению граждан из аварийного жилищного фонда за счет средств бюджета Республики Татарстан и бюджета Кукморского муниципального района","601","0501","0450196010",null,4603090,4603090]
["Субсидии некоммерческим организациям (за исключением государственных (муниципальных) учреждений)","601","0501","0450196010","630",{"$f":"SUMIF(свод19!$N$15:$N$1600,B170&C170&D170&A170,свод19!$I$15:$I$1600)*1000","v":4603090},{"$f":"SUMIF(свод20!$N$15:$N$1600,B170&C170&D170&A170,свод20!$I$15:$I$1600)*1000","v":4603090},{"$f":"C170&D170&A170","v":"05010450196010Субсидии некоммерческим организациям (за исключением государственных (муниципальных) учреждений)"}]
["Подпрограмма «Реализация муниципальной политики в сфере архитектуры, градо-строительства, строительства, промышленности строительных материалов, в жилищной сфере и коммунальном хозяйстве на 2018 – 2020 годы»","601","0501","0480000000",null,{"$f":"F172","v":15661490},{"$f":"G172","v":16212630.000000002}]
["Основное мероприятие \"Другие мероприятия в области жилищно-коммунального хозяйства \"","601","0501","0480400000",null,{"$f":"F173","v":15661490},16212630.000000002]
["Мероприятия в области жилищно-коммунального хозяйства","601","0501","0480476040",null,15661490,16212630.000000002]
["Прочая закупка товаров, работ и услуг для обеспечения государственных (муниципальных) нужд","601","0501","0480476040","244",{"$f":"SUMIF(свод19!$N$15:$N$1600,B174&C174&D174&A174,свод19!$I$15:$I$1600)*1000","v":15661490},{"$f":"SUMIF(свод20!$N$15:$N$1600,B174&C174&D174&A174,свод20!$I$15:$I$1600)*1000","v":16212630.000000002},{"$f":"C174&D174&A174","v":"05010480476040Прочая закупка товаров, работ и услуг для обеспечения государственных (муниципальных) нужд"}]
["Жилищно-коммунальное хозяйство","601","0503",null,null,{"$f":"F180+F176","v":2655000},{"$f":"G180+G176","v":2655000}]
["Муниципальная программа «Обеспечение качественным жильем и услугами жилищно-коммунального хозяйства населения, благоустройства территории Кукморского муниципального района Республики Татарстан на 2018 - 2020 годы»","601","0503","0400000000",null,{"$f":"F177","v":1155000},1155000]
["Подпрограмма «Благоустройство территории Кукморского муниципального района на 2018 – 2020 годы»","601","0503","0490200000",null,1155000,1155000]
["Организация и содержаение мест захоронения","601","0503","0490278040",null,1155000,1155000]
["Прочая закупка товаров, работ и услуг для обеспечения государственных (муниципальных) нужд","601","0503","0490278040","244",{"$f":"SUMIF(свод19!$N$15:$N$1600,B179&C179&D179&A179,свод19!$I$15:$I$1600)*1000","v":1155000},{"$f":"SUMIF(свод20!$N$15:$N$1600,B179&C179&D179&A179,свод20!$I$15:$I$1600)*1000","v":1155000},{"$f":"C179&D179&A179","v":"05030490278040Прочая закупка товаров, работ и услуг для обеспечения государственных (муниципальных) нужд"}]
["Муниципальная программа «Обеспечение общественного порядка и противодействие преступности в Кукморском муниципальном районе на 2018 - 2020 годы\"","601","0503","0600000000",null,{"$f":"F181","v":1500000},1500000]
["Подпрограмма «Повышение безопасности дорожного движения в Кукморском муниципальном районе на 2018-2020 годы»","601","0503","0620100000",null,1500000,1500000]
["Реализация программных мероприятий062","601","0503","0620178020",null,{"$f":"F183","v":1500000},{"$f":"G183","v":1500000}]
["Прочая закупка товаров, работ и услуг для обеспечения государственных (муниципальных) нужд","601","0503","0620178020","244",{"$f":"SUMIF(свод19!$N$15:$N$1600,B183&C183&D183&A183,свод19!$I$15:$I$1600)*1000","v":1500000},{"$f":"SUMIF(свод20!$N$15:$N$1600,B183&C183&D183&A183,свод20!$I$15:$I$1600)*1000","v":1500000},{"$f":"C183&D183&A183","v":"05030620178020Прочая закупка товаров, работ и услуг для обеспечения государственных (муниципальных) нужд"}]
["ОБРАЗОВАНИЕ","601","0700",null,null,{"$f":"F185","v":0},{"$f":"G185","v":0}]
["Другие вопросы в области образования","601","0709",null,null,{"$f":"F186","v":0},0]
["Муниципальная программа «Развитие образования Кукморского муниципального района Республики Татарстан на 2018 – 2020 годы»","601","0709","0200000000",null,0,0]
["Подпрограмма «Развитие системы оценки качества образования на 2018 – 2020 годы»","601","0709","0250000000",null,0,0]
["Основное мероприятие \"Содержание прочих учреждений образования\"","601","0709","0250200000",null,0,0]
["Учебно-методические кабинеты, централизованные бухгалтерии, группы хозяйственного обслуживания, учебные фильмотеки, межшкольные учебно-производственные комбинаты, логопедические пункты","601","0709","0250242520",null,0,0]
["Уплата налога на имущество организаций и земельного налога","601","0709","0250242520","851",{"$f":"SUMIF(свод19!$N$15:$N$1600,B190&C190&D190&A190,свод19!$I$15:$I$1600)*1000","v":0},{"$f":"SUMIF(свод20!$N$15:$N$1600,B190&C190&D190&A190,свод20!$I$15:$I$1600)*1000","v":0},{"$f":"C190&D190&A190","v":"07090250242520Уплата налога на имущество организаций и земельного налога"}]
["ЗДРАВООХРАНЕНИЕ","601","0900",null,null,{"$f":"F192","v":779300},{"$f":"G192","v":808900}]
["Санитарно-эпидемиологическое благополучие","601","0907",null,null,{"$f":"F193","v":779300},808900]
["Муниципальная программа «Развитие здравоохранения Кукморского муниципального района Республики Татарстан на 2018-2020 годы»","601","0907","0100000000",null,779300,808900]
["Подпрограмма «Профилактика заболеваний и формирование здорового образа жизни. Развитие первичной медико-санитарной помощи»","601","0907","0110000000",null,779300,808900]
["Основное мероприятие \"Профилактика инфекционных заболеваний, включая иммунопрофилактику\"","601","0907","0110200000",null,779300,808900]
["Реализация государственных полномочий по организации осуществления мероприятий по проведению дезинфекции, дезинсекции и дератизации, санитарно-противоэпидемических (профилактических) мероприятий, проводимых с применением лабораторных методов исследования, в очагах инфекционных заболеваний, а также на территориях и в помещениях, где имеются и сохраняются условия для возникновения или распространения инфекционных заболеваний","601","0907","0110202110",null,779300,808900]
["Прочая закупка товаров, работ и услуг для обеспечения государственных (муниципальных) нужд","601","0907","0110202110","244",{"$f":"SUMIF(свод19!$N$15:$N$1600,B197&C197&D197&A197,свод19!$I$15:$I$1600)*1000","v":779300},{"$f":"SUMIF(свод20!$N$15:$N$1600,B197&C197&D197&A197,свод20!$I$15:$I$1600)*1000","v":808900},{"$f":"C197&D197&A197","v":"09070110202110Прочая закупка товаров, работ и услуг для обеспечения государственных (муниципальных) нужд"}]
["СОЦИАЛЬНАЯ ПОЛИТИКА","601","1000",null,null,{"$f":"F199","v":643400},{"$f":"G199","v":643400}]
["Социальное обеспечение населения","601","1003",null,null,{"$f":"F200","v":643400},643400]
["Муниципальная программа «Социальная поддержка граждан Кукморского муниципального района Республики Татарстан» на 2018 – 2020 годы","601","1003","0300000000",null,643400,643400]
["Подпрограмма «Социальные выплаты» на 2018 – 2020 годы","601","1003","0310000000",null,643400,643400]
["Мероприятия в области социальной политики","601","1003","0310105410",null,643400,643400]
["Прочая закупка товаров, работ и услуг для обеспечения государственных (муниципальных) нужд","601","1003","0310105410","244",{"$f":"SUMIF(свод19!$N$15:$N$1600,B203&C203&D203&A203,свод19!$I$15:$I$1600)*1000","v":643400},{"$f":"SUMIF(свод20!$N$15:$N$1600,B203&C203&D203&A203,свод20!$I$15:$I$1600)*1000","v":643400},{"$f":"C203&D203&A203","v":"10030310105410Прочая закупка товаров, работ и услуг для обеспечения государственных (муниципальных) нужд"}]
["Реализация мероприятий подпрограммы \"Устойчивое развитие сельских территорий\" за счет средств Республики Татарстан","601","1003","14701R0180",null,{"$f":"F205","v":0},{"$f":"G205","v":0}]
["Субсидии гражданам на приобретение жилья","601","1003","14701R0180","322",{"$f":"SUMIF(свод19!$N$15:$N$1600,B205&C205&D205&A205,свод19!$I$15:$I$1600)*1000","v":0},{"$f":"SUMIF(свод20!$N$15:$N$1600,B205&C205&D205&A205,свод20!$I$15:$I$1600)*1000","v":0},{"$f":"C205&D205&A205","v":"100314701R0180Субсидии гражданам на приобретение жилья"}]
["Кукморский районный Совет","602",null,null,null,{"$f":"F207","v":7747900.0000000009},{"$f":"G207","v":7747900.0000000009}]
["ОБЩЕГОСУДАРСТВЕННЫЕ ВОПРОСЫ","602","0100",null,null,{"$f":"F208+F213+F228","v":7747900.0000000009},{"$f":"G208+G213+G228","v":7747900.0000000009}]
["Функционирование высшего должностного лица субъекта Российской Федерации и муниципального образования","602","0102",null,null,{"$f":"F209","v":1601000},{"$f":"G209","v":1601000}]
["Непрограммные направления расходов","602","0102","9900000000",null,{"$f":"F210","v":1601000},{"$f":"G210","v":1601000}]
["Глава муниципального района","602","0102","9900002030",null,{"$f":"SUM(F211:F212)","v":1601000},{"$f":"SUM(G211:G212)","v":1601000}]
["Фонд оплаты труда государственных (муниципальных) органов и взносы по обязательному социальному страхованию","602","0102","9900002030","121",{"$f":"SUMIF(свод19!$N$15:$N$1600,B211&C211&D211&A211,свод19!$I$15:$I$1600)*1000","v":1230000},{"$f":"SUMIF(свод20!$N$15:$N$1600,B211&C211&D211&A211,свод20!$I$15:$I$1600)*1000","v":1230000},{"$f":"C211&D211&A211","v":"01029900002030Фонд оплаты труда государственных (муниципальных) органов и взносы по обязательному социальному страхованию"}]
["Взносы по обязательному социальному страхованию на выплату денежного содержания и иные выплаты работникам государственных (муниципальных) органов","602","0102","9900002030","129",{"$f":"SUMIF(свод19!$N$15:$N$1600,B212&C212&D212&A212,свод19!$I$15:$I$1600)*1000","v":371000},{"$f":"SUMIF(свод20!$N$15:$N$1600,B212&C212&D212&A212,свод20!$I$15:$I$1600)*1000","v":371000},"01029900002030Взносы по обязательному социальному страхованию на выплату денежного содержания и иные выплаты работникам государственных (муниципальных) органов"]
["Функционирование законодательных (представительных) органов государственной власти и представительных органов муниципальных образований","602","0103",null,null,{"$f":"F214+F220","v":5970000.0000000009},{"$f":"G214+G220","v":5970000.0000000009}]
["Государственная программа \"Развитие юстиции в Республике Татарстан на 2014 – 2020 годы\"","602","0103","2400000000",null,{"$f":"F215","v":0},0]
["Подпрограмма \"Реализация государственной политики в сфере юстиции в Республике Татарстан на 2014 – 2020 годы\"","602","0103","2410000000",null,0,0]
["Основное мероприятие \"Осуществление политики в сфере юстиции в пределах полномочий Республики Татарстан\"","602","0103","2410100000",null,0,0]
["Субвенции на реализацию полномочий по сбору информации от поселений, входящих в МР, необходимой для ведения регистра муниципальных нормативных правовых актов РТ","602","0103","2410125390",null,{"$f":"SUM(F218:F219)","v":0},{"$f":"SUM(G218:G219)","v":0}]
["Фонд оплаты труда государственных (муниципальных) органов и взносы по обязательному социальному страхованию","602","0103","2410125390","121",{"$f":"SUMIF(свод19!$N$15:$N$1600,B218&C218&D218&A218,свод19!$I$15:$I$1600)*1000","v":0},{"$f":"SUMIF(свод20!$N$15:$N$1600,B218&C218&D218&A218,свод20!$I$15:$I$1600)*1000","v":0},{"$f":"C218&D218&A218","v":"01032410125390Фонд оплаты труда государственных (муниципальных) органов и взносы по обязательному социальному страхованию"}]
["Взносы по обязательному социальному страхованию на выплату денежного содержания и иные выплаты работникам государственных (муниципальных) органов","602","0103","2410125390","129",{"$f":"SUMIF(свод19!$N$15:$N$1600,B219&C219&D219&A219,свод19!$I$15:$I$1600)*1000","v":0},{"$f":"SUMIF(свод20!$N$15:$N$1600,B219&C219&D219&A219,свод20!$I$15:$I$1600)*1000","v":0},"01032410125390Взносы по обязательному социальному страхованию на выплату денежного содержания и иные выплаты работникам государственных (муниципальных) органов"]
["Непрограммные направления расходов","602","0103","9900000000",null,{"$f":"F221","v":5970000.0000000009},{"$f":"G221","v":5970000.0000000009}]
["Центральный аппарат","602","0103","9900002040",null,{"$f":"SUM(F222:F227)","v":5970000.0000000009},{"$f":"SUM(G222:G227)","v":5970000.0000000009}]
["Фонд оплаты труда государственных (муниципальных) органов и взносы по обязательному социальному страхованию","602","0103","9900002040","121",{"$f":"SUMIF(свод19!$N$15:$N$1600,B222&C222&D222&A222,свод19!$I$15:$I$1600)*1000","v":4021000},{"$f":"SUMIF(свод20!$N$15:$N$1600,B222&C222&D222&A222,свод20!$I$15:$I$1600)*1000","v":4021000},{"$f":"C222&D222&A222","v":"01039900002040Фонд оплаты труда государственных (муниципальных) органов и взносы по обязательному социальному страхованию"}]
["Иные выплаты персоналу государственных (муниципальных) органов, за исключением фонда оплаты труда","602","0103","9900002040","122",{"$f":"SUMIF(свод19!$N$15:$N$1600,B223&C223&D223&A223,свод19!$I$15:$I$1600)*1000","v":0},{"$f":"SUMIF(свод20!$N$15:$N$1600,B223&C223&D223&A223,свод20!$I$15:$I$1600)*1000","v":0},"01039900002040Иные выплаты персоналу государственных (муниципальных) органов, за исключением фонда оплаты труда"]
["Взносы по обязательному социальному страхованию на выплату денежного содержания и иные выплаты работникам государственных (муниципальных) органов","602","0103","9900002040","129",{"$f":"SUMIF(свод19!$N$15:$N$1600,B224&C224&D224&A224,свод19!$I$15:$I$1600)*1000","v":963800},{"$f":"SUMIF(свод20!$N$15:$N$1600,B224&C224&D224&A224,свод20!$I$15:$I$1600)*1000","v":963800},"01039900002040Взносы по обязательному социальному страхованию на выплату денежного содержания и иные выплаты работникам государственных (муниципальных) органов"]
["Прочая закупка товаров, работ и услуг для обеспечения государственных (муниципальных) нужд","602","0103","9900002040","244",{"$f":"SUMIF(свод19!$N$15:$N$1600,B225&C225&D225&A225,свод19!$I$15:$I$1600)*1000","v":985200.00000000093},{"$f":"SUMIF(свод20!$N$15:$N$1600,B225&C225&D225&A225,свод20!$I$15:$I$1600)*1000","v":985200.00000000093},"01039900002040Прочая закупка товаров, работ и услуг для обеспечения государственных (муниципальных) нужд"]
["Уплата прочих налогов, сборов и иных платежей","602","0103","9900002040","852",{"$f":"SUMIF(свод19!$N$15:$N$1600,B226&C226&D226&A226,свод19!$I$15:$I$1600)*1000","v":0},{"$f":"SUMIF(свод20!$N$15:$N$1600,B226&C226&D226&A226,свод20!$I$15:$I$1600)*1000","v":0},"01039900002040Уплата прочих налогов, сборов и иных платежей"]
["Уплата иных платежей","602","0103","9900002040","853",{"$f":"SUMIF(свод19!$N$15:$N$1600,B227&C227&D227&A227,свод19!$I$15:$I$1600)*1000","v":0},{"$f":"SUMIF(свод20!$N$15:$N$1600,B227&C227&D227&A227,свод20!$I$15:$I$1600)*1000","v":0},"01039900002040Уплата иных платежей"]
["Другие общегосударственные вопросы","602","0113",null,null,{"$f":"F229","v":176900},{"$f":"G229","v":176900}]
["Непрограммные направления расходов","602","0113","9900000000",null,{"$f":"F230+F232+F234","v":176900},{"$f":"G230+G232+G234","v":176900}]
["Центральный аппарат","602","0113","9900002040",null,{"$f":"F231","v":0},{"$f":"G231","v":0}]
["Уплата прочих налогов, сборов и иных платежей","602","0113","9900002040","852",{"$f":"SUMIF(свод19!$N$15:$N$1600,B231&C231&D231&A231,свод19!$I$15:$I$1600)*1000","v":0},{"$f":"SUMIF(свод20!$N$15:$N$1600,B231&C231&D231&A231,свод20!$I$15:$I$1600)*1000","v":0},{"$f":"C231&D231&A231","v":"01139900002040Уплата прочих налогов, сборов и иных платежей"}]
["Уплата налога на имущество организаций и земельного налога","602","0113","9900002950",null,{"$f":"F233","v":176900},{"$f":"G233","v":176900}]
["Уплата налога на имущество организаций и земельного налога","602","0113","9900002950","851",{"$f":"SUMIF(свод19!$N$15:$N$1600,B233&C233&D233&A233,свод19!$I$15:$I$1600)*1000","v":176900},{"$f":"SUMIF(свод20!$N$15:$N$1600,B233&C233&D233&A233,свод20!$I$15:$I$1600)*1000","v":176900},{"$f":"C233&D233&A233","v":"01139900002950Уплата налога на имущество организаций и земельного налога"}]
["Обеспечение деятельности подведомственных учреждений","602","0113","9900092990",null,{"$f":"SUM(F235)","v":0},{"$f":"SUM(G235)","v":0}]
["Прочая закупка товаров, работ и услуг для обеспечения государственных (муниципальных) нужд","602","0113","9900092990","244",{"$f":"SUMIF(свод19!$N$15:$N$1600,B235&C235&D235&A235,свод19!$I$15:$I$1600)*1000","v":0},{"$f":"SUMIF(свод20!$N$15:$N$1600,B235&C235&D235&A235,свод20!$I$15:$I$1600)*1000","v":0},{"$f":"C235&D235&A235","v":"01139900092990Прочая закупка товаров, работ и услуг для обеспечения государственных (муниципальных) нужд"}]
["Контрольно-счетная палата Кукморского муниципального района","603",null,null,null,{"$f":"F237","v":616000},{"$f":"G237","v":616000}]
["ОБЩЕГОСУДАРСТВЕННЫЕ ВОПРОСЫ","603","0100",null,null,{"$f":"F238+F246","v":616000},{"$f":"G238+G246","v":616000}]
["Обеспечение деятельности финансовых, налоговых и таможенных органов и органов финансового (финансово-бюджетного) надзора","603","0106",null,null,{"$f":"F239","v":616000},{"$f":"G239","v":616000}]
["Непрограммные направления расходов","603","0106","9900000000",null,{"$f":"F240","v":616000},{"$f":"G240","v":616000}]
["Центральный аппарат","603","0106","9900002040",null,{"$f":"SUM(F241:F244)","v":616000},{"$f":"SUM(G241:G244)","v":616000}]
["Фонд оплаты труда государственных (муниципальных) органов и взносы по обязательному социальному страхованию","603","0106","9900002040","121",{"$f":"SUMIF(свод19!$N$15:$N$1600,B241&C241&D241&A241,свод19!$I$15:$I$1600)*1000","v":453000},{"$f":"SUMIF(свод20!$N$15:$N$1600,B241&C241&D241&A241,свод20!$I$15:$I$1600)*1000","v":453000},{"$f":"C241&D241&A241","v":"01069900002040Фонд оплаты труда государственных (муниципальных) органов и взносы по обязательному социальному страхованию"}]
["Иные выплаты персоналу государственных (муниципальных) органов, за исключением фонда оплаты труда","603","0106","9900002040","122",{"$f":"SUMIF(свод19!$N$15:$N$1600,B242&C242&D242&A242,свод19!$I$15:$I$1600)*1000","v":1000},{"$f":"SUMIF(свод20!$N$15:$N$1600,B242&C242&D242&A242,свод20!$I$15:$I$1600)*1000","v":1000},"01069900002040Иные выплаты персоналу государственных (муниципальных) органов, за исключением фонда оплаты труда"]
["Взносы по обязательному социальному страхованию на выплату денежного содержания и иные выплаты работникам государственных (муниципальных) органов","603","0106","9900002040","129",{"$f":"SUMIF(свод19!$N$15:$N$1600,B243&C243&D243&A243,свод19!$I$15:$I$1600)*1000","v":137000},{"$f":"SUMIF(свод20!$N$15:$N$1600,B243&C243&D243&A243,свод20!$I$15:$I$1600)*1000","v":137000},"01069900002040Взносы по обязательному социальному страхованию на выплату денежного содержания и иные выплаты работникам государственных (муниципальных) органов"]
["Прочая закупка товаров, работ и услуг для обеспечения государственных (муниципальных) нужд","603","0106","9900002040","244",{"$f":"SUMIF(свод19!$N$15:$N$1600,B244&C244&D244&A244,свод19!$I$15:$I$1600)*1000","v":25000},{"$f":"SUMIF(свод20!$N$15:$N$1600,B244&C244&D244&A244,свод20!$I$15:$I$1600)*1000","v":25000},"01069900002040Прочая закупка товаров, работ и услуг для обеспечения государственных (муниципальных) нужд"]
["Другие общегосударственные вопросы","603","0113",null,null,{"$f":"F246","v":0},{"$f":"G246","v":0}]
["Непрограммные направления расходов","603","0113","9900000000",null,{"$f":"F247","v":0},0]
["Центральный аппарат","603","0113","9900002040",null,{"$f":"SUM(F248:F249)","v":0},{"$f":"SUM(G248:G249)","v":0}]
["Уплата прочих налогов, сборов и иных платежей","603","0113","9900002040","852",{"$f":"SUMIF(свод19!$N$15:$N$1600,B248&C248&D248&A248,свод19!$I$15:$I$1600)*1000","v":0},{"$f":"SUMIF(свод20!$N$15:$N$1600,B248&C248&D248&A248,свод20!$I$15:$I$1600)*1000","v":0},{"$f":"C248&D248&A248","v":"01139900002040Уплата прочих налогов, сборов и иных платежей"}]
["Уплата иных платежей","603","0113","9900002040","853",{"$f":"SUMIF(свод19!$N$15:$N$1600,B249&C249&D249&A249,свод19!$I$15:$I$1600)*1000","v":0},{"$f":"SUMIF(свод20!$N$15:$N$1600,B249&C249&D249&A249,свод20!$I$15:$I$1600)*1000","v":0},"01139900002040Уплата иных платежей"]
["Финансово-бюджетная палата Кукморского муниципального района","605",null,null,null,{"$f":"F251+F284+F289+F294+F307+F321+F331+F336+F341","v":41196000.000000007},{"$f":"G251+G284+G289+G294+G307+G321+G331+G336+G341","v":42614400}]
["ОБЩЕГОСУДАРСТВЕННЫЕ ВОПРОСЫ","605","0100",null,null,{"$f":"F252+F256++F260+F268","v":4010000},{"$f":"G252+G256++G260+G268","v":4010000}]
["Функционирование высшего должностного лица субъекта Российской Федерации и муниципального образования","605","0102",null,null,{"$f":"F253","v":0},{"$f":"G253","v":0}]
["Непрограммные направления расходов","605","0102","9900000000",null,{"$f":"F254","v":0},0]
["Межбюджетные трансферты, передаваемые бюджетам муниципальных образований для компенсации дополнительных расходов, возникших в результате решений, принятых органами власти другого уровня","605","0102","9900025151",null,0,0]
["Иные межбюджетные трансферты","605","0102","9900025151","540",{"$f":"SUMIF(свод19!$N$15:$N$1600,B255&C255&D255&A255,свод19!$I$15:$I$1600)*1000","v":0},{"$f":"SUMIF(свод20!$N$15:$N$1600,B255&C255&D255&A255,свод20!$I$15:$I$1600)*1000","v":0},{"$f":"C255&D255&A255","v":"01029900025151Иные межбюджетные трансферты"}]
["Функционирование Правительства Российской Федерации, высших исполнительных органов государственной власти субъектов Российской Федерации, местных администраций","605","0104",null,null,{"$f":"F257","v":0},{"$f":"G257","v":0}]
["Непрограммные направления расходов","605","0104","9900000000",null,{"$f":"F258","v":0},0]
["Межбюджетные трансферты, передаваемые бюджетам муниципальных образований для компенсации дополнительных расходов, возникших в результате решений, принятых органами власти другого уровня","605","0104","9900025151",null,0,0]
["Иные межбюджетные трансферты","605","0104","9900025151","540",{"$f":"SUMIF(свод19!$N$15:$N$1600,B259&C259&D259&A259,свод19!$I$15:$I$1600)*1000","v":0},{"$f":"SUMIF(свод20!$N$15:$N$1600,B259&C259&D259&A259,свод20!$I$15:$I$1600)*1000","v":0},{"$f":"C259&D259&A259","v":"01049900025151Иные межбюджетные трансферты"}]
["Обеспечение деятельности финансовых, налоговых и таможенных органов и органов финансового (финансово-бюджетного) надзора","605","0106",null,null,{"$f":"F261","v":4007700},{"$f":"G261","v":4007700}]
["Муниципальная программа «Управление муниципальными финансами Кукморского муниципального района Республики Татарстан на 2018 – 2020 годы»","605","0106","1800000000",null,{"$f":"F262","v":4007700},4007700]
["Основное мероприятие \"Обеспечение долгосрочной сбалансированности и устойчивости бюджетной системы\"","605","0106","1800100000",null,4007700,4007700]
["Центральный аппарат","605","0106","1800102040",null,{"$f":"SUM(F264:F267)","v":4007700},{"$f":"SUM(G264:G267)","v":4007700}]
["Фонд оплаты труда государственных (муниципальных) органов и взносы по обязательному социальному страхованию","605","0106","1800102040","121",{"$f":"SUMIF(свод19!$N$15:$N$1600,B264&C264&D264&A264,свод19!$I$15:$I$1600)*1000","v":2751000},{"$f":"SUMIF(свод20!$N$15:$N$1600,B264&C264&D264&A264,свод20!$I$15:$I$1600)*1000","v":2751000},{"$f":"C264&D264&A264","v":"01061800102040Фонд оплаты труда государственных (муниципальных) органов и взносы по обязательному социальному страхованию"}]
["Иные выплаты персоналу государственных (муниципальных) органов, за исключением фонда оплаты труда","605","0106","1800102040","122",{"$f":"SUMIF(свод19!$N$15:$N$1600,B265&C265&D265&A265,свод19!$I$15:$I$1600)*1000","v":0},{"$f":"SUMIF(свод20!$N$15:$N$1600,B265&C265&D265&A265,свод20!$I$15:$I$1600)*1000","v":0},"01061800102040Иные выплаты персоналу государственных (муниципальных) органов, за исключением фонда оплаты труда"]
["Взносы по обязательному социальному страхованию на выплату денежного содержания и иные выплаты работникам государственных (муниципальных) органов","605","0106","1800102040","129",{"$f":"SUMIF(свод19!$N$15:$N$1600,B266&C266&D266&A266,свод19!$I$15:$I$1600)*1000","v":828700},{"$f":"SUMIF(свод20!$N$15:$N$1600,B266&C266&D266&A266,свод20!$I$15:$I$1600)*1000","v":828700},"01061800102040Взносы по обязательному социальному страхованию на выплату денежного содержания и иные выплаты работникам государственных (муниципальных) органов"]
["Прочая закупка товаров, работ и услуг для обеспечения государственных (муниципальных) нужд","605","0106","1800102040","244",{"$f":"SUMIF(свод19!$N$15:$N$1600,B267&C267&D267&A267,свод19!$I$15:$I$1600)*1000","v":427999.99999999977},{"$f":"SUMIF(свод20!$N$15:$N$1600,B267&C267&D267&A267,свод20!$I$15:$I$1600)*1000","v":427999.99999999977},"01061800102040Прочая закупка товаров, работ и услуг для обеспечения государственных (муниципальных) нужд"]
["Другие общегосударственные вопросы","605","0113",null,null,{"$f":"F269+F274+F278","v":2300},{"$f":"G269+G274+G278","v":2300}]
["Государственная программа \"Экономическое развитие и инновационная экономика Республики Татарстан на 2014 – 2020 годы\"","605","0113","1100000000",null,{"$f":"F270","v":0},{"$f":"G270","v":0}]
["Подпрограмма \"Совершенствование государственной экономической политики в Республике Татарстан на 2014 – 2020 годы\"","605","0113","1110000000",null,{"$f":"F271","v":0},0]
["Основное мероприятие «Повышение эффективности государственного управления, увеличение активности жителей в общественно-политической жизни Республики Татарстан, создание условий для развития инновационной деятельности и промышленного производства»","605","0113","1110100000",null,0,0]
["Мероприятия, направленные на развитие системы территориального общественного самоуправления Республики Татарстан","605","0113","1110125180",null,0,0]
["Субсидии, за исключением субсидий на софинансирование капитальных вложений в объекты государственной (муниципальной) собственности","605","0113","1110125180","521",{"$f":"SUMIF(свод19!$N$15:$N$1600,B273&C273&D273&A273,свод19!$I$15:$I$1600)*1000","v":0},{"$f":"SUMIF(свод20!$N$15:$N$1600,B273&C273&D273&A273,свод20!$I$15:$I$1600)*1000","v":0},{"$f":"C273&D273&A273","v":"01131110125180Субсидии, за исключением субсидий на софинансирование капитальных вложений в объекты государственной (муниципальной) собственности"}]
["Муниципальная программа «Управление муниципальными финансами Кукморского муниципального района Республики Татарстан на 2018 – 2020 годы»","605","0113","1800000000",null,{"$f":"F275","v":0},{"$f":"G275","v":0}]
["Основное мероприятие \"Обеспечение долгосрочной сбалансированности и устойчивости бюджетной системы\"","605","0113","1800100000",null,{"$f":"F276","v":0},0]
["Центральный аппарат","605","0113","1800102040",null,0,0]
["Уплата прочих налогов, сборов и иных платежей","605","0113","1800102040","852",{"$f":"SUMIF(свод19!$N$15:$N$1600,B277&C277&D277&A277,свод19!$I$15:$I$1600)*1000","v":0},{"$f":"SUMIF(свод20!$N$15:$N$1600,B277&C277&D277&A277,свод20!$I$15:$I$1600)*1000","v":0},{"$f":"C277&D277&A277","v":"01131800102040Уплата прочих налогов, сборов и иных платежей"}]
["Непрограммные направления расходов","605","0113","9900000000",null,{"$f":"F282+F279","v":2300},{"$f":"G282+G279","v":2300}]
["Уплата налога на имущество организаций и земельного налога","605","0113","9900002950",null,{"$f":"SUM(F280:F281)","v":2300},{"$f":"SUM(G280:G281)","v":2300}]
["Уплата налога на имущество организаций и земельного налога","605","0113","9900002950","851",{"$f":"SUMIF(свод19!$N$15:$N$1600,B280&C280&D280&A280,свод19!$I$15:$I$1600)*1000","v":0},{"$f":"SUMIF(свод20!$N$15:$N$1600,B280&C280&D280&A280,свод20!$I$15:$I$1600)*1000","v":0},{"$f":"C280&D280&A280","v":"01139900002950Уплата налога на имущество организаций и земельного налога"}]
["Уплата прочих налогов, сборов и иных платежей","605","0113","9900002950","852",{"$f":"SUMIF(свод19!$N$15:$N$1600,B281&C281&D281&A281,свод19!$I$15:$I$1600)*1000","v":2300},{"$f":"SUMIF(свод20!$N$15:$N$1600,B281&C281&D281&A281,свод20!$I$15:$I$1600)*1000","v":2300},"01139900002950Уплата прочих налогов, сборов и иных платежей"]
["Государственная регистрация актов гражданского состояния за счет средств федерального бюджета","605","0113","9900059300",null,{"$f":"F283","v":0},{"$f":"G283","v":0}]
["Субвенции","605","0113","9900059300","530",{"$f":"SUMIF(свод19!$N$15:$N$1600,B283&C283&D283&A283,свод19!$I$15:$I$1600)*1000","v":0},{"$f":"SUMIF(свод20!$N$15:$N$1600,B283&C283&D283&A283,свод20!$I$15:$I$1600)*1000","v":0},{"$f":"C283&D283&A283","v":"01139900059300Субвенции"}]
["НАЦИОНАЛЬНАЯ ОБОРОНА","605","0200",null,null,{"$f":"F285","v":2681699.9999999995},{"$f":"G285","v":2780799.9999999991}]
["Мобилизационная и вневойсковая подготовка","605","0203",null,null,{"$f":"F286","v":2681699.9999999995},2780799.9999999991]
["Непрограммные направления расходов","605","0203","9900000000",null,2681699.9999999995,2780799.9999999991]
["Осуществление первичного воинского учета на территориях, где отсутствуют военные комиссариаты за счет средств федерального бюджета","605","0203","9900051180",null,2681699.9999999995,2780799.9999999991]
["Субвенции","605","0203","9900051180","530",{"$f":"SUMIF(свод19!$N$15:$N$1600,B288&C288&D288&A288,свод19!$I$15:$I$1600)*1000","v":2681699.9999999995},{"$f":"SUMIF(свод20!$N$15:$N$1600,B288&C288&D288&A288,свод20!$I$15:$I$1600)*1000","v":2780799.9999999991},{"$f":"C288&D288&A288","v":"02039900051180Субвенции"}]
["НАЦИОНАЛЬНАЯ БЕЗОПАСНОСТЬ И ПРАВООХРАНИТЕЛЬНАЯ ДЕЯТЕЛЬНОСТЬ","605","0300",null,null,{"$f":"F290","v":0},{"$f":"G290","v":0}]
["Защита населения и территории от чрезвычайных ситуаций природного и техногенного характера, гражданская оборона","605","0309",null,null,{"$f":"F291","v":0},0]
["Непрограммные направления расходов","605","0309","9900000000",null,0,0]
["Межбюджетные трансферты, передаваемые бюджетам муниципальных образований для компенсации дополнительных расходов, возникших в результате решений, принятых органами власти другого уровня","605","0309","9900025151",null,0,0]
["Иные межбюджетные трансферты","605","0309","9900025151","540",{"$f":"SUMIF(свод19!$N$15:$N$1600,B293&C293&D293&A293,свод19!$I$15:$I$1600)*1000","v":0},{"$f":"SUMIF(свод20!$N$15:$N$1600,B293&C293&D293&A293,свод20!$I$15:$I$1600)*1000","v":0},{"$f":"C293&D293&A293","v":"03099900025151Иные межбюджетные трансферты"}]
["НАЦИОНАЛЬНАЯ ЭКОНОМИКА","605","0400",null,null,{"$f":"F295+F299+F303","v":367900},{"$f":"G295+G299+G303","v":367900}]
["Водное хозяйство","605","0406",null,null,{"$f":"F296","v":367900},367900]
["Непрограммные направления расходов","605","0406","9900000000",null,367900,367900]
["Расходы на содержание и ремонт гидротехнических сооружений","605","0406","9900090430",null,367900,367900]
["Прочая закупка товаров, работ и услуг для обеспечения государственных (муниципальных) нужд","605","0406","9900090430","244",{"$f":"SUMIF(свод19!$N$15:$N$1600,B298&C298&D298&A298,свод19!$I$15:$I$1600)*1000","v":367900},{"$f":"SUMIF(свод20!$N$15:$N$1600,B298&C298&D298&A298,свод20!$I$15:$I$1600)*1000","v":367900},{"$f":"C298&D298&A298","v":"04069900090430Прочая закупка товаров, работ и услуг для обеспечения государственных (муниципальных) нужд"}]
["Дорожное хозяйство (дорожные фонды)","605","0409",null,null,{"$f":"F300","v":0},{"$f":"G300","v":0}]
["Непрограммные направления расходов","605","0409","9900000000",null,{"$f":"F301","v":0},0]
["Межбюджетные трансферты, передаваемые бюджетам муниципальных образований для компенсации дополнительных расходов, возникших в результате решений, принятых органами власти другого уровня","605","0409","9900025151",null,0,0]
["Иные межбюджетные трансферты","605","0409","9900025151","540",{"$f":"SUMIF(свод19!$N$15:$N$1600,B302&C302&D302&A302,свод19!$I$15:$I$1600)*1000","v":0},{"$f":"SUMIF(свод20!$N$15:$N$1600,B302&C302&D302&A302,свод20!$I$15:$I$1600)*1000","v":0},{"$f":"C302&D302&A302","v":"04099900025151Иные межбюджетные трансферты"}]
["Другие вопросы в области национальной экономики","605","0412",null,null,{"$f":"F304","v":0},{"$f":"G304","v":0}]
["Непрограммные направления расходов","605","0412","9900000000",null,{"$f":"F305","v":0},0]
["Средства, передаваемые для компенсации дополнительных расходов, возникших в результате решений, принятых органами власти другого уровня","605","0412","9900025150",null,0,0]
["Иные межбюджетные трансферты","605","0412","9900025150","540",{"$f":"SUMIF(свод19!$N$15:$N$1600,B306&C306&D306&A306,свод19!$I$15:$I$1600)*1000","v":0},{"$f":"SUMIF(свод20!$N$15:$N$1600,B306&C306&D306&A306,свод20!$I$15:$I$1600)*1000","v":0},{"$f":"C306&D306&A306","v":"04129900025150Иные межбюджетные трансферты"}]
["ЖИЛИЩНО-КОММУНАЛЬНОЕ ХОЗЯЙСТВО","605","0500",null,null,{"$f":"F308+F312","v":0},{"$f":"G308+G312","v":0}]
["Коммунальное хозяйство","605","0502",null,null,{"$f":"F309","v":0},{"$f":"G309","v":0}]
["Непрограммные направления расходов","605","0502","9900000000",null,{"$f":"F310","v":0},0]
["Межбюджетные трансферты, передаваемые бюджетам муниципальных образований для компенсации дополнительных расходов, возникших в результате решений, принятых органами власти другого уровня","605","0502","9900025151",null,0,0]
["Иные межбюджетные трансферты","605","0502","9900025151","540",{"$f":"SUMIF(свод19!$N$15:$N$1600,B311&C311&D311&A311,свод19!$I$15:$I$1600)*1000","v":0},{"$f":"SUMIF(свод20!$N$15:$N$1600,B311&C311&D311&A311,свод20!$I$15:$I$1600)*1000","v":0},{"$f":"C311&D311&A311","v":"05029900025151Иные межбюджетные трансферты"}]
["Благоустройство","605","0503",null,null,{"$f":"F313+F318","v":0},{"$f":"G313+G318","v":0}]
["Муниципальная программа «Обеспечение качественным жильем и услугами жилищно-коммунального хозяйства населения, благоустройства территории Кукморского муниципального района Республики Татарстан на 2018 - 2020 годы»","605","0503","0400000000",null,{"$f":"F314","v":0},0]
["Подпрограмма «Реализация муниципальной политики в сфере архитектуры, градо-строительства, строительства, промышленности строительных материалов, в жилищной сфере и коммунальном хозяйстве на 2018 – 2020 годы»","605","0503","0480000000",null,0,0]
["Основное мероприятие \"Другие мероприятия в области жилищно-коммунального хозяйства \"","605","0503","0480400000",null,0,0]
["Премирование победителей республиканского конкурса на звание \"Самый благоустроенный населенный пункт Республики Татарстан\"","605","0503","0480414200",null,0,0]
["Иные межбюджетные трансферты","605","0503","0480414200","540",{"$f":"SUMIF(свод19!$N$15:$N$1600,B317&C317&D317&A317,свод19!$I$15:$I$1600)*1000","v":0},{"$f":"SUMIF(свод20!$N$15:$N$1600,B317&C317&D317&A317,свод20!$I$15:$I$1600)*1000","v":0},{"$f":"C317&D317&A317","v":"05030480414200Иные межбюджетные трансферты"}]
["Непрограммные направления расходов","605","0503","9900000000",null,{"$f":"F319","v":0},{"$f":"G319","v":0}]
["Межбюджетные трансферты, передаваемые бюджетам муниципальных образований для компенсации дополнительных расходов, возникших в результате решений, принятых органами власти другого уровня","605","0503","9900025151",null,{"$f":"F320","v":0},{"$f":"G320","v":0}]
["Иные межбюджетные трансферты","605","0503","9900025151","540",{"$f":"SUMIF(свод19!$N$15:$N$1600,B320&C320&D320&A320,свод19!$I$15:$I$1600)*1000","v":0},{"$f":"SUMIF(свод20!$N$15:$N$1600,B320&C320&D320&A320,свод20!$I$15:$I$1600)*1000","v":0},{"$f":"C320&D320&A320","v":"05039900025151Иные межбюджетные трансферты"}]
["ОХРАНА ОКРУЖАЮЩЕЙ СРЕДЫ","605","0600",null,null,{"$f":"F322","v":1528000},{"$f":"G322","v":1528000}]
["Охрана объектов растительного и животного мира и среды их обитания","605","0603",null,null,{"$f":"F323+F328","v":1528000},{"$f":"G323+G328","v":1528000}]
["Муниципальная программа «Охрана окружающей среды, воспроизводство и использование природных ресурсов Кукморского муниципального района Республики Татарстан на 2018 - 2020 годы»","605","0603","0900000000",null,{"$f":"F324","v":1528000},{"$f":"G324","v":1528000}]
["Подпрограмма \"Регулирование качества окружающей среды Республики Татарстан на 2014 – 2020 годы\"","605","0603","0910000000",null,{"$f":"F325","v":1528000},1528000]
["Основное мероприятие \"Обеспечение охраны окружающей среды\"","605","0603","0910100000",null,1528000,1528000]
["Мероприятия по регулированию качества окружающей среды","605","0603","0910119100",null,1528000,1528000]
["Прочая закупка товаров, работ и услуг для обеспечения государственных (муниципальных) нужд","605","0603","0910119100","244",{"$f":"SUMIF(свод19!$N$15:$N$1600,B327&C327&D327&A327,свод19!$I$15:$I$1600)*1000","v":1528000},{"$f":"SUMIF(свод20!$N$15:$N$1600,B327&C327&D327&A327,свод20!$I$15:$I$1600)*1000","v":1528000},{"$f":"C327&D327&A327","v":"06030910119100Прочая закупка товаров, работ и услуг для обеспечения государственных (муниципальных) нужд"}]
["Непрограммные направления расходов","605","0603","9900000000",null,{"$f":"F329","v":0},{"$f":"G329","v":0}]
["Межбюджетные трансферты, передаваемые бюджетам муниципальных образований для компенсации дополнительных расходов, возникших в результате решений, принятых органами власти другого уровня","605","0603","9900025151",null,{"$f":"F330","v":0},{"$f":"G330","v":0}]
["Иные межбюджетные трансферты","605","0603","9900025151","540",{"$f":"SUMIF(свод19!$N$15:$N$1600,B330&C330&D330&A330,свод19!$I$15:$I$1600)*1000","v":0},{"$f":"SUMIF(свод20!$N$15:$N$1600,B330&C330&D330&A330,свод20!$I$15:$I$1600)*1000","v":0},{"$f":"C330&D330&A330","v":"06039900025151Иные межбюджетные трансферты"}]
["КУЛЬТУРА, КИНЕМАТОГРАФИЯ","605","0800",null,null,{"$f":"F332","v":0},{"$f":"G332","v":0}]
["Культура","605","0801",null,null,{"$f":"F333","v":0},0]
["Непрограммные направления расходов","605","0801","9900000000",null,0,0]
["Межбюджетные трансферты, передаваемые бюджетам муниципальных образований для компенсации дополнительных расходов, возникших в результате решений, принятых органами власти другого уровня","605","0801","9900025151",null,0,0]
["Иные межбюджетные трансферты","605","0801","9900025151","540",{"$f":"SUMIF(свод19!$N$15:$N$1600,B335&C335&D335&A335,свод19!$I$15:$I$1600)*1000","v":0},{"$f":"SUMIF(свод20!$N$15:$N$1600,B335&C335&D335&A335,свод20!$I$15:$I$1600)*1000","v":0},{"$f":"C335&D335&A335","v":"08019900025151Иные межбюджетные трансферты"}]
["СОЦИАЛЬНАЯ ПОЛИТИКА","605","1000",null,null,{"$f":"F337","v":0},{"$f":"G337","v":0}]
["Социальное обеспечение населения","605","1003",null,null,{"$f":"F338","v":0},0]
["Непрограммные направления расходов","605","1003","9900000000",null,0,0]
["Межбюджетные трансферты, передаваемые бюджетам муниципальных образований для компенсации дополнительных расходов, возникших в результате решений, принятых органами власти другого уровня","605","1003","9900025151",null,0,0]
["Иные межбюджетные трансферты","605","1003","9900025151","540",{"$f":"SUMIF(свод19!$N$15:$N$1600,B340&C340&D340&A340,свод19!$I$15:$I$1600)*1000","v":0},{"$f":"SUMIF(свод20!$N$15:$N$1600,B340&C340&D340&A340,свод20!$I$15:$I$1600)*1000","v":0},{"$f":"C340&D340&A340","v":"10039900025151Иные межбюджетные трансферты"}]
["МЕЖБЮДЖЕТНЫЕ ТРАНСФЕРТЫ ОБЩЕГО ХАРАКТЕРА БЮДЖЕТАМ СУБЪЕКТОВ РОССИЙСКОЙ ФЕДЕРАЦИИ И МУНИЦИПАЛЬНЫХ ОБРАЗОВАНИЙ","605","1400",null,null,{"$f":"F342+F349+F354","v":32608400.000000007},{"$f":"G342+G349+G354","v":33927700}]
["Дотации на выравнивание бюджетной обеспеченности субъектов Российской Федерации и муниципальных образований","605","1401",null,null,{"$f":"F343","v":31979700.000000007},{"$f":"G343","v":33130100.000000004}]
["Муниципальная программа «Управление муниципальными финансами Кукморского муниципального района Республики Татарстан на 2018 – 2020 годы»","605","1401","1800000000",null,{"$f":"F344","v":31979700.000000007},33130100.000000004]
["Основное мероприятие \"Повышение эффективности межбюджетных отношений с местными бюджетами\"","605","1401","1800300000",null,{"$f":"F345+F347","v":31979700.000000007},{"$f":"G345+G347","v":33130100.000000004}]
["Предоставление субсидий бюджетам муниципальных районов на выравнивание бюджетной обеспеченности и предоставление иных межбюджетных трансфертов бюджетам поселений, входящих в состав муниципального района","605","1401","1800380040",null,{"$f":"F346","v":30774300.000000007},{"$f":"G346","v":31926800.000000004}]
["Дотации на выравнивание бюджетной обеспеченности","605","1401","1800380040","511",{"$f":"SUMIF(свод19!$N$15:$N$1600,B346&C346&D346&A346,свод19!$I$15:$I$1600)*1000","v":30774300.000000007},{"$f":"SUMIF(свод20!$N$15:$N$1600,B346&C346&D346&A346,свод20!$I$15:$I$1600)*1000","v":31926800.000000004},{"$f":"C346&D346&A346","v":"14011800380040Дотации на выравнивание бюджетной обеспеченности"}]
["Предоставление субвенций бюджетам муниципальных районов на осуществление государственных полномочий Республики Татарстан по расчету и предоставлению дотаций бюджетам городских, сельских поселений за счет средств бюджета Республики Татарстан","605","1401","1800380060",null,{"$f":"F348","v":1205400.0000000002},{"$f":"G348","v":1203300.0000000002}]
["Дотации на выравнивание бюджетной обеспеченности","605","1401","1800380060","511",{"$f":"SUMIF(свод19!$N$15:$N$1600,B348&C348&D348&A348,свод19!$I$15:$I$1600)*1000","v":1205400.0000000002},{"$f":"SUMIF(свод20!$N$15:$N$1600,B348&C348&D348&A348,свод20!$I$15:$I$1600)*1000","v":1203300.0000000002},{"$f":"C348&D348&A348","v":"14011800380060Дотации на выравнивание бюджетной обеспеченности"}]
["Иные дотации","605","1402",null,null,{"$f":"F350","v":628700},{"$f":"G350","v":797599.99999999988}]
["Муниципальная программа «Управление муниципальными финансами Кукморского муниципального района Республики Татарстан на 2018 – 2020 годы»","605","1402","1800000000",null,{"$f":"F351","v":628700},797599.99999999988]
["Основное мероприятие \"Повышение эффективности межбюджетных отношений с местными бюджетами\"","605","1402","1800300000",null,628700,797599.99999999988]
["Предоставление субсидий бюджетам муниципальных районов на выравнивание бюджетной обеспеченности и предоставление иных межбюджетных трансфертов бюджетам поселений, входящих в состав муниципального района","605","1402","1800380040",null,628700,797599.99999999988]
["Иные дотации","605","1402","1800380040","512",{"$f":"SUMIF(свод19!$N$15:$N$1600,B353&C353&D353&A353,свод19!$I$15:$I$1600)*1000","v":628700},{"$f":"SUMIF(свод20!$N$15:$N$1600,B353&C353&D353&A353,свод20!$I$15:$I$1600)*1000","v":797599.99999999988},{"$f":"C353&D353&A353","v":"14021800380040Иные дотации"}]
["Прочие межбюджетные трансферты общего характера","605","1403",null,null,{"$f":"SUM(F355)","v":0},{"$f":"SUM(G355)","v":0}]
["Непрограммные направления расходов","605","1403","9900000000",null,{"$f":"F356+F358+F360","v":0},{"$f":"G356+G358+G360","v":0}]
["Межбюджетные трансферты, передаваемые бюджетам поселений на решение вопросов местного значения, осуществляемое с привлечением средств самообложения граждан, за счет средств бюджета Республики Татарстан","605","1403","9900025141",null,{"$f":"F357","v":0},{"$f":"G357","v":0}]
["Иные межбюджетные трансферты","605","1403","9900025141","540",{"$f":"SUMIF(свод19!$N$15:$N$1600,B357&C357&D357&A357,свод19!$I$15:$I$1600)*1000","v":0},{"$f":"SUMIF(свод20!$N$15:$N$1600,B357&C357&D357&A357,свод20!$I$15:$I$1600)*1000","v":0},{"$f":"C357&D357&A357","v":"14039900025141Иные межбюджетные трансферты"}]
["Межбюджетные трансферты, передаваемые бюджетам муниципальных образований для компенсации дополнительных расходов, возникших в результате решений, принятых органами власти другого уровня","605","1403","9900025151",null,{"$f":"F359","v":0},{"$f":"G359","v":0}]
["Иные межбюджетные трансферты","605","1403","9900025151","540",{"$f":"SUMIF(свод19!$N$15:$N$1600,B359&C359&D359&A359,свод19!$I$15:$I$1600)*1000","v":0},{"$f":"SUMIF(свод20!$N$15:$N$1600,B359&C359&D359&A359,свод20!$I$15:$I$1600)*1000","v":0},{"$f":"C359&D359&A359","v":"14039900025151Иные межбюджетные трансферты"}]
["Межбюджетные трансферты, передаваемые бюджетам муниципальных образований  на предоставление грантов сельским поселениям Республики Татарстан","605","1403","9900025190",null,{"$f":"F361","v":0},{"$f":"G361","v":0}]
["Иные межбюджетные трансферты","605","1403","9900025190","540",{"$f":"SUMIF(свод19!$N$15:$N$1600,B361&C361&D361&A361,свод19!$I$15:$I$1600)*1000","v":0},{"$f":"SUMIF(свод20!$N$15:$N$1600,B361&C361&D361&A361,свод20!$I$15:$I$1600)*1000","v":0},{"$f":"C361&D361&A361","v":"14039900025190Иные межбюджетные трансферты"}]
["Палата имущественных и земельных отношений Кукморского муниципального района","606",null,null,null,{"$f":"F363+F386","v":1448000},{"$f":"G363+G386","v":1448000}]
["ОБЩЕГОСУДАРСТВЕННЫЕ ВОПРОСЫ","606","0100",null,null,{"$f":"F364","v":1448000},1448000]
["Другие общегосударственные вопросы","606","0113",null,null,{"$f":"F365+F375+F380","v":1448000},{"$f":"G365+G375+G380","v":1448000}]
["Муниципальная программа «Управление муниципальным имуществом Кукморского муниципального района Республики Татарстан на 2018 – 2020 годы»","606","0113","1600000000",null,{"$f":"F366","v":1413000},{"$f":"G366","v":1413000}]
["Основное мероприятие \"Обеспечение эффективного распоряжения и использования государственного имущества и земельных участков\"","606","0113","1600100000",null,{"$f":"F367+F373","v":1413000},{"$f":"G367+G373","v":1413000}]
["Центральный аппарат","606","0113","1600102040",null,{"$f":"SUM(F368:F372)","v":1413000},{"$f":"SUM(G368:G372)","v":1413000}]
["Фонд оплаты труда государственных (муниципальных) органов и взносы по обязательному социальному страхованию","606","0113","1600102040","121",{"$f":"SUMIF(свод19!$N$15:$N$1600,B368&C368&D368&A368,свод19!$I$15:$I$1600)*1000","v":999000},{"$f":"SUMIF(свод20!$N$15:$N$1600,B368&C368&D368&A368,свод20!$I$15:$I$1600)*1000","v":999000},{"$f":"C368&D368&A368","v":"01131600102040Фонд оплаты труда государственных (муниципальных) органов и взносы по обязательному социальному страхованию"}]
["Взносы по обязательному социальному страхованию на выплату денежного содержания и иные выплаты работникам государственных (муниципальных) органов","606","0113","1600102040","129",{"$f":"SUMIF(свод19!$N$15:$N$1600,B369&C369&D369&A369,свод19!$I$15:$I$1600)*1000","v":302000},{"$f":"SUMIF(свод20!$N$15:$N$1600,B369&C369&D369&A369,свод20!$I$15:$I$1600)*1000","v":302000},"01131600102040Взносы по обязательному социальному страхованию на выплату денежного содержания и иные выплаты работникам государственных (муниципальных) органов"]
["Прочая закупка товаров, работ и услуг для обеспечения государственных (муниципальных) нужд","606","0113","1600102040","244",{"$f":"SUMIF(свод19!$N$15:$N$1600,B370&C370&D370&A370,свод19!$I$15:$I$1600)*1000","v":112000},{"$f":"SUMIF(свод20!$N$15:$N$1600,B370&C370&D370&A370,свод20!$I$15:$I$1600)*1000","v":112000},"01131600102040Прочая закупка товаров, работ и услуг для обеспечения государственных (муниципальных) нужд"]
["Уплата прочих налогов, сборов и иных платежей","606","0113","1600102040","852",{"$f":"SUMIF(свод19!$N$15:$N$1600,B371&C371&D371&A371,свод19!$I$15:$I$1600)*1000","v":0},{"$f":"SUMIF(свод20!$N$15:$N$1600,B371&C371&D371&A371,свод20!$I$15:$I$1600)*1000","v":0},"01131600102040Уплата прочих налогов, сборов и иных платежей"]
["Уплата иных платежей","606","0113","1600102040","853",{"$f":"SUMIF(свод19!$N$15:$N$1600,B372&C372&D372&A372,свод19!$I$15:$I$1600)*1000","v":0},{"$f":"SUMIF(свод20!$N$15:$N$1600,B372&C372&D372&A372,свод20!$I$15:$I$1600)*1000","v":0},"01131600102040Уплата иных платежей"]
["Уплата налога на имущество организаций и земельного налога","606","0113","1600102950",null,{"$f":"F374","v":0},{"$f":"G374","v":0}]
["Уплата налога на имущество организаций и земельного налога","606","0113","1600102950","851",{"$f":"SUMIF(свод19!$N$15:$N$1600,B374&C374&D374&A374,свод19!$I$15:$I$1600)*1000","v":0},{"$f":"SUMIF(свод20!$N$15:$N$1600,B374&C374&D374&A374,свод20!$I$15:$I$1600)*1000","v":0},{"$f":"C374&D374&A374","v":"01131600102950Уплата налога на имущество организаций и земельного налога"}]
["Муниципальная программа «Управление муниципальными финансами Кукморского муниципального района Республики Татарстан на 2018 – 2020 годы»","606","0113","1800000000",null,{"$f":"F376","v":0},{"$f":"G376","v":0}]
["Основное мероприятие \"Обеспечение долгосрочной сбалансированности и устойчивости бюджетной системы\"","606","0113","1800100000",null,{"$f":"F377","v":0},0]
["Реализация программных мероприятий","606","0113","1800129900",null,{"$f":"SUM(F378:F379)","v":0},{"$f":"SUM(G378:G379)","v":0}]
["Фонд оплаты труда казенных учреждений и взносы по обязательному социальному страхованию","606","0113","1800129900","111",{"$f":"SUMIF(свод19!$N$15:$N$1600,B378&C378&D378&A378,свод19!$I$15:$I$1600)*1000","v":0},{"$f":"SUMIF(свод20!$N$15:$N$1600,B378&C378&D378&A378,свод20!$I$15:$I$1600)*1000","v":0},{"$f":"C378&D378&A378","v":"01131800129900Фонд оплаты труда казенных учреждений и взносы по обязательному социальному страхованию"}]
["Взносы по обязательному социальному страхованию на выплаты по оплате труда работников и иные выплаты работникам учреждений","606","0113","1800129900","119",{"$f":"SUMIF(свод19!$N$15:$N$1600,B379&C379&D379&A379,свод19!$I$15:$I$1600)*1000","v":0},{"$f":"SUMIF(свод20!$N$15:$N$1600,B379&C379&D379&A379,свод20!$I$15:$I$1600)*1000","v":0},"01131800129900Взносы по обязательному социальному страхованию на выплаты по оплате труда работников и иные выплаты работникам учреждений"]
["Непрограммные направления расходов","606","0113","9900000000",null,{"$f":"F381+F383","v":35000},{"$f":"G381+G383","v":35000}]
["Обеспечение деятельности подведомственных учреждений","606","0113","9900092990",null,{"$f":"F382","v":0},{"$f":"G382","v":0}]
["Прочая закупка товаров, работ и услуг для обеспечения государственных (муниципальных) нужд","606","0113","9900092990","244",{"$f":"SUMIF(свод19!$N$15:$N$1600,B382&C382&D382&A382,свод19!$I$15:$I$1600)*1000","v":0},{"$f":"SUMIF(свод20!$N$15:$N$1600,B382&C382&D382&A382,свод20!$I$15:$I$1600)*1000","v":0},{"$f":"C382&D382&A382","v":"01139900092990Прочая закупка товаров, работ и услуг для обеспечения государственных (муниципальных) нужд"}]
["Уплата налога на имущество организаций и земельного налога","606","0113","9900002950",null,{"$f":"SUM(F384:F385)","v":35000},{"$f":"SUM(G384:G385)","v":35000}]
["Уплата налога на имущество организаций и земельного налога","606","0113","9900002950","851",{"$f":"SUMIF(свод19!$N$15:$N$1600,B384&C384&D384&A384,свод19!$I$15:$I$1600)*1000","v":2000},{"$f":"SUMIF(свод20!$N$15:$N$1600,B384&C384&D384&A384,свод20!$I$15:$I$1600)*1000","v":2000},{"$f":"C384&D384&A384","v":"01139900002950Уплата налога на имущество организаций и земельного налога"}]
["Уплата прочих налогов, сборов и иных платежей","606","0113","9900002950","852",{"$f":"SUMIF(свод19!$N$15:$N$1600,B385&C385&D385&A385,свод19!$I$15:$I$1600)*1000","v":33000},{"$f":"SUMIF(свод20!$N$15:$N$1600,B385&C385&D385&A385,свод20!$I$15:$I$1600)*1000","v":33000},"01139900002950Уплата прочих налогов, сборов и иных платежей"]
["НАЦИОНАЛЬНАЯ ЭКОНОМИКА","606","0400",null,null,{"$f":"F387","v":0},{"$f":"G387","v":0}]
["Другие вопросы в области национальной экономики","606","0412",null,null,{"$f":"F388","v":0},0]
["Муниципальная программа «Управление муниципальным имуществом Кукморского муниципального района Республики Татарстан на 2018 – 2020 годы»","606","0412","1600000000",null,0,0]
["Основное мероприятие \"Обеспечение эффективного распоряжения и использования государственного имущества и земельных участков\"","606","0412","1600100000",null,0,0]
["Мероприятия по землеустройству и землепользованию","606","0412","1600173440",null,0,0]
["Прочая закупка товаров, работ и услуг для обеспечения государственных (муниципальных) нужд","606","0412","1600173440","244",{"$f":"SUMIF(свод19!$N$15:$N$1600,B391&C391&D391&A391,свод19!$I$15:$I$1600)*1000","v":0},{"$f":"SUMIF(свод20!$N$15:$N$1600,B391&C391&D391&A391,свод20!$I$15:$I$1600)*1000","v":0},{"$f":"C391&D391&A391","v":"04121600173440Прочая закупка товаров, работ и услуг для обеспечения государственных (муниципальных) нужд"}]
["Управление образования Кукморского муниципального района","611",null,null,null,{"$f":"F393+F416+F542","v":793710872.17000008},{"$f":"G393+G416+G542","v":798942472.17000008}]
["ОБЩЕГОСУДАРСТВЕННЫЕ ВОПРОСЫ","611","0100",null,null,{"$f":"F394+F407","v":1913300},{"$f":"G394+G407","v":1923800}]
["Функционирование Правительства Российской Федерации, высших исполнительных органов государственной власти субъектов Российской Федерации, местных администраций","611","0104",null,null,{"$f":"F395+F402","v":1871900},{"$f":"G395+G402","v":1882400}]
["Муниципальная программа «Развитие образования Кукморского муниципального района Республики Татарстан на 2018 – 2020 годы»","611","0104","0200000000",null,{"$f":"F396","v":276100},286600]
["Подпрограмма «Развитие общего образования на 2018 – 2020 годы»","611","0104","0220000000",null,276100,286600]
["Основное мероприятие «Обеспечение государственных гарантий реализации прав на получение общедоступного и бесплатного дошкольного, начального общего, основного общего, среднего общего образования в муниципальных общеобразовательных организациях, обеспечение дополнительного образования детей в муниципальных общеобразовательных организациях»","611","0104","0220800000",null,276100,286600]
["Реализация государственных полномочий в области образования (аппарат управления)","611","0104","0220825302",null,{"$f":"SUM(F399:F401)","v":276100},{"$f":"SUM(G399:G401)","v":286600}]
["Фонд оплаты труда государственных (муниципальных) органов и взносы по обязательному социальному страхованию","611","0104","0220825302","121",{"$f":"SUMIF(свод19!$N$15:$N$1600,B399&C399&D399&A399,свод19!$I$15:$I$1600)*1000","v":214399.99999999997},{"$f":"SUMIF(свод20!$N$15:$N$1600,B399&C399&D399&A399,свод20!$I$15:$I$1600)*1000","v":220100},{"$f":"C399&D399&A399","v":"01040220825302Фонд оплаты труда государственных (муниципальных) органов и взносы по обязательному социальному страхованию"}]
["Взносы по обязательному социальному страхованию на выплату денежного содержания и иные выплаты работникам государственных (муниципальных) органов","611","0104","0220825302","129",{"$f":"SUMIF(свод19!$N$15:$N$1600,B400&C400&D400&A400,свод19!$I$15:$I$1600)*1000","v":61700},{"$f":"SUMIF(свод20!$N$15:$N$1600,B400&C400&D400&A400,свод20!$I$15:$I$1600)*1000","v":66500},"01040220825302Взносы по обязательному социальному страхованию на выплату денежного содержания и иные выплаты работникам государственных (муниципальных) органов"]
["Прочая закупка товаров, работ и услуг для обеспечения государственных (муниципальных) нужд","611","0104","0220825302","244",{"$f":"SUMIF(свод19!$N$15:$N$1600,B401&C401&D401&A401,свод19!$I$15:$I$1600)*1000","v":-1.4210854715202004E-11},{"$f":"SUMIF(свод20!$N$15:$N$1600,B401&C401&D401&A401,свод20!$I$15:$I$1600)*1000","v":-1.4210854715202004E-11},"01040220825302Прочая закупка товаров, работ и услуг для обеспечения государственных (муниципальных) нужд"]
["Непрограммные направления расходов","611","0104","9900000000",null,{"$f":"F403","v":1595800},{"$f":"G403","v":1595800}]
["Центральный аппарат","611","0104","9900002040",null,{"$f":"SUM(F404:F406)","v":1595800},{"$f":"SUM(G404:G406)","v":1595800}]
["Фонд оплаты труда государственных (муниципальных) органов и взносы по обязательному социальному страхованию","611","0104","9900002040","121",{"$f":"SUMIF(свод19!$N$15:$N$1600,B404&C404&D404&A404,свод19!$I$15:$I$1600)*1000","v":1173800},{"$f":"SUMIF(свод20!$N$15:$N$1600,B404&C404&D404&A404,свод20!$I$15:$I$1600)*1000","v":1173800},{"$f":"C404&D404&A404","v":"01049900002040Фонд оплаты труда государственных (муниципальных) органов и взносы по обязательному социальному страхованию"}]
["Взносы по обязательному социальному страхованию на выплату денежного содержания и иные выплаты работникам государственных (муниципальных) органов","611","0104","9900002040","129",{"$f":"SUMIF(свод19!$N$15:$N$1600,B405&C405&D405&A405,свод19!$I$15:$I$1600)*1000","v":354000},{"$f":"SUMIF(свод20!$N$15:$N$1600,B405&C405&D405&A405,свод20!$I$15:$I$1600)*1000","v":354000},"01049900002040Взносы по обязательному социальному страхованию на выплату денежного содержания и иные выплаты работникам государственных (муниципальных) органов"]
["Прочая закупка товаров, работ и услуг для обеспечения государственных (муниципальных) нужд","611","0104","9900002040","244",{"$f":"SUMIF(свод19!$N$15:$N$1600,B406&C406&D406&A406,свод19!$I$15:$I$1600)*1000","v":68000},{"$f":"SUMIF(свод20!$N$15:$N$1600,B406&C406&D406&A406,свод20!$I$15:$I$1600)*1000","v":68000},"01049900002040Прочая закупка товаров, работ и услуг для обеспечения государственных (муниципальных) нужд"]
["Другие общегосударственные вопросы","611","0113",null,null,{"$f":"F408+F413","v":41400},{"$f":"G408+G413","v":41400}]
["Муниципальная программа «Развитие образования Кукморского муниципального района Республики Татарстан на 2018 – 2020 годы»","611","0113","0200000000",null,{"$f":"F409","v":0},{"$f":"G409","v":0}]
["Подпрограмма «Развитие системы оценки качества образования на 2018 – 2020 годы»","611","0113","0250000000",null,{"$f":"F410","v":0},0]
["Основное мероприятие \"Содержание прочих учреждений образования\"","611","0113","0250200000",null,0,0]
["Учебно-методические кабинеты, централизованные бухгалтерии, группы хозяйственного обслуживания, учебные фильмотеки, межшкольные учебно-производственные комбинаты, логопедические пункты","611","0113","0250242520",null,0,0]
["Уплата прочих налогов, сборов и иных платежей","611","0113","0250242520","852",{"$f":"SUMIF(свод19!$N$15:$N$1600,B412&C412&D412&A412,свод19!$I$15:$I$1600)*1000","v":0},{"$f":"SUMIF(свод20!$N$15:$N$1600,B412&C412&D412&A412,свод20!$I$15:$I$1600)*1000","v":0},{"$f":"C412&D412&A412","v":"01130250242520Уплата прочих налогов, сборов и иных платежей"},{"$f":"H412-F412","v":{"$error":"#VALUE!"}}]
["Непрограммные направления расходов","611","0113","9900000000",null,{"$f":"F414","v":41400},{"$f":"G414","v":41400}]
["Уплата налога на имущество организаций и земельного налога","611","0113","9900002950",null,{"$f":"F415","v":41400},{"$f":"G415","v":41400}]
["Уплата налога на имущество организаций и земельного налога","611","0113","9900002950","851",{"$f":"SUMIF(свод19!$N$15:$N$1600,B415&C415&D415&A415,свод19!$I$15:$I$1600)*1000","v":41400},{"$f":"SUMIF(свод20!$N$15:$N$1600,B415&C415&D415&A415,свод20!$I$15:$I$1600)*1000","v":41400},{"$f":"C415&D415&A415","v":"01139900002950Уплата налога на имущество организаций и земельного налога"}]
["ОБРАЗОВАНИЕ","611","0700",null,null,{"$f":"F417+F439+F488+F494+F482","v":772501772.17000008},{"$f":"G417+G439+G488+G494+G482","v":777374072.17000008}]
["Дошкольное образование","611","0701",null,null,{"$f":"F418+F429+F434","v":190315173.12000006},{"$f":"G418+G429+G434","v":192555173.12000006}]
["Муниципальная программа «Развитие образования Кукморского муниципального района Республики Татарстан на 2018 – 2020 годы»","611","0701","0200000000",null,{"$f":"F419","v":190315173.12000006},{"$f":"G419","v":192555173.12000006}]
["Подпрограмма «Развитие дошкольного образования на 2018 – 2020 годы»","611","0701","0210000000",null,{"$f":"F420+F423+F426","v":190315173.12000006},{"$f":"G420+G423+G426","v":192555173.12000006}]
["Основное мероприятие \"Обеспечение государственных гарантий реализации прав на получение общедоступного и бесплатного дошкольного образования в муниципальных дошкольных образовательных организациях\"","611","0701","0210100000",null,{"$f":"F421","v":82319208.000000015},{"$f":"G421","v":82319208.000000015}]
["Реализация государственных полномочий на обеспечение государственных гарантий реализации прав на получение общедоступного и бесплатного дошкольного образования в муниципальных дошкольных образовательных организациях","611","0701","0210125370",null,{"$f":"F422","v":82319208.000000015},{"$f":"G422","v":82319208.000000015}]
["Субсидии бюджетным учреждениям на финансовое обеспечение государственного (муниципального) задания на оказание государственных (муниципальных) услуг (выполнение работ)","611","0701","0210125370","611",{"$f":"SUMIF(свод19!$N$15:$N$1600,B422&C422&D422&A422,свод19!$I$15:$I$1600)*1000","v":82319208.000000015},{"$f":"SUMIF(свод20!$N$15:$N$1600,B422&C422&D422&A422,свод20!$I$15:$I$1600)*1000","v":82319208.000000015},{"$f":"C422&D422&A422","v":"07010210125370Субсидии бюджетным учреждениям на финансовое обеспечение государственного (муниципального) задания на оказание государственных (муниципальных) услуг (выполнение работ)"}]
["Основное мероприятие \"Реализация дошкольного образования в образовательных организациях\"","611","0701","0210300000",null,{"$f":"F424","v":107995965.12000003},{"$f":"G424","v":110235965.12000003}]
["Развитие дошкольных образовательных учреждений","611","0701","0210342000",null,{"$f":"F425","v":107995965.12000003},{"$f":"G425","v":110235965.12000003}]
["Субсидии бюджетным учреждениям на финансовое обеспечение государственного (муниципального) задания на оказание государственных (муниципальных) услуг (выполнение работ)","611","0701","0210342000","611",{"$f":"SUMIF(свод19!$N$15:$N$1600,B425&C425&D425&A425,свод19!$I$15:$I$1600)*1000","v":107995965.12000003},{"$f":"SUMIF(свод20!$N$15:$N$1600,B425&C425&D425&A425,свод20!$I$15:$I$1600)*1000","v":110235965.12000003},{"$f":"C425&D425&A425","v":"07010210342000Субсидии бюджетным учреждениям на финансовое обеспечение государственного (муниципального) задания на оказание государственных (муниципальных) услуг (выполнение работ)"}]
["Основное мероприятие \"Укрепление кадрового потенциала и привлечение молодых специалистов в дошкольных образовательных организациях\"","611","0701","0210400000",null,{"$f":"F427","v":0},{"$f":"G427","v":0}]
["Мероприятия в области образования, направленные на поддержку молодых специалистов в дошкольных образовательных организациях","611","0701","0210443625",null,{"$f":"F428","v":0},{"$f":"G428","v":0}]
["Субсидии бюджетным учреждениям на финансовое обеспечение государственного (муниципального) задания на оказание государственных (муниципальных) услуг (выполнение работ)","611","0701","0210443625","611",{"$f":"SUMIF(свод19!$N$15:$N$1600,B428&C428&D428&A428,свод19!$I$15:$I$1600)*1000","v":0},{"$f":"SUMIF(свод20!$N$15:$N$1600,B428&C428&D428&A428,свод20!$I$15:$I$1600)*1000","v":0},{"$f":"C428&D428&A428","v":"07010210443625Субсидии бюджетным учреждениям на финансовое обеспечение государственного (муниципального) задания на оказание государственных (муниципальных) услуг (выполнение работ)"}]
["Муниципальная программа улучшения условий и охраны труда в Кукморском муниципальном районе на 2018 - 2020 годы","611","0701","0500000000",null,{"$f":"F430","v":0},{"$f":"G430","v":0}]
["Подпрограмма улучшения условий и охраны труда в Кукморском муниципальном районе на 2018 - 2020 годы","611","0701","0520000000",null,{"$f":"F431","v":0},0]
["Основное мероприятие \"Реализация мероприятий в области охраны труда\"","611","0701","0520100000",null,0,0]
["Мероприятия по улучшению условий и охраны труда","611","0701","0520115500",null,0,0]
["Субсидии бюджетным учреждениям на финансовое обеспечение государственного (муниципального) задания на оказание государственных (муниципальных) услуг (выполнение работ)","611","0701","0520115500","611",{"$f":"SUMIF(свод19!$N$15:$N$1600,B433&C433&D433&A433,свод19!$I$15:$I$1600)*1000","v":0},{"$f":"SUMIF(свод20!$N$15:$N$1600,B433&C433&D433&A433,свод20!$I$15:$I$1600)*1000","v":0},{"$f":"C433&D433&A433","v":"07010520115500Субсидии бюджетным учреждениям на финансовое обеспечение государственного (муниципального) задания на оказание государственных (муниципальных) услуг (выполнение работ)"}]
["Муниципальная программа «Обеспечение общественного порядка и противодействие преступности в Кукморском муниципальном районе на 2018 - 2020 годы\"","611","0701","0600000000",null,{"$f":"F435","v":0},{"$f":"G435","v":0}]
["Подпрограмма «Профилактика терроризма и экстремизма в Кукморском муниципальном районе на 2018-2020гг.»","611","0701","0630000000",null,{"$f":"F436","v":0},0]
["Основное мероприятие \"Профилактика терроризма и экстремизма\"","611","0701","0630100000",null,0,0]
["Реализация программных мероприятий063","611","0701","0630110990",null,0,0]
["Субсидии бюджетным учреждениям на финансовое обеспечение государственного (муниципального) задания на оказание государственных (муниципальных) услуг (выполнение работ)","611","0701","0630110990","611",{"$f":"SUMIF(свод19!$N$15:$N$1600,B438&C438&D438&A438,свод19!$I$15:$I$1600)*1000","v":0},{"$f":"SUMIF(свод20!$N$15:$N$1600,B438&C438&D438&A438,свод20!$I$15:$I$1600)*1000","v":0},{"$f":"C438&D438&A438","v":"07010630110990Субсидии бюджетным учреждениям на финансовое обеспечение государственного (муниципального) задания на оказание государственных (муниципальных) услуг (выполнение работ)"}]
["Общее образование","611","0702",null,null,{"$f":"F440+F468+F473+F478","v":548527759.30999994},{"$f":"G440+G468+G473+G478","v":551160059.30999994}]
["Муниципальная программа «Развитие образования Кукморского муниципального района Республики Татарстан на 2018 – 2020 годы»","611","0702","0200000000",null,{"$f":"F441+F448+F461","v":548527759.30999994},{"$f":"G441+G448+G461","v":551160059.30999994}]
["Подпрограмма «Развитие дошкольного образования на 2018 – 2020 годы»","611","0702","0210000000",null,{"$f":"F442+F445","v":21090362.220000006},{"$f":"G442+G445","v":21090362.220000006}]
["Основное мероприятие \"Обеспечение государственных гарантий реализации прав на получение общедоступного и бесплатного дошкольного образования в муниципальных дошкольных образовательных организациях\"","611","0702","0210100000",null,{"$f":"F443","v":9990992},{"$f":"G443","v":9990992}]
["Реализация государственных полномочий на обеспечение государственных гарантий реализации прав на получение общедоступного и бесплатного дошкольного образования в муниципальных дошкольных образовательных организациях","611","0702","0210125370",null,{"$f":"F444","v":9990992},{"$f":"G444","v":9990992}]
["Субсидии бюджетным учреждениям на финансовое обеспечение государственного (муниципального) задания на оказание государственных (муниципальных) услуг (выполнение работ)","611","0702","0210125370","611",{"$f":"SUMIF(свод19!$N$15:$N$1600,B444&C444&D444&A444,свод19!$I$15:$I$1600)*1000","v":9990992},{"$f":"SUMIF(свод20!$N$15:$N$1600,B444&C444&D444&A444,свод20!$I$15:$I$1600)*1000","v":9990992},{"$f":"C444&D444&A444","v":"07020210125370Субсидии бюджетным учреждениям на финансовое обеспечение государственного (муниципального) задания на оказание государственных (муниципальных) услуг (выполнение работ)"}]
["Основное мероприятие \"Реализация дошкольного образования в образовательных организациях\"","611","0702","0210300000",null,{"$f":"F446","v":11099370.220000004},{"$f":"G446","v":11099370.220000004}]
["Развитие дошкольных образовательных учреждений","611","0702","0210342000",null,{"$f":"F447","v":11099370.220000004},{"$f":"G447","v":11099370.220000004}]
["Субсидии бюджетным учреждениям на финансовое обеспечение государственного (муниципального) задания на оказание государственных (муниципальных) услуг (выполнение работ)","611","0702","0210342000","611",{"$f":"SUMIF(свод19!$N$15:$N$1600,B447&C447&D447&A447,свод19!$I$15:$I$1600)*1000","v":11099370.220000004},{"$f":"SUMIF(свод20!$N$15:$N$1600,B447&C447&D447&A447,свод20!$I$15:$I$1600)*1000","v":11099370.220000004},{"$f":"C447&D447&A447","v":"07020210342000Субсидии бюджетным учреждениям на финансовое обеспечение государственного (муниципального) задания на оказание государственных (муниципальных) услуг (выполнение работ)"}]
["Подпрограмма «Развитие общего образования на 2018 – 2020 годы»","611","0702","0220000000",null,{"$f":"F449+F452+F458","v":527437397.08999997},{"$f":"G449+G452+G458","v":530069697.08999997}]
["Основное мероприятие \"Укрепление кадрового потенциала и привлечение молодых специалистов в образовательные организации\"","611","0702","0220100000",null,{"$f":"F450","v":0},{"$f":"G450","v":0}]
["Мероприятия в области образования, направленные на поддержку молодых специалистов в общеобразовательных организациях","611","0702","0220143624",null,{"$f":"F451","v":0},{"$f":"G451","v":0}]
["Субсидии бюджетным учреждениям на финансовое обеспечение государственного (муниципального) задания на оказание государственных (муниципальных) услуг (выполнение работ)","611","0702","0220143624","611",{"$f":"SUMIF(свод19!$N$15:$N$1600,B451&C451&D451&A451,свод19!$I$15:$I$1600)*1000","v":0},{"$f":"SUMIF(свод20!$N$15:$N$1600,B451&C451&D451&A451,свод20!$I$15:$I$1600)*1000","v":0},{"$f":"C451&D451&A451","v":"07020220143624Субсидии бюджетным учреждениям на финансовое обеспечение государственного (муниципального) задания на оказание государственных (муниципальных) услуг (выполнение работ)"}]
["Основное мероприятие \"Реализация общего образования в государственных образовательных организациях\"","611","0702","0220200000",null,{"$f":"F453","v":244894397.08999997},{"$f":"G453","v":247526697.08999997}]
["Развитие общеобразовательных организаций, включая школы – детские сады","611","0702","0220242100",null,{"$f":"SUM(F454:F457)","v":244894397.08999997},{"$f":"SUM(G454:G457)","v":247526697.08999997}]
["Фонд оплаты труда казенных учреждений и взносы по обязательному социальному страхованию","611","0702","0220242100","111",{"$f":"SUMIF(свод19!$N$15:$N$1600,B454&C454&D454&A454,свод19!$I$15:$I$1600)*1000","v":0},{"$f":"SUMIF(свод20!$N$15:$N$1600,B454&C454&D454&A454,свод20!$I$15:$I$1600)*1000","v":0},{"$f":"C454&D454&A454","v":"07020220242100Фонд оплаты труда казенных учреждений и взносы по обязательному социальному страхованию"}]
["Иные выплаты, за исключением фонда оплаты труда казенных учреждений, лицам, привлекаемым согласно законодательству для выполнения отдельных полномочий","611","0702","0220242100","113",{"$f":"SUMIF(свод19!$N$15:$N$1600,B455&C455&D455&A455,свод19!$I$15:$I$1600)*1000","v":0},{"$f":"SUMIF(свод20!$N$15:$N$1600,B455&C455&D455&A455,свод20!$I$15:$I$1600)*1000","v":0},"07020220242100Иные выплаты, за исключением фонда оплаты труда казенных учреждений, лицам, привлекаемым согласно законодательству для выполнения отдельных полномочий"]
["Прочая закупка товаров, работ и услуг для обеспечения государственных (муниципальных) нужд","611","0702","0220242100","244",{"$f":"SUMIF(свод19!$N$15:$N$1600,B456&C456&D456&A456,свод19!$I$15:$I$1600)*1000","v":0},{"$f":"SUMIF(свод20!$N$15:$N$1600,B456&C456&D456&A456,свод20!$I$15:$I$1600)*1000","v":0},"07020220242100Прочая закупка товаров, работ и услуг для обеспечения государственных (муниципальных) нужд"]
["Субсидии бюджетным учреждениям на финансовое обеспечение государственного (муниципального) задания на оказание государственных (муниципальных) услуг (выполнение работ)","611","0702","0220242100","611",{"$f":"SUMIF(свод19!$N$15:$N$1600,B457&C457&D457&A457,свод19!$I$15:$I$1600)*1000","v":244894397.08999997},{"$f":"SUMIF(свод20!$N$15:$N$1600,B457&C457&D457&A457,свод20!$I$15:$I$1600)*1000","v":247526697.08999997},"07020220242100Субсидии бюджетным учреждениям на финансовое обеспечение государственного (муниципального) задания на оказание государственных (муниципальных) услуг (выполнение работ)"]
["Основное мероприятие «Обеспечение государственных гарантий реализации прав на получение общедоступного и бесплатного дошкольного, начального общего, основного общего, среднего общего образования в муниципальных общеобразовательных организациях, обеспечение дополнительного образования детей в муниципальных общеобразовательных организациях»","611","0702","0220800000",null,{"$f":"F459","v":282543000},{"$f":"G459","v":282543000}]
["Обеспечение государственных гарантий реализации прав на получение общедоступного и бесплатного дошкольного, начального общего, основного общего, среднего общего образования в муниципальных общеобразовательных организациях, обеспечение дополнительного образования детей в муниципальных общеобразовательных организациях","611","0702","0220825280",null,{"$f":"F460","v":282543000},{"$f":"G460","v":282543000}]
["Субсидии бюджетным учреждениям на финансовое обеспечение государственного (муниципального) задания на оказание государственных (муниципальных) услуг (выполнение работ)","611","0702","0220825280","611",{"$f":"SUMIF(свод19!$N$15:$N$1600,B460&C460&D460&A460,свод19!$I$15:$I$1600)*1000","v":282543000},{"$f":"SUMIF(свод20!$N$15:$N$1600,B460&C460&D460&A460,свод20!$I$15:$I$1600)*1000","v":282543000},{"$f":"C460&D460&A460","v":"07020220825280Субсидии бюджетным учреждениям на финансовое обеспечение государственного (муниципального) задания на оказание государственных (муниципальных) услуг (выполнение работ)"}]
["Подпрограмма «Развитие дополнительного образования на 2018 – 2020 годы»","611","0702","0230000000",null,{"$f":"F462+F465","v":0},{"$f":"G462+G465","v":0}]
["Основное мероприятие \"Организация предоставления дополнительного образования детей в государственных образовательных организациях\"","611","0702","0230100000",null,{"$f":"F463","v":0},0]
["Развитие муниципальных учреждений дополнительного образования детей многопрофильной направленности","611","0702","0230142310",null,0,0]
["Субсидии бюджетным учреждениям на финансовое обеспечение государственного (муниципального) задания на оказание государственных (муниципальных) услуг (выполнение работ)","611","0702","0230142310","611",{"$f":"SUMIF(свод19!$N$15:$N$1600,B464&C464&D464&A464,свод19!$I$15:$I$1600)*1000","v":0},{"$f":"SUMIF(свод20!$N$15:$N$1600,B464&C464&D464&A464,свод20!$I$15:$I$1600)*1000","v":0},{"$f":"C464&D464&A464","v":"07020230142310Субсидии бюджетным учреждениям на финансовое обеспечение государственного (муниципального) задания на оказание государственных (муниципальных) услуг (выполнение работ)"}]
["Основное мероприятие \"Укрепление кадрового потенциала и привлечение молодых специалистов в учреждениях дополнительного образования\"","611","0702","0230400000",null,{"$f":"F466","v":0},{"$f":"G466","v":0}]
["Мероприятия в области образования, направленные на поддержку молодых специалистов в многопрофильных организациях дополнительного образования","611","0702","0230443621",null,{"$f":"F467","v":0},{"$f":"G467","v":0}]
["Субсидии бюджетным учреждениям на финансовое обеспечение государственного (муниципального) задания на оказание государственных (муниципальных) услуг (выполнение работ)","611","0702","0230443621","611",{"$f":"SUMIF(свод19!$N$15:$N$1600,B467&C467&D467&A467,свод19!$I$15:$I$1600)*1000","v":0},{"$f":"SUMIF(свод20!$N$15:$N$1600,B467&C467&D467&A467,свод20!$I$15:$I$1600)*1000","v":0},{"$f":"C467&D467&A467","v":"07020230443621Субсидии бюджетным учреждениям на финансовое обеспечение государственного (муниципального) задания на оказание государственных (муниципальных) услуг (выполнение работ)"}]
["Муниципальная программа улучшения условий и охраны труда в Кукморском муниципальном районе на 2018 - 2020 годы","611","0702","0500000000",null,{"$f":"F469","v":0},{"$f":"G469","v":0}]
["Подпрограмма улучшения условий и охраны труда в Кукморском муниципальном районе на 2018 - 2020 годы","611","0702","0520000000",null,{"$f":"F470","v":0},0]
["Основное мероприятие \"Реализация мероприятий в области охраны труда\"","611","0702","0520100000",null,0,0]
["Мероприятия по улучшению условий и охраны труда","611","0702","0520115500",null,0,0]
["Субсидии бюджетным учреждениям на финансовое обеспечение государственного (муниципального) задания на оказание государственных (муниципальных) услуг (выполнение работ)","611","0702","0520115500","611",{"$f":"SUMIF(свод19!$N$15:$N$1600,B472&C472&D472&A472,свод19!$I$15:$I$1600)*1000","v":0},{"$f":"SUMIF(свод20!$N$15:$N$1600,B472&C472&D472&A472,свод20!$I$15:$I$1600)*1000","v":0},{"$f":"C472&D472&A472","v":"07020520115500Субсидии бюджетным учреждениям на финансовое обеспечение государственного (муниципального) задания на оказание государственных (муниципальных) услуг (выполнение работ)"}]
["Муниципальная программа «Обеспечение общественного порядка и противодействие преступности в Кукморском муниципальном районе на 2018 - 2020 годы\"","611","0702","0600000000",null,{"$f":"F474","v":0},{"$f":"G474","v":0}]
["Подпрограмма «Профилактика терроризма и экстремизма в Кукморском муниципальном районе на 2018-2020гг.»","611","0702","0630000000",null,{"$f":"F475","v":0},0]
["Основное мероприятие \"Профилактика терроризма и экстремизма\"","611","0702","0630100000",null,0,0]
["Реализация программных мероприятий063","611","0702","0630110990",null,0,0]
["Субсидии бюджетным учреждениям на финансовое обеспечение государственного (муниципального) задания на оказание государственных (муниципальных) услуг (выполнение работ)","611","0702","0630110990","611",{"$f":"SUMIF(свод19!$N$15:$N$1600,B477&C477&D477&A477,свод19!$I$15:$I$1600)*1000","v":0},{"$f":"SUMIF(свод20!$N$15:$N$1600,B477&C477&D477&A477,свод20!$I$15:$I$1600)*1000","v":0},{"$f":"C477&D477&A477","v":"07020630110990Субсидии бюджетным учреждениям на финансовое обеспечение государственного (муниципального) задания на оказание государственных (муниципальных) услуг (выполнение работ)"}]
["Программа по реализации государственной национальной политики в Кукморском муниципальном районе на 2018-2020 годы","611","0702","2000000000",null,{"$f":"F479","v":0},0]
["Основное мероприятие «Реализация государственной национальной политики в Республике Татарстан, цивилизованное развитие представителей народов, проживающих на территории Республики Татарстан, сохранение межэтнического и межконфессионального мира и согласия, упрочение общероссийской гражданской идентичности (российской нации), успешная социокультурная адаптация и интеграция мигрантов»","611","0702","2000100000",null,0,0]
["Реализация программных мероприятий200","611","0702","2000110990",null,0,0]
["Субсидии бюджетным учреждениям на финансовое обеспечение государственного (муниципального) задания на оказание государственных (муниципальных) услуг (выполнение работ)","611","0702","2000110990","611",{"$f":"SUMIF(свод19!$N$15:$N$1600,B481&C481&D481&A481,свод19!$I$15:$I$1600)*1000","v":0},{"$f":"SUMIF(свод20!$N$15:$N$1600,B481&C481&D481&A481,свод20!$I$15:$I$1600)*1000","v":0},{"$f":"C481&D481&A481","v":"07022000110990Субсидии бюджетным учреждениям на финансовое обеспечение государственного (муниципального) задания на оказание государственных (муниципальных) услуг (выполнение работ)"}]
["Дополнительное образование детей","611","0703",null,null,{"$f":"F483","v":20851198.790000003},{"$f":"G483","v":20851198.790000003}]
["Муниципальная программа «Развитие образования Кукморского муниципального района Республики Татарстан на 2018 – 2020 годы»","611","0703","0200000000",null,{"$f":"F484","v":20851198.790000003},{"$f":"G484","v":20851198.790000003}]
["Подпрограмма «Развитие дополнительного образования на 2018 – 2020 годы»","611","0703","0230000000",null,{"$f":"F485+F488","v":20851198.790000003},{"$f":"G485+G488","v":20851198.790000003}]
["Основное мероприятие \"Организация предоставления дополнительного образования детей в государственных образовательных организациях\"","611","0703","0230100000",null,{"$f":"F486","v":20851198.790000003},{"$f":"G486","v":20851198.790000003}]
["Развитие муниципальных учреждений дополнительного образования детей многопрофильной направленности","611","0703","0230142310",null,{"$f":"F487","v":20851198.790000003},{"$f":"G487","v":20851198.790000003}]
["Субсидии бюджетным учреждениям на финансовое обеспечение государственного (муниципального) задания на оказание государственных (муниципальных) услуг (выполнение работ)","611","0703","0230142310","611",{"$f":"SUMIF(свод19!$N$15:$N$1600,B487&C487&D487&A487,свод19!$I$15:$I$1600)*1000","v":20851198.790000003},{"$f":"SUMIF(свод20!$N$15:$N$1600,B487&C487&D487&A487,свод20!$I$15:$I$1600)*1000","v":20851198.790000003},{"$f":"C487&D487&A487","v":"07030230142310Субсидии бюджетным учреждениям на финансовое обеспечение государственного (муниципального) задания на оказание государственных (муниципальных) услуг (выполнение работ)"}]
["Молодежная политика и оздоровление детей","611","0707",null,null,{"$f":"F489","v":0},{"$f":"G489","v":0}]
["Муниципальная программа «Развитие молодежной политики, физической культуры и спорта в Кукморском муниципальном районе Республики Татарстан на 2018 – 2020 годы»","611","0707","1000000000",null,{"$f":"F490","v":0},0]
["Подпрограмма \"Организация отдыха детей и молодежи, их оздоровления и занятости на 2018 – 2020 годы\"","611","0707","1020000000",null,0,0]
["Основное мероприятие \"Создание условий для организации отдыха детей и молодежи, их оздоровления, обеспечение их занятости и повышение оздоровительного эффекта\"","611","0707","1020100000",null,0,0]
["Мероприятия по организации отдыха, оздоровления, занятости детей и молодежи","611","0707","1020121320",null,0,0]
["Субсидии бюджетным учреждениям на иные цели","611","0707","1020121320","612",{"$f":"SUMIF(свод19!$N$15:$N$1600,B493&C493&D493&A493,свод19!$I$15:$I$1600)*1000","v":0},{"$f":"SUMIF(свод20!$N$15:$N$1600,B493&C493&D493&A493,свод20!$I$15:$I$1600)*1000","v":0},{"$f":"C493&D493&A493","v":"07071020121320Субсидии бюджетным учреждениям на иные цели"}]
["Другие вопросы в области образования","611","0709",null,null,{"$f":"F495+F528+F533+F538+F523","v":12807640.949999999},{"$f":"G495+G528+G533+G538+G523","v":12807640.949999999}]
["Муниципальная программа «Развитие образования Кукморского муниципального района Республики Татарстан на 2018 – 2020 годы»","611","0709","0200000000",null,{"$f":"F496+F511","v":9072140.9499999993},{"$f":"G496+G511","v":9072140.9499999993}]
["Подпрограмма «Развитие общего образования на 2018 – 2020 годы»","611","0709","0220000000",null,{"$f":"F497+F500+F507","v":5072899.9999999991},{"$f":"G497+G500+G507","v":5072899.9999999991}]
["Основное мероприятие \"Укрепление кадрового потенциала и привлечение молодых специалистов в образовательные организации\"","611","0709","0220100000",null,{"$f":"F498","v":0},{"$f":"G498","v":0}]
["Мероприятия в области образования, направленные на поддержку молодых специалистов в общеобразовательных организациях","611","0709","0220143624",null,{"$f":"F499","v":0},{"$f":"G499","v":0}]
["Фонд оплаты труда казенных учреждений и взносы по обязательному социальному страхованию","611","0709","0220143624","111",{"$f":"SUMIF(свод19!$N$15:$N$1600,B499&C499&D499&A499,свод19!$I$15:$I$1600)*1000","v":0},{"$f":"SUMIF(свод20!$N$15:$N$1600,B499&C499&D499&A499,свод20!$I$15:$I$1600)*1000","v":0},{"$f":"C499&D499&A499","v":"07090220143624Фонд оплаты труда казенных учреждений и взносы по обязательному социальному страхованию"}]
["Основное мероприятие «Обеспечение государственных гарантий реализации прав на получение общедоступного и бесплатного дошкольного, начального общего, основного общего, среднего общего образования в муниципальных общеобразовательных организациях, обеспечение дополнительного образования детей в муниципальных общеобразовательных организациях»","611","0709","0220800000",null,{"$f":"F501","v":5072899.9999999991},{"$f":"G501","v":5072899.9999999991}]
["Реализация государственных полномочий в области образования (ИМЦ)","611","0709","0220825301",null,{"$f":"SUM(F502:F506)","v":5072899.9999999991},{"$f":"SUM(G502:G506)","v":5072899.9999999991}]
["Фонд оплаты труда казенных учреждений и взносы по обязательному социальному страхованию","611","0709","0220825301","111",{"$f":"SUMIF(свод19!$N$15:$N$1600,B502&C502&D502&A502,свод19!$I$15:$I$1600)*1000","v":3602490.36},{"$f":"SUMIF(свод20!$N$15:$N$1600,B502&C502&D502&A502,свод20!$I$15:$I$1600)*1000","v":3602490.36},{"$f":"C502&D502&A502","v":"07090220825301Фонд оплаты труда казенных учреждений и взносы по обязательному социальному страхованию"}]
["Иные выплаты персоналу казенных учреждений, за исключением фонда оплаты труда","611","0709","0220825301","112",{"$f":"SUMIF(свод19!$N$15:$N$1600,B503&C503&D503&A503,свод19!$I$15:$I$1600)*1000","v":12000},{"$f":"SUMIF(свод20!$N$15:$N$1600,B503&C503&D503&A503,свод20!$I$15:$I$1600)*1000","v":12000},"07090220825301Иные выплаты персоналу казенных учреждений, за исключением фонда оплаты труда"]
["Взносы по обязательному социальному страхованию на выплаты по оплате труда работников и иные выплаты работникам учреждений","611","0709","0220825301","119",{"$f":"SUMIF(свод19!$N$15:$N$1600,B504&C504&D504&A504,свод19!$I$15:$I$1600)*1000","v":1088000},{"$f":"SUMIF(свод20!$N$15:$N$1600,B504&C504&D504&A504,свод20!$I$15:$I$1600)*1000","v":1088000},"07090220825301Взносы по обязательному социальному страхованию на выплаты по оплате труда работников и иные выплаты работникам учреждений"]
["Прочая закупка товаров, работ и услуг для обеспечения государственных (муниципальных) нужд","611","0709","0220825301","244",{"$f":"SUMIF(свод19!$N$15:$N$1600,B505&C505&D505&A505,свод19!$I$15:$I$1600)*1000","v":370409.63999999984},{"$f":"SUMIF(свод20!$N$15:$N$1600,B505&C505&D505&A505,свод20!$I$15:$I$1600)*1000","v":370409.63999999984},"07090220825301Прочая закупка товаров, работ и услуг для обеспечения государственных (муниципальных) нужд"]
["Уплата прочих налогов, сборов и иных платежей","611","0709","0220825301","852",{"$f":"SUMIF(свод19!$N$15:$N$1600,B506&C506&D506&A506,свод19!$I$15:$I$1600)*1000","v":0},{"$f":"SUMIF(свод20!$N$15:$N$1600,B506&C506&D506&A506,свод20!$I$15:$I$1600)*1000","v":0},"07090220825301Уплата прочих налогов, сборов и иных платежей"]
["Основное мероприятие \"Модернизация системы общего образования, проведение мероприятий в области образования\"","611","0709","0220900000",null,{"$f":"F508","v":0},{"$f":"G508","v":0}]
["Мероприятия, направленные на развитие образования в Республике Татарстан","611","0709","0220921110",null,{"$f":"SUM(F509:F510)","v":0},{"$f":"SUM(G509:G510)","v":0}]
["Прочая закупка товаров, работ и услуг для обеспечения государственных (муниципальных) нужд","611","0709","0220921110","244",{"$f":"SUMIF(свод19!$N$15:$N$1600,B509&C509&D509&A509,свод19!$I$15:$I$1600)*1000","v":0},{"$f":"SUMIF(свод20!$N$15:$N$1600,B509&C509&D509&A509,свод20!$I$15:$I$1600)*1000","v":0},{"$f":"C509&D509&A509","v":"07090220921110Прочая закупка товаров, работ и услуг для обеспечения государственных (муниципальных) нужд"}]
["Субсидии бюджетным учреждениям на иные цели","611","0709","0220921110","612",{"$f":"SUMIF(свод19!$N$15:$N$1600,B510&C510&D510&A510,свод19!$I$15:$I$1600)*1000","v":0},{"$f":"SUMIF(свод20!$N$15:$N$1600,B510&C510&D510&A510,свод20!$I$15:$I$1600)*1000","v":0},"07090220921110Субсидии бюджетным учреждениям на иные цели"]
["Подпрограмма «Развитие системы оценки качества образования на 2018 – 2020 годы»","611","0709","0250000000",null,{"$f":"F512","v":3999240.95},{"$f":"G512","v":3999240.95}]
["Основное мероприятие \"Содержание прочих учреждений образования\"","611","0709","0250200000",null,{"$f":"F513","v":3999240.95},{"$f":"G513","v":3999240.95}]
["Учебно-методические кабинеты, централизованные бухгалтерии, группы хозяйственного обслуживания, учебные фильмотеки, межшкольные учебно-производственные комбинаты, логопедические пункты","611","0709","0250242520",null,{"$f":"SUM(F514:F522)","v":3999240.95},{"$f":"SUM(G514:G522)","v":3999240.95}]
["Фонд оплаты труда казенных учреждений и взносы по обязательному социальному страхованию","611","0709","0250242520","111",{"$f":"SUMIF(свод19!$N$15:$N$1600,B514&C514&D514&A514,свод19!$I$15:$I$1600)*1000","v":2181000},{"$f":"SUMIF(свод20!$N$15:$N$1600,B514&C514&D514&A514,свод20!$I$15:$I$1600)*1000","v":2181000},{"$f":"C514&D514&A514","v":"07090250242520Фонд оплаты труда казенных учреждений и взносы по обязательному социальному страхованию"}]
["Иные выплаты персоналу казенных учреждений, за исключением фонда оплаты труда","611","0709","0250242520","112",{"$f":"SUMIF(свод19!$N$15:$N$1600,B515&C515&D515&A515,свод19!$I$15:$I$1600)*1000","v":40000},{"$f":"SUMIF(свод20!$N$15:$N$1600,B515&C515&D515&A515,свод20!$I$15:$I$1600)*1000","v":40000},"07090250242520Иные выплаты персоналу казенных учреждений, за исключением фонда оплаты труда"]
["Иные выплаты, за исключением фонда оплаты труда казенных учреждений, лицам, привлекаемым согласно законодательству для выполнения отдельных полномочий","611","0709","0250242520","113",{"$f":"SUMIF(свод19!$N$15:$N$1600,B516&C516&D516&A516,свод19!$I$15:$I$1600)*1000","v":0},{"$f":"SUMIF(свод20!$N$15:$N$1600,B516&C516&D516&A516,свод20!$I$15:$I$1600)*1000","v":0},"07090250242520Иные выплаты, за исключением фонда оплаты труда казенных учреждений, лицам, привлекаемым согласно законодательству для выполнения отдельных полномочий"]
["Взносы по обязательному социальному страхованию на выплаты по оплате труда работников и иные выплаты работникам учреждений","611","0709","0250242520","119",{"$f":"SUMIF(свод19!$N$15:$N$1600,B517&C517&D517&A517,свод19!$I$15:$I$1600)*1000","v":675691.95000000007},{"$f":"SUMIF(свод20!$N$15:$N$1600,B517&C517&D517&A517,свод20!$I$15:$I$1600)*1000","v":675691.95000000007},"07090250242520Взносы по обязательному социальному страхованию на выплаты по оплате труда работников и иные выплаты работникам учреждений"]
["Прочая закупка товаров, работ и услуг для обеспечения государственных (муниципальных) нужд","611","0709","0250242520","244",{"$f":"SUMIF(свод19!$N$15:$N$1600,B518&C518&D518&A518,свод19!$I$15:$I$1600)*1000","v":1085549},{"$f":"SUMIF(свод20!$N$15:$N$1600,B518&C518&D518&A518,свод20!$I$15:$I$1600)*1000","v":1085549},"07090250242520Прочая закупка товаров, работ и услуг для обеспечения государственных (муниципальных) нужд"]
["Бюджетные инвестиции на приобретение объектов недвижимого имущества в государственную (муниципальную) собственность","611","0709","0250242520","412",{"$f":"SUMIF(свод19!$N$15:$N$1600,B519&C519&D519&A519,свод19!$I$15:$I$1600)*1000","v":0},{"$f":"SUMIF(свод20!$N$15:$N$1600,B519&C519&D519&A519,свод20!$I$15:$I$1600)*1000","v":0},"07090250242520Бюджетные инвестиции на приобретение объектов недвижимого имущества в государственную (муниципальную) собственность"]
["Уплата налога на имущество организаций и земельного налога","611","0709","0250242520","851",{"$f":"SUMIF(свод19!$N$15:$N$1600,B520&C520&D520&A520,свод19!$I$15:$I$1600)*1000","v":17000},{"$f":"SUMIF(свод20!$N$15:$N$1600,B520&C520&D520&A520,свод20!$I$15:$I$1600)*1000","v":17000},"07090250242520Уплата налога на имущество организаций и земельного налога"]
["Уплата прочих налогов, сборов и иных платежей","611","0709","0250242520","852",{"$f":"SUMIF(свод19!$N$15:$N$1600,B521&C521&D521&A521,свод19!$I$15:$I$1600)*1000","v":0},{"$f":"SUMIF(свод20!$N$15:$N$1600,B521&C521&D521&A521,свод20!$I$15:$I$1600)*1000","v":0},"07090250242520Уплата прочих налогов, сборов и иных платежей"]
["Уплата иных платежей","611","0709","0250242520","853",{"$f":"SUMIF(свод19!$N$15:$N$1600,B522&C522&D522&A522,свод19!$I$15:$I$1600)*1000","v":0},{"$f":"SUMIF(свод20!$N$15:$N$1600,B522&C522&D522&A522,свод20!$I$15:$I$1600)*1000","v":0},"07090250242520Уплата иных платежей"]
["Муниципальная программа улучшения условий и охраны труда в Кукморском муниципальном районе на 2018 - 2020 годы","611","0709","0500000000",null,{"$f":"F524","v":10000},{"$f":"G524","v":10000}]
["Подпрограмма улучшения условий и охраны труда в Кукморском муниципальном районе на 2018 - 2020 годы","611","0709","0520000000",null,{"$f":"F525","v":10000},10000]
["Основное мероприятие \"Реализация мероприятий в области охраны труда\"","611","0709","0520100000",null,10000,10000]
["Мероприятия по улучшению условий и охраны труда","611","0709","0520115500",null,10000,10000]
["Прочая закупка товаров, работ и услуг для обеспечения государственных (муниципальных) нужд","611","0709","0520115500","244",{"$f":"SUMIF(свод19!$N$15:$N$1600,B527&C527&D527&A527,свод19!$I$15:$I$1600)*1000","v":10000},{"$f":"SUMIF(свод20!$N$15:$N$1600,B527&C527&D527&A527,свод20!$I$15:$I$1600)*1000","v":10000},{"$f":"C527&D527&A527","v":"07090520115500Прочая закупка товаров, работ и услуг для обеспечения государственных (муниципальных) нужд"}]
["Муниципальная программа «Обеспечение общественного порядка и противодействие преступности в Кукморском муниципальном районе на 2018 - 2020 годы\"","611","0709","0600000000",null,{"$f":"F529","v":3315500},{"$f":"G529","v":3315500}]
["Подпрограмма «Профилактика терроризма и экстремизма в Кукморском муниципальном районе на 2018-2020гг.»","611","0709","0630000000",null,{"$f":"F530","v":3315500},3315500]
["Основное мероприятие \"Профилактика терроризма и экстремизма\"","611","0709","0630100000",null,3315500,3315500]
["Реализация программных мероприятий063","611","0709","0630110990",null,3315500,3315500]
["Прочая закупка товаров, работ и услуг для обеспечения государственных (муниципальных) нужд","611","0709","0630110990","244",{"$f":"SUMIF(свод19!$N$15:$N$1600,B532&C532&D532&A532,свод19!$I$15:$I$1600)*1000","v":3315500},{"$f":"SUMIF(свод20!$N$15:$N$1600,B532&C532&D532&A532,свод20!$I$15:$I$1600)*1000","v":3315500},{"$f":"C532&D532&A532","v":"07090630110990Прочая закупка товаров, работ и услуг для обеспечения государственных (муниципальных) нужд"}]
["Программа по реализации государственной национальной политики в Кукморском муниципальном районе на 2018-2020 годы","611","0709","2000000000",null,{"$f":"F534","v":400000},{"$f":"G534","v":400000}]
["Основное мероприятие «Реализация государственной национальной политики в Республике Татарстан, цивилизованное развитие представителей народов, проживающих на территории Республики Татарстан, сохранение межэтнического и межконфессионального мира и согласия, упрочение общероссийской гражданской идентичности (российской нации), успешная социокультурная адаптация и интеграция мигрантов»","611","0709","2000100000",null,{"$f":"F535","v":400000},400000]
["Реализация программных мероприятий200","611","0709","2000110990",null,{"$f":"SUM(F536:F537)","v":400000},{"$f":"SUM(G536:G537)","v":400000}]
["Иные выплаты, за исключением фонда оплаты труда казенных учреждений, лицам, привлекаемым согласно законодательству для выполнения отдельных полномочий","611","0709","2000110990","113",{"$f":"SUMIF(свод19!$N$15:$N$1600,B536&C536&D536&A536,свод19!$I$15:$I$1600)*1000","v":0},{"$f":"SUMIF(свод20!$N$15:$N$1600,B536&C536&D536&A536,свод20!$I$15:$I$1600)*1000","v":0},{"$f":"C536&D536&A536","v":"07092000110990Иные выплаты, за исключением фонда оплаты труда казенных учреждений, лицам, привлекаемым согласно законодательству для выполнения отдельных полномочий"}]
["Прочая закупка товаров, работ и услуг для обеспечения государственных (муниципальных) нужд","611","0709","2000110990","244",{"$f":"SUMIF(свод19!$N$15:$N$1600,B537&C537&D537&A537,свод19!$I$15:$I$1600)*1000","v":400000},{"$f":"SUMIF(свод20!$N$15:$N$1600,B537&C537&D537&A537,свод20!$I$15:$I$1600)*1000","v":400000},"07092000110990Прочая закупка товаров, работ и услуг для обеспечения государственных (муниципальных) нужд"]
["Муниципальная программа «Реализация антикоррупционной политики в Кукморском муниципальном районе Республики Татарстан на 2018-2020 годы»","611","0709","2700000000",null,{"$f":"F539","v":10000},{"$f":"G539","v":10000}]
["Основное мероприятие \"Выявление и устранение причин коррупции, противодействие условиям, способствующим ее проявлениям, формирование в обществе нетерпимого отношения к коррупции\"","611","0709","2700100000",null,{"$f":"F540","v":10000},10000]
["Реализация программных мероприятий270","611","0709","2700110990",null,10000,10000]
["Прочая закупка товаров, работ и услуг для обеспечения государственных (муниципальных) нужд","611","0709","2700110990","244",{"$f":"SUMIF(свод19!$N$15:$N$1600,B541&C541&D541&A541,свод19!$I$15:$I$1600)*1000","v":10000},{"$f":"SUMIF(свод20!$N$15:$N$1600,B541&C541&D541&A541,свод20!$I$15:$I$1600)*1000","v":10000},{"$f":"C541&D541&A541","v":"07092700110990Прочая закупка товаров, работ и услуг для обеспечения государственных (муниципальных) нужд"}]
["СОЦИАЛЬНАЯ ПОЛИТИКА","611","1000",null,null,{"$f":"F543+F549","v":19295800},{"$f":"G543+G549","v":19644600}]
["Социальное обеспечение населения","611","1003",null,null,{"$f":"F544","v":8077400},{"$f":"G544","v":8426200}]
["Муниципальная программа «Социальная поддержка граждан Кукморского муниципального района Республики Татарстан» на 2018 – 2020 годы","611","1003","0300000000",null,{"$f":"F545","v":8077400},8426200]
["Подпрограмма «Социальные выплаты» на 2018 – 2020 годы","611","1003","0310000000",null,8077400,8426200]
["Основное мероприятие \"Обеспечение питанием обучающихся в профессиональных образовательных организациях\"","611","1003","0310200000",null,8077400,8426200]
["Оказание других видов социальной помощи","611","1003","0310205510",null,8077400,8426200]
["Субсидии бюджетным учреждениям на финансовое обеспечение государственного (муниципального) задания на оказание государственных (муниципальных) услуг (выполнение работ)","611","1003","0310205510","611",{"$f":"SUMIF(свод19!$N$15:$N$1600,B548&C548&D548&A548,свод19!$I$15:$I$1600)*1000","v":8077400},{"$f":"SUMIF(свод20!$N$15:$N$1600,B548&C548&D548&A548,свод20!$I$15:$I$1600)*1000","v":8426200},{"$f":"C548&D548&A548","v":"10030310205510Субсидии бюджетным учреждениям на финансовое обеспечение государственного (муниципального) задания на оказание государственных (муниципальных) услуг (выполнение работ)"}]
["Охрана семьи и детства","611","1004",null,null,{"$f":"F550","v":11218400},{"$f":"G550","v":11218400}]
["Муниципальная программа «Социальная поддержка граждан Кукморского муниципального района Республики Татарстан» на 2018 – 2020 годы","611","1004","0300000000",null,{"$f":"F551","v":11218400},11218400]
["Подпрограмма \"Улучшение социально-экономического положения семей\" на 2018 – 2020 годы","611","1004","0350000000",null,11218400,11218400]
["Основное мероприятие \"Развитие системы мер социальной поддержки семей\"","611","1004","0350100000",null,11218400,11218400]
["Компенсация за присмотр и уход за ребенком в образовательных организациях, реализующих образовательную программу дошкольного образования","611","1004","0350113200",null,11218400,11218400]
["Пособия, компенсации, меры социальной поддержки по публичным нормативным обязательствам","611","1004","0350113200","313",{"$f":"SUMIF(свод19!$N$15:$N$1600,B554&C554&D554&A554,свод19!$I$15:$I$1600)*1000","v":11218400},{"$f":"SUMIF(свод20!$N$15:$N$1600,B554&C554&D554&A554,свод20!$I$15:$I$1600)*1000","v":11218400},{"$f":"C554&D554&A554","v":"10040350113200Пособия, компенсации, меры социальной поддержки по публичным нормативным обязательствам"}]
["Управление по делам молодежи и спорту Кукморского муниципального района","612",null,null,null,{"$f":"F556+F574+F645","v":65152090.869999982},{"$f":"G556+G574+G645","v":65711590.869999982}]
["ОБЩЕГОСУДАРСТВЕННЫЕ ВОПРОСЫ","612","0100",null,null,{"$f":"F557+F567","v":1016000},{"$f":"G557+G567","v":1026500}]
["Функционирование Правительства Российской Федерации, высших исполнительных органов государственной власти субъектов Российской Федерации, местных администраций","612","0104",null,null,{"$f":"F558","v":1005900},1016400]
["Непрограммные направления расходов","612","0104","9900000000",null,{"$f":"F559+F563","v":1005900},{"$f":"G559+G563","v":1016400}]
["Центральный аппарат","612","0104","9900002040",null,{"$f":"SUM(F560:F562)","v":729800},{"$f":"SUM(G560:G562)","v":729800}]
["Фонд оплаты труда государственных (муниципальных) органов и взносы по обязательному социальному страхованию","612","0104","9900002040","121",{"$f":"SUMIF(свод19!$N$15:$N$1600,B560&C560&D560&A560,свод19!$I$15:$I$1600)*1000","v":560800},{"$f":"SUMIF(свод20!$N$15:$N$1600,B560&C560&D560&A560,свод20!$I$15:$I$1600)*1000","v":560800},{"$f":"C560&D560&A560","v":"01049900002040Фонд оплаты труда государственных (муниципальных) органов и взносы по обязательному социальному страхованию"}]
["Взносы по обязательному социальному страхованию на выплату денежного содержания и иные выплаты работникам государственных (муниципальных) органов","612","0104","9900002040","129",{"$f":"SUMIF(свод19!$N$15:$N$1600,B561&C561&D561&A561,свод19!$I$15:$I$1600)*1000","v":169000},{"$f":"SUMIF(свод20!$N$15:$N$1600,B561&C561&D561&A561,свод20!$I$15:$I$1600)*1000","v":169000},"01049900002040Взносы по обязательному социальному страхованию на выплату денежного содержания и иные выплаты работникам государственных (муниципальных) органов"]
["Уплата прочих налогов, сборов и иных платежей","612","0104","9900002040","852",{"$f":"SUMIF(свод19!$N$15:$N$1600,B562&C562&D562&A562,свод19!$I$15:$I$1600)*1000","v":0},{"$f":"SUMIF(свод20!$N$15:$N$1600,B562&C562&D562&A562,свод20!$I$15:$I$1600)*1000","v":0},"01049900002040Уплата прочих налогов, сборов и иных платежей"]
["Реализация государственных полномочий в области молодежной политики","612","0104","9900025240",null,{"$f":"SUM(F564:F566)","v":276100},{"$f":"SUM(G564:G566)","v":286600}]
["Фонд оплаты труда государственных (муниципальных) органов и взносы по обязательному социальному страхованию","612","0104","9900025240","121",{"$f":"SUMIF(свод19!$N$15:$N$1600,B564&C564&D564&A564,свод19!$I$15:$I$1600)*1000","v":214399.99999999997},{"$f":"SUMIF(свод20!$N$15:$N$1600,B564&C564&D564&A564,свод20!$I$15:$I$1600)*1000","v":220100},{"$f":"C564&D564&A564","v":"01049900025240Фонд оплаты труда государственных (муниципальных) органов и взносы по обязательному социальному страхованию"}]
["Взносы по обязательному социальному страхованию на выплату денежного содержания и иные выплаты работникам государственных (муниципальных) органов","612","0104","9900025240","129",{"$f":"SUMIF(свод19!$N$15:$N$1600,B565&C565&D565&A565,свод19!$I$15:$I$1600)*1000","v":61700},{"$f":"SUMIF(свод20!$N$15:$N$1600,B565&C565&D565&A565,свод20!$I$15:$I$1600)*1000","v":66500},"01049900025240Взносы по обязательному социальному страхованию на выплату денежного содержания и иные выплаты работникам государственных (муниципальных) органов"]
["Прочая закупка товаров, работ и услуг для обеспечения государственных (муниципальных) нужд","612","0104","9900025240","244",{"$f":"SUMIF(свод19!$N$15:$N$1600,B566&C566&D566&A566,свод19!$I$15:$I$1600)*1000","v":-1.4210854715202004E-11},{"$f":"SUMIF(свод20!$N$15:$N$1600,B566&C566&D566&A566,свод20!$I$15:$I$1600)*1000","v":-1.4210854715202004E-11},"01049900025240Прочая закупка товаров, работ и услуг для обеспечения государственных (муниципальных) нужд"]
["Другие общегосударственные вопросы","612","0113",null,null,{"$f":"F568","v":10100},{"$f":"G568","v":10100}]
["Непрограммные направления расходов","612","0113","9900000000",null,{"$f":"F569+F571","v":10100},{"$f":"G569+G571","v":10100}]
["Центральный аппарат","612","0113","9900002040",null,{"$f":"F570","v":0},0]
["Уплата прочих налогов, сборов и иных платежей","612","0113","9900002040","852",{"$f":"SUMIF(свод19!$N$15:$N$1600,B570&C570&D570&A570,свод19!$I$15:$I$1600)*1000","v":0},{"$f":"SUMIF(свод20!$N$15:$N$1600,B570&C570&D570&A570,свод20!$I$15:$I$1600)*1000","v":0},{"$f":"C570&D570&A570","v":"01139900002040Уплата прочих налогов, сборов и иных платежей"}]
["Уплата налога на имущество организаций и земельного налога","612","0113","9900002950",null,{"$f":"SUM(F572:F573)","v":10100},{"$f":"SUM(G572:G573)","v":10100}]
["Уплата налога на имущество организаций и земельного налога","612","0113","9900002950","851",{"$f":"SUMIF(свод19!$N$15:$N$1600,B572&C572&D572&A572,свод19!$I$15:$I$1600)*1000","v":7100},{"$f":"SUMIF(свод20!$N$15:$N$1600,B572&C572&D572&A572,свод20!$I$15:$I$1600)*1000","v":7100},{"$f":"C572&D572&A572","v":"01139900002950Уплата налога на имущество организаций и земельного налога"}]
["Уплата прочих налогов, сборов и иных платежей","612","0113","9900002950","852",{"$f":"SUMIF(свод19!$N$15:$N$1600,B573&C573&D573&A573,свод19!$I$15:$I$1600)*1000","v":3000},{"$f":"SUMIF(свод20!$N$15:$N$1600,B573&C573&D573&A573,свод20!$I$15:$I$1600)*1000","v":3000},"01139900002950Уплата прочих налогов, сборов и иных платежей"]
["ОБРАЗОВАНИЕ","612","0700",null,null,{"$f":"F575+F607+F639+F601","v":62737890.869999982},{"$f":"G575+G607+G639+G601","v":63286890.869999982}]
["Общее образование","612","0702",null,null,{"$f":"F576+F582+F587+F592+F598","v":0},{"$f":"G576+G582+G587+G592+G598","v":0}]
["Муниципальная программа «Развитие образования Кукморского муниципального района Республики Татарстан на 2018 – 2020 годы»","612","0702","0200000000",null,{"$f":"F577","v":0},{"$f":"G577","v":0}]
["Подпрограмма «Развитие дополнительного образования на 2018 – 2020 годы»","612","0702","0230000000",null,{"$f":"F578","v":0},0]
["Основное мероприятие \"Организация предоставления дополнительного образования детей в государственных образовательных организациях\"","612","0702","0230100000",null,0,0]
["Развитие муниципальных учреждений дополнительного образования детей спортивной направленности","612","0702","0230142330",null,{"$f":"SUM(F580:F581)","v":0},{"$f":"SUM(G580:G581)","v":0}]
["Субсидии бюджетным учреждениям на финансовое обеспечение государственного (муниципального) задания на оказание государственных (муниципальных) услуг (выполнение работ)","612","0702","0230142330","611",{"$f":"SUMIF(свод19!$N$15:$N$1600,B580&C580&D580&A580,свод19!$I$15:$I$1600)*1000","v":0},{"$f":"SUMIF(свод20!$N$15:$N$1600,B580&C580&D580&A580,свод20!$I$15:$I$1600)*1000","v":0},{"$f":"C580&D580&A580","v":"07020230142330Субсидии бюджетным учреждениям на финансовое обеспечение государственного (муниципального) задания на оказание государственных (муниципальных) услуг (выполнение работ)"}]
["Субсидии бюджетным учреждениям на иные цели","612","0702","0230142330","612",{"$f":"SUMIF(свод19!$N$15:$N$1600,B581&C581&D581&A581,свод19!$I$15:$I$1600)*1000","v":0},{"$f":"SUMIF(свод20!$N$15:$N$1600,B581&C581&D581&A581,свод20!$I$15:$I$1600)*1000","v":0},"07020230142330Субсидии бюджетным учреждениям на иные цели"]
["Муниципальная программа улучшения условий и охраны труда в Кукморском муниципальном районе на 2018 - 2020 годы","612","0702","0500000000",null,{"$f":"F583","v":0},{"$f":"G583","v":0}]
["Подпрограмма улучшения условий и охраны труда в Кукморском муниципальном районе на 2018 - 2020 годы","612","0702","0520000000",null,{"$f":"F584","v":0},0]
["Основное мероприятие \"Реализация мероприятий в области охраны труда\"","612","0702","0520100000",null,0,0]
["Мероприятия по улучшению условий и охраны труда","612","0702","0520115500",null,0,0]
["Субсидии бюджетным учреждениям на финансовое обеспечение государственного (муниципального) задания на оказание государственных (муниципальных) услуг (выполнение работ)","612","0702","0520115500","611",{"$f":"SUMIF(свод19!$N$15:$N$1600,B586&C586&D586&A586,свод19!$I$15:$I$1600)*1000","v":0},{"$f":"SUMIF(свод20!$N$15:$N$1600,B586&C586&D586&A586,свод20!$I$15:$I$1600)*1000","v":0},{"$f":"C586&D586&A586","v":"07020520115500Субсидии бюджетным учреждениям на финансовое обеспечение государственного (муниципального) задания на оказание государственных (муниципальных) услуг (выполнение работ)"}]
["Муниципальная программа «Обеспечение общественного порядка и противодействие преступности в Кукморском муниципальном районе на 2018 - 2020 годы\"","612","0702","0600000000",null,{"$f":"F588","v":0},0]
["Подпрограмма «Профилактика терроризма и экстремизма в Кукморском муниципальном районе на 2018-2020гг.»","612","0702","0630000000",null,0,0]
["Основное мероприятие \"Профилактика терроризма и экстремизма\"","612","0702","0630100000",null,0,0]
["Реализация программных мероприятий063","612","0702","0630110990",null,{"$f":"F591","v":0},{"$f":"G591","v":0}]
["Субсидии бюджетным учреждениям на финансовое обеспечение государственного (муниципального) задания на оказание государственных (муниципальных) услуг (выполнение работ)","612","0702","0630110990","611",{"$f":"SUMIF(свод19!$N$15:$N$1600,B591&C591&D591&A591,свод19!$I$15:$I$1600)*1000","v":0},{"$f":"SUMIF(свод20!$N$15:$N$1600,B591&C591&D591&A591,свод20!$I$15:$I$1600)*1000","v":0},{"$f":"C591&D591&A591","v":"07020630110990Субсидии бюджетным учреждениям на финансовое обеспечение государственного (муниципального) задания на оказание государственных (муниципальных) услуг (выполнение работ)"}]
["Муниципальная программа «Развитие молодежной политики, физической культуры и спорта в Кукморском муниципальном районе Республики Татарстан на 2018 – 2020 годы»","612","0702","1000000000",null,{"$f":"F593","v":0},{"$f":"G593","v":0}]
["Подпрограмма «Развитие физической культуры и спорта в Кукморском муниципальном районе Республики Татарстан на 2018 – 2020 годы»","612","0702","1010000000",null,{"$f":"F594","v":0},0]
["Основное мероприятие \"Реализация государственной политики в области физической культуры и спорта в Республике Татарстан\"","612","0702","1010100000",null,0,0]
["Мероприятия, направленные на поддержку тренеров-преподавателей и спортсменов-инструкторов, работающих в учреждениях по внешкольной работе с детьми за высокие результаты","612","0702","1010142330",null,{"$f":"SUM(F596:F597)","v":0},{"$f":"SUM(G596:G597)","v":0}]
["Фонд оплаты труда казенных учреждений и взносы по обязательному социальному страхованию","612","0702","1010142330","111",{"$f":"SUMIF(свод19!$N$15:$N$1600,B596&C596&D596&A596,свод19!$I$15:$I$1600)*1000","v":0},{"$f":"SUMIF(свод20!$N$15:$N$1600,B596&C596&D596&A596,свод20!$I$15:$I$1600)*1000","v":0},{"$f":"C596&D596&A596","v":"07021010142330Фонд оплаты труда казенных учреждений и взносы по обязательному социальному страхованию"}]
["Субсидии бюджетным учреждениям на финансовое обеспечение государственного (муниципального) задания на оказание государственных (муниципальных) услуг (выполнение работ)","612","0702","1010142330","611",{"$f":"SUMIF(свод19!$N$15:$N$1600,B597&C597&D597&A597,свод19!$I$15:$I$1600)*1000","v":0},{"$f":"SUMIF(свод20!$N$15:$N$1600,B597&C597&D597&A597,свод20!$I$15:$I$1600)*1000","v":0},"07021010142330Субсидии бюджетным учреждениям на финансовое обеспечение государственного (муниципального) задания на оказание государственных (муниципальных) услуг (выполнение работ)"]
["Непрограммные направления расходов","612","0702","9900000000",null,{"$f":"F599","v":0},{"$f":"G599","v":0}]
["Бюджетные инвестиции и капитальный ремонт социальной и инженерной инфраструктуры государственной (муниципальной) собственности Республики Татарстан","612","0702","9900072310",null,{"$f":"F600","v":0},{"$f":"G600","v":0}]
["Субсидии бюджетным учреждениям на иные цели","612","0702","9900072310","612",{"$f":"SUMIF(свод19!$N$15:$N$1600,B600&C600&D600&A600,свод19!$I$15:$I$1600)*1000","v":0},{"$f":"SUMIF(свод20!$N$15:$N$1600,B600&C600&D600&A600,свод20!$I$15:$I$1600)*1000","v":0},{"$f":"C600&D600&A600","v":"07029900072310Субсидии бюджетным учреждениям на иные цели"}]
["Дополнительное образование детей","612","0703",null,null,{"$f":"F602+F608+F613+F618+F624","v":48120790.869999982},{"$f":"G602+G608+G613+G618+G624","v":48120790.869999982}]
["Муниципальная программа «Развитие образования Кукморского муниципального района Республики Татарстан на 2018 – 2020 годы»","612","0703","0200000000",null,{"$f":"F603","v":48119790.869999982},{"$f":"G603","v":48119790.869999982}]
["Подпрограмма «Развитие дополнительного образования на 2018 – 2020 годы»","612","0703","0230000000",null,{"$f":"F604","v":48119790.869999982},48119790.869999982]
["Основное мероприятие \"Организация предоставления дополнительного образования детей в государственных образовательных организациях\"","612","0703","0230100000",null,48119790.869999982,48119790.869999982]
["Развитие муниципальных учреждений дополнительного образования детей спортивной направленности","612","0703","0230142330",null,{"$f":"F606","v":48119790.869999982},{"$f":"G606","v":48119790.869999982}]
["Субсидии бюджетным учреждениям на финансовое обеспечение государственного (муниципального) задания на оказание государственных (муниципальных) услуг (выполнение работ)","612","0703","0230142330","611",{"$f":"SUMIF(свод19!$N$15:$N$1600,B606&C606&D606&A606,свод19!$I$15:$I$1600)*1000","v":48119790.869999982},{"$f":"SUMIF(свод20!$N$15:$N$1600,B606&C606&D606&A606,свод20!$I$15:$I$1600)*1000","v":48119790.869999982},{"$f":"C606&D606&A606","v":"07030230142330Субсидии бюджетным учреждениям на финансовое обеспечение государственного (муниципального) задания на оказание государственных (муниципальных) услуг (выполнение работ)"}]
["Молодежная политика и оздоровление детей","612","0707",null,null,{"$f":"F608+F613+F619+F629+F635","v":14617100.000000002},{"$f":"G608+G613+G619+G629+G635","v":15166100.000000002}]
["Муниципальная программа улучшения условий и охраны труда в Кукморском муниципальном районе на 2018 - 2020 годы","612","0707","0500000000",null,{"$f":"F609","v":0},{"$f":"G609","v":0}]
["Подпрограмма улучшения условий и охраны труда в Кукморском муниципальном районе на 2018 - 2020 годы","612","0707","0520000000",null,{"$f":"F610","v":0},0]
["Основное мероприятие \"Реализация мероприятий в области охраны труда\"","612","0707","0520100000",null,0,0]
["Мероприятия по улучшению условий и охраны труда","612","0707","0520115500",null,0,0]
["Субсидии бюджетным учреждениям на финансовое обеспечение государственного (муниципального) задания на оказание государственных (муниципальных) услуг (выполнение работ)","612","0707","0520115500","611",{"$f":"SUMIF(свод19!$N$15:$N$1600,B612&C612&D612&A612,свод19!$I$15:$I$1600)*1000","v":0},{"$f":"SUMIF(свод20!$N$15:$N$1600,B612&C612&D612&A612,свод20!$I$15:$I$1600)*1000","v":0},{"$f":"C612&D612&A612","v":"07070520115500Субсидии бюджетным учреждениям на финансовое обеспечение государственного (муниципального) задания на оказание государственных (муниципальных) услуг (выполнение работ)"}]
["Муниципальная программа «Обеспечение общественного порядка и противодействие преступности в Кукморском муниципальном районе на 2018 - 2020 годы\"","612","0707","0600000000",null,{"$f":"F614","v":1000},{"$f":"G614","v":1000}]
["Подпрограмма «Профилактика терроризма и экстремизма в Кукморском муниципальном районе на 2018-2020гг.»","612","0707","0630000000",null,{"$f":"F615","v":1000},1000]
["Основное мероприятие \"Профилактика терроризма и экстремизма\"","612","0707","0630100000",null,1000,1000]
["Реализация программных мероприятий063","612","0707","0630110990",null,{"$f":"SUM(F617:F618)","v":1000},{"$f":"SUM(G617:G618)","v":1000}]
["Прочая закупка товаров, работ и услуг для обеспечения государственных (муниципальных) нужд","612","0707","0630110990","244",{"$f":"SUMIF(свод19!$N$15:$N$1600,B617&C617&D617&A617,свод19!$I$15:$I$1600)*1000","v":1000},{"$f":"SUMIF(свод20!$N$15:$N$1600,B617&C617&D617&A617,свод20!$I$15:$I$1600)*1000","v":1000},{"$f":"C617&D617&A617","v":"07070630110990Прочая закупка товаров, работ и услуг для обеспечения государственных (муниципальных) нужд"}]
["Субсидии бюджетным учреждениям на финансовое обеспечение государственного (муниципального) задания на оказание государственных (муниципальных) услуг (выполнение работ)","612","0707","0630110990","611",{"$f":"SUMIF(свод19!$N$15:$N$1600,B618&C618&D618&A618,свод19!$I$15:$I$1600)*1000","v":0},{"$f":"SUMIF(свод20!$N$15:$N$1600,B618&C618&D618&A618,свод20!$I$15:$I$1600)*1000","v":0},"07070630110990Субсидии бюджетным учреждениям на финансовое обеспечение государственного (муниципального) задания на оказание государственных (муниципальных) услуг (выполнение работ)"]
["Муниципальная программа «Развитие молодежной политики, физической культуры и спорта в Кукморском муниципальном районе Республики Татарстан на 2018 – 2020 годы»","612","0707","1000000000",null,{"$f":"F620+F625","v":14397100.000000002},{"$f":"G620+G625","v":14946100.000000002}]
["Подпрограмма \"Организация отдыха детей и молодежи, их оздоровления и занятости на 2018 – 2020 годы\"","612","0707","1020000000",null,{"$f":"F621","v":0},{"$f":"G621","v":0}]
["Основное мероприятие \"Создание условий для организации отдыха детей и молодежи, их оздоровления, обеспечение их занятости и повышение оздоровительного эффекта\"","612","0707","1020100000",null,{"$f":"F622","v":0},0]
["Мероприятия по организации отдыха, оздоровления, занятости детей и молодежи","612","0707","1020121320",null,{"$f":"SUM(F623:F624)","v":0},{"$f":"SUM(G623:G624)","v":0}]
["Прочая закупка товаров, работ и услуг для обеспечения государственных (муниципальных) нужд","612","0707","1020121320","244",{"$f":"SUMIF(свод19!$N$15:$N$1600,B623&C623&D623&A623,свод19!$I$15:$I$1600)*1000","v":0},{"$f":"SUMIF(свод20!$N$15:$N$1600,B623&C623&D623&A623,свод20!$I$15:$I$1600)*1000","v":0},{"$f":"C623&D623&A623","v":"07071020121320Прочая закупка товаров, работ и услуг для обеспечения государственных (муниципальных) нужд"}]
["Субсидии бюджетным учреждениям на иные цели","612","0707","1020121320","612",{"$f":"SUMIF(свод19!$N$15:$N$1600,B624&C624&D624&A624,свод19!$I$15:$I$1600)*1000","v":0},{"$f":"SUMIF(свод20!$N$15:$N$1600,B624&C624&D624&A624,свод20!$I$15:$I$1600)*1000","v":0},"07071020121320Субсидии бюджетным учреждениям на иные цели"]
["Подпрограмма «Сельская молодежь Кукморского муниципального района Республики Татарстан на 2018 – 2020 годы»","612","0707","1040000000",null,{"$f":"F626","v":14397100.000000002},{"$f":"G626","v":14946100.000000002}]
["Основное мероприятие \"Развитие государственной молодежной политики в Республике Татарстан\"","612","0707","1040100000",null,{"$f":"F627","v":14397100.000000002},14946100.000000002]
["Обеспечение деятельности  учреждений молодежной политики","612","0707","1040143190",null,14397100.000000002,14946100.000000002]
["Субсидии бюджетным учреждениям на финансовое обеспечение государственного (муниципального) задания на оказание государственных (муниципальных) услуг (выполнение работ)","612","0707","1040143190","611",{"$f":"SUMIF(свод19!$N$15:$N$1600,B628&C628&D628&A628,свод19!$I$15:$I$1600)*1000","v":14397100.000000002},{"$f":"SUMIF(свод20!$N$15:$N$1600,B628&C628&D628&A628,свод20!$I$15:$I$1600)*1000","v":14946100.000000002},{"$f":"C628&D628&A628","v":"07071040143190Субсидии бюджетным учреждениям на финансовое обеспечение государственного (муниципального) задания на оказание государственных (муниципальных) услуг (выполнение работ)"}]
["Программа по реализации государственной национальной политики в Кукморском муниципальном районе на 2018-2020 годы","612","0707","2000000000",null,{"$f":"F630","v":198000},{"$f":"G630","v":198000}]
["Основное мероприятие «Реализация государственной национальной политики в Республике Татарстан, цивилизованное развитие представителей народов, проживающих на территории Республики Татарстан, сохранение межэтнического и межконфессионального мира и согласия, упрочение общероссийской гражданской идентичности (российской нации), успешная социокультурная адаптация и интеграция мигрантов»","612","0707","2000100000",null,{"$f":"F631","v":198000},198000]
["Реализация программных мероприятий200","612","0707","2000110990",null,{"$f":"SUM(F632:F634)","v":198000},{"$f":"SUM(G632:G634)","v":198000}]
["Иные выплаты персоналу казенных учреждений, за исключением фонда оплаты труда","612","0707","2000110990","112",{"$f":"SUMIF(свод19!$N$15:$N$1600,B632&C632&D632&A632,свод19!$I$15:$I$1600)*1000","v":20000},{"$f":"SUMIF(свод20!$N$15:$N$1600,B632&C632&D632&A632,свод20!$I$15:$I$1600)*1000","v":20000},{"$f":"C632&D632&A632","v":"07072000110990Иные выплаты персоналу казенных учреждений, за исключением фонда оплаты труда"}]
["Иные выплаты, за исключением фонда оплаты труда казенных учреждений, лицам, привлекаемым согласно законодательству для выполнения отдельных полномочий","612","0707","2000110990","113",{"$f":"SUMIF(свод19!$N$15:$N$1600,B633&C633&D633&A633,свод19!$I$15:$I$1600)*1000","v":0},{"$f":"SUMIF(свод20!$N$15:$N$1600,B633&C633&D633&A633,свод20!$I$15:$I$1600)*1000","v":0},"07072000110990Иные выплаты, за исключением фонда оплаты труда казенных учреждений, лицам, привлекаемым согласно законодательству для выполнения отдельных полномочий"]
["Прочая закупка товаров, работ и услуг для обеспечения государственных (муниципальных) нужд","612","0707","2000110990","244",{"$f":"SUMIF(свод19!$N$15:$N$1600,B634&C634&D634&A634,свод19!$I$15:$I$1600)*1000","v":178000},{"$f":"SUMIF(свод20!$N$15:$N$1600,B634&C634&D634&A634,свод20!$I$15:$I$1600)*1000","v":178000},"07072000110990Прочая закупка товаров, работ и услуг для обеспечения государственных (муниципальных) нужд"]
["Муниципальная программа «Реализация антикоррупционной политики в Кукморском муниципальном районе Республики Татарстан на 2018-2020 годы»","612","0707","2700000000",null,{"$f":"F636","v":21000},{"$f":"G636","v":21000}]
["Основное мероприятие \"Выявление и устранение причин коррупции, противодействие условиям, способствующим ее проявлениям, формирование в обществе нетерпимого отношения к коррупции\"","612","0707","2700100000",null,{"$f":"F637","v":21000},21000]
["Реализация программных мероприятий270","612","0707","2700110990",null,21000,21000]
["Прочая закупка товаров, работ и услуг для обеспечения государственных (муниципальных) нужд","612","0707","2700110990","244",{"$f":"SUMIF(свод19!$N$15:$N$1600,B638&C638&D638&A638,свод19!$I$15:$I$1600)*1000","v":21000},{"$f":"SUMIF(свод20!$N$15:$N$1600,B638&C638&D638&A638,свод20!$I$15:$I$1600)*1000","v":21000},{"$f":"C638&D638&A638","v":"07072700110990Прочая закупка товаров, работ и услуг для обеспечения государственных (муниципальных) нужд"}]
["Другие вопросы в области образования","612","0709",null,null,{"$f":"F640","v":0},{"$f":"G640","v":0}]
["Муниципальная программа «Развитие молодежной политики, физической культуры и спорта в Кукморском муниципальном районе Республики Татарстан на 2018 – 2020 годы»","612","0709","1000000000",null,{"$f":"F641","v":0},0]
["Подпрограмма «Развитие физической культуры и спорта в Кукморском муниципальном районе Республики Татарстан на 2018 – 2020 годы»","612","0709","1010000000",null,0,0]
["Основное мероприятие \"Реализация государственной политики в области физической культуры и спорта в Республике Татарстан\"","612","0709","1010100000",null,0,0]
["Развитие детско-юношеского спорта","612","0709","1010143650",null,0,0]
["Субсидии бюджетным учреждениям на финансовое обеспечение государственного (муниципального) задания на оказание государственных (муниципальных) услуг (выполнение работ)","612","0709","1010143650","611",{"$f":"SUMIF(свод19!$N$15:$N$1600,B644&C644&D644&A644,свод19!$I$15:$I$1600)*1000","v":0},{"$f":"SUMIF(свод20!$N$15:$N$1600,B644&C644&D644&A644,свод20!$I$15:$I$1600)*1000","v":0},{"$f":"C644&D644&A644","v":"07091010143650Субсидии бюджетным учреждениям на финансовое обеспечение государственного (муниципального) задания на оказание государственных (муниципальных) услуг (выполнение работ)"}]
["ФИЗИЧЕСКАЯ КУЛЬТУРА И СПОРТ","612","1100",null,null,{"$f":"F646","v":1398200},{"$f":"G646","v":1398200}]
["Массовый спорт","612","1102",null,null,{"$f":"F647+F653+F659","v":1398200},{"$f":"G647+G653+G659","v":1398200}]
["Муниципальная программа «Социальная поддержка граждан Кукморского муниципального района Республики Татарстан» на 2018 – 2020 годы","612","1102","0300000000",null,{"$f":"F648","v":385500},{"$f":"G648","v":385500}]
["Подпрограмма Кукморского муниципального района \"Доступная среда на 2018-2020 годы\"","612","1102","0360000000",null,{"$f":"F649","v":385500},385500]
["Основное мероприятие \"Мероприятия по формированию доступной среды\"","612","1102","0360100000",null,385500,385500]
["Мероприятия физической культуры и спорта в области массового спорта036","612","1102","0360112870",null,{"$f":"SUM(F651:F652)","v":385500},{"$f":"SUM(G651:G652)","v":385500}]
["Иные выплаты, за исключением фонда оплаты труда казенных учреждений, лицам, привлекаемым согласно законодательству для выполнения отдельных полномочий","612","1102","0360112870","113",{"$f":"SUMIF(свод19!$N$15:$N$1600,B651&C651&D651&A651,свод19!$I$15:$I$1600)*1000","v":0},{"$f":"SUMIF(свод20!$N$15:$N$1600,B651&C651&D651&A651,свод20!$I$15:$I$1600)*1000","v":0},{"$f":"C651&D651&A651","v":"11020360112870Иные выплаты, за исключением фонда оплаты труда казенных учреждений, лицам, привлекаемым согласно законодательству для выполнения отдельных полномочий"}]
["Прочая закупка товаров, работ и услуг для обеспечения государственных (муниципальных) нужд","612","1102","0360112870","244",{"$f":"SUMIF(свод19!$N$15:$N$1600,B652&C652&D652&A652,свод19!$I$15:$I$1600)*1000","v":385500},{"$f":"SUMIF(свод20!$N$15:$N$1600,B652&C652&D652&A652,свод20!$I$15:$I$1600)*1000","v":385500},"11020360112870Прочая закупка товаров, работ и услуг для обеспечения государственных (муниципальных) нужд"]
["Муниципальная программа «Развитие молодежной политики, физической культуры и спорта в Кукморском муниципальном районе Республики Татарстан на 2018 – 2020 годы»","612","1102","1000000000",null,{"$f":"F654","v":597700},{"$f":"G654","v":597700}]
["Подпрограмма «Развитие физической культуры и спорта в Кукморском муниципальном районе Республики Татарстан на 2018 – 2020 годы»","612","1102","1010000000",null,{"$f":"F655","v":597700},597700]
["Основное мероприятие \"Реализация государственной политики в области физической культуры и спорта в Республике Татарстан\"","612","1102","1010100000",null,597700,597700]
["Мероприятия физической культуры и спорта в области массового спорта101","612","1102","1010112870",null,{"$f":"SUM(F657:F658)","v":597700},{"$f":"SUM(G657:G658)","v":597700}]
["Иные выплаты, за исключением фонда оплаты труда казенных учреждений, лицам, привлекаемым согласно законодательству для выполнения отдельных полномочий","612","1102","1010112870","113",{"$f":"SUMIF(свод19!$N$15:$N$1600,B657&C657&D657&A657,свод19!$I$15:$I$1600)*1000","v":0},{"$f":"SUMIF(свод20!$N$15:$N$1600,B657&C657&D657&A657,свод20!$I$15:$I$1600)*1000","v":0},{"$f":"C657&D657&A657","v":"11021010112870Иные выплаты, за исключением фонда оплаты труда казенных учреждений, лицам, привлекаемым согласно законодательству для выполнения отдельных полномочий"}]
["Прочая закупка товаров, работ и услуг для обеспечения государственных (муниципальных) нужд","612","1102","1010112870","244",{"$f":"SUMIF(свод19!$N$15:$N$1600,B658&C658&D658&A658,свод19!$I$15:$I$1600)*1000","v":597700},{"$f":"SUMIF(свод20!$N$15:$N$1600,B658&C658&D658&A658,свод20!$I$15:$I$1600)*1000","v":597700},"11021010112870Прочая закупка товаров, работ и услуг для обеспечения государственных (муниципальных) нужд"]
["Программа по реализации государственной национальной политики в Кукморском муниципальном районе на 2018-2020 годы","612","1102","2000000000",null,{"$f":"F660","v":415000},{"$f":"G660","v":415000}]
["Основное мероприятие «Реализация государственной национальной политики в Республике Татарстан, цивилизованное развитие представителей народов, проживающих на территории Республики Татарстан, сохранение межэтнического и межконфессионального мира и согласия, упрочение общероссийской гражданской идентичности (российской нации), успешная социокультурная адаптация и интеграция мигрантов»","612","1102","2000100000",null,{"$f":"F661","v":415000},415000]
["Реализация программных мероприятий200","612","1102","2000110990",null,{"$f":"SUM(F662:F663)","v":415000},{"$f":"SUM(G662:G663)","v":415000}]
["Иные выплаты, за исключением фонда оплаты труда казенных учреждений, лицам, привлекаемым согласно законодательству для выполнения отдельных полномочий","612","1102","2000110990","113",{"$f":"SUMIF(свод19!$N$15:$N$1600,B662&C662&D662&A662,свод19!$I$15:$I$1600)*1000","v":0},{"$f":"SUMIF(свод20!$N$15:$N$1600,B662&C662&D662&A662,свод20!$I$15:$I$1600)*1000","v":0},{"$f":"C662&D662&A662","v":"11022000110990Иные выплаты, за исключением фонда оплаты труда казенных учреждений, лицам, привлекаемым согласно законодательству для выполнения отдельных полномочий"}]
["Прочая закупка товаров, работ и услуг для обеспечения государственных (муниципальных) нужд","612","1102","2000110990","244",{"$f":"SUMIF(свод19!$N$15:$N$1600,B663&C663&D663&A663,свод19!$I$15:$I$1600)*1000","v":415000},{"$f":"SUMIF(свод20!$N$15:$N$1600,B663&C663&D663&A663,свод20!$I$15:$I$1600)*1000","v":415000},"11022000110990Прочая закупка товаров, работ и услуг для обеспечения государственных (муниципальных) нужд"]
["Управление культуры Кукморского муниципального района","613",null,null,null,{"$f":"F665+F680+F696","v":139647826.96000001},{"$f":"G665+G680+G696","v":140623026.96000001}]
["ОБЩЕГОСУДАРСТВЕННЫЕ ВОПРОСЫ","613","0100",null,null,{"$f":"F666+F674","v":803000},{"$f":"G666+G674","v":803000}]
["Функционирование Правительства Российской Федерации, высших исполнительных органов государственной власти субъектов Российской Федерации, местных администраций","613","0104",null,null,{"$f":"F667","v":803000},{"$f":"G667","v":803000}]
["Непрограммные направления расходов","613","0104","9900000000",null,{"$f":"F668","v":803000},803000]
["Центральный аппарат","613","0104","9900002040",null,{"$f":"SUM(F669:F673)","v":803000},{"$f":"SUM(G669:G673)","v":803000}]
["Фонд оплаты труда государственных (муниципальных) органов и взносы по обязательному социальному страхованию","613","0104","9900002040","121",{"$f":"SUMIF(свод19!$N$15:$N$1600,B669&C669&D669&A669,свод19!$I$15:$I$1600)*1000","v":617000},{"$f":"SUMIF(свод20!$N$15:$N$1600,B669&C669&D669&A669,свод20!$I$15:$I$1600)*1000","v":617000},{"$f":"C669&D669&A669","v":"01049900002040Фонд оплаты труда государственных (муниципальных) органов и взносы по обязательному социальному страхованию"}]
["Иные выплаты персоналу государственных (муниципальных) органов, за исключением фонда оплаты труда","613","0104","9900002040","122",{"$f":"SUMIF(свод19!$N$15:$N$1600,B670&C670&D670&A670,свод19!$I$15:$I$1600)*1000","v":0},{"$f":"SUMIF(свод20!$N$15:$N$1600,B670&C670&D670&A670,свод20!$I$15:$I$1600)*1000","v":0},"01049900002040Иные выплаты персоналу государственных (муниципальных) органов, за исключением фонда оплаты труда"]
["Взносы по обязательному социальному страхованию на выплату денежного содержания и иные выплаты работникам государственных (муниципальных) органов","613","0104","9900002040","129",{"$f":"SUMIF(свод19!$N$15:$N$1600,B671&C671&D671&A671,свод19!$I$15:$I$1600)*1000","v":186000},{"$f":"SUMIF(свод20!$N$15:$N$1600,B671&C671&D671&A671,свод20!$I$15:$I$1600)*1000","v":186000},"01049900002040Взносы по обязательному социальному страхованию на выплату денежного содержания и иные выплаты работникам государственных (муниципальных) органов"]
["Прочая закупка товаров, работ и услуг для обеспечения государственных (муниципальных) нужд","613","0104","9900002040","244",{"$f":"SUMIF(свод19!$N$15:$N$1600,B672&C672&D672&A672,свод19!$I$15:$I$1600)*1000","v":0},{"$f":"SUMIF(свод20!$N$15:$N$1600,B672&C672&D672&A672,свод20!$I$15:$I$1600)*1000","v":0},"01049900002040Прочая закупка товаров, работ и услуг для обеспечения государственных (муниципальных) нужд"]
["Уплата прочих налогов, сборов и иных платежей","613","0104","9900002040","852",{"$f":"SUMIF(свод19!$N$15:$N$1600,B673&C673&D673&A673,свод19!$I$15:$I$1600)*1000","v":0},{"$f":"SUMIF(свод20!$N$15:$N$1600,B673&C673&D673&A673,свод20!$I$15:$I$1600)*1000","v":0},"01049900002040Уплата прочих налогов, сборов и иных платежей"]
["Другие общегосударственные вопросы","613","0113",null,null,{"$f":"F675","v":0},{"$f":"G675","v":0}]
["Непрограммные направления расходов","613","0113","9900000000",null,{"$f":"F676+F678","v":0},{"$f":"G676+G678","v":0}]
["Центральный аппарат","613","0113","9900002040",null,{"$f":"F677","v":0},{"$f":"G677","v":0}]
["Уплата прочих налогов, сборов и иных платежей","613","0113","9900002040","852",{"$f":"SUMIF(свод19!$N$15:$N$1600,B677&C677&D677&A677,свод19!$I$15:$I$1600)*1000","v":0},{"$f":"SUMIF(свод20!$N$15:$N$1600,B677&C677&D677&A677,свод20!$I$15:$I$1600)*1000","v":0},{"$f":"C677&D677&A677","v":"01139900002040Уплата прочих налогов, сборов и иных платежей"}]
["Уплата налога на имущество организаций и земельного налога","613","0113","9900002950",null,{"$f":"F679","v":0},{"$f":"G679","v":0}]
["Уплата налога на имущество организаций и земельного налога","613","0113","9900002950","851",{"$f":"SUMIF(свод19!$N$15:$N$1600,B679&C679&D679&A679,свод19!$I$15:$I$1600)*1000","v":0},{"$f":"SUMIF(свод20!$N$15:$N$1600,B679&C679&D679&A679,свод20!$I$15:$I$1600)*1000","v":0},{"$f":"C679&D679&A679","v":"01139900002950Уплата налога на имущество организаций и земельного налога"}]
["ОБРАЗОВАНИЕ","613","0700",null,null,{"$f":"F681+F690","v":18713526.960000001},{"$f":"G681+G690","v":18713526.960000001}]
["Общее образование","613","0702",null,null,{"$f":"F682","v":0},0]
["Муниципальная программа «Развитие образования Кукморского муниципального района Республики Татарстан на 2018 – 2020 годы»","613","0702","0200000000",null,0,0]
["Подпрограмма «Развитие дополнительного образования на 2018 – 2020 годы»","613","0702","0230000000",null,{"$f":"F684+F687","v":0},{"$f":"G684+G687","v":0}]
["Основное мероприятие \"Организация предоставления дополнительного образования детей в государственных образовательных организациях\"","613","0702","0230100000",null,0,0]
["Развитие муниципальных учреждений дополнительного образования детей художественно-эстетической направленности","613","0702","0230142320",null,0,0]
["Субсидии бюджетным учреждениям на финансовое обеспечение государственного (муниципального) задания на оказание государственных (муниципальных) услуг (выполнение работ)","613","0702","0230142320","611",{"$f":"SUMIF(свод19!$N$15:$N$1600,B686&C686&D686&A686,свод19!$I$15:$I$1600)*1000","v":0},{"$f":"SUMIF(свод20!$N$15:$N$1600,B686&C686&D686&A686,свод20!$I$15:$I$1600)*1000","v":0},{"$f":"C686&D686&A686","v":"07020230142320Субсидии бюджетным учреждениям на финансовое обеспечение государственного (муниципального) задания на оказание государственных (муниципальных) услуг (выполнение работ)"}]
["Основное мероприятие \"Укрепление кадрового потенциала и привлечение молодых специалистов в учреждениях дополнительного образования\"","613","0702","0230400000",null,{"$f":"F688","v":0},{"$f":"G688","v":0}]
["Мероприятия в области образования, направленные на поддержку молодых специалистов в организациях дополнительного образования художественно-эстетической направленности","613","0702","0230443622",null,{"$f":"F689","v":0},{"$f":"G689","v":0}]
["Субсидии бюджетным учреждениям на финансовое обеспечение государственного (муниципального) задания на оказание государственных (муниципальных) услуг (выполнение работ)","613","0702","0230443622","611",{"$f":"SUMIF(свод19!$N$15:$N$1600,B689&C689&D689&A689,свод19!$I$15:$I$1600)*1000","v":0},{"$f":"SUMIF(свод20!$N$15:$N$1600,B689&C689&D689&A689,свод20!$I$15:$I$1600)*1000","v":0},{"$f":"C689&D689&A689","v":"07020230443622Субсидии бюджетным учреждениям на финансовое обеспечение государственного (муниципального) задания на оказание государственных (муниципальных) услуг (выполнение работ)"}]
["Дополнительное образование детей","613","0703",null,null,{"$f":"F691","v":18713526.960000001},18713526.960000001]
["Муниципальная программа «Развитие образования Кукморского муниципального района Республики Татарстан на 2018 – 2020 годы»","613","0703","0200000000",null,18713526.960000001,18713526.960000001]
["Подпрограмма «Развитие дополнительного образования на 2018 – 2020 годы»","613","0703","0230000000",null,{"$f":"F693","v":18713526.960000001},{"$f":"G693","v":18713526.960000001}]
["Основное мероприятие \"Организация предоставления дополнительного образования детей в государственных образовательных организациях\"","613","0703","0230100000",null,18713526.960000001,18713526.960000001]
["Развитие муниципальных учреждений дополнительного образования детей художественно-эстетической направленности","613","0703","0230142320",null,18713526.960000001,18713526.960000001]
["Субсидии бюджетным учреждениям на финансовое обеспечение государственного (муниципального) задания на оказание государственных (муниципальных) услуг (выполнение работ)","613","0703","0230142320","611",{"$f":"SUMIF(свод19!$N$15:$N$1600,B695&C695&D695&A695,свод19!$I$15:$I$1600)*1000","v":18713526.960000001},{"$f":"SUMIF(свод20!$N$15:$N$1600,B695&C695&D695&A695,свод20!$I$15:$I$1600)*1000","v":18713526.960000001},{"$f":"C695&D695&A695","v":"07030230142320Субсидии бюджетным учреждениям на финансовое обеспечение государственного (муниципального) задания на оказание государственных (муниципальных) услуг (выполнение работ)"}]
["КУЛЬТУРА, КИНЕМАТОГРАФИЯ","613","0800",null,null,{"$f":"F697","v":120131300.00000001},{"$f":"G697","v":121106500.00000001}]
["Культура","613","0801",null,null,{"$f":"F698+F703+F708+F731+F735+F739","v":120131300.00000001},{"$f":"G698+G703+G708+G731+G735+G739","v":121106500.00000001}]
["Муниципальная программа улучшения условий и охраны труда в Кукморском муниципальном районе на 2018 - 2020 годы","613","0801","0500000000",null,{"$f":"F699","v":0},{"$f":"G699","v":0}]
["Подпрограмма улучшения условий и охраны труда в Кукморском муниципальном районе на 2018 - 2020 годы","613","0801","0520000000",null,{"$f":"F700","v":0},0]
["Основное мероприятие \"Реализация мероприятий в области охраны труда\"","613","0801","0520100000",null,0,0]
["Мероприятия по улучшению условий и охраны труда","613","0801","0520115500",null,0,0]
["Субсидии бюджетным учреждениям на финансовое обеспечение государственного (муниципального) задания на оказание государственных (муниципальных) услуг (выполнение работ)","613","0801","0520115500","611",{"$f":"SUMIF(свод19!$N$15:$N$1600,B702&C702&D702&A702,свод19!$I$15:$I$1600)*1000","v":0},{"$f":"SUMIF(свод20!$N$15:$N$1600,B702&C702&D702&A702,свод20!$I$15:$I$1600)*1000","v":0},{"$f":"C702&D702&A702","v":"08010520115500Субсидии бюджетным учреждениям на финансовое обеспечение государственного (муниципального) задания на оказание государственных (муниципальных) услуг (выполнение работ)"}]
["Муниципальная программа «Обеспечение общественного порядка и противодействие преступности в Кукморском муниципальном районе на 2018 - 2020 годы\"","613","0801","0600000000",null,{"$f":"F704","v":3500},{"$f":"G704","v":3500}]
["Подпрограмма «Профилактика терроризма и экстремизма в Кукморском муниципальном районе на 2018-2020гг.»","613","0801","0630000000",null,{"$f":"F705","v":3500},3500]
["Основное мероприятие \"Профилактика терроризма и экстремизма\"","613","0801","0630100000",null,3500,3500]
["Реализация программных мероприятий063","613","0801","0630110990",null,3500,3500]
["Субсидии бюджетным учреждениям на финансовое обеспечение государственного (муниципального) задания на оказание государственных (муниципальных) услуг (выполнение работ)","613","0801","0630110990","611",{"$f":"SUMIF(свод19!$N$15:$N$1600,B707&C707&D707&A707,свод19!$I$15:$I$1600)*1000","v":3500},{"$f":"SUMIF(свод20!$N$15:$N$1600,B707&C707&D707&A707,свод20!$I$15:$I$1600)*1000","v":3500},{"$f":"C707&D707&A707","v":"08010630110990Субсидии бюджетным учреждениям на финансовое обеспечение государственного (муниципального) задания на оказание государственных (муниципальных) услуг (выполнение работ)"}]
["Муниципальная программа «Развитие культуры Кукморского муниципального района Республики Татарстан на 2018 – 2020 годы»","613","0801","0800000000",null,{"$f":"F709+F715+F721+F725","v":119700800.00000001},{"$f":"G709+G715+G721+G725","v":120676000.00000001}]
["Подпрограмма «Развитие музейного дела на 2018 – 2020 годы»","613","0801","0810000000",null,{"$f":"F710","v":3582328.9300000006},{"$f":"G710","v":3582328.9300000006}]
["Основное мероприятие \"Комплексное развитие музеев\"","613","0801","0810100000",null,{"$f":"F711+F713","v":3582328.9300000006},{"$f":"G711+G713","v":3582328.9300000006}]
["Гранты","613","0801","0810144050",null,{"$f":"F712","v":0},{"$f":"G712","v":0}]
["Субсидии бюджетным учреждениям на иные цели","613","0801","0810144050","612",{"$f":"SUMIF(свод19!$N$15:$N$1600,B712&C712&D712&A712,свод19!$I$15:$I$1600)*1000","v":0},{"$f":"SUMIF(свод20!$N$15:$N$1600,B712&C712&D712&A712,свод20!$I$15:$I$1600)*1000","v":0},{"$f":"C712&D712&A712","v":"08010810144050Субсидии бюджетным учреждениям на иные цели"}]
["Обеспечение деятельности подведомственных учреждений культуры","613","0801","0810144090",null,{"$f":"F714","v":3582328.9300000006},{"$f":"G714","v":3582328.9300000006}]
["Субсидии бюджетным учреждениям на финансовое обеспечение государственного (муниципального) задания на оказание государственных (муниципальных) услуг (выполнение работ)","613","0801","0810144090","611",{"$f":"SUMIF(свод19!$N$15:$N$1600,B714&C714&D714&A714,свод19!$I$15:$I$1600)*1000","v":3582328.9300000006},{"$f":"SUMIF(свод20!$N$15:$N$1600,B714&C714&D714&A714,свод20!$I$15:$I$1600)*1000","v":3582328.9300000006},{"$f":"C714&D714&A714","v":"08010810144090Субсидии бюджетным учреждениям на финансовое обеспечение государственного (муниципального) задания на оказание государственных (муниципальных) услуг (выполнение работ)"}]
["Подпрограмма «Развитие библиотечного дела на 2018 – 2020 годы»","613","0801","0830000000",null,{"$f":"F716","v":25044941.57},{"$f":"G716","v":25044941.57}]
["Основное мероприятие \"Развитие системы библиотечного обслуживания\"","613","0801","0830100000",null,{"$f":"F717+F719","v":25044941.57},{"$f":"G717+G719","v":25044941.57}]
["Обеспечение деятельности подведомственных учреждений культуры","613","0801","0830144090",null,{"$f":"F718","v":25044941.57},25044941.57]
["Субсидии бюджетным учреждениям на финансовое обеспечение государственного (муниципального) задания на оказание государственных (муниципальных) услуг (выполнение работ)","613","0801","0830144090","611",{"$f":"SUMIF(свод19!$N$15:$N$1600,B718&C718&D718&A718,свод19!$I$15:$I$1600)*1000","v":25044941.57},{"$f":"SUMIF(свод20!$N$15:$N$1600,B718&C718&D718&A718,свод20!$I$15:$I$1600)*1000","v":25044941.57},{"$f":"C718&D718&A718","v":"08010830144090Субсидии бюджетным учреждениям на финансовое обеспечение государственного (муниципального) задания на оказание государственных (муниципальных) услуг (выполнение работ)"}]
["Комплектование книжных фондов библиотек муниципальных образований за счет средств федерального бюджета","613","0801","0830151440",null,{"$f":"F720","v":0},{"$f":"G720","v":0}]
["Субсидии бюджетным учреждениям на иные цели","613","0801","0830151440","612",{"$f":"SUMIF(свод19!$N$15:$N$1600,B720&C720&D720&A720,свод19!$I$15:$I$1600)*1000","v":0},{"$f":"SUMIF(свод20!$N$15:$N$1600,B720&C720&D720&A720,свод20!$I$15:$I$1600)*1000","v":0},{"$f":"C720&D720&A720","v":"08010830151440Субсидии бюджетным учреждениям на иные цели"}]
["Подпрограмма «Развитие клубов на 2018 – 2020 годы»","613","0801","0840000000",null,{"$f":"F722","v":91073529.500000015},{"$f":"G722","v":92048729.500000015}]
["Основное мероприятие \"Развитие современного музыкального искусства\"","613","0801","0840100000",null,{"$f":"F723","v":91073529.500000015},92048729.500000015]
["Обеспечение деятельности подведомственных учреждений культуры","613","0801","0840144091",null,91073529.500000015,92048729.500000015]
["Субсидии бюджетным учреждениям на финансовое обеспечение государственного (муниципального) задания на оказание государственных (муниципальных) услуг (выполнение работ)","613","0801","0840144091","611",{"$f":"SUMIF(свод19!$N$15:$N$1600,B724&C724&D724&A724,свод19!$I$15:$I$1600)*1000","v":91073529.500000015},{"$f":"SUMIF(свод20!$N$15:$N$1600,B724&C724&D724&A724,свод20!$I$15:$I$1600)*1000","v":92048729.500000015},{"$f":"C724&D724&A724","v":"08010840144091Субсидии бюджетным учреждениям на финансовое обеспечение государственного (муниципального) задания на оказание государственных (муниципальных) услуг (выполнение работ)"}]
["Подпрограмма \"Развитие системы государственного управления отрасли на 2014 – 2020 годы\"","613","0801","08Ж0000000",null,{"$f":"F726","v":0},{"$f":"G726","v":0}]
["Основное мероприятие \"Обеспечение реализации государственной политики и регулирования отношений в сфере культуры, искусства, кинематографии, охраны и использования объектов культурного наследия\"","613","0801","08Ж0100000",null,{"$f":"F727+F729","v":0},{"$f":"G727+G729","v":0}]
["Государственная поддержка муниципальных учреждений культуры за счет средств федерального бюджета","613","0801","08Ж0151470",null,{"$f":"F728","v":0},{"$f":"G728","v":0}]
["Субсидии бюджетным учреждениям на иные цели","613","0801","08Ж0151470","612",{"$f":"SUMIF(свод19!$N$15:$N$1600,B728&C728&D728&A728,свод19!$I$15:$I$1600)*1000","v":0},{"$f":"SUMIF(свод20!$N$15:$N$1600,B728&C728&D728&A728,свод20!$I$15:$I$1600)*1000","v":0},{"$f":"C728&D728&A728","v":"080108Ж0151470Субсидии бюджетным учреждениям на иные цели"}]
["Государственная поддержка лучших работников муниципальных учреждений культуры, находящихся на территориях сельских поселений, за счет средств федерального бюджета","613","0801","08Ж0151480",null,{"$f":"F730","v":0},{"$f":"G730","v":0}]
["Субсидии бюджетным учреждениям на иные цели","613","0801","08Ж0151480","612",{"$f":"SUMIF(свод19!$N$15:$N$1600,B730&C730&D730&A730,свод19!$I$15:$I$1600)*1000","v":0},{"$f":"SUMIF(свод20!$N$15:$N$1600,B730&C730&D730&A730,свод20!$I$15:$I$1600)*1000","v":0},{"$f":"C730&D730&A730","v":"080108Ж0151480Субсидии бюджетным учреждениям на иные цели"}]
["Программа по реализации государственной национальной политики в Кукморском муниципальном районе на 2018-2020 годы","613","0801","2000000000",null,{"$f":"F732","v":415000},{"$f":"G732","v":415000}]
["Основное мероприятие «Реализация государственной национальной политики в Республике Татарстан, цивилизованное развитие представителей народов, проживающих на территории Республики Татарстан, сохранение межэтнического и межконфессионального мира и согласия, упрочение общероссийской гражданской идентичности (российской нации), успешная социокультурная адаптация и интеграция мигрантов»","613","0801","2000100000",null,{"$f":"F733","v":415000},415000]
["Реализация программных мероприятий200","613","0801","2000110990",null,415000,415000]
["Субсидии бюджетным учреждениям на финансовое обеспечение государственного (муниципального) задания на оказание государственных (муниципальных) услуг (выполнение работ)","613","0801","2000110990","611",{"$f":"SUMIF(свод19!$N$15:$N$1600,B734&C734&D734&A734,свод19!$I$15:$I$1600)*1000","v":415000},{"$f":"SUMIF(свод20!$N$15:$N$1600,B734&C734&D734&A734,свод20!$I$15:$I$1600)*1000","v":415000},{"$f":"C734&D734&A734","v":"08012000110990Субсидии бюджетным учреждениям на финансовое обеспечение государственного (муниципального) задания на оказание государственных (муниципальных) услуг (выполнение работ)"}]
["Муниципальная программа «Реализация антикоррупционной политики в Кукморском муниципальном районе Республики Татарстан на 2018-2020 годы»","613","0801","2700000000",null,{"$f":"F736","v":12000},{"$f":"G736","v":12000}]
["Основное мероприятие \"Выявление и устранение причин коррупции, противодействие условиям, способствующим ее проявлениям, формирование в обществе нетерпимого отношения к коррупции\"","613","0801","2700100000",null,{"$f":"F737","v":12000},12000]
["Реализация программных мероприятий270","613","0801","2700110990",null,12000,12000]
["Субсидии бюджетным учреждениям на финансовое обеспечение государственного (муниципального) задания на оказание государственных (муниципальных) услуг (выполнение работ)","613","0801","2700110990","611",{"$f":"SUMIF(свод19!$N$15:$N$1600,B738&C738&D738&A738,свод19!$I$15:$I$1600)*1000","v":12000},{"$f":"SUMIF(свод20!$N$15:$N$1600,B738&C738&D738&A738,свод20!$I$15:$I$1600)*1000","v":12000},{"$f":"C738&D738&A738","v":"08012700110990Субсидии бюджетным учреждениям на финансовое обеспечение государственного (муниципального) задания на оказание государственных (муниципальных) услуг (выполнение работ)"}]
["Непрограммные направления расходов","613","0801","9900000000",null,{"$f":"F740","v":0},{"$f":"G740","v":0}]
["Бюджетные инвестиции и капитальный ремонт социальной и инженерной инфраструктуры государственной (муниципальной) собственности Республики Татарстан","613","0801","9900072310",null,{"$f":"F741","v":0},{"$f":"G741","v":0}]
["Субсидии бюджетным учреждениям на иные цели","613","0801","9900072310","612",{"$f":"SUMIF(свод19!$N$15:$N$1600,B741&C741&D741&A741,свод19!$I$15:$I$1600)*1000","v":0},{"$f":"SUMIF(свод20!$N$15:$N$1600,B741&C741&D741&A741,свод20!$I$15:$I$1600)*1000","v":0},{"$f":"C741&D741&A741","v":"08019900072310Субсидии бюджетным учреждениям на иные цели"}]
[]
[]
["             Глава Района                                   С.Д.Димитриев"]

{"sheet":"12","index":12,"n_rows":68,"n_cols":6,"rows_kept":68,"cut":false,"hidden":true,"merged":[[5,0,5,5],[6,0,6,5],[8,0,9,0],[8,1,9,1],[8,2,9,2],[8,3,9,3],[8,4,9,4],[8,5,9,5]]}
[null,null,{"$f":"дата!$A$2&дата!$D$14","v":"Приложение №12"}]
[null,null,"к решению Кукморского"]
[null,null,"районного Совета"]
[null,null,{"$f":"дата!D1","v":"от08 декабря 2017 г. №131"}]
[]
["Объем бюджетных ассигнований на исполнение"]
["публичных нормативных обязательств на 2018 год"]
[null,null,null,null,null,"(рублей)"]
["Наименование","КВСР","Рз, ПР","ЦСР","ВР","Сумма"]
[]
["Итого",null,null,null,null,{"$f":"F13+F33+F47","v":3476000}]
[]
["Управление образования Кукморского муниципального района","611",null,"","",{"$f":"F14","v":2410000}]
["ОБРАЗОВАНИЕ","611","0700","","",{"$f":"F15+F21+F27","v":2410000}]
["Дошкольное образование","611","0701","","",{"$f":"F16","v":300000}]
["Муниципальная программа «Развитие образования Кукморского муниципального района Республики Татарстан на 2018 – 2020 годы»","611","0701","0200000000",null,{"$f":"F17","v":300000}]
["Подпрограмма «Развитие дошкольного образования на 2018 – 2020 годы»","611","0701","0210000000",null,{"$f":"F18","v":300000}]
["Основное мероприятие \"Реализация дошкольного образования в образовательных организациях\"","611","0701","0210300000",null,{"$f":"F19","v":300000}]
["Развитие дошкольных образовательных учреждений","611","0701","0210342000",null,{"$f":"F20","v":300000}]
["Субсидии бюджетным учреждениям на финансовое обеспечение государственного (муниципального) задания на оказание государственных (муниципальных) услуг (выполнение работ)","611","0701","0210342000","611",300000]
["Общее образование","611","0702",null,null,{"$f":"F22","v":2000000}]
["Муниципальная программа «Развитие образования Кукморского муниципального района Республики Татарстан на 2018 – 2020 годы»","611","0702","0200000000",null,{"$f":"F23","v":2000000}]
["Подпрограмма «Развитие общего образования на 2018 – 2020 годы»","611","0702","0220000000",null,{"$f":"F24","v":2000000}]
["Основное мероприятие \"Реализация общего образования в государственных образовательных организациях\"","611","0702","0220200000",null,{"$f":"F25","v":2000000}]
["Развитие общеобразовательных организаций, включая школы – детские сады","611","0702","0220242100",null,{"$f":"SUM(F26:F26)","v":2000000}]
["Субсидии бюджетным учреждениям на финансовое обеспечение государственного (муниципального) задания на оказание государственных (муниципальных) услуг (выполнение работ)","611","0702","0220242100","611",2000000]
["Дополнительное образование детей","611","0703",null,null,{"$f":"F28","v":110000}]
["Муниципальная программа «Развитие образования Кукморского муниципального района Республики Татарстан на 2018 – 2020 годы»","611","0703","0200000000",null,{"$f":"F29","v":110000}]
["Подпрограмма «Развитие дополнительного образования на 2018 – 2020 годы»","611","0703","0230000000",null,{"$f":"F30","v":110000}]
["Основное мероприятие \"Организация предоставления дополнительного образования детей в государственных образовательных организациях\"","611","0703","0230100000",null,{"$f":"F31","v":110000}]
["Развитие муниципальных учреждений дополнительного образования детей многопрофильной направленности","611","0703","0230142310",null,110000]
["Субсидии бюджетным учреждениям на финансовое обеспечение государственного (муниципального) задания на оказание государственных (муниципальных) услуг (выполнение работ)","611","0703","0230142310","611",110000]
["Управление по делам молодежи и спорту Кукморского муниципального района ","612","","","",{"$f":"F34","v":131000}]
["ОБРАЗОВАНИЕ","612","0700",null,null,{"$f":"F35+F41","v":131000}]
["Дополнительное образование детей","612","0703",null,null,{"$f":"F36","v":73000}]
["Муниципальная программа «Развитие образования Кукморского муниципального района Республики Татарстан на 2018 – 2020 годы»","612","0703","0200000000",null,{"$f":"F37","v":73000}]
["Подпрограмма «Развитие дополнительного образования на 2018 – 2020 годы»","612","0703","0230000000",null,{"$f":"F38","v":73000}]
["Основное мероприятие \"Организация предоставления дополнительного образования детей в государственных образовательных организациях\"","612","0703","0230100000",null,73000]
["Развитие муниципальных учреждений дополнительного образования детей спортивной направленности","612","0703","0230142330",null,{"$f":"F40","v":73000}]
["Субсидии бюджетным учреждениям на финансовое обеспечение государственного (муниципального) задания на оказание государственных (муниципальных) услуг (выполнение работ)","612","0703","0230142330","611",73000]
["Молодежная политика и оздоровление детей","612","0707","","",{"$f":"F42","v":58000}]
["Муниципальная программа «Развитие молодежной политики, физической культуры и спорта в Кукморском муниципальном районе Республики Татарстан на 2018 – 2020 годы»","612","0707","1000000000",null,{"$f":"F43","v":58000}]
["Подпрограмма «Сельская молодежь Кукморского муниципального района Республики Татарстан на 2018 – 2020 годы»","612","0707","1040000000",null,{"$f":"F44","v":58000}]
["Основное мероприятие \"Развитие государственной молодежной политики в Республике Татарстан\"","612","0707","1040100000",null,{"$f":"F45","v":58000}]
["Обеспечение деятельности  учреждений молодежной политики","612","0707","1040143190",null,58000]
["Субсидии бюджетным учреждениям на финансовое обеспечение государственного (муниципального) задания на оказание государственных (муниципальных) услуг (выполнение работ)","612","0707","1040143190","611",58000]
["Управление культуры Кукморского муниципального района","613",null,null,null,{"$f":"F48+F55","v":935000}]
["ОБРАЗОВАНИЕ","613","0700",null,null,{"$f":"F49","v":20000}]
["Дополнительное образование детей","613","0703",null,null,20000]
["Муниципальная программа «Развитие образования Кукморского муниципального района Республики Татарстан на 2018 – 2020 годы»","613","0703","0200000000",null,20000]
["Подпрограмма «Развитие дополнительного образования на 2018 – 2020 годы»","613","0703","0230000000",null,20000]
["Основное мероприятие \"Организация предоставления дополнительного образования детей в государственных образовательных организациях\"","613","0703","0230100000",null,20000]
["Развитие муниципальных учреждений дополнительного образования детей художественно-эстетической направленности","613","0703","0230142320",null,20000]
["Субсидии бюджетным учреждениям на финансовое обеспечение государственного (муниципального) задания на оказание государственных (муниципальных) услуг (выполнение работ)","613","0703","0230142320","611",20000]
["КУЛЬТУРА, КИНЕМАТОГРАФИЯ","613","0800",null,null,{"$f":"F56","v":915000}]
["Культура","613","0801",null,null,{"$f":"F57","v":915000}]
["Муниципальная программа «Развитие культуры Кукморского муниципального района Республики Татарстан на 2018 – 2020 годы»","613","0801","0800000000",null,{"$f":"F58+F62","v":915000}]
["Подпрограмма «Развитие библиотечного дела на 2018 – 2020 годы»","613","0801","0830000000",null,{"$f":"F59","v":329000}]
["Основное мероприятие \"Развитие системы библиотечного обслуживания\"","613","0801","0830100000",null,329000]
["Обеспечение деятельности подведомственных учреждений культуры","613","0801","0830144090",null,329000]
["Субсидии бюджетным учреждениям на финансовое обеспечение государственного (муниципального) задания на оказание государственных (муниципальных) услуг (выполнение работ)","613","0801","0830144090","611",329000]
["Подпрограмма «Развитие клубов на 2018 – 2020 годы»","613","0801","0840000000",null,{"$f":"F63","v":586000}]
["Основное мероприятие \"Развитие современного музыкального искусства\"","613","0801","0840100000",null,{"$f":"F64","v":586000}]
["Обеспечение деятельности подведомственных учреждений культуры","613","0801","0840144091",null,586000]
["Субсидии бюджетным учреждениям на финансовое обеспечение государственного (муниципального) задания на оказание государственных (муниципальных) услуг (выполнение работ)","613","0801","0840144091","611",586000]
[]
[]
["             Глава Района                                   С.Д.Димитриев"]

{"sheet":"13","index":13,"n_rows":68,"n_cols":7,"rows_kept":68,"cut":false,"hidden":true,"merged":[[8,5,8,6],[5,0,5,5],[6,0,6,5],[8,0,9,0],[8,1,9,1],[8,2,9,2],[8,3,9,3],[8,4,9,4]]}
[null,null,null,{"$f":"дата!$A$2&дата!$D$15","v":"Приложение №13"}]
[null,null,null,"к решению Кукморского"]
[null,null,null,"районного Совета"]
[null,null,null,{"$f":"дата!$D$1","v":"от08 декабря 2017 г. №131"}]
[]
["Объем бюджетных ассигнований на исполнение"]
["публичных нормативных обязательств на плановый период 2019 и 2020 годов"]
[null,null,null,null,null,null,"(рублей)"]
["Наименование","КВСР","Рз, ПР","ЦСР","ВР","Сумма"]
[null,null,null,null,null,"2019 год","2020 год"]
["Итого",null,null,null,null,{"$f":"F13+F33+F47","v":3476000},{"$f":"G13+G33+G47","v":3476000}]
[]
["Управление образования Кукморского муниципального района","611",null,"","",{"$f":"F14","v":2410000},{"$f":"G14","v":2410000}]
["ОБРАЗОВАНИЕ","611","0700","","",{"$f":"F15+F21+F27","v":2410000},{"$f":"G15+G21+G27","v":2410000}]
["Дошкольное образование","611","0701","","",{"$f":"F16","v":300000},300000]
["Муниципальная программа «Развитие образования Кукморского муниципального района Республики Татарстан на 2018 – 2020 годы»","611","0701","0200000000",null,300000,300000]
["Подпрограмма «Развитие дошкольного образования на 2018 – 2020 годы»","611","0701","0210000000",null,300000,300000]
["Основное мероприятие \"Реализация дошкольного образования в образовательных организациях\"","611","0701","0210300000",null,300000,300000]
["Развитие дошкольных образовательных учреждений","611","0701","0210342000",null,300000,300000]
["Субсидии бюджетным учреждениям на финансовое обеспечение государственного (муниципального) задания на оказание государственных (муниципальных) услуг (выполнение работ)","611","0701","0210342000","611",300000,300000]
["Общее образование","611","0702",null,null,{"$f":"F22","v":2000000},2000000]
["Муниципальная программа «Развитие образования Кукморского муниципального района Республики Татарстан на 2018 – 2020 годы»","611","0702","0200000000",null,2000000,2000000]
["Подпрограмма «Развитие общего образования на 2018 – 2020 годы»","611","0702","0220000000",null,2000000,2000000]
["Основное мероприятие \"Реализация общего образования в государственных образовательных организациях\"","611","0702","0220200000",null,2000000,2000000]
["Развитие общеобразовательных организаций, включая школы – детские сады","611","0702","0220242100",null,{"$f":"SUM(F26:F26)","v":2000000},{"$f":"SUM(G26:G26)","v":2000000}]
["Субсидии бюджетным учреждениям на финансовое обеспечение государственного (муниципального) задания на оказание государственных (муниципальных) услуг (выполнение работ)","611","0702","0220242100","611",2000000,2000000]
["Дополнительное образование детей","611","0703",null,null,{"$f":"F30","v":110000},110000]
["Муниципальная программа «Развитие образования Кукморского муниципального района Республики Татарстан на 2018 – 2020 годы»","611","0703","0200000000",null,110000,110000]
["Подпрограмма «Развитие дополнительного образования на 2018 – 2020 годы»","611","0703","0230000000",null,110000,110000]
["Основное мероприятие \"Организация предоставления дополнительного образования детей в государственных образовательных организациях\"","611","0703","0230100000",null,{"$f":"F31","v":110000},110000]
["Развитие муниципальных учреждений дополнительного образования детей многопрофильной направленности","611","0703","0230142310",null,110000,110000]
["Субсидии бюджетным учреждениям на финансовое обеспечение государственного (муниципального) задания на оказание государственных (муниципальных) услуг (выполнение работ)","611","0703","0230142310","611",110000,110000]
["Управление по делам молодежи и спорту Кукморского муниципального района ","612","","","",{"$f":"F34","v":131000},{"$f":"G34","v":131000}]
["ОБРАЗОВАНИЕ","612","0700",null,null,{"$f":"F35+F41","v":131000},{"$f":"G35+G41","v":131000}]
["Дополнительное образование детей","612","0703",null,null,{"$f":"F36","v":73000},{"$f":"G36","v":73000}]
["Муниципальная программа «Развитие образования Кукморского муниципального района Республики Татарстан на 2018 – 2020 годы»","612","0703","0200000000",null,{"$f":"F37","v":73000},{"$f":"G37","v":73000}]
["Подпрограмма «Развитие дополнительного образования на 2018 – 2020 годы»","612","0703","0230000000",null,{"$f":"F38","v":73000},73000]
["Основное мероприятие \"Организация предоставления дополнительного образования детей в государственных образовательных организациях\"","612","0703","0230100000",null,73000,73000]
["Развитие муниципальных учреждений дополнительного образования детей спортивной направленности","612","0703","0230142330",null,{"$f":"F40","v":73000},{"$f":"G40","v":73000}]
["Субсидии бюджетным учреждениям на финансовое обеспечение государственного (муниципального) задания на оказание государственных (муниципальных) услуг (выполнение работ)","612","0703","0230142330","611",73000,73000]
["Молодежная политика и оздоровление детей","612","0707","","",{"$f":"F42","v":58000},58000]
["Муниципальная программа «Развитие молодежной политики, физической культуры и спорта в Кукморском муниципальном районе Республики Татарстан на 2018 – 2020 годы»","612","0707","1000000000",null,58000,58000]
["Подпрограмма «Сельская молодежь Кукморского муниципального района Республики Татарстан на 2018 – 2020 годы»","612","0707","1040000000",null,58000,58000]
["Основное мероприятие \"Развитие государственной молодежной политики в Республике Татарстан\"","612","0707","1040100000",null,{"$f":"F45","v":58000},58000]
["Обеспечение деятельности  учреждений молодежной политики","612","0707","1040143190",null,58000,58000]
["Субсидии бюджетным учреждениям на финансовое обеспечение государственного (муниципального) задания на оказание государственных (муниципальных) услуг (выполнение работ)","612","0707","1040143190","611",58000,58000]
["Управление культуры Кукморского муниципального района","613",null,null,null,{"$f":"F48+F55","v":935000},{"$f":"G48+G55","v":935000}]
["ОБРАЗОВАНИЕ","613","0700",null,null,{"$f":"F49","v":20000},20000]
["Дополнительное образование детей","613","0703",null,null,20000,20000]
["Муниципальная программа «Развитие образования Кукморского муниципального района Республики Татарстан на 2018 – 2020 годы»","613","0703","0200000000",null,20000,20000]
["Подпрограмма «Развитие дополнительного образования на 2018 – 2020 годы»","613","0703","0230000000",null,20000,20000]
["Основное мероприятие \"Организация предоставления дополнительного образования детей в государственных образовательных организациях\"","613","0703","0230100000",null,20000,20000]
["Развитие муниципальных учреждений дополнительного образования детей художественно-эстетической направленности","613","0703","0230142320",null,20000,20000]
["Субсидии бюджетным учреждениям на финансовое обеспечение государственного (муниципального) задания на оказание государственных (муниципальных) услуг (выполнение работ)","613","0703","0230142320","611",20000,20000]
["КУЛЬТУРА, КИНЕМАТОГРАФИЯ","613","0800",null,null,{"$f":"F56","v":915000},{"$f":"G56","v":915000}]
["Культура","613","0801",null,null,{"$f":"F57","v":915000},{"$f":"G57","v":915000}]
["Муниципальная программа «Развитие культуры Кукморского муниципального района Республики Татарстан на 2018 – 2020 годы»","613","0801","0800000000",null,{"$f":"F58+F62","v":915000},{"$f":"G58+G62","v":915000}]
["Подпрограмма «Развитие библиотечного дела на 2018 – 2020 годы»","613","0801","0830000000",null,{"$f":"F59","v":329000},329000]
["Основное мероприятие \"Развитие системы библиотечного обслуживания\"","613","0801","0830100000",null,329000,329000]
["Обеспечение деятельности подведомственных учреждений культуры","613","0801","0830144090",null,329000,329000]
["Субсидии бюджетным учреждениям на финансовое обеспечение государственного (муниципального) задания на оказание государственных (муниципальных) услуг (выполнение работ)","613","0801","0830144090","611",329000,329000]
["Подпрограмма «Развитие клубов на 2018 – 2020 годы»","613","0801","0840000000",null,{"$f":"F63","v":586000},{"$f":"G63","v":586000}]
["Основное мероприятие \"Развитие современного музыкального искусства\"","613","0801","0840100000",null,{"$f":"F64","v":586000},586000]
["Обеспечение деятельности подведомственных учреждений культуры","613","0801","0840144091",null,586000,586000]
["Субсидии бюджетным учреждениям на финансовое обеспечение государственного (муниципального) задания на оказание государственных (муниципальных) услуг (выполнение работ)","613","0801","0840144091","611",586000,586000]
[]
[]
["             Глава Района                                   С.Д.Димитриев"]

{"sheet":"14","index":14,"n_rows":46,"n_cols":4,"rows_kept":46,"cut":false,"hidden":true,"merged":[[4,0,4,3],[9,0,11,0],[9,1,9,3],[10,1,11,1],[10,2,11,2],[10,3,11,3],[6,0,6,3],[5,0,5,3],[7,0,7,3]]}
[null,null,{"$f":"дата!$A$2&дата!$D$16","v":"Приложение №14"}]
[null,null,"к решению Кукморского"]
[null,null,"районного Совета"]
[null,null,{"$f":"дата!$D$1","v":"от08 декабря 2017 г. №131"}]
["Субсидии из бюджетов поселений на осуществление части полномочий"]
["по решению вопросов  местного  значения в соответствии "]
["с заключенными соглашениями на финансовый контроль на 2018 год "]
["и на плановый период 2019 и 2020 годов"]
[]
["Наименование  поселений","Сумма, рублей"]
[null,"2018 год","2019 год","2020 год"]
[]
["Байлянгарское сельское поселение",{"$f":"плрег18!BT8*1000","v":11000},{"$f":"B13","v":11000},{"$f":"C13","v":11000}]
["Березнякское сельское поселение",{"$f":"плрег18!BT9*1000","v":8000},{"$f":"B14","v":8000},8000]
["Большекукморское сельское поселение",{"$f":"плрег18!BT10*1000","v":25000},{"$f":"B15","v":25000},25000]
["Большесардекское сельское поселение",{"$f":"плрег18!BT11*1000","v":25000},{"$f":"B16","v":25000},25000]
["Важашурское сельское поселение",{"$f":"плрег18!BT12*1000","v":9000},{"$f":"B17","v":9000},9000]
["Каенсарское сельское поселение",{"$f":"плрег18!BT13*1000","v":5000},{"$f":"B18","v":5000},5000]
["Каркаусское сельское поселение",{"$f":"плрег18!BT14*1000","v":9000},{"$f":"B19","v":9000},9000]
["Кошкинское сельское поселение",{"$f":"плрег18!BT15*1000","v":9000},{"$f":"B20","v":9000},9000]
["Лельвижское сельское поселение",{"$f":"плрег18!BT16*1000","v":6000},{"$f":"B21","v":6000},6000]
["Лубянское сельское поселение",{"$f":"плрег18!BT17*1000","v":21000},{"$f":"B22","v":21000},21000]
["Мамаширское сельское поселение",{"$f":"плрег18!BT18*1000","v":9000},{"$f":"B23","v":9000},9000]
["Манзарасское сельское поселение",{"$f":"плрег18!BT19*1000","v":17000},{"$f":"B24","v":17000},17000]
["Нижнеискубашское сельское поселение",{"$f":"плрег18!BT20*1000","v":9000},{"$f":"B25","v":9000},9000]
["Нижнерусское сельское поселение",{"$f":"плрег18!BT21*1000","v":8000},{"$f":"B26","v":8000},8000]
["Ныртинское сельское поселение",{"$f":"плрег18!BT22*1000","v":9000},{"$f":"B27","v":9000},9000]
["Нырьинское сельское поселение",{"$f":"плрег18!BT23*1000","v":12000},{"$f":"B28","v":12000},12000]
["Олуязское сельское поселение",{"$f":"плрег18!BT24*1000","v":14000},{"$f":"B29","v":14000},14000]
["Ошторма-Юмьинское сельское поселение",{"$f":"плрег18!BT25*1000","v":12000},{"$f":"B30","v":12000},12000]
["поселок городского типа Кукмор",{"$f":"плрег18!BT26*1000","v":205000},{"$f":"B31","v":205000},205000]
["Починок-Кучуковское сельское поселение",{"$f":"плрег18!BT27*1000","v":10000},{"$f":"B32","v":10000},10000]
["Псякское сельское поселение",{"$f":"плрег18!BT28*1000","v":8000},{"$f":"B33","v":8000},8000]
["Сардекбашское сельское поселение",{"$f":"плрег18!BT29*1000","v":12000},{"$f":"B34","v":12000},12000]
["Село-Чуринское сельское поселение",{"$f":"плрег18!BT30*1000","v":12000},{"$f":"B35","v":12000},12000]
["Среднекуморское сельское поселение",{"$f":"плрег18!BT31*1000","v":10000},{"$f":"B36","v":10000},10000]
["Туембашское сельское поселение",{"$f":"плрег18!BT32*1000","v":10000},{"$f":"B37","v":10000},10000]
["Уркушское сельское поселение",{"$f":"плрег18!BT33*1000","v":9000},{"$f":"B38","v":9000},9000]
["Чарлинское сельское поселение",{"$f":"плрег18!BT34*1000","v":8000},{"$f":"B39","v":8000},8000]
["Ядыгерьское сельское поселение",{"$f":"плрег18!BT35*1000","v":10000},{"$f":"B40","v":10000},10000]
["Яныльское сельское поселение",{"$f":"плрег18!BT36*1000","v":16000},{"$f":"B41","v":16000},16000]
["Ятмас-Дусаевское сельское поселение",{"$f":"плрег18!BT37*1000","v":6000},{"$f":"B42","v":6000},6000]
["ВСЕГО",{"$f":"SUM(B13:B42)","v":534000},{"$f":"SUM(C13:C42)","v":534000},{"$f":"SUM(D13:D42)","v":534000}]
[]
[]
["             Глава Района                                   С.Д.Димитриев"]

{"sheet":"15","index":15,"n_rows":45,"n_cols":4,"rows_kept":45,"cut":false,"hidden":true,"merged":[[4,0,4,3],[5,0,5,3],[6,0,6,3],[8,0,10,0],[8,1,8,3],[9,1,10,1],[9,2,10,2],[9,3,10,3]]}
[null,null,{"$f":"дата!$A$2&дата!$D$17","v":"Приложение №15"}]
[null,null,"к решению Кукморского"]
[null,null,"районного Совета"]
[null,null,{"$f":"дата!$D$1","v":"от08 декабря 2017 г. №131"}]
["Иные межбюджетные трансферты из бюджетов поселений на осуществление"]
["полномочий исполнительных комитетов поселений,  входящих в  состав Кукморского муниципального района Республики Татарстан, по распоряжению земельными участками, государственная собственность на которые не разграничена и которые расположены на территориях поселений, при наличии утвержденных правил землепользования и застройки поселений на 2018 год"]
["и на плановый период 2019 и 2020 годов"]
[]
["Наименование  поселений","Сумма, рублей"]
[null,"2018 год","2019 год","2020 год"]
[]
["Байлянгарское сельское поселение",{"$f":"плрег18!BV8*1000","v":3200},{"$f":"B12","v":3200},{"$f":"C12","v":3200}]
["Березнякское сельское поселение",{"$f":"плрег18!BV9*1000","v":2200},{"$f":"B13","v":2200},2200]
["Большекукморское сельское поселение",{"$f":"плрег18!BV10*1000","v":8100},8100,8100]
["Большесардекское сельское поселение",{"$f":"плрег18!BV11*1000","v":10200},10200,10200]
["Важашурское сельское поселение",{"$f":"плрег18!BV12*1000","v":2900},2900,2900]
["Каенсарское сельское поселение",{"$f":"плрег18!BV13*1000","v":1100},1100,1100]
["Каркаусское сельское поселение",{"$f":"плрег18!BV14*1000","v":2700},2700,2700]
["Кошкинское сельское поселение",{"$f":"плрег18!BV15*1000","v":3000},3000,3000]
["Лельвижское сельское поселение",{"$f":"плрег18!BV16*1000","v":1600},1600,1600]
["Лубянское сельское поселение",{"$f":"плрег18!BV17*1000","v":4600},4600,4600]
["Мамаширское сельское поселение",{"$f":"плрег18!BV18*1000","v":2400},2400,2400]
["Манзарасское сельское поселение",{"$f":"плрег18!BV19*1000","v":5900},5900,5900]
["Нижнеискубашское сельское поселение",{"$f":"плрег18!BV20*1000","v":3000},3000,3000]
["Нижнерусское сельское поселение",{"$f":"плрег18!BV21*1000","v":2400},2400,2400]
["Ныртинское сельское поселение",{"$f":"плрег18!BV22*1000","v":2800},2800,2800]
["Нырьинское сельское поселение",{"$f":"плрег18!BV23*1000","v":4300},4300,4300]
["Олуязское сельское поселение",{"$f":"плрег18!BV24*1000","v":4400},4400,4400]
["Ошторма-Юмьинское сельское поселение",{"$f":"плрег18!BV25*1000","v":4300},{"$f":"B29","v":4300},4300]
["поселок городского типа Кукмор",{"$f":"плрег18!BV26*1000","v":0},0,0]
["Починок-Кучуковское сельское поселение",{"$f":"плрег18!BV27*1000","v":3300},3300,3300]
["Псякское сельское поселение",{"$f":"плрег18!BV28*1000","v":2100},2100,2100]
["Сардекбашское сельское поселение",{"$f":"плрег18!BV29*1000","v":3700},3700,3700]
["Село-Чуринское сельское поселение",{"$f":"плрег18!BV30*1000","v":4000},4000,4000]
["Среднекуморское сельское поселение",{"$f":"плрег18!BV31*1000","v":3100},3100,3100]
["Туембашское сельское поселение",{"$f":"плрег18!BV32*1000","v":2100},2100,2100]
["Уркушское сельское поселение",{"$f":"плрег18!BV33*1000","v":1800},1800,1800]
["Чарлинское сельское поселение",{"$f":"плрег18!BV34*1000","v":2000},2000,2000]
["Ядыгерьское сельское поселение",{"$f":"плрег18!BV35*1000","v":3000},3000,3000]
["Яныльское сельское поселение",{"$f":"плрег18!BV36*1000","v":4300},4300,4300]
["Ятмас-Дусаевское сельское поселение",{"$f":"плрег18!BV37*1000","v":1500},1500,1500]
["ВСЕГО",{"$f":"SUM(B12:B41)","v":100000},{"$f":"SUM(C12:C41)","v":100000},{"$f":"SUM(D12:D41)","v":100000}]
[]
[]
["             Глава Района                                   С.Д.Димитриев"]

{"sheet":"16","index":16,"n_rows":45,"n_cols":4,"rows_kept":45,"cut":false,"hidden":true,"merged":[[5,0,5,3],[6,0,6,3],[9,0,11,0],[9,1,9,3],[10,1,11,1],[10,2,10,3]]}
[null,null,{"$f":"дата!$A$2&дата!$D$18","v":"Приложение №16"}]
[null,null,"к решению Кукморского"]
[null,null,"районного Совета"]
[null,null,{"$f":"дата!$D$1","v":"от08 декабря 2017 г. №131"}]
[]
["   Дотации бюджетам поселений "]
[" на выравнивание бюджетной обеспеченности поселений на 2018 год"]
[]
[]
["Наименование  поселений","Сумма, рублей"]
[null,"всего","в том числе"]
[null,null,"за счет субвенции из регионального фонда финансовой поддержки поселений","за счет субсидий на выравнивание бюджетной обеспеченности поселений"]
[{"$f":"плрег18!B8","v":"Байлянгарское сельское поселение"},{"$f":"SUM(C13:D13)","v":760300},{"$f":"плрег18!W8*1000","v":10400},{"$f":"плрег18!X8*1000","v":749900}]
[{"$f":"плрег18!B9","v":"Березнякское сельское поселение"},{"$f":"SUM(C14:D14)","v":774700},{"$f":"плрег18!W9*1000","v":6900},{"$f":"плрег18!X9*1000","v":767800}]
[{"$f":"плрег18!B10","v":"Большекукморское сельское поселение"},595900,{"$f":"плрег18!W10*1000","v":26800},{"$f":"плрег18!X10*1000","v":569100}]
[{"$f":"плрег18!B11","v":"Большесардекское сельское поселение"},837600,{"$f":"плрег18!W11*1000","v":32700.000000000004},{"$f":"плрег18!X11*1000","v":804900}]
[{"$f":"плрег18!B12","v":"Важашурское сельское поселение"},928500,{"$f":"плрег18!W12*1000","v":8700},{"$f":"плрег18!X12*1000","v":919800}]
[{"$f":"плрег18!B13","v":"Каенсарское сельское поселение"},899600,{"$f":"плрег18!W13*1000","v":3400},{"$f":"плрег18!X13*1000","v":896200}]
[{"$f":"плрег18!B14","v":"Каркаусское сельское поселение"},1083200,{"$f":"плрег18!W14*1000","v":8500},{"$f":"плрег18!X14*1000","v":1074700}]
[{"$f":"плрег18!B15","v":"Кошкинское сельское поселение"},648100,{"$f":"плрег18!W15*1000","v":9700},{"$f":"плрег18!X15*1000","v":638400}]
[{"$f":"плрег18!B16","v":"Лельвижское сельское поселение"},679000,{"$f":"плрег18!W16*1000","v":4900},{"$f":"плрег18!X16*1000","v":674100}]
[{"$f":"плрег18!B17","v":"Лубянское сельское поселение"},2816800,{"$f":"плрег18!W17*1000","v":15000},{"$f":"плрег18!X17*1000","v":2801800}]
[{"$f":"плрег18!B18","v":"Мамаширское сельское поселение"},1011400,{"$f":"плрег18!W18*1000","v":7700},{"$f":"плрег18!X18*1000","v":1003700}]
[{"$f":"плрег18!B19","v":"Манзарасское сельское поселение"},1091300,{"$f":"плрег18!W19*1000","v":19800},{"$f":"плрег18!X19*1000","v":1071500}]
[{"$f":"плрег18!B20","v":"Нижнеискубашское сельское поселение"},902500,{"$f":"плрег18!W20*1000","v":9400},{"$f":"плрег18!X20*1000","v":893100}]
[{"$f":"плрег18!B21","v":"Нижнерусское сельское поселение"},1085800,{"$f":"плрег18!W21*1000","v":7200},{"$f":"плрег18!X21*1000","v":1078600}]
[{"$f":"плрег18!B22","v":"Ныртинское сельское поселение"},800600,{"$f":"плрег18!W22*1000","v":8200},{"$f":"плрег18!X22*1000","v":792400}]
[{"$f":"плрег18!B23","v":"Нырьинское сельское поселение"},22600,{"$f":"плрег18!W23*1000","v":13300},{"$f":"плрег18!X23*1000","v":9300}]
[{"$f":"плрег18!B24","v":"Олуязское сельское поселение"},954000,{"$f":"плрег18!W24*1000","v":14300},{"$f":"плрег18!X24*1000","v":939700}]
[{"$f":"плрег18!B25","v":"Ошторма-Юмьинское сельское поселение"},743400,{"$f":"плрег18!W25*1000","v":13500},{"$f":"плрег18!X25*1000","v":729900}]
[{"$f":"плрег18!B26","v":"поселок городского типа Кукмор"},901500,{"$f":"плрег18!W26*1000","v":901500},{"$f":"плрег18!X26*1000","v":0}]
[{"$f":"плрег18!B27","v":"Починок-Кучуковское сельское поселение"},739100,{"$f":"плрег18!W27*1000","v":10000},{"$f":"плрег18!X27*1000","v":729100}]
[{"$f":"плрег18!B28","v":"Псякское сельское поселение"},773000,{"$f":"плрег18!W28*1000","v":6800},{"$f":"плрег18!X28*1000","v":766200}]
[{"$f":"плрег18!B29","v":"Сардекбашское сельское поселение"},794300,{"$f":"плрег18!W29*1000","v":11900},{"$f":"плрег18!X29*1000","v":782400}]
[{"$f":"плрег18!B30","v":"Село-Чуринское сельское поселение"},1093400,{"$f":"плрег18!W30*1000","v":12900},{"$f":"плрег18!X30*1000","v":1080500}]
[{"$f":"плрег18!B31","v":"Среднекуморское сельское поселение"},958500,{"$f":"плрег18!W31*1000","v":9800},{"$f":"плрег18!X31*1000","v":948700}]
[{"$f":"плрег18!B32","v":"Туембашское сельское поселение"},891700,{"$f":"плрег18!W32*1000","v":6700},{"$f":"плрег18!X32*1000","v":885000}]
[{"$f":"плрег18!B33","v":"Уркушское сельское поселение"},863300,{"$f":"плрег18!W33*1000","v":5500},{"$f":"плрег18!X33*1000","v":857800}]
[{"$f":"плрег18!B34","v":"Чарлинское сельское поселение"},847800,{"$f":"плрег18!W34*1000","v":6000},{"$f":"плрег18!X34*1000","v":841800}]
[{"$f":"плрег18!B35","v":"Ядыгерьское сельское поселение"},120400,{"$f":"плрег18!W35*1000","v":9700},{"$f":"плрег18!X35*1000","v":110700}]
[{"$f":"плрег18!B36","v":"Яныльское сельское поселение"},1940100,{"$f":"плрег18!W36*1000","v":13500},{"$f":"плрег18!X36*1000","v":1926600}]
[{"$f":"плрег18!B37","v":"Ятмас-Дусаевское сельское поселение"},832500,{"$f":"плрег18!W37*1000","v":4500},{"$f":"плрег18!X37*1000","v":828000}]
["ВСЕГО",{"$f":"SUM(B13:B42)","v":27390900},{"$f":"SUM(C13:C42)","v":1219200},{"$f":"SUM(D13:D42)","v":26171700}]
[]
["             Глава Района                                   С.Д.Димитриев"]

{"sheet":"17","index":17,"n_rows":44,"n_cols":4,"rows_kept":44,"cut":false,"hidden":true,"merged":[[5,0,5,3],[6,0,6,3],[8,0,10,0],[8,1,8,3],[9,1,10,1],[9,2,9,3]]}
[null,null,{"$f":"дата!$A$2&дата!$D$19","v":"Приложение №17"}]
[null,null,"к решению Кукморского"]
[null,null,"районного Совета"]
[null,null,{"$f":"дата!$D$1","v":"от08 декабря 2017 г. №131"}]
[]
["   Дотации бюджетам поселений "]
[" на выравнивание бюджетной обеспеченности поселений на плановый период 2019 года"]
[]
["Наименование  поселений","Сумма, рублей"]
[null,"всего","в том числе"]
[null,null,"за счет субвенции из регионального фонда финансовой поддержки поселений","за счет субсидий на выравнивание бюджетной обеспеченности поселений"]
[{"$f":"плрег18!B8","v":"Байлянгарское сельское поселение"},{"$f":"SUM(C12:D12)","v":794600},{"$f":"плрег19!W8*1000","v":10400},{"$f":"плрег19!X8*1000","v":784200}]
[{"$f":"плрег18!B9","v":"Березнякское сельское поселение"},{"$f":"SUM(C13:D13)","v":805900},{"$f":"плрег19!W9*1000","v":6900},{"$f":"плрег19!X9*1000","v":799000}]
[{"$f":"плрег18!B10","v":"Большекукморское сельское поселение"},635600,{"$f":"плрег19!W10*1000","v":26700},{"$f":"плрег19!X10*1000","v":608900}]
[{"$f":"плрег18!B11","v":"Большесардекское сельское поселение"},877000,{"$f":"плрег19!W11*1000","v":32700.000000000004},{"$f":"плрег19!X11*1000","v":844300}]
[{"$f":"плрег18!B12","v":"Важашурское сельское поселение"},960600,{"$f":"плрег19!W12*1000","v":8700},{"$f":"плрег19!X12*1000","v":951900}]
[{"$f":"плрег18!B13","v":"Каенсарское сельское поселение"},930500,{"$f":"плрег19!W13*1000","v":3400},{"$f":"плрег19!X13*1000","v":927100}]
[{"$f":"плрег18!B14","v":"Каркаусское сельское поселение"},1118900,{"$f":"плрег19!W14*1000","v":8500},{"$f":"плрег19!X14*1000","v":1110400}]
[{"$f":"плрег18!B15","v":"Кошкинское сельское поселение"},680200,{"$f":"плрег19!W15*1000","v":9700},{"$f":"плрег19!X15*1000","v":670500}]
[{"$f":"плрег18!B16","v":"Лельвижское сельское поселение"},705000,{"$f":"плрег19!W16*1000","v":4900},{"$f":"плрег19!X16*1000","v":700100}]
[{"$f":"плрег18!B17","v":"Лубянское сельское поселение"},2878900,{"$f":"плрег19!W17*1000","v":15000},{"$f":"плрег19!X17*1000","v":2863900}]
[{"$f":"плрег18!B18","v":"Мамаширское сельское поселение"},1047100.0000000001,{"$f":"плрег19!W18*1000","v":7700},{"$f":"плрег19!X18*1000","v":1039400.0000000001}]
[{"$f":"плрег18!B19","v":"Манзарасское сельское поселение"},1124900,{"$f":"плрег19!W19*1000","v":19800},{"$f":"плрег19!X19*1000","v":1105100}]
[{"$f":"плрег18!B20","v":"Нижнеискубашское сельское поселение"},941400,{"$f":"плрег19!W20*1000","v":9400},{"$f":"плрег19!X20*1000","v":932000}]
[{"$f":"плрег18!B21","v":"Нижнерусское сельское поселение"},1123400,{"$f":"плрег19!W21*1000","v":7200},{"$f":"плрег19!X21*1000","v":1116200}]
[{"$f":"плрег18!B22","v":"Ныртинское сельское поселение"},835900,{"$f":"плрег19!W22*1000","v":8200},{"$f":"плрег19!X22*1000","v":827700}]
[{"$f":"плрег18!B23","v":"Нырьинское сельское поселение"},49300,{"$f":"плрег19!W23*1000","v":13300},{"$f":"плрег19!X23*1000","v":36000}]
[{"$f":"плрег18!B24","v":"Олуязское сельское поселение"},972400,{"$f":"плрег19!W24*1000","v":14300},{"$f":"плрег19!X24*1000","v":958100}]
[{"$f":"плрег18!B25","v":"Ошторма-Юмьинское сельское поселение"},776400,{"$f":"плрег19!W25*1000","v":13500},{"$f":"плрег19!X25*1000","v":762900}]
[{"$f":"плрег18!B26","v":"поселок городского типа Кукмор"},3958900,{"$f":"плрег19!W26*1000","v":888000},{"$f":"плрег19!X26*1000","v":3070900}]
[{"$f":"плрег18!B27","v":"Починок-Кучуковское сельское поселение"},772800,{"$f":"плрег19!W27*1000","v":10000},{"$f":"плрег19!X27*1000","v":762800}]
[{"$f":"плрег18!B28","v":"Псякское сельское поселение"},800700,{"$f":"плрег19!W28*1000","v":6800},{"$f":"плрег19!X28*1000","v":793900}]
[{"$f":"плрег18!B29","v":"Сардекбашское сельское поселение"},826900,{"$f":"плрег19!W29*1000","v":11900},{"$f":"плрег19!X29*1000","v":815000}]
[{"$f":"плрег18!B30","v":"Село-Чуринское сельское поселение"},1126600,{"$f":"плрег19!W30*1000","v":12900},{"$f":"плрег19!X30*1000","v":1113700}]
[{"$f":"плрег18!B31","v":"Среднекуморское сельское поселение"},991400,{"$f":"плрег19!W31*1000","v":9800},{"$f":"плрег19!X31*1000","v":981600}]
[{"$f":"плрег18!B32","v":"Туембашское сельское поселение"},927800,{"$f":"плрег19!W32*1000","v":6600},{"$f":"плрег19!X32*1000","v":921200}]
[{"$f":"плрег18!B33","v":"Уркушское сельское поселение"},896700,{"$f":"плрег19!W33*1000","v":5500},{"$f":"плрег19!X33*1000","v":891200}]
[{"$f":"плрег18!B34","v":"Чарлинское сельское поселение"},880000,{"$f":"плрег19!W34*1000","v":6000},{"$f":"плрег19!X34*1000","v":874000}]
[{"$f":"плрег18!B35","v":"Ядыгерьское сельское поселение"},143600,{"$f":"плрег19!W35*1000","v":9700},{"$f":"плрег19!X35*1000","v":133900}]
[{"$f":"плрег18!B36","v":"Яныльское сельское поселение"},2529000,{"$f":"плрег19!W36*1000","v":13500},{"$f":"плрег19!X36*1000","v":2515500}]
[{"$f":"плрег18!B37","v":"Ятмас-Дусаевское сельское поселение"},867300,{"$f":"плрег19!W37*1000","v":4400},{"$f":"плрег19!X37*1000","v":862900}]
["ВСЕГО",{"$f":"SUM(B12:B41)","v":31979700},{"$f":"SUM(C12:C41)","v":1205400},{"$f":"SUM(D12:D41)","v":30774300}]
[]
["             Глава Района                                   С.Д.Димитриев"]

{"sheet":"18","index":18,"n_rows":43,"n_cols":4,"rows_kept":43,"cut":false,"hidden":true,"merged":[[5,0,5,3],[6,0,6,3],[8,0,9,0],[8,1,8,3]]}
[null,null,{"$f":"дата!$A$2&дата!$D$20","v":"Приложение №18"}]
[null,null,"к решению Кукморского"]
[null,null,"районного Совета"]
[null,null,{"$f":"дата!$D$1","v":"от08 декабря 2017 г. №131"}]
[]
["   Дотации бюджетам поселений "]
[" на выравнивание бюджетной обеспеченности поселений на плановый период 2020 года"]
[]
["Наименование  поселений","Сумма, рублей, в том числе"]
[null,null,"за счет субвенции из регионального фонда финансовой поддержки поселений","за счет субсидий на выравнивание бюджетной обеспеченности поселений"]
[{"$f":"плрег18!B8","v":"Байлянгарское сельское поселение"},{"$f":"SUM(C11:D11)","v":812100},{"$f":"плрег20!W8*1000","v":10400},{"$f":"плрег20!X8*1000","v":801700}]
[{"$f":"плрег18!B9","v":"Березнякское сельское поселение"},{"$f":"SUM(C12:D12)","v":825500},{"$f":"плрег20!W9*1000","v":6900},{"$f":"плрег20!X9*1000","v":818600}]
[{"$f":"плрег18!B10","v":"Большекукморское сельское поселение"},642000,{"$f":"плрег20!W10*1000","v":26700},{"$f":"плрег20!X10*1000","v":615300}]
[{"$f":"плрег18!B11","v":"Большесардекское сельское поселение"},884100,{"$f":"плрег20!W11*1000","v":32600},{"$f":"плрег20!X11*1000","v":851500}]
[{"$f":"плрег18!B12","v":"Важашурское сельское поселение"},981300,{"$f":"плрег20!W12*1000","v":8700},{"$f":"плрег20!X12*1000","v":972600}]
[{"$f":"плрег18!B13","v":"Каенсарское сельское поселение"},953100,{"$f":"плрег20!W13*1000","v":3400},{"$f":"плрег20!X13*1000","v":949700}]
[{"$f":"плрег18!B14","v":"Каркаусское сельское поселение"},1139300,{"$f":"плрег20!W14*1000","v":8500},{"$f":"плрег20!X14*1000","v":1130800}]
[{"$f":"плрег18!B15","v":"Кошкинское сельское поселение"},698200,{"$f":"плрег20!W15*1000","v":9600},{"$f":"плрег20!X15*1000","v":688600}]
[{"$f":"плрег18!B16","v":"Лельвижское сельское поселение"},721700,{"$f":"плрег20!W16*1000","v":4900},{"$f":"плрег20!X16*1000","v":716800}]
[{"$f":"плрег18!B17","v":"Лубянское сельское поселение"},2882000,{"$f":"плрег20!W17*1000","v":15000},{"$f":"плрег20!X17*1000","v":2867000}]
[{"$f":"плрег18!B18","v":"Мамаширское сельское поселение"},1067800,{"$f":"плрег20!W18*1000","v":7700},{"$f":"плрег20!X18*1000","v":1060100}]
[{"$f":"плрег18!B19","v":"Манзарасское сельское поселение"},1129300,{"$f":"плрег20!W19*1000","v":19700},{"$f":"плрег20!X19*1000","v":1109600}]
[{"$f":"плрег18!B20","v":"Нижнеискубашское сельское поселение"},965500,{"$f":"плрег20!W20*1000","v":9400},{"$f":"плрег20!X20*1000","v":956100}]
[{"$f":"плрег18!B21","v":"Нижнерусское сельское поселение"},1148600,{"$f":"плрег20!W21*1000","v":7200},{"$f":"плрег20!X21*1000","v":1141400}]
[{"$f":"плрег18!B22","v":"Ныртинское сельское поселение"},857500,{"$f":"плрег20!W22*1000","v":8200},{"$f":"плрег20!X22*1000","v":849300}]
[{"$f":"плрег18!B23","v":"Нырьинское сельское поселение"},52100,{"$f":"плрег20!W23*1000","v":13300},{"$f":"плрег20!X23*1000","v":38800}]
[{"$f":"плрег18!B24","v":"Олуязское сельское поселение"},970900,{"$f":"плрег20!W24*1000","v":14200},{"$f":"плрег20!X24*1000","v":956700}]
[{"$f":"плрег18!B25","v":"Ошторма-Юмьинское сельское поселение"},792500,{"$f":"плрег20!W25*1000","v":13500},{"$f":"плрег20!X25*1000","v":779000}]
[{"$f":"плрег18!B26","v":"поселок городского типа Кукмор"},4656400,{"$f":"плрег20!W26*1000","v":886600},{"$f":"плрег20!X26*1000","v":3769800}]
[{"$f":"плрег18!B27","v":"Починок-Кучуковское сельское поселение"},792900,{"$f":"плрег20!W27*1000","v":10000},{"$f":"плрег20!X27*1000","v":782900}]
[{"$f":"плрег18!B28","v":"Псякское сельское поселение"},815400,{"$f":"плрег20!W28*1000","v":6700},{"$f":"плрег20!X28*1000","v":808700}]
[{"$f":"плрег18!B29","v":"Сардекбашское сельское поселение"},844600,{"$f":"плрег20!W29*1000","v":11800},{"$f":"плрег20!X29*1000","v":832800}]
[{"$f":"плрег18!B30","v":"Село-Чуринское сельское поселение"},1139300,{"$f":"плрег20!W30*1000","v":12800},{"$f":"плрег20!X30*1000","v":1126500}]
[{"$f":"плрег18!B31","v":"Среднекуморское сельское поселение"},1009800,{"$f":"плрег20!W31*1000","v":9800},{"$f":"плрег20!X31*1000","v":1000000}]
[{"$f":"плрег18!B32","v":"Туембашское сельское поселение"},951400,{"$f":"плрег20!W32*1000","v":6600},{"$f":"плрег20!X32*1000","v":944800}]
[{"$f":"плрег18!B33","v":"Уркушское сельское поселение"},919500,{"$f":"плрег20!W33*1000","v":5500},{"$f":"плрег20!X33*1000","v":914000}]
[{"$f":"плрег18!B34","v":"Чарлинское сельское поселение"},899200,{"$f":"плрег20!W34*1000","v":6000},{"$f":"плрег20!X34*1000","v":893200}]
[{"$f":"плрег18!B35","v":"Ядыгерьское сельское поселение"},151700,{"$f":"плрег20!W35*1000","v":9700},{"$f":"плрег20!X35*1000","v":142000}]
[{"$f":"плрег18!B36","v":"Яныльское сельское поселение"},2533500,{"$f":"плрег20!W36*1000","v":13500},{"$f":"плрег20!X36*1000","v":2520000}]
[{"$f":"плрег18!B37","v":"Ятмас-Дусаевское сельское поселение"},892900,{"$f":"плрег20!W37*1000","v":4400},{"$f":"плрег20!X37*1000","v":888500}]
["ВСЕГО",{"$f":"SUM(B11:B40)","v":33130100},{"$f":"SUM(C11:C40)","v":1203300},{"$f":"SUM(D11:D40)","v":31926800}]
[]
["             Глава Района                                   С.Д.Димитриев"]

{"sheet":"19","index":19,"n_rows":46,"n_cols":2,"rows_kept":46,"cut":false,"hidden":true,"merged":[[5,0,5,1],[8,0,10,0],[8,1,10,1]]}
[null,{"$f":"дата!$A$2&дата!$D$21","v":"Приложение №19"}]
[null,"к решению Кукморского"]
[null,"районного Совета"]
[null,{"$f":"дата!$D$1","v":"от08 декабря 2017 г. №131"}]
[]
["Дотации на сбалансированность поселений в 2018 году"]
[]
[null,"(рублей)"]
["Наименование  поселений","Сумма"]
[]
[]
[{"$f":"плрег18!B8","v":"Байлянгарское сельское поселение"},{"$f":"плрег18!Y8*1000","v":31400}]
[{"$f":"плрег18!B9","v":"Березнякское сельское поселение"},{"$f":"плрег18!Y9*1000","v":27400}]
[{"$f":"плрег18!B10","v":"Большекукморское сельское поселение"},{"$f":"плрег18!Y10*1000","v":46800}]
[{"$f":"плрег18!B11","v":"Большесардекское сельское поселение"},{"$f":"плрег18!Y11*1000","v":32600}]
[{"$f":"плрег18!B12","v":"Важашурское сельское поселение"},{"$f":"плрег18!Y12*1000","v":29500}]
[{"$f":"плрег18!B13","v":"Каенсарское сельское поселение"},{"$f":"плрег18!Y13*1000","v":26800}]
[{"$f":"плрег18!B14","v":"Каркаусское сельское поселение"},{"$f":"плрег18!Y14*1000","v":37800}]
[{"$f":"плрег18!B15","v":"Кошкинское сельское поселение"},{"$f":"плрег18!Y15*1000","v":27000}]
[{"$f":"плрег18!B16","v":"Лельвижское сельское поселение"},{"$f":"плрег18!Y16*1000","v":23800}]
[{"$f":"плрег18!B17","v":"Лубянское сельское поселение"},{"$f":"плрег18!Y17*1000","v":82600}]
[{"$f":"плрег18!B18","v":"Мамаширское сельское поселение"},{"$f":"плрег18!Y18*1000","v":31100}]
[{"$f":"плрег18!B19","v":"Манзарасское сельское поселение"},{"$f":"плрег18!Y19*1000","v":40800}]
[{"$f":"плрег18!B20","v":"Нижнеискубашское сельское поселение"},{"$f":"плрег18!Y20*1000","v":29000}]
[{"$f":"плрег18!B21","v":"Нижнерусское сельское поселение"},{"$f":"плрег18!Y21*1000","v":31900}]
[{"$f":"плрег18!B22","v":"Ныртинское сельское поселение"},{"$f":"плрег18!Y22*1000","v":27600}]
[{"$f":"плрег18!B23","v":"Нырьинское сельское поселение"},{"$f":"плрег18!Y23*1000","v":37900}]
[{"$f":"плрег18!B24","v":"Олуязское сельское поселение"},{"$f":"плрег18!Y24*1000","v":41900}]
[{"$f":"плрег18!B25","v":"Ошторма-Юмьинское сельское поселение"},{"$f":"плрег18!Y25*1000","v":27500}]
[{"$f":"плрег18!B26","v":"поселок городского типа Кукмор"},{"$f":"плрег18!Y26*1000","v":0}]
[{"$f":"плрег18!B27","v":"Починок-Кучуковское сельское поселение"},{"$f":"плрег18!Y27*1000","v":26100}]
[{"$f":"плрег18!B28","v":"Псякское сельское поселение"},{"$f":"плрег18!Y28*1000","v":30500}]
[{"$f":"плрег18!B29","v":"Сардекбашское сельское поселение"},{"$f":"плрег18!Y29*1000","v":27100}]
[{"$f":"плрег18!B30","v":"Село-Чуринское сельское поселение"},{"$f":"плрег18!Y30*1000","v":38700}]
[{"$f":"плрег18!B31","v":"Среднекуморское сельское поселение"},{"$f":"плрег18!Y31*1000","v":28900}]
[{"$f":"плрег18!B32","v":"Туембашское сельское поселение"},{"$f":"плрег18!Y32*1000","v":29000}]
[{"$f":"плрег18!B33","v":"Уркушское сельское поселение"},{"$f":"плрег18!Y33*1000","v":27200}]
[{"$f":"плрег18!B34","v":"Чарлинское сельское поселение"},{"$f":"плрег18!Y34*1000","v":31100}]
[{"$f":"плрег18!B35","v":"Ядыгерьское сельское поселение"},{"$f":"плрег18!Y35*1000","v":29100}]
[{"$f":"плрег18!B36","v":"Яныльское сельское поселение"},{"$f":"плрег18!Y36*1000","v":78800}]
[{"$f":"плрег18!B37","v":"Ятмас-Дусаевское сельское поселение"},{"$f":"плрег18!Y37*1000","v":27200}]
[]
["ВСЕГО",{"$f":"SUM(B12:B42)","v":1007100}]
[]
[]
["             Глава Района                                   С.Д.Димитриев"]

{"sheet":"20","index":20,"n_rows":46,"n_cols":3,"rows_kept":46,"cut":false,"hidden":true,"merged":[[6,0,6,2],[9,0,10,0],[5,0,5,2],[9,1,9,2]]}
[null,{"$f":"дата!$A$2&дата!$D$22","v":"Приложение №20"}]
[null,"к решению Кукморского"]
[null,"районного Совета"]
[null,{"$f":"дата!$D$1","v":"от08 декабря 2017 г. №131"}]
[]
["Дотации на сбалансированность поселений "]
["на плановый период 2019 и 2020 годов"]
[]
[null,null,"(рублей)"]
["Наименование  поселений","Сумма"]
[null,"2019 год","2020 год"]
[{"$f":"плрег18!B8","v":"Байлянгарское сельское поселение"},{"$f":"плрег19!Y8*1000","v":19100},{"$f":"плрег20!Y8*1000","v":21700}]
[{"$f":"плрег18!B9","v":"Березнякское сельское поселение"},{"$f":"плрег19!Y9*1000","v":17400},{"$f":"плрег20!Y9*1000","v":19600}]
[{"$f":"плрег18!B10","v":"Большекукморское сельское поселение"},{"$f":"плрег19!Y10*1000","v":25200},{"$f":"плрег20!Y10*1000","v":29600}]
[{"$f":"плрег18!B11","v":"Большесардекское сельское поселение"},{"$f":"плрег19!Y11*1000","v":13300},{"$f":"плрег20!Y11*1000","v":17200}]
[{"$f":"плрег18!B12","v":"Важашурское сельское поселение"},{"$f":"плрег19!Y12*1000","v":18300},{"$f":"плрег20!Y12*1000","v":20600}]
[{"$f":"плрег18!B13","v":"Каенсарское сельское поселение"},{"$f":"плрег19!Y13*1000","v":18000},{"$f":"плрег20!Y13*1000","v":20000}]
[{"$f":"плрег18!B14","v":"Каркаусское сельское поселение"},{"$f":"плрег19!Y14*1000","v":24100},{"$f":"плрег20!Y14*1000","v":26900}]
[{"$f":"плрег18!B15","v":"Кошкинское сельское поселение"},{"$f":"плрег19!Y15*1000","v":16300},{"$f":"плрег20!Y15*1000","v":18800}]
[{"$f":"плрег18!B16","v":"Лельвижское сельское поселение"},{"$f":"плрег19!Y16*1000","v":15500},{"$f":"плрег20!Y16*1000","v":17400}]
[{"$f":"плрег18!B17","v":"Лубянское сельское поселение"},{"$f":"плрег19!Y17*1000","v":53600},{"$f":"плрег20!Y17*1000","v":58700}]
[{"$f":"плрег18!B18","v":"Мамаширское сельское поселение"},{"$f":"плрег19!Y18*1000","v":19700},{"$f":"плрег20!Y18*1000","v":22100}]
[{"$f":"плрег18!B19","v":"Манзарасское сельское поселение"},{"$f":"плрег19!Y19*1000","v":22900},{"$f":"плрег20!Y19*1000","v":26500}]
[{"$f":"плрег18!B20","v":"Нижнеискубашское сельское поселение"},{"$f":"плрег19!Y20*1000","v":17800},{"$f":"плрег20!Y20*1000","v":20200}]
[{"$f":"плрег18!B21","v":"Нижнерусское сельское поселение"},{"$f":"плрег19!Y21*1000","v":20400},{"$f":"плрег20!Y21*1000","v":22900}]
[{"$f":"плрег18!B22","v":"Ныртинское сельское поселение"},{"$f":"плрег19!Y22*1000","v":17200},{"$f":"плрег20!Y22*1000","v":19400}]
[{"$f":"плрег18!B23","v":"Нырьинское сельское поселение"},{"$f":"плрег19!Y23*1000","v":22700},{"$f":"плрег20!Y23*1000","v":25700}]
[{"$f":"плрег18!B24","v":"Олуязское сельское поселение"},{"$f":"плрег19!Y24*1000","v":25100},{"$f":"плрег20!Y24*1000","v":28400}]
[{"$f":"плрег18!B25","v":"Ошторма-Юмьинское сельское поселение"},{"$f":"плрег19!Y25*1000","v":15500},{"$f":"плрег20!Y25*1000","v":18100}]
[{"$f":"плрег18!B26","v":"поселок городского типа Кукмор"},{"$f":"плрег19!Y26*1000","v":700},{"$f":"плрег20!Y26*1000","v":88000}]
[{"$f":"плрег18!B27","v":"Починок-Кучуковское сельское поселение"},{"$f":"плрег19!Y27*1000","v":15600},{"$f":"плрег20!Y27*1000","v":17900}]
[{"$f":"плрег18!B28","v":"Псякское сельское поселение"},{"$f":"плрег19!Y28*1000","v":19600},{"$f":"плрег20!Y28*1000","v":22100}]
[{"$f":"плрег18!B29","v":"Сардекбашское сельское поселение"},{"$f":"плрег19!Y29*1000","v":15700},{"$f":"плрег20!Y29*1000","v":18300}]
[{"$f":"плрег18!B30","v":"Село-Чуринское сельское поселение"},{"$f":"плрег19!Y30*1000","v":23400},{"$f":"плрег20!Y30*1000","v":26500}]
[{"$f":"плрег18!B31","v":"Среднекуморское сельское поселение"},{"$f":"плрег19!Y31*1000","v":17500},{"$f":"плрег20!Y31*1000","v":19900}]
[{"$f":"плрег18!B32","v":"Туембашское сельское поселение"},{"$f":"плрег19!Y32*1000","v":18700},{"$f":"плрег20!Y32*1000","v":21000}]
[{"$f":"плрег18!B33","v":"Уркушское сельское поселение"},{"$f":"плрег19!Y33*1000","v":17700},{"$f":"плрег20!Y33*1000","v":19800}]
[{"$f":"плрег18!B34","v":"Чарлинское сельское поселение"},{"$f":"плрег19!Y34*1000","v":20300},{"$f":"плрег20!Y34*1000","v":22700}]
[{"$f":"плрег18!B35","v":"Ядыгерьское сельское поселение"},{"$f":"плрег19!Y35*1000","v":17700},{"$f":"плрег20!Y35*1000","v":20100}]
[{"$f":"плрег18!B36","v":"Яныльское сельское поселение"},{"$f":"плрег19!Y36*1000","v":61700},{"$f":"плрег20!Y36*1000","v":67400}]
[{"$f":"плрег18!B37","v":"Ятмас-Дусаевское сельское поселение"},{"$f":"плрег19!Y37*1000","v":18000},{"$f":"плрег20!Y37*1000","v":20100}]
[]
["ВСЕГО",{"$f":"SUM(B12:B42)","v":628700},{"$f":"SUM(C12:C42)","v":797600}]
[]
[]
["             Глава Района                                   С.Д.Димитриев"]

{"sheet":"21а","index":21,"n_rows":45,"n_cols":3,"rows_kept":45,"cut":false,"hidden":true,"merged":[[5,0,5,2],[6,0,6,2],[7,0,7,2],[9,0,10,0],[9,1,10,1],[9,2,10,2]]}
[null,{"$f":"дата!$A$2&дата!$D$23","v":"Приложение №21"}]
[null,"к решению Кукморского"]
[null,"районного Совета"]
[null,{"$f":"дата!$D$1","v":"от08 декабря 2017 г. №131"}]
[]
["Субвенция"]
["на выполнение федеральных полномочий по государственной регистрации"]
["актов гражданского состояния на 2017 год"]
[]
["Наименование  поселений","количество записей за 4 квартал 2015 года и 3 квартала 2016 года","Сумма, рублей"]
[]
[{"$f":"плрег18!B8","v":"Байлянгарское сельское поселение"},null,{"$f":"плрег18!AJ8*1000","v":0}]
[{"$f":"плрег18!B9","v":"Березнякское сельское поселение"},null,{"$f":"плрег18!AJ9*1000","v":0}]
[{"$f":"плрег18!B10","v":"Большекукморское сельское поселение"},null,{"$f":"плрег18!AJ10*1000","v":0}]
[{"$f":"плрег18!B11","v":"Большесардекское сельское поселение"},null,{"$f":"плрег18!AJ11*1000","v":0}]
[{"$f":"плрег18!B12","v":"Важашурское сельское поселение"},null,{"$f":"плрег18!AJ12*1000","v":0}]
[{"$f":"плрег18!B13","v":"Каенсарское сельское поселение"},null,{"$f":"плрег18!AJ13*1000","v":0}]
[{"$f":"плрег18!B14","v":"Каркаусское сельское поселение"},null,{"$f":"плрег18!AJ14*1000","v":0}]
[{"$f":"плрег18!B15","v":"Кошкинское сельское поселение"},null,{"$f":"плрег18!AJ15*1000","v":0}]
[{"$f":"плрег18!B16","v":"Лельвижское сельское поселение"},null,{"$f":"плрег18!AJ16*1000","v":0}]
[{"$f":"плрег18!B17","v":"Лубянское сельское поселение"},null,{"$f":"плрег18!AJ17*1000","v":0}]
[{"$f":"плрег18!B18","v":"Мамаширское сельское поселение"},null,{"$f":"плрег18!AJ18*1000","v":0}]
[{"$f":"плрег18!B19","v":"Манзарасское сельское поселение"},null,{"$f":"плрег18!AJ19*1000","v":0}]
[{"$f":"плрег18!B20","v":"Нижнеискубашское сельское поселение"},null,{"$f":"плрег18!AJ20*1000","v":0}]
[{"$f":"плрег18!B21","v":"Нижнерусское сельское поселение"},null,{"$f":"плрег18!AJ21*1000","v":0}]
[{"$f":"плрег18!B22","v":"Ныртинское сельское поселение"},null,{"$f":"плрег18!AJ22*1000","v":0}]
[{"$f":"плрег18!B23","v":"Нырьинское сельское поселение"},null,{"$f":"плрег18!AJ23*1000","v":0}]
[{"$f":"плрег18!B24","v":"Олуязское сельское поселение"},null,{"$f":"плрег18!AJ24*1000","v":0}]
[{"$f":"плрег18!B25","v":"Ошторма-Юмьинское сельское поселение"},null,{"$f":"плрег18!AJ25*1000","v":0}]
[{"$f":"плрег18!B26","v":"поселок городского типа Кукмор"},null,{"$f":"плрег18!AJ26*1000","v":0}]
[{"$f":"плрег18!B27","v":"Починок-Кучуковское сельское поселение"},null,{"$f":"плрег18!AJ27*1000","v":0}]
[{"$f":"плрег18!B28","v":"Псякское сельское поселение"},null,{"$f":"плрег18!AJ28*1000","v":0}]
[{"$f":"плрег18!B29","v":"Сардекбашское сельское поселение"},null,{"$f":"плрег18!AJ29*1000","v":0}]
[{"$f":"плрег18!B30","v":"Село-Чуринское сельское поселение"},null,{"$f":"плрег18!AJ30*1000","v":0}]
[{"$f":"плрег18!B31","v":"Среднекуморское сельское поселение"},null,{"$f":"плрег18!AJ31*1000","v":0}]
[{"$f":"плрег18!B32","v":"Туембашское сельское поселение"},null,{"$f":"плрег18!AJ32*1000","v":0}]
[{"$f":"плрег18!B33","v":"Уркушское сельское поселение"},null,{"$f":"плрег18!AJ33*1000","v":0}]
[{"$f":"плрег18!B34","v":"Чарлинское сельское поселение"},null,{"$f":"плрег18!AJ34*1000","v":0}]
[{"$f":"плрег18!B35","v":"Ядыгерьское сельское поселение"},null,{"$f":"плрег18!AJ35*1000","v":0}]
[{"$f":"плрег18!B36","v":"Яныльское сельское поселение"},null,{"$f":"плрег18!AJ36*1000","v":0}]
[{"$f":"плрег18!B37","v":"Ятмас-Дусаевское сельское поселение"},null,{"$f":"плрег18!AJ37*1000","v":0}]
["ВСЕГО",{"$f":"SUM(B12:B41)","v":0},{"$f":"SUM(C12:C41)","v":0}]
[]
[]
["             Глава Района                                   С.Д.Димитриев"]

{"sheet":"22а","index":22,"n_rows":46,"n_cols":4,"rows_kept":46,"cut":false,"hidden":true,"merged":[[7,0,7,3],[6,0,6,3],[5,0,5,3],[9,0,10,0],[9,1,10,1],[9,2,9,3]]}
[null,null,{"$f":"дата!$A$2&дата!$D$24","v":"Приложение №22"}]
[null,null,"к решению Кукморского"]
[null,null,"районного Совета"]
[null,null,{"$f":"дата!$D$1","v":"от08 декабря 2017 г. №131"}]
[]
["Субвенция"]
["на выполнение федеральных полномочий по государственной регистрации"]
["актов гражданского состояния на плановый период 2018 и 2019 годов"]
[null,null,null,"(рублей)"]
["Наименование  поселений","количество записей за 4 квартал 2015 года и 3 квартала 2016 года","Сумма"]
[null,null,"2018 год","2019 год"]
[{"$f":"плрег18!B8","v":"Байлянгарское сельское поселение"},{"$f":"'21а'!B12","v":0},{"$f":"плрег19!AK8*1000","v":0},{"$f":"плрег20!AK8*1000","v":0}]
[{"$f":"плрег18!B9","v":"Березнякское сельское поселение"},{"$f":"'21а'!B13","v":0},{"$f":"плрег19!AK9*1000","v":0},{"$f":"плрег20!AK9*1000","v":0}]
[{"$f":"плрег18!B10","v":"Большекукморское сельское поселение"},{"$f":"'21а'!B14","v":0},{"$f":"плрег19!AK10*1000","v":0},{"$f":"плрег20!AK10*1000","v":0}]
[{"$f":"плрег18!B11","v":"Большесардекское сельское поселение"},{"$f":"'21а'!B15","v":0},{"$f":"плрег19!AK11*1000","v":0},{"$f":"плрег20!AK11*1000","v":0}]
[{"$f":"плрег18!B12","v":"Важашурское сельское поселение"},{"$f":"'21а'!B16","v":0},{"$f":"плрег19!AK12*1000","v":0},{"$f":"плрег20!AK12*1000","v":0}]
[{"$f":"плрег18!B13","v":"Каенсарское сельское поселение"},{"$f":"'21а'!B17","v":0},{"$f":"плрег19!AK13*1000","v":0},{"$f":"плрег20!AK13*1000","v":0}]
[{"$f":"плрег18!B14","v":"Каркаусское сельское поселение"},{"$f":"'21а'!B18","v":0},{"$f":"плрег19!AK14*1000","v":0},{"$f":"плрег20!AK14*1000","v":0}]
[{"$f":"плрег18!B15","v":"Кошкинское сельское поселение"},{"$f":"'21а'!B19","v":0},{"$f":"плрег19!AK15*1000","v":0},{"$f":"плрег20!AK15*1000","v":0}]
[{"$f":"плрег18!B16","v":"Лельвижское сельское поселение"},{"$f":"'21а'!B20","v":0},{"$f":"плрег19!AK16*1000","v":0},{"$f":"плрег20!AK16*1000","v":0}]
[{"$f":"плрег18!B17","v":"Лубянское сельское поселение"},{"$f":"'21а'!B21","v":0},{"$f":"плрег19!AK17*1000","v":0},{"$f":"плрег20!AK17*1000","v":0}]
[{"$f":"плрег18!B18","v":"Мамаширское сельское поселение"},{"$f":"'21а'!B22","v":0},{"$f":"плрег19!AK18*1000","v":0},{"$f":"плрег20!AK18*1000","v":0}]
[{"$f":"плрег18!B19","v":"Манзарасское сельское поселение"},{"$f":"'21а'!B23","v":0},{"$f":"плрег19!AK19*1000","v":0},{"$f":"плрег20!AK19*1000","v":0}]
[{"$f":"плрег18!B20","v":"Нижнеискубашское сельское поселение"},{"$f":"'21а'!B24","v":0},{"$f":"плрег19!AK20*1000","v":0},{"$f":"плрег20!AK20*1000","v":0}]
[{"$f":"плрег18!B21","v":"Нижнерусское сельское поселение"},{"$f":"'21а'!B25","v":0},{"$f":"плрег19!AK21*1000","v":0},{"$f":"плрег20!AK21*1000","v":0}]
[{"$f":"плрег18!B22","v":"Ныртинское сельское поселение"},{"$f":"'21а'!B26","v":0},{"$f":"плрег19!AK22*1000","v":0},{"$f":"плрег20!AK22*1000","v":0}]
[{"$f":"плрег18!B23","v":"Нырьинское сельское поселение"},{"$f":"'21а'!B27","v":0},{"$f":"плрег19!AK23*1000","v":0},{"$f":"плрег20!AK23*1000","v":0}]
[{"$f":"плрег18!B24","v":"Олуязское сельское поселение"},{"$f":"'21а'!B28","v":0},{"$f":"плрег19!AK24*1000","v":0},{"$f":"плрег20!AK24*1000","v":0}]
[{"$f":"плрег18!B25","v":"Ошторма-Юмьинское сельское поселение"},{"$f":"'21а'!B29","v":0},{"$f":"плрег19!AK25*1000","v":0},{"$f":"плрег20!AK25*1000","v":0}]
[{"$f":"плрег18!B26","v":"поселок городского типа Кукмор"},{"$f":"'21а'!B30","v":0},{"$f":"плрег19!AK26*1000","v":0},{"$f":"плрег20!AK26*1000","v":0}]
[{"$f":"плрег18!B27","v":"Починок-Кучуковское сельское поселение"},{"$f":"'21а'!B31","v":0},{"$f":"плрег19!AK27*1000","v":0},{"$f":"плрег20!AK27*1000","v":0}]
[{"$f":"плрег18!B28","v":"Псякское сельское поселение"},{"$f":"'21а'!B32","v":0},{"$f":"плрег19!AK28*1000","v":0},{"$f":"плрег20!AK28*1000","v":0}]
[{"$f":"плрег18!B29","v":"Сардекбашское сельское поселение"},{"$f":"'21а'!B33","v":0},{"$f":"плрег19!AK29*1000","v":0},{"$f":"плрег20!AK29*1000","v":0}]
[{"$f":"плрег18!B30","v":"Село-Чуринское сельское поселение"},{"$f":"'21а'!B34","v":0},{"$f":"плрег19!AK30*1000","v":0},{"$f":"плрег20!AK30*1000","v":0}]
[{"$f":"плрег18!B31","v":"Среднекуморское сельское поселение"},{"$f":"'21а'!B35","v":0},{"$f":"плрег19!AK31*1000","v":0},{"$f":"плрег20!AK31*1000","v":0}]
[{"$f":"плрег18!B32","v":"Туембашское сельское поселение"},{"$f":"'21а'!B36","v":0},{"$f":"плрег19!AK32*1000","v":0},{"$f":"плрег20!AK32*1000","v":0}]
[{"$f":"плрег18!B33","v":"Уркушское сельское поселение"},{"$f":"'21а'!B37","v":0},{"$f":"плрег19!AK33*1000","v":0},{"$f":"плрег20!AK33*1000","v":0}]
[{"$f":"плрег18!B34","v":"Чарлинское сельское поселение"},{"$f":"'21а'!B38","v":0},{"$f":"плрег19!AK34*1000","v":0},{"$f":"плрег20!AK34*1000","v":0}]
[{"$f":"плрег18!B35","v":"Ядыгерьское сельское поселение"},{"$f":"'21а'!B39","v":0},{"$f":"плрег19!AK35*1000","v":0},{"$f":"плрег20!AK35*1000","v":0}]
[{"$f":"плрег18!B36","v":"Яныльское сельское поселение"},{"$f":"'21а'!B40","v":0},{"$f":"плрег19!AK36*1000","v":0},{"$f":"плрег20!AK36*1000","v":0}]
[{"$f":"плрег18!B37","v":"Ятмас-Дусаевское сельское поселение"},{"$f":"'21а'!B41","v":0},{"$f":"плрег19!AK37*1000","v":0},{"$f":"плрег20!AK37*1000","v":0}]
[]
["ВСЕГО",{"$f":"SUM(B12:B42)","v":0},{"$f":"SUM(C12:C42)","v":0},{"$f":"SUM(D12:D42)","v":0}]
[]
[]
["             Глава Района                                   С.Д.Димитриев"]

{"sheet":"21","index":23,"n_rows":22,"n_cols":4,"rows_kept":22,"cut":false,"hidden":false,"merged":[[5,0,5,3],[6,0,6,3],[8,0,10,0],[8,1,9,2],[8,3,10,3]]}
[null,null,"Приложение №6"]
[null,null,"к решению Совета Кукморского"]
[null,null,"муниципального района"]
[null,null,{"$f":"дата!C1","v":"от____марта 2019 г. №______"}]
[]
["Межбюджетные трансферты, получаемые \n"]
[" из бюджета Республики Татарстан и бюджетов поселений в 2019 году\n"]
[null,null,null,"(рублей)"]
["Наименование","код дохода",null,"сумма"]
[]
[null,"квд","косгу"]
["Итого",null,null,844633883.04999995]
["Дотации бюджетам муниципальных районов на выравнивание бюджетной обеспеченности","2.02.15001.05.0000.150","1.5.1",74082000]
["Прочие субсидии бюджетам муниципальных районов","2.02.29999.05.0000.150","1.5.1",357977083.05000001]
["Субвенции бюджетам муниципальных районов на выполнение передаваемых полномочий субъектов Российской Федерации","2.02.30024.05.0000.150","1.5.1",398214800]
["Субвенции бюджетам муниципальных районов на осуществление первичного воинского учета на территориях, где отсутствуют военные комиссариаты","2.02.35118.05.0000.150","1.5.1",2764900]
["Субвенции бюджетам муниципальных районов на осуществление полномочий по составлению (изменению) списков кандидатов в присяжные заседатели федеральных судов общей юрисдикции в Российской Федерации","2.02.35120.05.0000.150","1.5.1",15900]
["Субвенции бюджетам муниципальных районов на государственную регистрацию актов гражданского состояния","2.02.35930.05.0000.150","1.5.1",2707200]
["Межбюджетные трансферты, передаваемые бюджетам муниципальных районов из бюджетов поселений на осуществление части полномочий по решению вопросов местного значения в соответствии с заключенными соглашениями","2.02.40014.05.0000.150","1.5.1",8872000]
[]
[]
["             Глава Района                                   С.Д.Димитриев"]

{"sheet":"22","index":24,"n_rows":30,"n_cols":7,"rows_kept":30,"cut":false,"hidden":true,"merged":[[5,0,5,4],[6,0,6,4],[8,0,10,0],[8,1,9,2],[8,3,9,4]]}
[null,null,null,"Приложение №22"]
[null,null,null,"к решению Кукморского"]
[null,null,null,"районного Совета"]
[null,null,null,"от 08 декабря 2017 г. №"]
[]
["Межбюджетные трансферты, получаемые из бюджета\n"]
["Республики Татарстан и бюджетов поселений в плановом периоде 2019 и 2020 годов\n"]
[null,null,null,null,"(рублей)"]
["Наименование","код дохода",null,"сумма"]
[]
[null,"квд","косгу","2019 год","2020 год"]
["ИТОГО","",null,{"$f":"D14","v":750404590},{"$f":"E14","v":738003410},{"$f":"D12-D27-D28","v":737767500},{"$f":"E12-E27-E28","v":724366320}]
[]
["БЕЗВОЗМЕЗДНЫЕ ПОСТУПЛЕНИЯ","2.00.00.000.00.0.000","0.0.0",{"$f":"D15","v":750404590},{"$f":"E15","v":738003410}]
["БЕЗВОЗМЕЗДНЫЕ ПОСТУПЛЕНИЯ ОТ ДРУГИХ БЮДЖЕТОВ БЮДЖЕТНОЙ СИСТЕМЫ РОССИЙСКОЙ ФЕДЕРАЦИИ","2.02.00.000.00.0.000","0.0.0",{"$f":"D16+D18+D20+D25","v":750404590},{"$f":"E16+E18+E20+E25","v":738003410}]
["Дотации бюджетам субъектов Российской Федерации и муниципальных образований","2.02.10.000.00.0.000","1.5.1",{"$f":"SUM(D17)","v":38930900},{"$f":"SUM(E17)","v":25478300}]
["Дотации бюджетам муниципальных районов на выравнивание бюджетной обеспеченности","2.02.15.001.05.0.000","1.5.1",38930900,25478300]
["Субсидии бюджетам субъектов Российской Федерации и муниципальных образований (межбюджетные субсидии)","2.02.20.000.00.0.000","1.5.1",{"$f":"SUM(D19:D19)","v":308073500},{"$f":"SUM(E19:E19)","v":307671000}]
["Прочие субсидии бюджетам муниципальных районов","2.02.29.999.05.0.000","1.5.1",308073500,307671000]
["Субвенции бюджетам субъектов Российской Федерации и муниципальных образований","2.02.30.000.00.0.000","1.5.1",{"$f":"SUM(D21:D24)","v":390763100},{"$f":"SUM(E21:E24)","v":391217020.00000006}]
["Субвенции бюджетам муниципальных районов на государственную регистрацию актов гражданского состояния","2.02.35.930.05.0.000","1.5.1",1770600,1829200]
["Субвенции бюджетам муниципальных районов на осуществление первичного воинского учета на территориях, где отсутствуют военные комиссариаты","2.02.35.118.05.0.000","1.5.1",2681700,2780800]
["Субвенции бюджетам муниципальных районов на составление (изменение)  списков кандидатов в присяжные заседатели федеральных судов общей юрисдикции в Российской Федерации","2.02.35.120.05.0.000","1.5.1",13000,21000]
["Субвенции бюджетам муниципальных районов на выполнение передаваемых полномочий субъектов Российской Федерации","2.02.30.024.05.0.000","1.5.1",386297800,386586020.00000006]
["Иные межбюджетные трансферты","2.02.40.000.00.0.000","1.5.1",{"$f":"SUM(D26:D28)","v":12637090},{"$f":"SUM(E26:E28)","v":13637090}]
["Иные межбюджетные трансферты на комплектование книжных фондов библиотек","2.02.40.025.05.0.000","1.5.1",0,0]
["Межбюджетные трансферты, передаваемые бюджетам муниципальных районов из бюджетов поселений на осуществление части полномочий по решению вопросов местного значения в соответствии с заключенными соглашениями","2.02.40.014.05.0.000","1.5.1",5237090,5237090]
["Прочие межбюджетные трансферты, передаваемые бюджетам муниципальных районов","2.02.49.999.05.0.000","1.5.1",7400000,8400000]
[]
["             Глава Района                                   С.Д.Димитриев"]

{"sheet":"23а","index":25,"n_rows":44,"n_cols":7,"rows_kept":44,"cut":false,"hidden":true,"merged":[[7,0,7,3],[6,0,6,3],[5,0,5,3]]}
[null,null,{"$f":"дата!$A$2&дата!$D$25","v":"Приложение №23"}]
[null,null,"к решению Кукморского"]
[null,null,"районного Совета"]
[null,null,{"$f":"дата!$D$1","v":"от08 декабря 2017 г. №131"}]
[]
["Субвенция"]
["на осуществление полномочий по первичному воинскому учету на территориях,"]
["где отсутствуют военные комиссариаты на 2018 год"]
[]
["Наименование муниципального образования, в котором отсутствует военный комиссариат ","Количество граждан, состоящих   на воинском  учете","Количество  освобожденных  работников, требующихся  для осуществления воинского учета ","сумма на год, рублей"]
["Байлянгарское сельское поселение",301,"-",{"$f":"плрег18!AX8*1000","v":90600},40,{"$f":"D11-E11","v":90560}]
["Березнякское сельское поселение",186,"-",{"$f":"плрег18!AX9*1000","v":57800},32,{"$f":"D12-E12","v":57768}]
["Большекукморское сельское поселение",672,1,{"$f":"плрег18!AX10*1000","v":203100},131,202969,10600]
["Большесардекское сельское поселение",855,1,{"$f":"плрег18!AX11*1000","v":268600},170,268430]
["Важашурское сельское поселение",274,"-",{"$f":"плрег18!AX12*1000","v":79699.999999999985},44,79655.999999999985]
["Каенсарское сельское поселение",101,"-",{"$f":"плрег18!AX13*1000","v":31600},27,31573]
["Каркаусское сельское поселение",196,"-",{"$f":"плрег18!AX14*1000","v":68399.999999999985},36,68363.999999999985]
["Кошкинское сельское поселение",317,"-",{"$f":"плрег18!AX15*1000","v":93000},39,92961]
["Лельвижское сельское поселение",152,"-",{"$f":"плрег18!AX16*1000","v":46200},31,46169]
["Лубянское сельское поселение",241,"-",{"$f":"плрег18!AX17*1000","v":87300.000000000015},38,87262.000000000015]
["Мамаширское сельское поселение",187,"-",{"$f":"плрег18!AX18*1000","v":61400},34,61366]
["Манзарасское сельское поселение",487,"-",{"$f":"плрег18!AX19*1000","v":149300},56,149244]
["Нижнеискубашское сельское поселение",245,"-",{"$f":"плрег18!AX20*1000","v":80100},40,80060]
["Нижнерусское сельское поселение",205,"-",{"$f":"плрег18!AX21*1000","v":60500},37,60463]
["Ныртинское сельское поселение",193,"-",{"$f":"плрег18!AX22*1000","v":66199.999999999985},43,66156.999999999985]
["Нырьинское сельское поселение",434,"-",{"$f":"плрег18!AX23*1000","v":130699.99999999999},47,130652.99999999999]
["Олуязское сельское поселение",356,"-",{"$f":"плрег18!AX24*1000","v":107000},47,106953]
["Ошторма-Юмьинское сельское поселение",385,"-",{"$f":"плрег18!AX25*1000","v":121100},50,121050]
[null,0,null,{"$f":"плрег18!AX26*1000","v":0}]
["Починок-Кучуковское сельское поселение",299,"-",{"$f":"плрег18!AX27*1000","v":89800.000000000015},40,89760.000000000015]
["Псякское сельское поселение",171,"-",{"$f":"плрег18!AX28*1000","v":53200},34,53166]
["Сардекбашское сельское поселение",341,"-",{"$f":"плрег18!AX29*1000","v":107700},44,107656]
["Село-Чуринское сельское поселение",361,"-",{"$f":"плрег18!AX30*1000","v":111400},49,111351]
["Среднекуморское сельское поселение",335,"-",{"$f":"плрег18!AX31*1000","v":105500},45,105455]
["Туембашское сельское поселение",152,"-",{"$f":"плрег18!AX32*1000","v":48100},33,48067]
["Уркушское сельское поселение",146,"-",{"$f":"плрег18!AX33*1000","v":48100},31,48069]
["Чарлинское сельское поселение",186,"-",{"$f":"плрег18!AX34*1000","v":56099.999999999993},34,56065.999999999993]
["Ядыгерьское сельское поселение",265,"-",{"$f":"плрег18!AX35*1000","v":82000},39,81961]
["Яныльское сельское поселение",371,"-",{"$f":"плрег18!AX36*1000","v":114199.99999999999},43,114156.99999999999]
["Ятмас-Дусаевское сельское поселение",109,"-",{"$f":"плрег18!AX37*1000","v":34100},32,34068]
["ИТОГО",{"$f":"SUM(B11:B40)","v":8523},{"$f":"SUM(C11:C40)","v":2},{"$f":"SUM(D11:D40)","v":2652800},{"$f":"SUM(E11:E40)","v":1366},2651434]
[]
[]
["             Глава Района                                   С.Д.Димитриев"]

{"sheet":"24а","index":26,"n_rows":45,"n_cols":7,"rows_kept":45,"cut":false,"hidden":true,"merged":[[6,0,6,4],[7,0,7,4],[5,0,5,4],[9,0,10,0],[9,1,10,1],[9,2,10,2],[9,3,9,4]]}
[null,null,{"$f":"дата!$A$2&дата!$D$26","v":"Приложение №24"}]
[null,null,"к решению Кукморского"]
[null,null,"районного Совета"]
[null,null,{"$f":"дата!$D$1","v":"от08 декабря 2017 г. №131"}]
[]
["Субвенция"]
["на осуществление полномочий по первичному воинскому учету на территориях,"]
["где отсутствуют военные комиссариаты на плановый период 2019 и 2020 годов"]
[null,null,null,null,"(рублей)"]
["Наименование муниципального образования, в котором отсутствует военный комиссариат ","Количество граждан, состоящих   на воинском  учете","Количество  освобожденных  работников, требующихся  для осуществления воинского учета ","Сумма"]
[null,null,null,"2019 год","2020 год"]
["Байлянгарское сельское поселение",{"$f":"'23а'!B11","v":301},"-",{"$f":"плрег19!AY8*1000","v":90600},{"$f":"плрег20!AY8*1000","v":90600},40,{"$f":"E12-F12","v":90560}]
["Березнякское сельское поселение",{"$f":"'23а'!B12","v":186},"-",{"$f":"плрег19!AY9*1000","v":57800},{"$f":"плрег20!AY9*1000","v":57800},32,{"$f":"E13-F13","v":57768}]
["Большекукморское сельское поселение",{"$f":"'23а'!B13","v":672},1,{"$f":"плрег19!AY10*1000","v":232000},{"$f":"плрег20!AY10*1000","v":331100},131,330969]
["Большесардекское сельское поселение",{"$f":"'23а'!B14","v":855},1,{"$f":"плрег19!AY11*1000","v":268600},{"$f":"плрег20!AY11*1000","v":268600},170,268430]
["Важашурское сельское поселение",{"$f":"'23а'!B15","v":274},"-",{"$f":"плрег19!AY12*1000","v":79699.999999999985},{"$f":"плрег20!AY12*1000","v":79699.999999999985},44,79655.999999999985]
["Каенсарское сельское поселение",{"$f":"'23а'!B16","v":101},"-",{"$f":"плрег19!AY13*1000","v":31600},{"$f":"плрег20!AY13*1000","v":31600},27,31573]
["Каркаусское сельское поселение",{"$f":"'23а'!B17","v":196},"-",{"$f":"плрег19!AY14*1000","v":68399.999999999985},{"$f":"плрег20!AY14*1000","v":68399.999999999985},36,68363.999999999985]
["Кошкинское сельское поселение",{"$f":"'23а'!B18","v":317},"-",{"$f":"плрег19!AY15*1000","v":93000},{"$f":"плрег20!AY15*1000","v":93000},39,92961]
["Лельвижское сельское поселение",{"$f":"'23а'!B19","v":152},"-",{"$f":"плрег19!AY16*1000","v":46200},{"$f":"плрег20!AY16*1000","v":46200},31,46169]
["Лубянское сельское поселение",{"$f":"'23а'!B20","v":241},"-",{"$f":"плрег19!AY17*1000","v":87300.000000000015},{"$f":"плрег20!AY17*1000","v":87300.000000000015},38,87262.000000000015]
["Мамаширское сельское поселение",{"$f":"'23а'!B21","v":187},"-",{"$f":"плрег19!AY18*1000","v":61400},{"$f":"плрег20!AY18*1000","v":61400},34,61366]
["Манзарасское сельское поселение",{"$f":"'23а'!B22","v":487},"-",{"$f":"плрег19!AY19*1000","v":149300},{"$f":"плрег20!AY19*1000","v":149300},56,149244]
["Нижнеискубашское сельское поселение",{"$f":"'23а'!B23","v":245},"-",{"$f":"плрег19!AY20*1000","v":80100},{"$f":"плрег20!AY20*1000","v":80100},40,80060]
["Нижнерусское сельское поселение",{"$f":"'23а'!B24","v":205},"-",{"$f":"плрег19!AY21*1000","v":60500},{"$f":"плрег20!AY21*1000","v":60500},37,60463]
["Ныртинское сельское поселение",{"$f":"'23а'!B25","v":193},"-",{"$f":"плрег19!AY22*1000","v":66199.999999999985},{"$f":"плрег20!AY22*1000","v":66199.999999999985},43,66156.999999999985]
["Нырьинское сельское поселение",{"$f":"'23а'!B26","v":434},"-",{"$f":"плрег19!AY23*1000","v":130699.99999999999},{"$f":"плрег20!AY23*1000","v":130699.99999999999},47,130652.99999999999]
["Олуязское сельское поселение",{"$f":"'23а'!B27","v":356},"-",{"$f":"плрег19!AY24*1000","v":107000},{"$f":"плрег20!AY24*1000","v":107000},47,106953]
["Ошторма-Юмьинское сельское поселение",{"$f":"'23а'!B28","v":385},"-",{"$f":"плрег19!AY25*1000","v":121100},{"$f":"плрег20!AY25*1000","v":121100},50,121050]
[null,{"$f":"'23а'!B29","v":0},null,{"$f":"плрег19!AY26*1000","v":0},{"$f":"плрег20!AY26*1000","v":0}]
["Починок-Кучуковское сельское поселение",{"$f":"'23а'!B30","v":299},"-",{"$f":"плрег19!AY27*1000","v":89800.000000000015},{"$f":"плрег20!AY27*1000","v":89800.000000000015},40,89760.000000000015]
["Псякское сельское поселение",{"$f":"'23а'!B31","v":171},"-",{"$f":"плрег19!AY28*1000","v":53200},{"$f":"плрег20!AY28*1000","v":53200},34,53166]
["Сардекбашское сельское поселение",{"$f":"'23а'!B32","v":341},"-",{"$f":"плрег19!AY29*1000","v":107700},{"$f":"плрег20!AY29*1000","v":107700},44,107656]
["Село-Чуринское сельское поселение",{"$f":"'23а'!B33","v":361},"-",{"$f":"плрег19!AY30*1000","v":111400},{"$f":"плрег20!AY30*1000","v":111400},49,111351]
["Среднекуморское сельское поселение",{"$f":"'23а'!B34","v":335},"-",{"$f":"плрег19!AY31*1000","v":105500},{"$f":"плрег20!AY31*1000","v":105500},45,105455]
["Туембашское сельское поселение",{"$f":"'23а'!B35","v":152},"-",{"$f":"плрег19!AY32*1000","v":48100},{"$f":"плрег20!AY32*1000","v":48100},33,48067]
["Уркушское сельское поселение",{"$f":"'23а'!B36","v":146},"-",{"$f":"плрег19!AY33*1000","v":48100},{"$f":"плрег20!AY33*1000","v":48100},31,48069]
["Чарлинское сельское поселение",{"$f":"'23а'!B37","v":186},"-",{"$f":"плрег19!AY34*1000","v":56099.999999999993},{"$f":"плрег20!AY34*1000","v":56099.999999999993},34,56065.999999999993]
["Ядыгерьское сельское поселение",{"$f":"'23а'!B38","v":265},"-",{"$f":"плрег19!AY35*1000","v":82000},{"$f":"плрег20!AY35*1000","v":82000},39,81961]
["Яныльское сельское поселение",{"$f":"'23а'!B39","v":371},"-",{"$f":"плрег19!AY36*1000","v":114199.99999999999},{"$f":"плрег20!AY36*1000","v":114199.99999999999},43,114156.99999999999]
["Ятмас-Дусаевское сельское поселение",{"$f":"'23а'!B40","v":109},"-",{"$f":"плрег19!AY37*1000","v":34100},{"$f":"плрег20!AY37*1000","v":34100},32,34068]
["ИТОГО",{"$f":"SUM(B12:B41)","v":8523},{"$f":"SUM(C12:C41)","v":2},{"$f":"SUM(D12:D41)","v":2681700},{"$f":"SUM(E12:E41)","v":2780800},{"$f":"SUM(F12:F41)","v":1366},2779434]
[]
[]
["             Глава Района                                   С.Д.Димитриев"]

{"sheet":"плрег18","index":27,"n_rows":63,"n_cols":132,"rows_kept":63,"cut":false,"hidden":true,"merged":[[43,14,43,18],[3,56,5,56],[3,69,5,69],[3,70,5,70],[3,50,5,50],[3,51,5,51],[3,52,5,52],[3,65,5,65],[3,54,5,54],[3,61,5,61],[3,62,5,62],[3,63,5,63],[3,64,5,64],[3,45,5,45],[3,55,5,55],[3,57,5,57],[4,20,5,20],[4,21,5,21],[4,22,5,22],[3,40,5,40],[3,41,5,41],[3,22,3,25],[4,25,5,25],[3,26,5,26],[3,27,5,27],[3,28,5,28],[3,29,5,29],[3,30,5,30],[3,31,5,31],[3,32,5,32],[4,16,5,16],[4,3,5,3],[4,4,5,4],[4,5,5,5],[4,6,5,6],[4,7,5,7],[4,10,5,10],[4,11,5,11],[3,0,5,0],[3,1,5,1],[3,2,5,2],[4,8,5,8],[4,9,5,9],[0,54,0,56],[3,44,5,44],[3,67,5,67],[3,33,5,33],[3,34,5,34],[3,39,5,39],[3,36,5,36],[3,68,5,68],[3,35,5,35],[3,42,5,42],[3,43,5,43],[3,46,5,46],[3,47,5,47],[3,48,5,48],[3,49,5,49],[3,38,5,38],[3,66,5,66],[3,37,5,37],[3,58,5,58],[3,59,5,59],[3,60,5,60],[3,81,3,88],[4,12,5,12],[4,13,5,13],[4,14,4,15],[4,23,5,23],[4,24,5,24],[4,81,5,81],[4,82,4,88],[3,71,5,71],[3,72,5,72],[3,73,5,73],[3,74,5,74],[3,75,5,75],[4,17,5,17],[4,18,5,18],[4,19,5,19]]}
[{"$f":"BY10","v":0},"допкод МФ РТ",null,"План регулирования на",null,null,2018,"год",null,null,null,null,null,null,null,null,null,null,null,null,null,null,null,null,{"$f":"AB40-Y2","v":-700.80000000001019},null,13200,13110,13120,13310,13313,13321,13322,13300,13300,13300,13300,13300,13300,13300,13300,13300,13300,13300,13305,13300,13300,13300]
[null,"допкод МР",null,null,null,null,null,null,null,null,null,null,null,null,null,null,null,null,null,null,null,null,null,{"$f":"SUM(W38:X38)","v":27390.9},{"$f":"Z38-W38","v":27178.80000000001},null,"13200","13110","13120",13310,13313,13321,13322,"00935","00936","00937","00938","00939","00940","00941","00942","00943","00944","00945","13305","00948","00949","00950","00920","00921","00929","00922"]
[null,null,null,null,null,null,null,null,null,null,null,null,null,null,null,null,null,null,null,null,null,null,null,null,null,null,null,null,null,null,null,null,null,null,null,null,null,null,null,null,null,null,null,null,null,null,null,null,null,null,null,null,null,null,null,null,null,null,null,null,null,null,null,null,null,null,null,null,null,null,null,null,null,null,null,null,null,null,null,null,null,null,350,null,null,null,null,null,null,null,null,null,"заявки техпаспорт",null,null,null,null,null,null,null,null,null,null,null,"распределение земельного",null,null,null,null,"распределение имущественного"]
["Код администратора","Наименование поселений","население на 01.01.2017",null,null,null,null,null,null,null,null,null,null,null,null,null,null,null,null,null,null,null,"Районный фонд финансовой поддержки поселений",null,null,null,"Дотации бюджетам МР","Субсидии из РФС соцрасходов","Субсидии(соцрасходы Образования)","Субвенция исходя из количества жителей (СП)","Субвенция исходя из количества жителей (ГП)","Субвенции ИМО образовательных учрежд","Субвенции Образованию","Субвенции детсадам","Субвенции школам","Субвенции по комиисии несоверш","Субвенции по адм.практике","Субвенция протоколы","Субвенции молодежная политика","Субвенция ведение регистра, ","Субвенции на проведение протовоэпид мероприятий","Субвенции опоп","Субвенции на опеку","Субвенции архиву","Субвенция (земельный)","Субвенции на скотомогильники","Субвенции на биотермические ямы","Субвенции на отстрел","Субвенции ЗАГСам","Субвенции по первичному воинскому учету","Субвенции по составлению (изменению) списков кандидатов в присяжные заседатели федеральных судов","Иные трансферты на книжный фонд","Субвенции из  нижстоящ.бюджетов (ксп+зем+кржф)","ВСЕГО ","Дефицит","Общегосударственные вопросы","ЦБ","ЗАГС","Полномочия","Национальная оборона","Национальная безопасность","Национальная экономика","ЖКХ","Охрана окружающей среды","Образование","Молодежная политика","Культура","Здравоохранение","Социальная политика","Физическая культура и спорт","Обслуживание муниципального долга","МТ (по соглашению-ксп)","МТ (по соглашению-ЖКХ)","МТ (здравоохранение)","МТ (по соглашению-культура)","Всего расходов",null,null,null,null,null,"РАСХОДЫ  ЖКХ НА 1 ЖИТЕЛЯ ПОСЕЛЕНИЯ,руб",null,null,null,null,null,null,null,null,null,null,null,null,null,null,null,null,null,null,null,null,null,null,"06033.10","06043.10","06033.13","06043.13"]
[null,null,null,"НДФЛ","имущество фл ","земельный налог ","ед.налог на вм.доход","налог  взим по упрощ системена вм.доход","патент","сельхозналог","госпошлина (суды)","Акциз","добыча","налог на игорный бизнес","аренда",null,"продажа земли","прочие доходы","прибыль МБП","штрафы","негативное воздействие","ВСЕГО","дотация исходя из количества жителей","дотация по обеспеченности","дотация для сбалансированности","итого",null,null,null,null,null,null,null,null,null,null,null,null,null,null,null,null,null,null,null,null,null,null,null,null,null,null,null,"доходов",null,null,null,null,null,null,null,null,null,null,null,null,null,null,null,null,null,null,null,null,null,null,"район",null,null,null,null,"всего",null,null,null,null,null,null,null,"дефицит",null,null,"дороги","скважины","кладбища","видео","правила землепользования","газопровод","карьер","вывоз тбо","генплан","итого",null,null,"юр.лица","физ.лица","юр.лица","физ.лица","итого","юр.лица","физ.лица","итого","кржф","ул освещение","прочие объекты благ",null,null,null,null,null,"01 раздел","цб","культура","04 раздел дороги","05 раздел",null,"01 раздел","цб","культура","04 раздел дороги","05 раздел"]
[null,null,null,null,null,null,null,null,null,null,null,null,null,null,"земли ","имущества",null,null,null,null,null,null,null,null,null,null,null,null,null,null,null,null,null,null,null,null,null,null,null,null,null,null,null,null,null,null,null,null,null,null,null,null,null,null,null,null,null,null,null,null,null,null,null,null,null,null,null,null,null,null,null,null,null,null,null,null,null,"доля","исполкомы","код администартора","совет",null,"жкх","кржф","дороги","водители","дополнительно в счет отриц трансфертов","дорфонд","башни",null,null,null,null,null,null,null,null,null,null,null,null,null,null,null,null,null,null,null,null,null,null,null,19,22,26,2019,2020,"трансф",null,null,"2019/2018","2019/2018","2019/2018","2019/2018","2019/2018",null,"2020/2018","2020/2018","2020/2018","2020/2018","2020/2018"]
[null,null,null,null,null,null,null,null,null,null,null,null,null,null,null,null,null,null,null,null,null,null,null,null,null,null,null,null,null,null,null,null,null,null,null,null,null,null,null,null,null,null,null,null,null,null,null,null,null,null,null,null,null,null,null,"01","01","01","01","02","03","04","05","06","07","07","08","09","10","11","13",14,14,14,14]
[1,"Байлянгарское сельское поселение",1092,{"$f":"85+0.03","v":85.03},152.4,456,null,null,null,0,null,null,null,null,null,40,null,null,null,null,null,{"$f":"SUM(D8:U8)","v":733.43000000000006},10.4,749.9,31.4,{"$f":"SUM(W8:Y8)","v":791.69999999999993},null,null,null,null,null,null,null,null,null,null,null,null,null,null,null,null,null,null,null,null,null,null,0,90.6,null,null,null,{"$f":"SUM(V8:BA8)-Z8","v":1615.73},-9.2370555648813024E-14,720.1,184.4,0,0,{"$f":"AX8","v":90.6},0,282.7,205.3,null,null,null,118.43,0,0,0,0,11,null,3.2,null,{"$f":"SUM(BD8:BW8)","v":1615.73},{"$f":"BB40","v":1124972.8399999996},{"$f":"C8/$C$38","v":2.1364009860312245E-2},1,621,2,{"$f":"SUM(CE8:CK8)","v":435},{"$f":"ROUND(C8*$CE$3/1000,0)","v":382},null,null,53,null,null,{"$f":"S8","v":0},{"$f":"BB8-BX8","v":0},{"$f":"BK8-CD8","v":-229.7},null,162000,null,null,null,null,null,null,null,null,{"$f":"SUM(CO8:CW8)","v":162000},null,{"$f":"BB8-BX8","v":0},50,{"$f":"F8-DA8","v":406},null,null,{"$f":"SUM(DA8:DD8)","v":456},{"$f":"E8","v":152.4},null,{"$f":"SUM(DF8:DG8)","v":152.4},0,169.3,36,1648.0815139194149,1680.2260993751397,{"$f":"SUM(BT8:BW8)","v":14.2},{"$f":"DL8-BX8","v":32.351513919414856},{"$f":"DM8-BX8","v":64.496099375139693},21.899999999999977,5.5999999999999943,0,2.8104979201200422,2.0410159992948138,{"$f":"SUM(DQ8:DU8)-DO8","v":0},47.899999999999977,11.599999999999994,0,2.8942567486722623,2.1018426264676577,{"$f":"SUM(DW8:EA8)-DP8","v":1.9895196601282805E-13}]
[2,"Березнякское сельское поселение",728,{"$f":"75+0.01","v":75.010000000000005},92.1,264,null,null,null,0.5,null,null,null,null,null,17,null,null,null,null,null,448.61,6.9,767.8,27.4,802.09999999999991,null,null,null,null,null,null,null,null,null,null,null,null,null,null,null,null,null,null,null,null,null,null,0,57.8,null,null,null,1308.5100000000002,-9.2370555648813024E-14,713.71,148.80000000000001,0,0,57.8,0,90.9,287.10000000000002,null,null,null,0,0,0,0,0,8,null,2.2000000000000002,null,1308.51,{"$f":"BX40","v":1124972.8400000003},1.4242673240208161E-2,13,622,3,{"$f":"SUM(CE9:CK9)","v":378},255,null,null,{"$f":"78+45","v":123},null,null,0,{"$f":"BB9-BX9","v":0},-90.899999999999977,null,null,null,null,null,null,null,null,null,null,{"$f":"SUM(CO9:CW9)","v":0},null,{"$f":"BB9-BX9","v":0},119,145,null,null,{"$f":"SUM(DA9:DD9)","v":264},92.1,null,92.1,0,177.1,110,1337.7579349621694,1368.8699294340222,{"$f":"SUM(BT9:BW9)","v":10.199999999999999},{"$f":"DL9-BX9","v":29.247934962169438},{"$f":"DM9-BX9","v":60.359929434022206},21.289999999999964,4.1999999999999886,0,0.90369388375985693,2.8542410784098706,{"$f":"SUM(DQ9:DU9)-DO9","v":2.4158453015843406E-13},47.289999999999964,9.1999999999999886,0,0.93062588770536081,2.9393035463169213,{"$f":"SUM(DW9:EA9)-DP9","v":0}]
[3,"Большекукморское сельское поселение",2815,250,506.3,1266,null,null,null,19,null,null,null,null,null,null,null,null,null,null,null,2041.3,26.8,569.1,46.8,642.69999999999993,null,null,null,null,null,null,null,null,null,null,null,null,null,null,null,null,null,null,null,null,null,null,0,203.1,null,null,null,2887.1,-7.1054273576010019E-14,888.6,519.20000000000005,0,0,203.1,0,72.899999999999977,912.1,null,null,null,258.10000000000002,0,0,0,0,25,null,8.1,null,2887.1,{"$f":"BY8-BY9","v":0},5.5072974136244471E-2,12,623,4,985,985,null,null,null,null,null,0,0,-72.899999999999977,null,300000,null,null,null,null,null,null,null,null,300000,null,0,451,815,null,null,1266,506.3,null,506.3,0,912.1,0,2967.9925024807858,3116.3843399272801,33.1,80.892502480785879,229.28433992728014,26.399999999999977,15.799999999999955,0,0.72474459984701411,9.067757880939098,-28.899999999999835,58.399999999999977,32.799999999999955,0,0.74634353370430517,9.337996393576077,-127.99999999999983]
[4,"Большесардекское сельское поселение",3438,{"$f":"235+0.03","v":235.03},323.3,780,null,null,null,162,null,null,null,null,null,11,null,null,null,null,null,1511.33,32.700000000000003,804.9,32.6,870.2,null,null,null,null,null,null,null,null,null,null,null,null,null,null,null,null,null,null,null,null,null,null,0,268.60000000000002,null,null,null,2650.1299999999992,-2.4868995751603507E-13,818.54,309.20000000000005,0,0,268.60000000000002,0,418,785,null,null,null,15.59,0,0,0,0,25,null,10.199999999999999,null,2650.13,null,6.726141565911492E-2,5,624,6,1203,1203,null,null,null,null,null,0,{"$f":"BB11-BX11","v":0},-418,null,210000,40000,null,null,null,null,null,null,null,250000,null,0,231,549,null,null,780,323.3,null,323.3,0,750,35,2696.3497771415086,2736.7062039924044,35.200000000000003,46.21977714150853,86.576203992404317,24.460000000000036,9.7999999999999545,0,4.1556000375315989,7.8041771039768264,-1.1368683772161603E-13,54.460000000000036,19.799999999999955,0,4.2794457762469165,8.0367582161574092,0]
[5,"Важашурское сельское поселение",920,{"$f":"72+0.02","v":72.02},57.5,306,null,null,null,0,null,null,null,null,null,1,null,null,null,null,null,436.52,8.6999999999999993,919.8,29.5,958,null,null,null,null,null,null,null,null,null,null,null,null,null,null,null,null,null,null,null,null,null,null,0,79.699999999999989,null,null,null,1474.2199999999998,-2.2737367544323206E-13,690.9,149.80000000000001,0,0,79.699999999999989,0,93.199999999999989,228.8,null,null,null,219.92,0,0,0,0,9,null,2.9,null,1474.2200000000003,null,1.7998982666197129E-2,7,625,8,322,322,null,null,null,null,null,0,0,-93.199999999999989,null,194000,null,null,null,null,null,155000,346615,null,695615,null,0,78,228,null,null,306,57.5,null,57.5,0,228.8,0,1501.7212038566631,1531.816606554908,11.9,27.501203856662869,57.596606554907794,20.100000000000023,4.1999999999999886,0,0.92655962559317118,2.2746442310699138,2.2737367544323206E-13,45.100000000000023,9.1999999999999886,0,0.95417307738327395,2.3424334775246223,1.1368683772161603E-13]
[6,"Каенсарское сельское поселение",360,{"$f":"64-0.04","v":63.96},33.4,71,null,null,null,6.5,null,null,null,null,null,null,null,null,null,null,null,174.86,3.4,896.2,26.8,926.4,null,null,null,null,null,null,null,null,null,null,null,null,null,null,null,null,null,null,null,null,null,null,0,31.6,null,null,null,1132.8599999999997,-1.8118839761882555E-13,724.1,140.80000000000001,0,0,31.6,0,98.6,41,null,null,null,90.66,0,0,0,0,5,null,1.1000000000000001,null,1132.8600000000001,null,7.0430801737293106E-3,15,626,16,139.6,126,null,null,13.6,null,null,0,0,-98.6,null,54000,null,null,null,null,null,null,null,null,54000,null,0,16,55,null,null,71,33.4,null,33.4,0,41,0,1160.3478511130129,1190.3892120343639,6.1,27.487851113012766,57.529212034363809,21.899999999999977,4.1999999999999886,0,0.98024441076702828,0.40760670224592133,1.4921397450962104E-13,47.899999999999977,8.1999999999999886,0,1.0094577835835992,0.41975425078019413,0]
[7,"Каркаусское сельское поселение",898,{"$f":"100+0.05","v":100.05},73.7,378,null,null,null,6.5,null,null,null,null,9,1,null,null,null,null,null,568.25,8.5,1074.7,37.799999999999997,1121,null,null,null,null,null,null,null,null,null,null,null,null,null,null,null,null,null,null,null,null,null,null,0,68.399999999999991,null,null,null,1757.65,0,714.5,205.6,0,0,68.399999999999991,0,136.80000000000001,177.2,null,null,null,443.45,0,0,0,0,9,null,2.7,null,1757.65,null,1.7568572211135891E-2,18,627,17,314,314,null,null,null,null,null,0,0,-136.80000000000001,null,null,25200,null,null,null,null,null,null,null,25200,null,0,110,268,null,null,378,73.7,null,73.7,0,130.19999999999999,47,1788.6716708415902,1821.7647032864631,11.7,31.021670841590094,64.114703286463055,21.5,6.4000000000000057,0,1.3600145577375997,1.7616562838531138,6.2527760746888816E-13,47.5,13.400000000000006,0,1.4005458904080683,1.8141573960548953,0]
[8,"Кошкинское сельское поселение",1017,{"$f":"152+0.02","v":152.02000000000001},79.400000000000006,393,null,null,null,20.5,null,null,null,null,19,1,null,null,null,null,null,664.92000000000007,9.6999999999999993,638.4,27,675.1,null,null,null,null,null,null,null,null,null,null,null,null,null,null,null,null,null,null,null,null,null,null,0,93,null,null,null,1433.02,1.1368683772161603E-13,727.62,244.4,0,0,93,0,32,324,null,null,null,0,0,0,0,0,9,null,3,null,1433.02,null,1.9896701490785304E-2,19,628,20,356,356,null,null,null,null,null,0,0,{"$f":"BK15-CD15","v":-32},null,null,null,null,null,null,null,null,null,null,0,null,0,130,263,null,null,393,79.400000000000006,null,79.400000000000006,0,304,20,1465.5392191707206,1499.6446954457988,12,32.519219170720589,66.624695445798807,21.379999999999995,7.5999999999999943,0,0.31813206028949992,3.2210871104311991,9.9475983006414026E-14,47.379999999999995,15.599999999999994,0,0.32761307377966631,3.3170823720191152,0]
[9,"Лельвижское сельское поселение",515,{"$f":"150+0.03","v":150.03},34.5,160,null,null,null,0,null,null,null,null,null,1,null,null,null,null,null,345.53,4.9000000000000004,674.1,23.8,702.8,null,null,null,null,null,null,null,null,null,null,null,null,null,null,null,null,null,null,null,null,null,null,0,46.2,null,null,null,1094.53,4.6185277824406512E-14,715.29999999999984,128.80000000000001,0,0,46.2,0,83,97,null,null,null,16.63,0,0,0,0,6,null,1.6,null,1094.53,null,1.0075517470751654E-2,26,629,27,180,180,null,null,null,null,null,0,{"$f":"BB16-BX16","v":0},-83,null,60000,15000,null,null,null,null,null,null,null,75000,null,0,26,134,null,null,160,34.5,null,34.5,0,82,15,1122.2194928391284,1152.2728235400111,7.6,27.689492839128434,57.742823540011159,21.700000000000159,4.1999999999999886,0,0.82515503137588553,0.96433780775254263,1.4210854715202004E-13,47.700000000000159,8.1999999999999886,0,0.84974641011601193,0.9930771298946155,-3.836930773104541E-13]
[10,"Лубянское сельское поселение",1578,{"$f":"350+0.03","v":350.03},65.599999999999994,234,null,null,null,0,null,null,null,null,null,11,null,null,null,null,null,660.63,15,2801.8,82.6,2899.4,null,null,null,null,null,null,null,null,null,null,null,null,null,null,null,null,null,null,null,null,null,null,0,87.300000000000011,null,null,null,3647.3300000000004,5.4001247917767614E-13,774.00999999999988,226.8,0,0,87.300000000000011,0,1037.4000000000001,1480.6,null,null,null,15.62,0,0,0,0,21,null,4.5999999999999996,null,3647.33,null,3.0872168094846813E-2,28,630,29,2518,552,850,{"$f":"855+70","v":925},191,{"$f":"351-351","v":0},null,0,0,-1037.4000000000001,null,null,null,null,null,null,null,null,null,null,0,null,0,85,149,null,null,234,65.599999999999994,null,65.599999999999994,500,709.6,271,3702.553016494031,3738.2990537430369,25.6,55.223016494031071,90.969053743036966,22.990000000000123,7.1999999999999886,0,10.313443729510254,14.719572764519853,-8.5265128291212022E-13,50.990000000000123,14.199999999999989,0,10.62080633559458,15.158247407443014,7.3896444519050419E-13]
[11,"Мамаширское сельское поселение",809,{"$f":"56+0.01","v":56.01},61,237,null,null,null,19,null,null,null,null,null,1,null,null,null,null,null,374.01,7.7,1003.7,31.1,1042.5,null,null,null,null,null,null,null,null,null,null,null,null,null,null,null,null,null,null,null,null,null,null,0,61.4,null,null,null,1477.9100000000003,-1.3500311979441904E-13,696.88,154.80000000000001,0,0,61.4,0,131.1,191.9,null,null,null,230.43,0,0,0,0,9,null,2.4,null,1477.9100000000003,null,1.5827366279297258E-2,184,631,185,323,283,null,null,40,null,null,0,0,-131.1,null,null,21000,null,null,null,null,null,null,null,21000,null,0,46,191,null,null,237,61,null,61,0,183.9,8,1507.4411454835476,1537.5368444634635,11.4,29.531145483547334,59.626844463463158,21.120000000000005,5.1999999999999886,0,1.3033472844985567,1.9077981990485853,-1.9895196601282805E-13,46.120000000000005,10.199999999999989,0,1.3421898116410773,1.9646546518224284,3.4106051316484809E-13]
[12,"Манзарасское сельское поселение",2081,{"$f":"218-0.04","v":217.96},318.89999999999998,541,null,null,null,0,null,null,null,null,null,1,null,null,null,null,null,1078.8600000000001,19.8,1071.5,40.799999999999997,1132.0999999999999,null,null,null,null,null,null,null,null,null,null,null,null,null,null,null,null,null,null,null,null,null,null,0,149.30000000000001,null,null,null,2360.2600000000002,0,808.5,222.6,0,0,149.30000000000001,0,40.600000000000023,987.4,null,null,null,128.96,0,0,0,0,17,null,5.9,null,2360.2600000000002,null,4.0712916226474154E-2,186,632,187,1028,728,null,null,150,150,null,0,0,-40.600000000000023,null,null,null,null,null,null,null,null,null,null,0,null,0,130,411,null,null,541,318.89999999999998,null,318.89999999999998,0,646.4,341,2401.3799924368004,2437.6845699951718,22.9,41.119992436800203,77.424569995171623,24.5,6.4000000000000057,0,0.40363005149229991,9.8163623853079116,0,53.5,13.400000000000006,0,0.41565908735795176,10.108910907813879,2.1316282072803006E-13]
[13,"Нижнеискубашское сельское поселение",993,{"$f":"66+0.05","v":66.05},60,333,null,null,null,9,null,null,null,null,null,1,null,null,null,null,null,469.05,9.4,893.1,29,931.5,null,null,null,null,null,null,null,null,null,null,null,null,null,null,null,null,null,null,null,null,null,null,0,80.099999999999994,null,null,null,1480.65,1.1368683772161603E-13,755.15,196.6,0,0,80.099999999999994,0,27.800000000000011,398.2,null,null,null,10.8,0,0,0,0,9,null,3,null,1480.6499999999999,null,1.9427162812536682E-2,188,633,189,426,348,null,null,78,null,null,0,0,-27.800000000000011,null,null,null,null,null,null,null,null,null,null,0,null,0,77,256,null,null,333,60,null,60,0,242.2,156,1514.135133052604,1547.2613490446913,12,33.485133052604169,66.611349044691451,22.850000000000023,6.4000000000000057,0,0.2763772273765035,3.9587558252274562,-1.8474111129762605E-13,49.850000000000023,12.400000000000006,0,0.28461385784608595,4.076735186845724,3.836930773104541E-13]
[14,"Нижнерусское сельское поселение",761,{"$f":"50+0.01","v":50.01},56.4,191,null,null,null,0,null,null,null,null,null,11,null,null,null,null,null,308.40999999999997,7.2,1078.5999999999999,31.9,1117.7,null,null,null,null,null,null,null,null,null,null,null,null,null,null,null,null,null,null,null,null,null,null,0,60.5,null,null,null,1486.61,-3.1974423109204508E-13,714.9,219.4,0,0,60.5,0,143.4,242.6,null,null,null,95.41,0,0,0,0,8,null,2.4,null,1486.6100000000001,null,1.4888288922800016E-2,190,634,191,386,266,null,20,100,null,null,0,0,-143.4,null,null,35000,null,null,null,null,null,null,null,35000,null,0,26,165,null,null,191,56.4,null,56.4,0,130.6,112,1518.1474679772418,1551.2618327024672,10.4,31.537467977241704,64.651832702467118,21.100000000000023,6.5999999999999943,0,1.425629295172314,2.4118386820697708,3.979039320256561E-13,47.100000000000023,13.599999999999994,0,1.4681160868751419,2.4837166155921011,1.4210854715202004E-13]
[15,"Ныртинское сельское поселение",863,{"$f":"76+0.04","v":76.040000000000006},43.7,341,null,null,null,8,null,null,null,null,null,10,null,null,null,null,null,478.74,8.1999999999999993,792.4,27.6,828.2,null,null,null,null,null,null,null,null,null,null,null,null,null,null,null,null,null,null,null,null,null,null,0,66.199999999999989,null,null,null,1373.1399999999996,0,727.40000000000009,166.8,0,0,66.199999999999989,0,52.099999999999994,314.89999999999998,null,null,null,33.94,0,0,0,0,9,null,2.8,null,1373.14,null,1.6883828305356653E-2,192,635,193,367,302,null,null,40,25,null,0,0,-52.100000000000023,null,null,null,null,null,null,null,null,null,null,0,null,0,90,251,null,null,341,43.7,null,43.7,0,227.9,87,1403.5885770664456,1434.6973124399105,11.8,30.448577066445523,61.557312439910447,21.599999999999909,5.1999999999999886,0,0.51795876065884272,3.1306183057863564,-4.2632564145606011E-13,47.599999999999909,10.199999999999989,0,0.53339503574751745,3.2239174041630463,0]
[16,"Нырьинское сельское поселение",1398,{"$f":"305+0.03","v":305.02999999999997},89.7,387,null,null,null,1010.5,null,null,null,null,null,14,null,null,null,null,null,1806.23,13.3,9.3000000000000007,37.9,60.5,null,null,null,null,null,null,null,null,null,null,null,null,null,null,null,null,null,null,null,null,null,null,0,130.69999999999999,null,null,null,1997.4299999999998,0,700.18,195.1,0,0,130.69999999999999,0,128.60000000000002,410.4,null,null,null,16.149999999999977,0,0,0,0,12,null,4.3,400,1997.43,null,2.7350628007982158E-2,194,636,195,539,489,null,null,50,null,null,0,0,-128.60000000000002,null,156000,null,null,null,null,null,null,null,null,156000,null,0,48,339,null,null,387,89.7,null,89.7,0,260.39999999999998,150,2029.5085368905011,2060.6682327114759,416.3,32.078536890501027,63.238232711475803,20.82000000000005,5.9000000000000057,0,1.2784932172884282,4.080043673212856,3.1263880373444408E-13,45.82000000000005,11.900000000000006,0,1.3165950402520252,4.201637671224205,4.8316906031686813E-13]
[17,"Олуязское сельское поселение",1503,{"$f":"360-0.02","v":359.98},170.3,504,null,null,null,17.5,null,null,null,null,null,1,null,null,null,null,null,1052.78,14.3,939.7,41.9,995.9,null,null,null,null,null,null,null,null,null,null,null,null,null,null,null,null,null,null,null,null,null,null,0,107,null,null,null,2155.6799999999998,1.3500311979441904E-13,798.29999999999984,168.8,0,0,107,0,0,660.8,null,null,null,402.38,0,0,0,0,14,null,4.4000000000000004,null,2155.6799999999998,null,2.9404859725319872E-2,196,637,197,660.8,526,null,null,null,134.80000000000001,null,0,0,{"$f":"BK24-CD24","v":0},null,144000,99000,null,null,null,208000,null,null,285000,736000,null,0,88,416,null,null,504,170.3,null,170.3,0,660.8,0,2184.5494270449781,2218.5452099735498,18.399999999999999,28.869427044978238,62.865209973550009,23.700000000000159,5.1999999999999886,0,0,-3.0572955021852977E-2,5.6843418860808015E-14,52.700000000000159,10.199999999999989,0,0,-3.4790026449854849E-2,2.8421709430404007E-13]
[18,"Ошторма-Юмьинское сельское поселение",1420,{"$f":"150+0.01","v":150.01},125.5,391,null,null,null,5.5,null,null,null,null,27,27,null,null,null,null,null,726.01,13.5,729.9,27.5,770.9,null,null,null,null,null,null,null,null,null,null,null,null,null,null,null,null,null,null,null,null,null,null,0,121.1,null,null,null,1618.0099999999998,-1.1368683772161603E-13,709.04,256.89999999999998,0,0,121.1,0,183.60000000000002,313.39999999999998,null,null,null,17.670000000000002,0,0,0,0,12,null,4.3,null,1618.01,null,2.7781038463043393E-2,200,638,199,497,497,null,null,null,null,null,0,0,-183.60000000000002,null,108000,99000,null,120000,99900,null,null,null,{"$f":"99900+14766.5","v":114666.5},541566.5,null,0,121,270,null,null,391,125.5,null,125.5,0,260.39999999999998,53,1652.0109885613711,1686.1582405521403,16.3,34.000988561371059,68.148240552140351,20.960000000000036,8.1000000000000227,0,1.8252826959109996,3.1157058654603134,3.1263880373444408E-13,46.960000000000036,16.100000000000023,0,1.87968001081083,3.2085605413296321,1.7053025658242404E-13]
[19,"поселок городского типа Кукмор",17700,{"$f":"20500-258.43","v":20241.57},3958.8,16604,null,null,null,207.7,null,null,null,42,2326,11,400,null,null,null,null,43791.069999999992,901.5,0,0,901.5,null,null,null,null,null,null,null,null,null,null,null,null,null,null,null,null,null,null,null,null,null,null,0,0,null,null,null,44692.569999999992,0,5855.57,0,0,0,0,0,16785.7,12243.21,null,null,null,0,0,0,0,0,205,{"$f":"4388+215.09","v":4603.09},0,5000,{"$f":"SUM(BD26:BW26)","v":44692.569999999992},null,0.34628477520835776,233,639,null,18458.2,{"$f":"BK26+BU26","v":16846.3},null,null,null,{"$f":"1632.9-21","v":1611.9},null,0,{"$f":"BB26-BX26","v":0},{"$f":"BK26-CD26","v":-6214.9900000000016},null,null,null,null,null,null,null,null,null,null,0,null,0,null,null,10344,{"$f":"F26-DC26","v":6260},{"$f":"SUM(DA26:DD26)","v":16604},null,{"$f":"E26","v":3958.8},{"$f":"SUM(DG26:DG26)","v":3958.8},1560,4836.8999999999996,3846.31,46866.999999999993,48251.850461641974,9808.09,2174.4300000000003,3559.2804616419817,174.43000000000029,0,0,0,0,-2000,387.43000000000029,0,0,171.85046164197774,0,-3000.0000000000036]
[20,"Починок-Кучуковское сельское поселение",1055,{"$f":"110-0.05","v":109.95},71.400000000000006,345,null,null,null,0.3,null,null,null,null,24,1,null,null,null,null,null,551.65,10,729.1,26.1,765.2,null,null,null,null,null,null,null,null,null,null,null,null,null,null,null,null,null,null,null,null,null,null,0,89.800000000000011,null,null,null,1406.6500000000003,9.2370555648813024E-14,752.15,182.39999999999998,0,0,89.800000000000011,0,70.199999999999989,298.8,null,null,null,0,0,0,0,0,10,null,3.3,null,1406.6499999999999,null,2.0640137731345619E-2,202,640,203,369,{"$f":"ROUND(C27*$CE$3/1000,0)","v":369},null,null,null,null,null,0,0,-70.199999999999989,null,300000,null,30000,null,null,null,null,null,null,330000,null,0,72,{"$f":"F27-DA27","v":273},null,null,345,{"$f":"E27","v":71.400000000000006},null,{"$f":"SUM(DF27:DG27)","v":71.400000000000006},0,283.8,15,1438.7684603202133,1471.8777882570223,13.3,32.118460320213444,65.227788257022439,22.850000000000023,5.6000000000000227,0,0.69790220726008556,2.9705581129531993,-1.1368683772161603E-13,49.850000000000023,11.600000000000023,0,0.71870118060414256,3.0590870764176543,-5.9685589803848416E-13]
[21,"Псякское сельское поселение",712,{"$f":"170-0.02","v":169.98},86.3,275,null,null,null,1,null,null,null,null,null,26,null,null,null,null,null,558.28,6.8,766.2,30.5,803.5,null,null,null,null,null,null,null,null,null,null,null,null,null,null,null,null,null,null,null,null,null,null,0,53.2,null,null,null,1414.9799999999996,2.2737367544323206E-13,704.54,226.39999999999998,0,0,53.2,0,46.400000000000013,272.59999999999997,null,null,null,101.74,0,0,0,0,8,null,2.1,null,1414.9799999999998,null,1.3929647454709081E-2,204,641,205,319,249,null,null,null,70,null,0,0,-46.400000000000034,null,null,null,null,null,null,null,null,null,null,0,null,0,109,166,null,null,275,86.3,null,86.3,0,212.2,60.4,1445.2113789760108,1478.3058928292412,10.1,30.231378976011001,63.325892829241411,20.460000000000036,6.6000000000000227,0,0.46129148741977843,2.7100874885911708,0,46.460000000000036,13.600000000000023,0,0.47503895698051934,2.7908538722605272,-3.0553337637684308E-13]
[22,"Сардекбашское сельское поселение",1248,{"$f":"140+0.01","v":140.01},102.5,324,null,null,null,11,null,null,null,null,13,11,null,null,null,null,null,601.51,11.9,782.4,27.1,821.4,null,null,null,null,null,null,null,null,null,null,null,null,null,null,null,null,null,null,null,null,null,null,0,107.7,null,null,null,1530.6099999999997,-1.3500311979441904E-13,716.4,235.39999999999998,0,0,107.7,0,208.7,228.3,null,null,null,18.41,0,0,0,0,12,null,3.7,null,1530.6100000000001,null,2.4416011268928277E-2,206,642,207,437,437,null,null,null,null,null,0,0,-208.7,null,156000,null,null,null,null,null,null,null,null,156000,null,0,108,216,null,null,324,102.5,null,102.5,0,195.3,33,1564.1544909483291,1598.2839660388033,15.7,33.544490948328985,67.673966038803201,21.600000000000023,7.6000000000000227,0,2.0748175307005852,2.2696734176278994,-4.5474735088646412E-13,47.600000000000023,15.600000000000023,0,2.136651515556764,2.3373145232468175,4.2632564145606011E-13]
[23,"Село-Чуринское сельское поселение",1353,190,115,380,null,null,null,50,null,null,null,null,null,13,null,null,null,null,null,748,12.9,1080.5,38.700000000000003,1132.1000000000001,null,null,null,null,null,null,null,null,null,null,null,null,null,null,null,null,null,null,null,null,null,null,0,111.4,null,null,null,1991.5000000000002,1.8474111129762605E-13,722.3599999999999,247.7,0,0,111.4,0,278.7,195.3,null,null,null,420.04,0,0,0,0,12,null,4,null,1991.5,null,2.6470242986265994E-2,208,643,209,474,474,null,null,null,null,null,0,0,-278.7,null,300000,100000,null,null,null,null,null,null,null,400000,null,0,50,330,null,null,380,115,null,115,0,195.3,0,2025.1523311430385,2059.2927686553612,16,33.652331143038509,67.792768655361215,21.6400000000001,7.3000000000000114,0,2.7707314125838707,1.9415997304543566,-1.7053025658242404E-13,47.6400000000001,15.300000000000011,0,2.8533051144497676,1.9994635409115347,1.9895196601282805E-13]
[24,"Среднекуморское сельское поселение",1029,{"$f":"120-0.03","v":119.97},55.2,248,null,null,null,0,null,null,null,null,null,1,null,null,null,null,null,424.17,9.8000000000000007,948.7,28.9,987.4,null,null,null,null,null,null,null,null,null,null,null,null,null,null,null,null,null,null,null,null,null,null,0,105.5,null,null,null,1517.0700000000002,1.3500311979441904E-13,726.6,154.80000000000001,0,0,105.5,0,132.5,227.5,null,null,null,157.07,0,0,0,0,10,null,3.1,null,1517.07,null,2.0131470829909615E-2,213,644,214,360,360,null,null,null,null,null,0,0,-132.5,null,100000,null,null,null,null,null,null,null,null,100000,null,0,95,153,null,null,248,55.2,null,55.2,0,172.5,55,1547.2489856782568,1578.3556470800211,13.1,30.178985678256822,61.285647080021135,21.399999999999977,5.1999999999999886,0,1.3172655621362139,2.2617201161206708,2.8421709430404007E-14,47.399999999999977,10.199999999999989,0,1.3565228836189362,2.3291241964023186,8.5265128291212022E-14]
[25,"Туембашское сельское поселение",700,{"$f":"60+0.04","v":60.04},45,190,null,null,null,18,null,null,null,null,63,5,null,null,null,null,null,381.03999999999996,6.7,885,29,920.7,null,null,null,null,null,null,null,null,null,null,null,null,null,null,null,null,null,null,null,null,null,null,0,48.1,null,null,null,1349.84,0,721.7,219.4,0,0,48.1,0,99.800000000000011,225.2,null,null,null,23.54,0,0,0,0,10,null,2.1,null,1349.84,null,1.3694878115584772E-2,215,645,216,325,245,null,null,80,null,null,0,0,-99.800000000000011,null,null,null,15000,null,null,null,null,null,null,15000,null,0,19,171,null,null,190,45,null,45,0,225.2,0,1380.971028737315,1414.0673202805747,12.1,31.131028737315091,64.227320280574759,21.299999999999955,6.5999999999999943,0,0.99217436302787121,2.2388543742873424,7.1054273576010019E-14,47.299999999999955,13.599999999999994,0,1.0217432738503334,2.3055770067244055,0]
[26,"Уркушское сельское поселение",577,{"$f":"60+0.04","v":60.04},25,215,null,null,null,2,null,null,null,null,null,1,null,null,null,null,null,303.03999999999996,5.5,857.8,27.2,890.5,null,null,null,null,null,null,null,null,null,null,null,null,null,null,null,null,null,null,null,null,null,null,0,48.1,null,null,null,1241.6399999999999,-4.6185277824406512E-14,676.40000000000009,149.80000000000001,0,0,48.1,0,189.2,162.80000000000001,null,null,null,4.54,0,0,0,0,9,null,1.8,null,1241.6399999999999,null,1.1288492389560589E-2,218,646,219,352,202,null,null,100,50,null,0,0,-189.2,null,null,null,null,null,null,null,null,null,null,0,null,0,48,167,null,null,215,25,null,25,0,162.80000000000001,0,1269.939452663185,1300.0437438115762,10.8,28.299452663185093,58.403743811576305,20.599999999999909,4.1999999999999886,0,1.8809558064616567,1.6184968567228282,-7.1054273576010019E-13,45.599999999999909,9.1999999999999886,0,1.9370122987222658,1.6667315128540565,-8.5265128291212022E-14]
[27,"Чарлинское сельское поселение",630,{"$f":"164-0.01","v":163.99},47,226,null,null,null,6.5,null,null,null,null,null,30,null,null,null,null,null,473.49,6,841.8,31.1,878.9,null,null,null,null,null,null,null,null,null,null,null,null,null,null,null,null,null,null,null,null,null,null,0,56.099999999999994,null,null,null,1408.4899999999998,9.2370555648813024E-14,709.4,286.39999999999998,0,0,56.099999999999994,0,23.699999999999989,227.3,null,null,null,95.59,0,0,0,0,8,null,2,null,1408.4899999999998,null,1.2325390304026294E-2,225,647,226,251,221,null,null,null,30,null,0,0,-23.699999999999989,null,null,null,null,null,null,null,null,null,null,0,null,0,86,140,null,null,226,47,null,47,0,208.3,19,1441.185348347896,1476.2597150474589,10,32.695348347896243,67.769715047459158,21.600000000000023,8.6000000000000227,0,0.23561655715191065,2.2597317907438423,-4.4053649617126212E-13,47.600000000000023,17.600000000000023,0,0.2426384327680644,2.3270766146911797,1.2789769243681803E-13]
[28,"Ядыгерьское сельское поселение",1023,{"$f":"224+0.04","v":224.04},122,368,null,null,null,520,null,null,null,null,13,19,null,null,null,null,null,1266.04,9.6999999999999993,110.7,29.1,149.5,null,null,null,null,null,null,null,null,null,null,null,null,null,null,null,null,null,null,null,null,null,null,0,82,null,null,null,1497.54,4.9737991503207013E-14,707.40000000000009,146.80000000000001,0,0,82,0,142.5,325.5,null,null,null,80.34,0,0,0,0,10,null,3,null,1497.54,null,2.0014086160347458E-2,227,648,228,468,358,null,null,null,110,null,0,0,-142.5,null,60000,600000,null,null,null,null,null,null,null,660000,null,0,95,273,null,null,368,122,null,122,0,325.5,0,1526.9926813817337,1558.1313412040274,13,29.452681381733782,60.591341204027458,20.599999999999909,4.1999999999999886,0,1.4166818309766711,3.2359995507572421,2.8421709430404007E-14,46.599999999999909,9.1999999999999886,0,1.4589019691750877,3.3324392348525294,5.6843418860808015E-14]
[29,"Яныльское сельское поселение",1424,{"$f":"358+0.02","v":358.02},155,833,null,null,null,0,null,null,null,null,null,null,null,null,null,null,null,1346.02,13.5,1926.6,78.8,2018.8999999999999,null,null,null,null,null,null,null,null,null,null,null,null,null,null,null,null,null,null,null,null,null,null,0,114.19999999999999,null,null,null,3479.12,-1.8474111129762605E-13,978.23,187.8,0,0,114.19999999999999,0,57.399999999999977,440.6,null,null,null,1680.59,0,0,0,0,16,null,4.3,null,3479.12,null,2.7859294909418162E-2,229,649,230,498,498,null,null,null,null,null,0,0,-57.399999999999977,null,null,null,null,null,null,null,null,null,null,0,null,0,301,532,null,null,833,155,null,155,0,390.6,50,4077.3409301882566,4119.4884784606948,20.3,598.22093018825672,640.36847846069486,28.769999999999982,6.1999999999999886,558.29999999999995,0.5706493831442927,4.380280805111056,-1.3642420526593924E-12,64.769999999999982,12.199999999999989,558.29999999999995,0.5876559510922732,4.51082250960377,1.1368683772161603E-12]
[30,"Ятмас-Дусаевское сельское поселение",474,{"$f":"34-0.05","v":33.950000000000003},16.100000000000001,146,null,null,null,50,null,null,null,null,48,1,null,null,null,null,null,295.05,4.5,828,27.2,859.7,null,null,null,null,null,null,null,null,null,null,null,null,null,null,null,null,null,null,null,null,null,null,0,34.1,null,null,null,1188.8500000000001,-2.7355895326763857E-13,714.40000000000009,150.80000000000001,0,0,34.1,0,17.5,248.5,null,null,null,16.05,0,0,0,0,6,null,1.5,null,{"$f":"SUM(BD37:BW37)","v":1188.8500000000001},null,9.2733888954102586E-3,231,650,232,266,166,null,null,100,null,null,0,0,-17.5,null,76800,null,null,null,null,null,null,null,null,76800,null,0,16,130,null,null,146,16.100000000000001,null,16.100000000000001,0,133.5,115,1217.2944727511565,1248.3732836757931,7.5,28.444472751156354,59.523283675792982,21.599999999999909,4.1999999999999886,0,0.17397847047082138,2.4704942806856423,0,47.599999999999909,9.1999999999999886,0,0.17916339972325446,2.5441202760702311,3.979039320256561E-13]
[null,"Итого по поселениям ",{"$f":"SUM(C8:C37)","v":51114},{"$f":"SUM(D8:D37)","v":24685.830000000005},{"$f":"SUM(E8:E37)","v":7143},{"$f":"SUM(F8:F37)","v":27387},0,0,0,2151,{"$f":"SUM(K8:K37)","v":0},{"$f":"SUM(L8:L37)","v":0},0,42,2542,268,{"$f":"SUM(Q8:Q37)","v":400},{"$f":"SUM(R8:R37)","v":0},{"$f":"SUM(S8:S37)","v":0},{"$f":"SUM(T8:T37)","v":0},0,64618.829999999994,{"$f":"SUM(W8:W37)","v":1219.2000000000003},26171.7,1007.1000000000001,28398.000000000011,{"$f":"SUM(AA8:AA37)","v":0},0,0,{"$f":"SUM(AD8:AD37)","v":0},{"$f":"SUM(AE8:AE37)","v":0},{"$f":"SUM(AF8:AF37)","v":0},{"$f":"SUM(AG8:AG37)","v":0},{"$f":"SUM(AH8:AH37)","v":0},0,{"$f":"SUM(AJ8:AJ37)","v":0},{"$f":"SUM(AK8:AK37)","v":0},{"$f":"SUM(AL8:AL37)","v":0},0,0,0,0,0,0,0,0,0,0,0,2652.7999999999993,0,{"$f":"SUM(AZ8:AZ37)","v":0},0,95669.62999999999,{"$f":"SUM(BC8:BC37)","v":-3.907985046680551E-13},27382.880000000008,{"$f":"SUM(BE8:BE37)","v":6026.5},{"$f":"SUM(BF8:BF37)","v":0},{"$f":"SUM(BG8:BG37)","v":0},2652.7999999999993,0,{"$f":"SUM(BJ8:BJ37)","v":21105.000000000007},{"$f":"SUM(BK8:BK37)","v":23153.30999999999},{"$f":"SUM(BL8:BL37)","v":0},0,{"$f":"SUM(BN8:BN37)","v":0},{"$f":"SUM(BO8:BO37)","v":4712.05},0,0,{"$f":"SUM(BR8:BR37)","v":0},{"$f":"SUM(BS8:BS37)","v":0},534,4603.09,99.999999999999972,{"$f":"SUM(BW8:BW37)","v":5400},{"$f":"SUM(BX8:BX37)","v":95669.62999999999},null,1,null,null,null,{"$f":"SUM(CD8:CD37)","v":33634.6},{"$f":"SUM(CE8:CE37)","v":28539.3},850,945,1118.5999999999999,2181.6999999999998,0,0,{"$f":"BB38-BX38","v":0},-10481.290000000008,null,{"$f":"SUM(CO8:CO37)","v":2380800},1034200,45000,null,null,null,null,null,null,4789181.5,0,0,2921,7862,10344,6260,27387,3184.2000000000003,3958.8,7143,2060,13458.599999999997,5634.7099999999991,99403.255012467882,101864.51766619887,10637.09,3733.6250124679063,6194.8876661988543,817.12000000000057,184.49999999999989,558.29999999999995,42.94086900026366,101.86414346763979,-2028.9000000000024,1810.1200000000003,377.49999999999989,558.29999999999995,216.0710600662438,104.89660613261071,-3127.9999999999995]
[]
[null,"Муниципальный район",null,{"$f":"330600-D38","v":305914.17},null,null,15893,7497,167,2151,3111,21600,121,0,3558,347,969,165,3,3858,1092,{"$f":"SUM(D40:U40)","v":366446.17},null,null,null,null,45257.4,26478,285556.7,317.7,901.5,5072.8999999999996,265.89999999999998,92310.2,282543,527.70000000000005,254,0.38,265.89999999999998,3.1,749.9,0,743.1,55.9,7.3,151.4,1741.5,119.9,1720.4,2652.8,193,0,{"$f":"BT38+BV38+BU38+BW38","v":10637.09},{"$f":"SUM(V40:BA40)","v":1124972.8399999996},{"$f":"BB40-BX40","v":0},34387.479999999996,11679,1720.4,2316.2799999999997,0,2003.7,27683.7,22365.09,1528,834667.39000000036,14067.100000000002,119752.00000000001,749.9,19603.800000000003,1398.2,0,null,null,null,{"$f":"Z38+AW38+AX38","v":31050.80000000001},{"$f":"SUM(BD40:BW40)","v":1124972.8400000003},{"$f":"BB51-BY38","v":1178954.58}]
[null,null,null,null,null,null,null,null,null,null,null,null,null,null,null,null,null,null,null,null,null,null,null,null,null,null,null,null,null,null,null,null,null,null,null,null,null,null,null,null,null,null,null,null,null,null,null,null,null,null,null,null,null,{"$f":"SUM(AA40:AY40)","v":747889.58000000019},null,null,null,null,null,null,null,null,null,null,null,null,null,null,null,null,null,null,null,null,null,null,{"$f":"SUM(BX42-BV40)","v":1220642.4700000002}]
[null,"Всего консолидиров.",{"$f":"SUM(C38)+C40","v":51114},{"$f":"SUM(D38)+D40","v":330600},{"$f":"SUM(E38)+E40","v":7143},{"$f":"SUM(F38)+F40","v":27387},{"$f":"SUM(G38)+G40","v":15893},7497,167,4302,3111,{"$f":"SUM(L38)+L40","v":21600},121,42,6100,615,{"$f":"SUM(Q38)+Q40","v":1369},165,3,3858,1092,431065,1219.2000000000003,26171.7,1007.1000000000001,28398.000000000011,45257.4,26478,285556.7,{"$f":"SUM(AD38)+AD40","v":317.7},{"$f":"SUM(AE38)+AE40","v":901.5},{"$f":"SUM(AF38)+AF40","v":5072.8999999999996},{"$f":"SUM(AG38)+AG40","v":265.89999999999998},{"$f":"SUM(AH38)+AH40","v":92310.2},282543,527.70000000000005,254,0.38,265.89999999999998,3.1,749.9,0,743.1,55.9,7.3,{"$f":"SUM(AT38)+AT40","v":151.4},1741.5,{"$f":"SUM(AV38)+AV40","v":119.9},{"$f":"SUM(AW38)+AW40","v":1720.4},5305.5999999999995,193,{"$f":"SUM(AZ38)+AZ40","v":0},{"$f":"SUM(BA38)+BA40","v":10637.09},{"$f":"SUM(BB38)+BB40","v":1220642.4699999995},{"$f":"SUM(BC38)+BC40","v":-3.907985046680551E-13},{"$f":"SUM(BD38)+BD40","v":61770.36},17705.5,{"$f":"SUM(BF38)+BF40","v":1720.4},{"$f":"SUM(BG38)+BG40","v":2316.2799999999997},2652.7999999999993,2003.7,{"$f":"SUM(BJ38)+BJ40","v":48788.700000000012},{"$f":"SUM(BK38)+BK40","v":45518.399999999994},{"$f":"SUM(BL38)+BL40","v":1528},{"$f":"SUM(BM38)+BM40","v":834667.39000000036},{"$f":"SUM(BN38)+BN40","v":14067.100000000002},124464.05000000002,749.9,19603.800000000003,{"$f":"SUM(BR38)+BR40","v":1398.2},{"$f":"SUM(BS38)+BS40","v":0},534,4603.09,99.999999999999972,36450.80000000001,1220642.4700000002,{"$f":"SUM(BY41+BV40)","v":1220642.4700000002}]
[null,{"$f":"ROUND(D42*0.1,0)","v":33060},null,49590,{"$f":"V40-D44","v":85436.169999999984},{"$f":"E43*0.5","v":42718.084999999992},{"$f":"E43*0.05","v":4271.8084999999992},null,109260.9,null,247054.6,"дот",null,null,null,null,null,null,null,null,null,{"$f":"V42-D44","v":150055},null,null,null,null,null,null,null,null,null,null,null,null,null,null,null,null,null,null,null,null,null,null,null,null,null,null,null,null,null,null,"дотации",{"$f":"AA40","v":45257.4},null,{"$f":"SUM(BD40:BG40)","v":50103.159999999996},null,null,null,null,null,null,null,null,null,null,null,null,null,null,null,null,null,null,null,{"$f":"SUM(BD42:BS42)","v":1178954.5800000003},{"$f":"BX42-BT42-BU42-BV42-BW42-BX43","v":0},null,null,null,null,{"$f":"BK38-BK26","v":10910.099999999991}]
[null,{"$f":"B43-D38","v":8374.1699999999946},{"$f":"C38-C26","v":33414},{"$f":"D42-D43","v":281010},null,null,null,null,{"$f":"V42+D43-D38-D40","v":150055},null,16704.599999999999,"ден",null,null,"неналоговые",null,null,null,null,{"$f":"SUM(O42:U42)","v":13202},null,{"$f":"V42-D45","v":150055},null,17561.5,{"$f":"X44-Y2","v":-9617.3000000000102},null,null,null,null,null,null,null,null,null,null,null,null,null,null,null,null,null,null,null,null,null,null,null,null,null,null,null,"субсидии",{"$f":"SUM(AB40:AC40)","v":312034.7},null,{"$f":"SUM(BD38:BF38)","v":33409.380000000005},{"$f":"SUM(BD45:BG45)","v":83512.56},null,null,null,null,null,null,null,null,null,null,null,null,null,null,null,null,null,null,{"$f":"BX42-BB45-BT42-BU42-BW42+AE40-AH40-AO40-BV42","v":696198.50000000012}]
[null,null,null,{"$f":"ROUND(D42*0.85,1)","v":281010},null,null,{"$f":"D42*0.15","v":49590},null,{"$f":"I43-I44","v":-40794.100000000006},{"$f":"($J$42-$J$26*2)*0.3+$J$26","v":1373.68},{"$f":"K43-K44","v":230350},"допнорм",null,null,null,null,null,11500,1455,{"$f":"SUM(R45:S45)","v":12955},null,286292,null,null,null,null,null,null,null,null,null,null,null,null,null,null,null,null,null,null,null,null,null,null,null,null,null,null,null,null,null,null,"субвенции",{"$f":"SUM(AD40:AY40)","v":390597.4800000001},null,{"$f":"SUM(BD47:BD53)","v":61770.38},{"$f":"SUM(BE47:BE53)","v":17705.5},{"$f":"SUM(BF47:BF53)","v":1720.4},{"$f":"SUM(BG47:BG53)","v":2316.2800000000002},{"$f":"SUM(BH47:BH53)","v":2652.8},2003.7,{"$f":"SUM(BJ47:BJ54)","v":48788.700000000012},{"$f":"SUM(BK47:BK54)","v":45518.399999999994},1528,{"$f":"SUM(BM47:BM53)","v":834667.39},{"$f":"SUM(BN47:BN53)","v":14067.1},{"$f":"SUM(BO47:BO53)","v":124464.05},{"$f":"SUM(BP47:BP53)","v":749.9},19603.8,1398.2,0,0,0,0,0,{"$f":"SUM(BD45:BW45)","v":1178954.5999999999},1074481.1870099995]
[null,null,null,null,null,null,null,null,null,{"$f":"($J$42-$J$26*2)*0.5+$J$26","v":2151},null,null,null,null,null,null,null,null,null,{"$f":"T45-T44","v":-247},null,{"$f":"V45-V42","v":-144773},null,null,null,null,null,null,null,null,null,null,null,null,null,null,null,null,null,null,null,null,null,null,null,null,null,null,null,null,null,null,"иные ",{"$f":"AZ40","v":0},null,{"$f":"BD42-BD45","v":-1.9999999996798579E-2},{"$f":"BE42-BE45","v":0},{"$f":"BF42-BF45","v":0},{"$f":"BG42-BG45","v":0},{"$f":"BH42-BH45","v":0},{"$f":"BI42-BI45","v":0},{"$f":"BJ42-BJ45","v":0},{"$f":"BK42-BK45","v":0},{"$f":"BL42-BL45","v":0},0,{"$f":"BN42-BN45","v":0},{"$f":"BO42-BO45","v":0},{"$f":"BP42-BP45","v":0},0,0,0,null,null,null,null,-1.9999999996798579E-2]
[null,null,null,{"$f":"29185-D38","v":4499.1699999999946},null,null,null,null,null,{"$f":"J46-J45","v":777.31999999999994},null,null,null,null,null,null,null,null,null,null,null,null,null,22562.000000000004,4561.8,28916.700000000004,null,null,null,null,null,null,null,null,null,null,null,null,null,null,null,null,null,null,null,null,null,null,null,null,null,null,"итого из РТ",{"$f":"SUM(BB43:BB46)","v":747889.58000000007},"имущ р",465.6,null,null,null,null,null,null,null,null,22121.79,253,943,null,null,null,null,null,null,null,null,{"$f":"SUM(BD47:BW47)","v":23783.39},23204.1,{"$f":"BY47-BX47-BX48","v":-7482.420000000001}]
[null,null,null,null,null,null,null,null,null,null,null,null,null,null,null,null,null,null,null,null,null,null,null,{"$f":"X38-X47","v":3609.6999999999971},{"$f":"Y38-Y47","v":-3554.7},{"$f":"Z38-Z47","v":-518.69999999999345},null,null,null,null,null,null,null,null,null,null,null,null,null,null,null,null,null,null,null,null,null,17200,"дф",null,null,null,null,{"$f":"D44","v":281010},"имущ с",2191.08,null,null,null,null,null,null,null,null,null,null,4712.05,null,null,null,null,null,null,null,null,{"$f":"SUM(BD48:BW48)","v":6903.13},{"$f":"BX47+BX48","v":30686.52},null,null,null,null,{"$f":"BY47-BY48","v":-7482.4200000000019}]
[null,null,null,{"$f":"D38-D26","v":4444.2600000000057},null,null,null,null,null,null,null,null,null,null,null,null,null,null,null,null,null,null,null,null,null,null,null,null,null,null,null,null,null,null,null,null,null,null,null,null,null,null,null,null,null,null,null,19200,"загс","военк",null,null,"всего",{"$f":"SUM(BB47:BB48)","v":1028899.5800000001},"экол р",4.3,null,null,null,null,null,null,null,null,711,12.5,34.4,null,null,null,null,null,null,null,null,762.19999999999993,774.6,{"$f":"BY49-BX49-BX50","v":9.0594198809412774E-14}]
[null,null,null,null,null,null,null,null,null,null,null,null,null,null,5748,791,null,150,30,3737,null,null,null,null,null,null,null,null,null,null,null,null,null,null,null,null,null,null,null,null,null,null,null,null,null,null,null,{"$f":"AV49-AV48","v":2000},2426.1999999999998,2652.8,null,null,null,{"$f":"V43","v":150055},"экол с",12.4,null,null,null,null,null,null,null,null,null,null,null,null,null,null,null,null,null,null,null,12.4,{"$f":"SUM(BX49:BX50)","v":774.59999999999991},null,null,null,null,{"$f":"BY49-BY50","v":0}]
[null,null,null,null,null,null,null,null,null,null,null,null,null,null,null,null,null,null,null,null,null,null,null,null,null,null,null,null,null,null,null,null,null,null,null,null,null,null,null,null,null,null,null,null,null,null,null,null,null,null,null,null,"конс",{"$f":"SUM(BB49:BB50)","v":1178954.58},"ку",null,null,null,null,null,null,null,null,null,null,null,null,null,null,null,null,null,null,null,null,0,{"$f":"BX52+BY47+BY49","v":782093.89999999991}]
[null,null,null,null,null,null,null,null,null,null,null,null,null,null,null,null,null,null,null,null,null,null,null,null,null,null,null,null,null,null,null,null,null,null,null,null,null,null,null,null,null,null,null,null,null,null,null,null,null,{"$f":"BA52+AD40+AE40","v":789576.3},null,{"$f":"BA52-BX52","v":30241.90000000014},{"$f":"BB43+BB44+BB46+V42","v":788357.10000000009},"собственные+ дотации, субсидии",null,{"$f":"53351.3+5845.7-100","v":59097},17705.5,null,null,null,{"$f":"1903.7+100","v":2003.7},{"$f":"21600+353.7","v":21953.7},70340.600000000006,1528,431908.5,13801.6,118774.6,0,{"$f":"8385.4+11218.4","v":19603.8},1398.2,null,null,null,null,{"$f":"SUM(Z41:BA41)","v":0},758115.2,{"$f":"BX52+BY48+BY50-V42-BB43-BB44","v":1219.2199999999139}]
[null,null,null,null,null,null,null,null,null,null,null,null,null,null,null,null,null,null,null,null,null,null,null,null,null,null,null,null,null,null,null,null,null,null,null,null,null,null,null,null,null,null,null,null,null,null,null,null,null,null,null,{"$f":"BA53-BX53","v":1219.2000000000116},{"$f":"BB45","v":390597.4800000001},"субвенции+иные",null,null,null,{"$f":"AW40","v":1720.4},{"$f":"AJ40+AK40+AM40+AG40+AQ40+AN40+AY40+AR40+AL40+AS40","v":2316.2800000000002},{"$f":"AX40","v":2652.8},{"$f":"AP40","v":0},{"$f":"AT40+AU40+AV40","v":2012.8000000000002},null,null,{"$f":"AI40+AF40+AH40","v":379926.10000000003},null,{"$f":"AZ40","v":0},{"$f":"AO42","v":749.9},null,null,null,null,null,null,null,{"$f":"SUM(BC53:BW53)","v":389378.28000000009},{"$f":"BX53-BB45-BB46","v":-1219.2000000000116}]
[null,null,null,null,null,null,null,null,null,null,null,null,null,null,null,null,null,null,null,null,null,null,null,null,null,null,null,null,null,null,null,null,null,null,null,null,null,null,null,null,null,null,null,null,null,null,null,null,null,null,null,null,{"$f":"SUM(BA52:BA53)","v":1178954.58},"итого",null,null,null,null,null,null,null,24822.200000000008,-24822.200000000008,null,null,null,null,null,null,null,null,null,null,null,null,{"$f":"BY48+BY49","v":31461.119999999999}]
[]
[]
[null,null,null,null,null,null,null,null,null,null,null,null,null,null,null,null,null,null,null,null,null,null,null,null,null,null,null,null,null,null,null,null,null,null,null,null,null,null,null,null,null,null,null,null,null,null,null,null,null,null,null,null,null,null,null,null,null,null,null,null,null,null,null,"дду",6559.1038299996872]
[]
[null,null,null,null,null,null,null,null,null,null,null,null,null,null,null,null,null,null,null,null,null,null,null,null,null,null,null,null,null,null,null,null,null,null,null,null,null,null,null,null,null,null,null,null,null,null,null,null,null,null,null,null,null,null,null,null,null,null,null,null,null,null,null,null,{"$f":"BM46+A1","v":0}]
[null,null,null,null,null,null,null,null,null,null,null,null,null,null,null,null,null,null,null,null,null,null,null,null,null,null,null,null,null,null,null,null,null,null,null,null,null,null,null,null,null,null,null,null,null,null,null,null,null,null,null,null,null,null,null,null,null,null,null,null,null,null,null,null,null,null,null,null,null,null,null,22374.789999999997,null,"налог на имущ.",30686.52,{"$f":"SUM(BX47:BX48)-BW60","v":0}]
[null,null,null,null,null,null,null,null,null,null,null,null,null,null,null,null,null,null,null,null,null,null,null,null,null,null,null,null,null,null,null,null,null,null,null,null,null,null,null,null,null,null,null,null,null,null,null,null,null,null,null,null,null,null,null,null,null,null,null,null,null,null,null,null,null,null,null,null,null,null,null,null,null,"негативка",774.6,{"$f":"SUM(BX49:BX50)-BW61","v":0}]
[]
[null,null,null,null,null,null,null,null,null,null,null,null,null,null,null,null,null,null,null,null,null,null,null,null,null,null,null,null,null,null,null,null,null,null,null,null,null,null,null,null,null,null,null,null,null,null,null,null,null,null,null,null,null,null,null,null,null,null,null,null,null,null,null,null,null,null,null,null,null,null,null,null,null,null,{"$f":"BT60-BW60","v":-8311.7300000000032}]

{"sheet":"плрег19","index":28,"n_rows":62,"n_cols":107,"rows_kept":62,"cut":false,"hidden":true,"merged":[[3,74,5,74],[3,75,5,75],[3,76,5,76],[3,82,3,89],[4,12,5,12],[4,13,5,13],[4,14,4,15],[4,24,5,24],[4,25,5,25],[4,82,5,82],[4,83,4,89],[3,70,5,70],[3,71,5,71],[3,72,5,72],[3,73,5,73],[4,18,5,18],[0,55,0,57],[3,22,3,25],[3,45,5,45],[3,68,5,68],[3,69,5,69],[4,22,5,22],[4,23,5,23],[3,66,5,66],[3,65,5,65],[3,55,5,55],[3,47,5,47],[3,48,5,48],[3,36,5,36],[3,37,5,37],[3,38,5,38],[3,40,5,40],[43,14,43,18],[3,26,5,26],[3,27,5,27],[3,28,5,28],[4,17,5,17],[4,20,5,20],[4,21,5,21],[4,16,5,16],[3,0,5,0],[3,1,5,1],[3,2,5,2],[4,8,5,8],[4,9,5,9],[4,3,5,3],[4,4,5,4],[4,5,5,5],[4,6,5,6],[4,7,5,7],[3,67,5,67],[3,49,5,49],[3,50,5,50],[3,51,5,51],[3,56,5,56],[3,53,5,53],[3,52,5,52],[3,62,5,62],[3,63,5,63],[3,64,5,64],[3,57,5,57],[3,58,5,58],[3,59,5,59],[3,60,5,60],[3,61,5,61],[4,10,5,10],[4,11,5,11],[3,43,5,43],[3,44,5,44],[3,46,5,46],[3,34,5,34],[3,35,5,35],[3,39,5,39],[3,41,5,41],[3,42,5,42],[3,29,5,29],[3,30,5,30],[3,31,5,31],[3,32,5,32],[3,33,5,33],[4,19,5,19]]}
[{"$f":"BZ10","v":0},"допкод МФ РТ",null,"План регулирования на",null,null,2019,"год",null,null,null,null,null,null,null,null,null,null,null,null,null,null,null,null,{"$f":"AB40-Y2","v":-5094.2999999999956},null,13200,13110,13120,13310,13313,13321,13322,13300,13300,13300,13300,13300,13300,13300,13300,13300,13300,13300,13300,13305,13300,13300,13300]
[null,"допкод МР",null,null,null,null,null,null,null,null,null,null,null,null,null,null,null,null,null,null,null,null,null,{"$f":"SUM(W38:X38)","v":31979.700000000008},{"$f":"Z38-W38","v":31402.999999999996},null,"13200","13110","13120",13310,13313,13321,13322,"00935","00936","00937","00938","00939","00940","00941","00942","00943","00944","00945","00946","13305","00948","00949","00950","00920","00921","00929","00922"]
[null,null,null,null,null,null,null,null,null,null,null,null,null,null,null,null,null,null,null,null,null,null,null,null,null,null,null,null,null,null,null,null,null,null,null,null,null,null,null,null,null,null,null,null,null,null,null,null,null,null,null,null,null,null,null,null,null,null,null,null,null,null,null,null,null,null,null,null,null,null,null,null,null,null,null,null,null,null,null,null,null,null,null,350,null,null,null,null,null,null,null,null,null,"заявки техпаспорт",null,null,null,null,null,"распределение земельного",null,null,null,null,"распределение имущественного"]
["Код администратора","Наименование поселений","население на 01.01.2017",null,null,null,null,null,null,null,null,null,null,null,null,null,null,null,null,null,null,null,"Районный фонд финансовой поддержки поселений",null,null,null,"Дотации бюджетам МР","Субсидии из РФС соцрасходов","Субсидии(соцрасходы Образования)","Субвенция исходя из количества жителей (СП)","Субвенция исходя из количества жителей (ГП)","Субвенции ИМО образовательных учрежд","Субвенции Образованию","Субвенции детсадам","Субвенции школам","Субвенции по комиисии несоверш","Субвенции по адм.практике","Субвенция протоколы","Субвенции молодежная политика","Субвенция ведение регистра, ","Субвенции на проведение протовоэпид мероприятий","Субвенции опоп","Субвенции на опеку","Субвенции архиву","Субвенция (свободный)","Субвенция (земельный)","Субвенции на скотомогильники","Субвенции на биотермические ямы","Субвенции на отстрел","Субвенции ЗАГСам","Субвенции по первичному воинскому учету","Субвенции по составлению (изменению) списков кандидатов в присяжные заседатели федеральных судов","Иные трансферты на книжный фонд","Субвенции из  нижстоящ.бюджетов (ксп+зем+кржф)","ВСЕГО ","Дефицит","Общегосударственные вопросы","ЦБ","ЗАГС","Полномочия","Национальная оборона","Национальная безопасность","Национальная экономика","ЖКХ","Охрана окружающей среды","Образование","Молодежная политика","Культура","Здравоохранение","Социальная политика","Физическая культура и спорт","Обслуживание муниципального долга","МТ (по соглашению-ксп)","МТ (по соглашению-ЖКХ)","МТ (здравоохранение)","МТ (по соглашению-культура)","Всего расходов",null,null,null,null,null,"РАСХОДЫ  ЖКХ НА 1 ЖИТЕЛЯ ПОСЕЛЕНИЯ,руб",null,null,null,null,null,null,null,null,null,null,null,null,null,null,null,null,"06033.10","06043.10","06033.13","06043.13"]
[null,null,null,"НДФЛ","имущество фл ","земельный налог ","ед.налог на вм.доход","налог  взим по упрощ системена вм.доход","патент","сельхозналог","госпошлина (суды)","Акциз","добыча","налог на игорный бизнес","аренда",null,"продажа земли","прочие доходы","прибыль МБП","штрафы","негативное воздействие","ВСЕГО","дотация исходя из количества жителей","дотация по обеспеченности","дотация для сбалансированности","итого",null,null,null,null,null,null,null,null,null,null,null,null,null,null,null,null,null,null,null,null,null,null,null,null,null,null,null,null,"доходов",null,null,null,null,null,null,null,null,null,null,null,null,null,null,null,null,null,null,null,null,null,null,"район",null,null,null,null,"всего",null,null,null,null,null,null,null,"дефицит",null,null,"дороги","скважины","кладбища","итого",null,null,"юр.лица","физ.лица","юр.лица","физ.лица","итого","юр.лица","физ.лица","итого"]
[null,null,null,null,null,null,null,null,null,null,null,null,null,null,"земли ","имущества",null,null,null,null,null,null,null,null,null,null,null,null,null,null,null,null,null,null,null,null,null,null,null,null,null,null,null,null,null,null,null,null,null,null,null,null,null,null,null,null,null,null,null,null,null,null,null,null,null,null,null,null,null,null,null,null,null,null,null,null,null,null,"доля","исполкомы","код администартора","совет",null,"жкх","кржф","дороги","водители","дополнительно в счет отриц трансфертов","дорфонд","башни"]
[null,null,null,null,null,null,null,null,null,null,null,null,null,null,null,null,null,null,null,null,null,null,null,null,null,null,null,null,null,null,null,null,null,null,null,null,null,null,null,null,null,null,null,null,null,null,null,null,null,null,null,null,null,null,null,null,"01","01","01","01","02","03","04","05","06","07","07","08","09","10","11","13",14,14,14,14]
[1,"Байлянгарское сельское поселение",1092,{"$f":"89.8-CO8","v":89.78151391941519},158,456,0,0,0,0,0,0,0,0,0,40,0,0,0,0,0,{"$f":"SUM(D8:U8)","v":743.78151391941515},10.4,784.2,19.100000000000001,{"$f":"SUM(W8:Y8)","v":813.7},null,null,null,null,null,null,null,null,null,null,null,null,null,null,null,null,null,null,null,null,null,null,null,0,90.6,null,null,null,{"$f":"SUM(V8:BB8)-Z8","v":1648.0815139194149},-9.2370555648813024E-14,742,190,0,0,{"$f":"AY8","v":90.6},0,285.51049792012003,207.34101599929483,null,null,null,118.43,0,0,0,0,11,null,3.2,null,{"$f":"SUM(BE8:BX8)","v":1648.0815139194149},{"$f":"BC40","v":1139593.4349875322},{"$f":"C8/$C$38","v":2.1364009860312245E-2},1,621,2,{"$f":"SUM(CF8:CL8)","v":435},{"$f":"ROUND(C8*$CF$3/1000,0)","v":382},null,null,53,null,null,{"$f":"S8","v":0},{"$f":"BC8-BY8","v":0},{"$f":"BL8-CE8","v":-227.65898400070517},1.8486080584807496E-2,162000,null,null,{"$f":"SUM(CP8:CR8)","v":162000},null,{"$f":"BC8-BY8","v":0},50,{"$f":"F8-CV8","v":406},null,null,{"$f":"SUM(CV8:CY8)","v":456},{"$f":"E8","v":158},null,{"$f":"SUM(DA8:DB8)","v":158}]
[2,"Березнякское сельское поселение",728,{"$f":"79.2-CO9","v":79.157934962169477},96,264,0,0,0,0.5,0,0,0,0,0,17,0,0,0,0,0,456.65793496216946,6.9,799,17.399999999999999,823.3,null,null,null,null,null,null,null,null,null,null,null,null,null,null,null,null,null,null,null,null,null,null,null,0,57.8,null,null,null,1337.7579349621694,-9.2370555648813024E-14,735,153,0,0,57.8,0,91.803693883759863,289.95424107840989,null,null,null,0,0,0,0,0,8,null,2.2000000000000002,null,1337.7579349621699,{"$f":"BY40","v":1139593.4349875324},1.4242673240208161E-2,13,622,3,{"$f":"SUM(CF9:CL9)","v":378},255,null,null,{"$f":"78+45","v":123},null,null,0,0,-88.045758921590107,4.2065037830525398E-2,null,null,null,{"$f":"SUM(CP9:CR9)","v":0},null,{"$f":"BC9-BY9","v":0},119,{"$f":"F9-CV9","v":145},null,null,{"$f":"SUM(CV9:CY9)","v":264},{"$f":"E9","v":96},null,96]
[3,"Большекукморское сельское поселение",2815,{"$f":"264.2-CO10","v":264.19250248078623},526,1266,0,0,0,19,0,0,0,0,0,0,0,0,0,0,0,2075.1925024807861,26.7,608.9,25.2,660.80000000000007,null,null,null,null,null,null,null,null,null,null,null,null,null,null,null,null,null,null,null,null,null,null,null,0,232,null,null,null,2967.9925024807858,-7.1054273576010019E-14,915,535,0,0,232,0,73.624744599846991,921.16775788093912,null,null,null,258.10000000000002,0,0,0,0,25,null,8.1,null,2967.9925024807858,{"$f":"BZ8-BZ9","v":0},5.5072974136244471E-2,12,623,4,985,985,null,null,null,null,null,0,0,-63.832242119060879,7.4975192137571867E-3,300000,null,null,300000,null,0,451,815,null,null,1266,526,null,526]
[4,"Большесардекское сельское поселение",3438,{"$f":"248.4-CO11","v":248.44977714150846},336,780,0,0,0,162,0,0,0,0,0,11,0,0,0,0,0,1537.4497771415085,32.700000000000003,844.3,13.3,890.3,null,null,null,null,null,null,null,null,null,null,null,null,null,null,null,null,null,null,null,null,null,null,null,0,268.60000000000002,null,null,null,2696.3497771415086,-2.4868995751603507E-13,843,319,0,0,268.60000000000002,0,422.1556000375316,792.80417710397683,null,null,null,15.59,0,0,0,0,25,null,10.199999999999999,null,2696.3497771415086,{"$f":"BC11-BY11","v":0},6.726141565911492E-2,5,624,6,1203,1203,null,null,null,null,null,0,0,-410.19582289602317,-4.9777141508457134E-2,210000,40000,null,250000,null,0,231,549,null,null,780,336,null,336]
[5,"Важашурское сельское поселение",920,{"$f":"76.1-CO12","v":76.121203856663527},60,306,0,0,0,0,0,0,0,0,0,1,0,0,0,0,0,443.12120385666356,8.6999999999999993,951.9,18.3,978.9,null,null,null,null,null,null,null,null,null,null,null,null,null,null,null,null,null,null,null,null,null,null,null,0,79.699999999999989,null,null,null,1501.7212038566631,-2.2737367544323206E-13,711,154,0,0,79.699999999999989,0,94.12655962559316,231.07464423106993,null,null,null,219.92,0,0,0,0,9,null,2.9,null,1501.7212038566634,{"$f":"BC12-BY12","v":0},1.7998982666197129E-2,7,625,8,322,322,null,null,null,null,null,0,0,-90.925355768930075,-2.1203856663532861E-2,194000,null,null,194000,null,0,78,228,null,null,306,60,null,60]
[6,"Каенсарское сельское поселение",360,{"$f":"67.7-CO13","v":67.747851113013169},35,71,0,0,0,6.5,0,0,0,0,0,0,0,0,0,0,0,180.24785111301316,3.4,927.1,18,948.5,null,null,null,null,null,null,null,null,null,null,null,null,null,null,null,null,null,null,null,null,null,null,null,0,31.6,null,null,null,1160.3478511130129,-1.8118839761882555E-13,746,145,0,0,31.6,0,99.580244410767023,41.407606702245921,null,null,null,90.66,0,0,0,0,5,null,1.1000000000000001,null,1160.3478511130129,0,7.0430801737293106E-3,15,626,16,139.6,126,null,null,13.6,null,null,0,0,-98.19239329775408,-4.7851113013166469E-2,54000,null,null,54000,null,0,16,55,null,null,71,35,null,35]
[7,"Каркаусское сельское поселение",898,{"$f":"105.8-CO14","v":105.77167084159036},77,378,0,0,0,6.5,0,0,0,0,9,1,0,0,0,0,0,577.27167084159032,8.5,1110.4000000000001,24.1,1143,null,null,null,null,null,null,null,null,null,null,null,null,null,null,null,null,null,null,null,null,null,null,null,0,68.399999999999991,null,null,null,1788.6716708415902,0,736,212,0,0,68.399999999999991,0,138.16001455773761,178.9616562838531,null,null,null,443.45,0,0,0,0,9,null,2.7,null,1788.6716708415906,0,1.7568572211135891E-2,18,627,17,314,314,null,null,null,null,null,0,{"$f":"BC14-BY14","v":0},-135.0383437161469,2.8329158409633237E-2,null,null,null,0,null,0,110,268,null,null,378,77,null,77]
[8,"Кошкинское сельское поселение",1017,{"$f":"160.5-CO15","v":160.5392191707208},82,393,0,0,0,20.5,0,0,0,0,19,1,0,0,0,0,0,676.0392191707208,9.6999999999999993,670.5,16.3,696.5,null,null,null,null,null,null,null,null,null,null,null,null,null,null,null,null,null,null,null,null,null,null,null,0,93,null,null,null,1465.5392191707206,1.1368683772161603E-13,749,252,0,0,93,0,32.3181320602895,327.2210871104312,null,null,null,0,0,0,0,0,9,null,3,null,1465.5392191707208,0,1.9896701490785304E-2,19,628,20,356,356,null,null,null,null,null,0,0,-28.778912889568801,-3.9219170720798502E-2,null,null,null,0,null,0,130,263,null,null,393,82,null,82]
[9,"Лельвижское сельское поселение",515,{"$f":"158.5-CO16","v":158.51949283912836},36,160,0,0,0,0,0,0,0,0,0,1,0,0,0,0,0,355.51949283912836,4.9000000000000004,700.1,15.5,720.5,null,null,null,null,null,null,null,null,null,null,null,null,null,null,null,null,null,null,null,null,null,null,null,0,46.2,null,null,null,1122.2194928391284,4.6185277824406512E-14,737,133,0,0,46.2,0,83.825155031375886,97.964337807752543,null,null,null,16.63,0,0,0,0,6,null,1.6,null,1122.2194928391284,0,1.0075517470751654E-2,26,629,27,180,180,null,null,null,null,null,0,0,-82.035662192247457,-1.9492839128361084E-2,60000,15000,null,75000,null,0,26,134,null,null,160,36,null,36]
[10,"Лубянское сельское поселение",1578,{"$f":"369.8-CO17","v":369.75301649403019},68,234,0,0,0,0,0,0,0,0,0,11,0,0,0,0,0,682.75301649403013,15,2863.9,53.6,2932.5,null,null,null,null,null,null,null,null,null,null,null,null,null,null,null,null,null,null,null,null,null,null,null,0,87.300000000000011,null,null,null,3702.553016494031,5.4001247917767614E-13,797,234,0,0,87.300000000000011,0,1047.7134437295103,1495.3195727645198,null,null,null,15.62,0,0,0,0,21,null,4.5999999999999996,null,3702.5530164940296,0,3.0872168094846813E-2,28,630,29,2518,552,850,{"$f":"855+70","v":925},191,{"$f":"351-351","v":0},null,0,0,-1022.6804272354802,4.6983505969819817E-2,null,null,null,0,null,0,85,149,null,null,234,68,null,68]
[11,"Мамаширское сельское поселение",809,{"$f":"59.2-CO18","v":59.241145483547328},63,237,0,0,0,19,0,0,0,0,0,1,0,0,0,0,0,379.24114548354731,7.7,1039.4000000000001,19.7,1066.8000000000002,null,null,null,null,null,null,null,null,null,null,null,null,null,null,null,null,null,null,null,null,null,null,null,0,61.4,null,null,null,1507.4411454835476,-1.3500311979441904E-13,718,160,0,0,61.4,0,132.40334728449855,193.80779819904859,null,null,null,230.43,0,0,0,0,9,null,2.4,null,1507.4411454835474,0,1.5827366279297258E-2,184,631,185,323,283,null,null,40,null,null,0,0,-129.19220180095141,-4.1145483547325057E-2,null,null,null,0,null,0,46,191,null,null,237,63,null,63]
[12,"Манзарасское сельское поселение",2081,{"$f":"230.3-CO19","v":230.2799924368008},332,541,0,0,0,0,0,0,0,0,0,1,0,0,0,0,0,1104.2799924368007,19.8,1105.0999999999999,22.9,1147.8,null,null,null,null,null,null,null,null,null,null,null,null,null,null,null,null,null,null,null,null,null,null,null,0,149.30000000000001,null,null,null,2401.3799924368004,0,833,229,0,0,149.30000000000001,0,41.003630051492323,997.21636238530789,null,null,null,128.96,0,0,0,0,17,null,5.9,null,2401.3799924368004,0,4.0712916226474154E-2,186,632,187,1028,728,null,null,150,150,null,0,0,-30.783637614692111,2.0007563199214928E-2,null,null,null,0,null,0,130,411,null,null,541,332,null,332]
[13,"Нижнеискубашское сельское поселение",993,{"$f":"69.8-CO20","v":69.835133052603894},62,333,0,0,0,9,0,0,0,0,0,1,0,0,0,0,0,474.83513305260391,9.4,932,17.8,959.19999999999993,null,null,null,null,null,null,null,null,null,null,null,null,null,null,null,null,null,null,null,null,null,null,null,0,80.099999999999994,null,null,null,1514.135133052604,1.1368683772161603E-13,778,203,0,0,80.099999999999994,0,28.076377227376515,402.15875582522744,null,null,null,10.8,0,0,0,0,9,null,3,null,1514.1351330526038,0,1.9427162812536682E-2,188,633,189,426,348,null,null,78,null,null,0,0,-23.841244174772555,-3.5133052603896431E-2,null,null,null,0,null,0,77,256,null,null,333,62,null,62]
[14,"Нижнерусское сельское поселение",761,{"$f":"52.8-CO21","v":52.847467977241919},59,191,0,0,0,0,0,0,0,0,0,11,0,0,0,0,0,313.84746797724193,7.2,1116.2,20.399999999999999,1143.8000000000002,null,null,null,null,null,null,null,null,null,null,null,null,null,null,null,null,null,null,null,null,null,null,null,0,60.5,null,null,null,1518.1474679772418,-3.1974423109204508E-13,736,226,0,0,60.5,0,144.82562929517232,245.01183868206977,null,null,null,95.41,0,0,0,0,8,null,2.4,null,1518.1474679772423,0,1.4888288922800016E-2,190,634,191,386,266,null,20,100,null,null,0,0,-140.98816131793023,-4.7467977241922199E-2,null,null,null,0,null,0,26,165,null,null,191,59,null,59]
[15,"Ныртинское сельское поселение",863,{"$f":"80.3-CO22","v":80.288577066445484},45,341,0,0,0,8,0,0,0,0,0,10,0,0,0,0,0,484.2885770664455,8.1999999999999993,827.7,17.2,853.10000000000014,null,null,null,null,null,null,null,null,null,null,null,null,null,null,null,null,null,null,null,null,null,null,null,0,66.199999999999989,null,null,null,1403.5885770664456,0,749,172,0,0,66.199999999999989,0,52.617958760658837,318.03061830578633,null,null,null,33.94,0,0,0,0,9,null,2.8,null,1403.5885770664452,0,1.6883828305356653E-2,192,635,193,367,302,null,null,40,25,null,0,0,-48.969381694213666,1.1422933554513293E-2,null,null,null,0,null,0,90,251,null,null,341,45,null,45]
[16,"Нырьинское сельское поселение",1398,{"$f":"322.3-CO23","v":322.30853689050133},93,387,0,0,0,1010.5,0,0,0,0,0,14,0,0,0,0,0,1826.8085368905013,13.3,36,22.7,72,null,null,null,null,null,null,null,null,null,null,null,null,null,null,null,null,null,null,null,null,null,null,null,0,130.69999999999999,null,null,null,2029.5085368905011,0,721,201,0,0,130.69999999999999,0,129.87849321728845,414.48004367321283,null,null,null,16.149999999999977,0,0,0,0,12,null,4.3,400,2029.5085368905013,0,2.7350628007982158E-2,194,636,195,539,489,null,null,50,null,null,0,0,-124.51995632678717,-8.5368905013183394E-3,156000,null,null,156000,null,0,48,339,null,null,387,93,null,93]
[17,"Олуязское сельское поселение",1503,{"$f":"380.5-CO24","v":380.54942704497807},177,504,0,0,0,17.5,0,0,0,0,0,1,0,0,0,0,0,1080.0494270449781,14.3,958.1,25.1,997.5,null,null,null,null,null,null,null,null,null,null,null,null,null,null,null,null,null,null,null,null,null,null,null,0,107,null,null,null,2184.5494270449781,1.3500311979441904E-13,822,174,0,0,107,0,0,660.7694270449781,null,null,null,402.38,0,0,0,0,14,null,4.4000000000000004,null,2184.5494270449781,0,2.9404859725319872E-2,196,637,197,660.8,526,null,null,null,134.80000000000001,null,0,0,-3.0572955021852977E-2,-4.9427044978074264E-2,144000,null,null,144000,null,0,88,416,null,null,504,177,null,177]
[18,"Ошторма-Юмьинское сельское поселение",1420,{"$f":"158.5-CO25","v":158.51098856137128},130,391,0,0,0,5.5,0,0,0,0,27,27,0,0,0,0,0,739.01098856137128,13.5,762.9,15.5,791.9,null,null,null,null,null,null,null,null,null,null,null,null,null,null,null,null,null,null,null,null,null,null,null,0,121.1,null,null,null,1652.0109885613711,-1.1368683772161603E-13,730,265,0,0,121.1,0,185.42528269591102,316.51570586546029,null,null,null,17.670000000000002,0,0,0,0,12,null,4.3,null,1652.0109885613713,0,2.7781038463043393E-2,200,638,199,497,497,null,null,null,null,null,0,0,-180.48429413453971,-1.0988561371277683E-2,null,null,null,0,null,0,121,270,null,null,391,130,null,130]
[19,"поселок городского типа Кукмор",17700,{"$f":"23197.7-3000-750-250","v":19197.7},4119,16604,0,0,0,207.7,0,0,0,42,2326,11,400,0,0,0,0,42907.399999999994,888,3070.9,0.7,3959.6,null,null,null,null,null,null,null,null,null,null,null,null,null,null,null,null,null,null,null,null,null,null,null,0,0,null,null,null,46866.999999999993,0,6030,0,0,0,0,0,16785.7,12243.21,null,null,null,null,0,0,0,0,205,{"$f":"4388+215.09","v":4603.09},0,7000,46867,0,0.34628477520835776,233,639,null,18458.2,{"$f":"BL26+BV26","v":16846.3},null,null,null,{"$f":"1632.9-21","v":1611.9},null,0,0,{"$f":"BL26-CE26","v":-6214.9900000000016},0,null,null,null,0,null,0,null,null,10344,{"$f":"F26-CX26","v":6260},{"$f":"SUM(CV26:CY26)","v":16604},null,{"$f":"E26","v":4119},{"$f":"SUM(DB26:DB26)","v":4119}]
[20,"Починок-Кучуковское сельское поселение",1055,{"$f":"116.3-CO27","v":116.26846032021358},74,345,0,0,0,0.3,0,0,0,0,24,1,0,0,0,0,0,560.56846032021349,10,762.8,15.6,788.4,null,null,null,null,null,null,null,null,null,null,null,null,null,null,null,null,null,null,null,null,null,null,null,0,89.800000000000011,null,null,null,1438.7684603202133,9.2370555648813024E-14,775,188,0,0,89.800000000000011,0,70.897902207260074,301.77055811295321,null,null,null,0,0,0,0,0,10,null,3.3,null,1438.7684603202133,0,2.0640137731345619E-2,202,640,203,369,{"$f":"ROUND(C27*$CF$3/1000,0)","v":369},null,null,null,null,null,0,0,-67.229441887046789,3.1539679786419583E-2,300000,null,30000,330000,null,0,72,273,null,null,345,74,null,{"$f":"SUM(DA27:DB27)","v":74}]
[21,"Псякское сельское поселение",712,{"$f":"179.7-CO28","v":179.71137897601074},90,275,0,0,0,1,0,0,0,0,0,26,0,0,0,0,0,571.71137897601079,6.8,793.9,19.600000000000001,820.3,null,null,null,null,null,null,null,null,null,null,null,null,null,null,null,null,null,null,null,null,null,null,null,0,53.2,null,null,null,1445.2113789760108,2.2737367544323206E-13,725,233,0,0,53.2,0,46.861291487419791,275.31008748859114,null,null,null,101.74,0,0,0,0,8,null,2.1,null,1445.2113789760108,0,1.3929647454709081E-2,204,641,205,319,249,null,null,null,70,null,0,0,-43.689912511408863,-1.1378976010746555E-2,null,null,null,0,null,0,109,166,null,null,275,90,null,90]
[22,"Сардекбашское сельское поселение",1248,{"$f":"147.9-CO29","v":147.8544909483293},107,324,0,0,0,11,0,0,0,0,13,11,0,0,0,0,0,613.85449094832927,11.9,815,15.7,842.6,null,null,null,null,null,null,null,null,null,null,null,null,null,null,null,null,null,null,null,null,null,null,null,0,107.7,null,null,null,1564.1544909483291,-1.3500311979441904E-13,738,243,0,0,107.7,0,210.77481753070057,230.56967341762791,null,null,null,18.41,0,0,0,0,12,null,3.7,null,1564.1544909483287,0,2.4416011268928277E-2,206,642,207,437,437,null,null,null,null,null,0,0,-206.43032658237209,4.5509051670705958E-2,156000,null,null,156000,null,0,108,216,null,null,324,107,null,107]
[23,"Село-Чуринское сельское поселение",1353,{"$f":"200.8-CO30","v":200.75233114303825},120,380,0,0,0,50,0,0,0,0,0,13,0,0,0,0,0,763.75233114303819,12.9,1113.7,23.4,1150.0000000000002,null,null,null,null,null,null,null,null,null,null,null,null,null,null,null,null,null,null,null,null,null,null,null,0,111.4,null,null,null,2025.1523311430385,1.8474111129762605E-13,744,255,0,0,111.4,0,281.47073141258386,197.24159973045437,null,null,null,420.04,0,0,0,0,12,null,4,null,2025.1523311430383,0,2.6470242986265994E-2,208,643,209,474,474,null,null,null,null,null,0,0,-276.75840026954563,4.7668856961763595E-2,300000,100000,null,400000,null,0,50,330,null,null,380,120,null,120]
[24,"Среднекуморское сельское поселение",1029,{"$f":"126.8-CO31","v":126.84898567825694},57,248,0,0,0,0,0,0,0,0,0,1,0,0,0,0,0,432.84898567825695,9.8000000000000007,981.6,17.5,1008.9,null,null,null,null,null,null,null,null,null,null,null,null,null,null,null,null,null,null,null,null,null,null,null,0,105.5,null,null,null,1547.2489856782568,1.3500311979441904E-13,748,160,0,0,105.5,0,133.81726556213621,229.76172011612067,null,null,null,157.07,0,0,0,0,10,null,3.1,null,1547.2489856782568,0,2.0131470829909615E-2,213,644,214,360,360,null,null,null,null,null,0,0,-130.23827988387933,-4.8985678256940446E-2,100000,null,null,100000,null,0,95,153,null,null,248,57,null,57]
[25,"Туембашское сельское поселение",700,{"$f":"63.4-CO32","v":63.371028737315008},47,190,0,0,0,18,0,0,0,0,63,5,0,0,0,0,0,386.37102873731499,6.6,921.2,18.7,946.50000000000011,null,null,null,null,null,null,null,null,null,null,null,null,null,null,null,null,null,null,null,null,null,null,null,0,48.1,null,null,null,1380.971028737315,0,743,226,0,0,48.1,0,100.79217436302788,227.43885437428733,null,null,null,23.54,0,0,0,0,10,null,2.1,null,1380.971028737315,0,1.3694878115584772E-2,215,645,216,325,245,null,null,80,null,null,0,0,-97.561145625712669,2.8971262684990506E-2,null,null,null,0,null,0,19,171,null,null,190,47,null,47]
[26,"Уркушское сельское поселение",577,{"$f":"63.4-CO33","v":63.439452663184873},26,215,0,0,0,2,0,0,0,0,0,1,0,0,0,0,0,307.43945266318485,5.5,891.2,17.7,914.40000000000009,null,null,null,null,null,null,null,null,null,null,null,null,null,null,null,null,null,null,null,null,null,null,null,0,48.1,null,null,null,1269.939452663185,-4.6185277824406512E-14,697,154,0,0,48.1,0,191.08095580646165,164.41849685672284,null,null,null,4.54,0,0,0,0,9,null,1.8,null,1269.9394526631845,0,1.1288492389560589E-2,218,646,219,352,202,null,null,100,50,null,0,0,-187.58150314327716,-3.9452663184874837E-2,null,null,null,0,null,0,48,167,null,null,215,26,null,26]
[27,"Чарлинское сельское поселение",630,{"$f":"173.3-CO34","v":173.28534834789599},49,226,0,0,0,6.5,0,0,0,0,0,30,0,0,0,0,0,484.78534834789599,6,874,20.3,900.3,null,null,null,null,null,null,null,null,null,null,null,null,null,null,null,null,null,null,null,null,null,null,null,0,56.099999999999994,null,null,null,1441.185348347896,9.2370555648813024E-14,731,295,0,0,56.099999999999994,0,23.935616557151899,229.55973179074385,null,null,null,95.59,0,0,0,0,8,null,2,null,1441.1853483478956,0,1.2325390304026294E-2,225,647,226,251,221,null,null,null,30,null,0,0,-21.440268209256146,1.4651652104021196E-2,null,null,null,0,null,0,86,140,null,null,226,49,null,49]
[28,"Ядыгерьское сельское поселение",1023,{"$f":"236.7-CO35","v":236.69268138173351},127,368,0,0,0,520,0,0,0,0,13,19,0,0,0,0,0,1283.6926813817336,9.6999999999999993,133.9,17.7,161.29999999999998,null,null,null,null,null,null,null,null,null,null,null,null,null,null,null,null,null,null,null,null,null,null,null,0,82,null,null,null,1526.9926813817337,4.9737991503207013E-14,728,151,0,0,82,0,143.91668183097667,328.73599955075724,null,null,null,80.34,0,0,0,0,10,null,3,null,1526.9926813817337,0,2.0014086160347458E-2,227,648,228,468,358,null,null,null,110,null,0,0,-139.26400044924276,7.3186182664812804E-3,60000,600000,null,660000,null,0,95,273,null,null,368,127,null,127]
[29,"Яныльское сельское поселение",1424,{"$f":"378.4-CO36","v":378.4409301882564},161,833,0,0,0,0,0,0,0,0,0,0,0,0,0,0,0,1372.4409301882565,13.5,2515.5,61.7,2590.6999999999998,null,null,null,null,null,null,null,null,null,null,null,null,null,null,null,null,null,null,null,null,null,null,null,0,114.19999999999999,null,null,null,4077.3409301882566,-1.8474111129762605E-13,1007,194,0,0,114.19999999999999,0,57.97064938314427,444.98028080511108,null,null,null,2238.89,0,0,0,0,16,null,4.3,null,4077.3409301882557,0,2.7859294909418162E-2,229,649,230,498,498,null,null,null,null,null,0,0,-53.019719194888921,-4.0930188256425026E-2,null,null,null,0,null,0,301,532,null,null,833,161,null,161]
[30,"Ятмас-Дусаевское сельское поселение",474,{"$f":"35.9-CO37","v":35.894472751156762},17,146,0,0,0,50,0,0,0,0,48,1,0,0,0,0,0,297.89447275115674,4.4000000000000004,862.9,18,885.3,null,null,null,null,null,null,null,null,null,null,null,null,null,null,null,null,null,null,null,null,null,null,null,0,34.1,null,null,null,1217.2944727511565,-2.7355895326763857E-13,736,155,0,0,34.1,0,17.673978470470821,250.97049428068564,null,null,null,16.05,0,0,0,0,6,null,1.5,null,{"$f":"SUM(BE37:BX37)","v":1217.2944727511565},{"$f":"BC37-BY37","v":0},9.2733888954102586E-3,231,650,232,266,166,null,null,100,null,null,0,0,-15.029505719314358,5.5272488432365208E-3,76800,null,null,76800,null,0,16,130,null,null,146,17,null,17]
[null,"Итого по поселениям ",{"$f":"SUM(C8:C37)","v":51114},{"$f":"SUM(D8:D37)","v":23894.155012467905},{"$f":"SUM(E8:E37)","v":7429},{"$f":"SUM(F8:F37)","v":27387},0,0,0,2151,{"$f":"SUM(K8:K37)","v":0},{"$f":"SUM(L8:L37)","v":0},0,42,2542,268,{"$f":"SUM(Q8:Q37)","v":400},{"$f":"SUM(R8:R37)","v":0},{"$f":"SUM(S8:S37)","v":0},{"$f":"SUM(T8:T37)","v":0},0,64113.155012467905,1205.4000000000001,30774.300000000007,628.70000000000005,32608.399999999998,{"$f":"SUM(AA8:AA37)","v":0},0,0,{"$f":"SUM(AD8:AD37)","v":0},{"$f":"SUM(AE8:AE37)","v":0},{"$f":"SUM(AF8:AF37)","v":0},{"$f":"SUM(AG8:AG37)","v":0},{"$f":"SUM(AH8:AH37)","v":0},0,{"$f":"SUM(AJ8:AJ37)","v":0},{"$f":"SUM(AK8:AK37)","v":0},{"$f":"SUM(AL8:AL37)","v":0},0,0,0,0,0,0,0,0,0,0,0,0,2681.6999999999994,0,{"$f":"SUM(BA8:BA37)","v":0},0,99403.255012467882,-3.907985046680551E-13,28200,{"$f":"SUM(BF8:BF37)","v":6211},{"$f":"SUM(BG8:BG37)","v":0},{"$f":"SUM(BH8:BH37)","v":0},2681.6999999999994,0,{"$f":"SUM(BK8:BK37)","v":21147.94086900026},{"$f":"SUM(BL8:BL37)","v":23255.174143467637},{"$f":"SUM(BM8:BM37)","v":0},0,{"$f":"SUM(BO8:BO37)","v":0},{"$f":"SUM(BP8:BP37)","v":5270.35},0,0,{"$f":"SUM(BS8:BS37)","v":0},{"$f":"SUM(BT8:BT37)","v":0},534,4603.09,99.999999999999972,{"$f":"SUM(BX8:BX37)","v":7400},99403.255012467867,null,1,null,null,null,{"$f":"SUM(CE8:CE37)","v":33634.6},{"$f":"SUM(CF8:CF37)","v":28539.3},850,945,1118.5999999999999,2181.6999999999998,0,0,0,-10379.425856532362,-0.15501246789062861,{"$f":"SUM(CP8:CP37)","v":2272800},755000,30000,3057800,0,0,2921,7862,10344,6260,27387,3310,4119,7429]
[]
[null,"Муниципальный район",null,{"$f":"349389-D38","v":325494.84498753212},null,null,15893,7797,167,2151,3111,24300,121,0,3558,347,969,165,3,4020,1092,{"$f":"SUM(D40:U40)","v":389188.84498753212},null,null,null,null,38930.9,26308.7,281764.8,317.39999999999998,888,5246.8,276.10000000000002,92310.2,282543,547.20000000000005,263.10000000000002,0.4,276.10000000000002,3.3,779.3,0,770.6,55.9,0,7.6,151.4,1741.5,119.9,1770.6,2681.7,13,0,{"$f":"BU38+BW38+BV38+BX38","v":12637.09},{"$f":"SUM(V40:BB40)","v":1139593.4349875322},{"$f":"BC40-BY40","v":0},35157.259999999995,12037.1,1770.6000000000001,2213.2999999999997,0,2079.4,30397.9,22919.584987532104,1528,839357.09000000032,14595.100000000002,120131.30000000002,779.3,19939.200000000004,1398.2,0,null,null,null,{"$f":"Z38+AX38+AY38","v":35290.1},{"$f":"SUM(BE40:BX40)","v":1139593.4349875324},{"$f":"BC51-BZ38","v":1191069.5}]
[null,null,null,null,null,null,null,null,null,null,null,null,null,null,null,null,null,null,null,null,null,null,null,null,null,null,null,null,null,null,null,null,null,null,null,null,null,null,null,null,null,null,null,null,null,null,null,null,null,null,null,null,null,null,{"$f":"SUM(AA40:AZ40)","v":737767.5},null,null,null,null,null,null,null,null,null,null,null,null,null,null,null,null,null,null,null,null,null,null,{"$f":"SUM(BY42-BW40)","v":1238996.6900000004}]
[null,"Всего консолидиров.",{"$f":"SUM(C38)+C40","v":51114},{"$f":"SUM(D38)+D40","v":349389},{"$f":"SUM(E38)+E40","v":7429},{"$f":"SUM(F38)+F40","v":27387},{"$f":"SUM(G38)+G40","v":15893},7797,167,4302,3111,{"$f":"SUM(L38)+L40","v":24300},121,42,6100,615,{"$f":"SUM(Q38)+Q40","v":1369},165,3,4020,1092,453302,1205.4000000000001,30774.300000000007,628.70000000000005,32608.399999999998,38930.9,26308.7,281764.8,{"$f":"SUM(AD38)+AD40","v":317.39999999999998},{"$f":"SUM(AE38)+AE40","v":888},{"$f":"SUM(AF38)+AF40","v":5246.8},{"$f":"SUM(AG38)+AG40","v":276.10000000000002},{"$f":"SUM(AH38)+AH40","v":92310.2},282543,547.20000000000005,263.10000000000002,0.4,276.10000000000002,3.3,779.3,0,770.6,55.9,0,7.6,151.4,1741.5,119.9,{"$f":"SUM(AX38)+AX40","v":1770.6},5363.4,{"$f":"SUM(AZ38)+AZ40","v":13},{"$f":"SUM(BA38)+BA40","v":0},{"$f":"SUM(BB38)+BB40","v":12637.09},{"$f":"SUM(BC38)+BC40","v":1238996.6900000002},{"$f":"SUM(BD38)+BD40","v":-3.907985046680551E-13},63357.259999999995,18248.099999999999,{"$f":"SUM(BG38)+BG40","v":1770.6000000000001},{"$f":"SUM(BH38)+BH40","v":2213.2999999999997},2681.6999999999994,2079.4,{"$f":"SUM(BK38)+BK40","v":51545.840869000262},46174.759130999737,{"$f":"SUM(BM38)+BM40","v":1528},839357.09000000032,{"$f":"SUM(BO38)+BO40","v":14595.100000000002},125401.65000000002,779.3,19939.200000000004,{"$f":"SUM(BS38)+BS40","v":1398.2},{"$f":"SUM(BT38)+BT40","v":0},534,4603.09,99.999999999999972,42690.1,1238996.6900000004,{"$f":"SUM(BZ41+BW40)","v":1238996.6900000004}]
[null,{"$f":"ROUND(D42*0.1,0)","v":34939},null,47474.400000000001,{"$f":"V40-D44","v":87274.244987532147},{"$f":"E43*0.5","v":43637.122493766074},{"$f":"E43*0.05","v":4363.7122493766074},null,109260.9,null,247054.6,"дот",null,null,null,null,null,null,null,null,null,{"$f":"V42-D44","v":151387.40000000002},null,null,null,null,null,null,null,null,null,null,null,null,null,null,null,null,null,null,null,null,null,null,null,null,null,null,null,null,null,null,null,"дотации",{"$f":"AA40","v":38930.9},null,{"$f":"SUM(BE40:BH40)","v":51178.259999999995},null,null,null,null,null,null,null,null,null,null,null,null,null,null,null,null,null,null,null,{"$f":"SUM(BE42:BT42)","v":1191069.5000000002},{"$f":"BY42-BU42-BV42-BW42-BX42-BY43","v":0},null,null,null,null,{"$f":"BL38-BL26","v":11011.964143467638}]
[null,{"$f":"B43-D38","v":11044.844987532095},{"$f":"C38-C26","v":33414},{"$f":"D42-D43","v":301914.59999999998},null,null,null,null,{"$f":"V42+D43-D38-D40","v":151387.40000000002},null,16704.599999999999,"ден",null,null,"неналоговые",null,null,null,null,{"$f":"SUM(O42:U42)","v":13364},null,{"$f":"V42-D45","v":156321.29999999999},null,17561.5,{"$f":"X44-Y2","v":-13841.499999999996},null,null,null,null,null,null,null,null,null,null,null,null,null,null,null,null,null,null,null,null,null,null,null,null,null,null,null,null,"субсидии",{"$f":"SUM(AB40:AC40)","v":308073.5},null,{"$f":"SUM(BE38:BG38)","v":34411},{"$f":"SUM(BE45:BH45)","v":85589.28},null,null,null,null,null,null,null,null,null,null,null,null,null,null,null,null,null,null,{"$f":"BY42-BC45-BU42-BV42-BX42+AE40-AH40-AO40-BW42","v":708104.90000000049},14620.594987532124]
[null,null,null,{"$f":"ROUND(D42*0.85,1)","v":296980.7},null,null,{"$f":"D42*0.15","v":52408.35},null,{"$f":"I43-I44","v":-42126.500000000029},{"$f":"($J$42-$J$26*2)*0.3+$J$26","v":1373.68},{"$f":"K43-K44","v":230350},"допнорм",null,null,null,null,11500,11500,1455,{"$f":"SUM(R45:S45)","v":12955},null,286292,null,null,null,null,null,null,null,null,null,null,null,null,null,null,null,null,null,null,null,null,null,null,null,null,null,null,null,null,null,null,null,"субвенции",{"$f":"SUM(AD40:AZ40)","v":390763.1},null,{"$f":"SUM(BE47:BE53)","v":63357.279999999992},{"$f":"SUM(BF47:BF53)","v":18248.099999999999},1770.6,2213.3000000000002,2681.7,2079.4,{"$f":"SUM(BK47:BK54)","v":51545.840869000262},{"$f":"SUM(BL47:BL54)","v":46174.759130999737},1528,839357.09,14595.1,125401.65,779.3,19939.199999999997,1398.2,0,0,0,0,0,{"$f":"SUM(BE45:BX45)","v":1191069.5199999998},1074481.1870099995]
[null,null,null,null,null,null,null,null,null,{"$f":"($J$42-$J$26*2)*0.5+$J$26","v":2151},null,null,null,null,null,null,null,null,null,{"$f":"T45-T44","v":-409},null,{"$f":"V45-V42","v":-167010},null,null,null,null,null,null,null,null,null,null,null,null,null,null,null,null,null,null,null,null,null,null,null,null,null,null,null,null,null,null,null,"иные ",{"$f":"BA40","v":0},null,{"$f":"BE42-BE45","v":-1.9999999996798579E-2},{"$f":"BF42-BF45","v":0},{"$f":"BG42-BG45","v":0},0,0,0,0,{"$f":"BL42-BL45","v":0},{"$f":"BM42-BM45","v":0},0,{"$f":"BO42-BO45","v":0},{"$f":"BP42-BP45","v":0},0,0,0,0,null,null,null,null,-1.9999999996798579E-2]
[null,null,null,{"$f":"29185-D38","v":5290.8449875320948},null,null,null,null,null,{"$f":"J46-J45","v":777.31999999999994},null,null,null,null,null,null,null,null,null,null,null,null,null,22562.000000000004,4561.8,28916.700000000004,null,null,null,null,null,null,null,null,null,null,null,null,null,null,null,null,null,null,null,null,null,null,null,null,null,null,null,"итого из РТ",{"$f":"SUM(BC43:BC46)","v":737767.5},"имущ р",465.6,null,null,null,null,null,null,null,null,22121.79,253,943,null,null,null,null,null,null,null,null,23783.39,23204.1,{"$f":"BZ47-BY47-BY48","v":-7482.420000000001}]
[null,null,null,null,null,null,null,null,null,null,null,null,null,null,null,null,null,null,null,null,null,null,null,{"$f":"X38-X47","v":8212.3000000000029},-3933.1000000000004,{"$f":"Z38-Z47","v":3691.6999999999935},null,null,null,null,null,null,null,null,null,null,null,null,null,null,null,null,null,null,null,null,null,null,null,null,null,null,null,null,{"$f":"D44","v":301914.59999999998},"имущ с",2191.08,null,null,null,null,null,null,null,null,null,null,4712.05,null,null,null,null,null,null,null,null,{"$f":"SUM(BE48:BX48)","v":6903.13},{"$f":"BY47+BY48","v":30686.52},null,null,null,null,{"$f":"BZ47-BZ48","v":-7482.4200000000019}]
[null,null,null,{"$f":"D38-D26","v":4696.4550124679045},null,null,null,null,null,null,null,null,null,null,null,null,null,null,null,null,null,null,null,null,null,null,null,null,null,null,null,null,null,null,null,null,null,null,null,null,null,null,null,null,null,null,null,null,null,null,null,null,null,"всего",{"$f":"SUM(BC47:BC48)","v":1039682.1},"экол р",4.3,null,null,null,null,null,null,null,null,711,12.5,34.4,null,null,null,null,null,null,null,null,{"$f":"SUM(BE49:BX49)","v":762.19999999999993},774.6,{"$f":"BZ49-BY49-BY50","v":9.0594198809412774E-14}]
[null,null,null,null,null,null,null,null,null,null,null,null,null,null,null,null,null,null,null,null,null,null,null,null,null,null,null,null,null,null,null,null,null,null,null,null,null,null,null,null,null,null,null,null,null,null,null,null,null,null,null,null,null,null,{"$f":"V43","v":151387.40000000002},"экол с",12.4,null,null,null,null,null,null,null,null,null,null,null,null,null,null,null,null,null,null,null,12.4,{"$f":"SUM(BY49:BY50)","v":774.59999999999991},null,null,null,null,{"$f":"BZ49-BZ50","v":0}]
[null,null,"2018год",316496,null,null,null,null,null,null,null,null,null,null,null,null,null,null,null,null,null,null,null,null,null,null,null,null,null,null,null,null,null,null,null,null,null,null,null,null,null,null,null,null,null,null,null,null,null,null,null,null,null,"конс",{"$f":"SUM(BC49:BC50)","v":1191069.5},"ку",null,null,null,null,null,null,null,null,null,null,null,null,null,null,null,null,null,null,null,null,0,{"$f":"BY52+BZ47+BZ49","v":794029.39999999979}]
[null,null,null,{"$f":"D51/302000","v":1.048},null,null,null,null,null,null,null,null,null,null,null,null,null,null,null,null,null,null,null,null,null,null,null,null,null,null,null,null,null,null,null,null,null,null,null,null,null,null,null,null,null,null,null,null,null,null,{"$f":"BB52+AD40+AE40","v":801511.8},null,{"$f":"BB52-BY52","v":30255.700000000186},{"$f":"BC43+BC44+BC46+V42","v":800306.4},"собственные+ дотации, субсидии",null,{"$f":"54938.2+5845.7-100","v":60683.899999999994},18248.099999999999,null,null,null,{"$f":"1979.4+100","v":2079.4},{"$f":"24300+367.9","v":24667.9},71039.899999999994,1528,436424.3,14329.6,119712.2,0,{"$f":"8720.8+11218.4","v":19939.199999999997},1398.2,null,null,null,null,{"$f":"SUM(Z41:BB41)","v":0},770050.69999999984,{"$f":"BY52+BZ48+BZ50-V42-BC43-BC44","v":1205.4199999998091}]
[null,null,null,null,null,null,null,null,null,null,null,null,null,null,null,null,null,null,null,null,null,null,null,null,null,null,null,null,null,null,null,null,null,null,null,null,null,null,null,null,null,null,null,null,null,null,null,null,null,null,null,null,{"$f":"BB53-BY53","v":1205.3999999999651},{"$f":"BC45","v":390763.1},"субвенции+иные",null,null,null,{"$f":"AX40","v":1770.6},{"$f":"AJ40+AK40+AM40+AG40+AQ40+AN40+AZ40+AR40+AL40+AT40","v":2213.3000000000002},{"$f":"AY40","v":2681.7},{"$f":"AP40","v":0},{"$f":"AU40+AV40+AW40","v":2012.8000000000002},null,null,{"$f":"AI40+AF40+AH40","v":380100},null,{"$f":"BA40","v":0},{"$f":"AO42","v":779.3},null,null,null,null,null,null,null,{"$f":"SUM(BD53:BX53)","v":389557.7},{"$f":"BY53-BC45-BC46","v":-1205.3999999999651}]
[null,null,null,null,null,null,null,null,null,null,null,null,null,null,null,null,null,null,null,null,null,null,null,null,null,null,null,null,null,null,null,null,null,null,null,null,null,null,null,null,null,null,null,null,null,null,null,null,null,null,null,null,null,{"$f":"SUM(BB52:BB53)","v":1191069.5},"итого",null,null,null,null,null,null,null,24865.140869000261,-24865.140869000261,null,null,null,null,null,null,null,null,null,null,null,null,{"$f":"BZ48+BZ49","v":31461.119999999999}]
[]
[null,null,null,null,null,null,null,null,null,null,null,null,null,null,null,null,null,null,null,null,null,null,null,null,null,null,null,null,null,null,null,null,null,null,null,null,null,null,null,null,null,null,null,null,null,null,null,null,null,null,null,null,null,null,null,null,{"$f":"54938.2/53351.3","v":1.029744354870453},{"$f":"18248.1/17705.5","v":1.0306458445115925},null,null,null,null,{"$f":"71039.9/70340.6","v":1.0099416268840469},{"$f":"71039.9/70340.6","v":1.0099416268840469}]
[]
[null,null,null,null,null,null,null,null,null,null,null,null,null,null,null,null,null,null,null,null,null,null,null,null,null,null,null,null,null,null,null,null,null,null,null,null,null,null,null,null,null,null,null,null,null,null,null,null,null,null,null,null,null,null,null,null,1586.8999999999942,542.59999999999854,0,0,0,75.700000000000045,2714.2000000000007,699.29999999998836,0,4515.7999999999884,528,937.59999999999127,0,335.39999999999782,0,0,0,0,0,0,11935.499999999884]
[null,null,null,null,null,null,null,null,null,null,null,null,null,null,null,null,null,null,null,null,null,null,null,null,null,null,null,null,null,null,null,null,null,null,null,null,null,null,null,null,null,null,null,null,null,null,null,null,null,null,null,null,null,null,null,null,0,0,50.199999999999818,-102.98000000000002,28.899999999999636,0,0,0,0,173.89999999996508,0,0,29.399999999999977,0,0,0,0,0,0,0,179.41999999992549]
[]
[null,null,null,null,null,null,null,null,null,null,null,null,null,null,null,null,null,null,null,null,null,null,null,null,null,null,null,null,null,null,null,null,null,null,null,null,null,null,null,null,null,null,null,null,null,null,null,null,null,null,null,null,null,null,"село",null,817.11999999999171,184.5,0,0,28.900000000000091,0,42.94086900025286,101.8641434676465,0,0,0,558.30000000000018,0,0,0,0,0,0,0,2000,3733.6250124678772]
[null,null,null,null,null,null,null,null,null,null,null,null,null,null,null,null,null,null,null,null,null,null,null,null,null,null,null,null,null,null,null,null,null,null,null,null,null,null,null,null,null,null,null,null,null,null,null,null,null,null,null,null,null,null,null,null,null,null,null,null,null,null,null,null,null,null,null,{"$f":"BP58-BP61","v":379.29999999999109}]

{"sheet":"плрег20","index":29,"n_rows":59,"n_cols":110,"rows_kept":59,"cut":false,"hidden":true,"merged":[[3,74,5,74],[3,75,5,75],[3,76,5,76],[3,82,3,89],[4,12,5,12],[4,13,5,13],[4,14,4,15],[4,24,5,24],[4,25,5,25],[4,82,5,82],[4,83,4,89],[3,70,5,70],[3,71,5,71],[3,72,5,72],[3,73,5,73],[4,18,5,18],[0,55,0,57],[3,22,3,25],[3,45,5,45],[3,68,5,68],[3,69,5,69],[4,22,5,22],[4,23,5,23],[3,66,5,66],[3,65,5,65],[3,55,5,55],[3,47,5,47],[3,48,5,48],[3,36,5,36],[3,37,5,37],[3,38,5,38],[3,40,5,40],[43,14,43,18],[3,26,5,26],[3,27,5,27],[3,28,5,28],[4,17,5,17],[4,20,5,20],[4,21,5,21],[4,16,5,16],[3,0,5,0],[3,1,5,1],[3,2,5,2],[4,8,5,8],[4,9,5,9],[4,3,5,3],[4,4,5,4],[4,5,5,5],[4,6,5,6],[4,7,5,7],[3,67,5,67],[3,49,5,49],[3,50,5,50],[3,51,5,51],[3,56,5,56],[3,53,5,53],[3,52,5,52],[3,62,5,62],[3,63,5,63],[3,64,5,64],[3,57,5,57],[3,58,5,58],[3,59,5,59],[3,60,5,60],[3,61,5,61],[4,10,5,10],[4,11,5,11],[3,43,5,43],[3,44,5,44],[3,46,5,46],[3,34,5,34],[3,35,5,35],[3,39,5,39],[3,41,5,41],[3,42,5,42],[3,29,5,29],[3,30,5,30],[3,31,5,31],[3,32,5,32],[3,33,5,33],[4,19,5,19]]}
[{"$f":"BZ10","v":0},"допкод МФ РТ",null,"План регулирования на",null,null,2020,"год",null,null,null,null,null,null,null,null,null,null,null,null,null,null,null,null,{"$f":"AB40-Y2","v":-6635.7999999999993},null,13200,13110,13120,13310,13313,13321,13322,13300,13300,13300,13300,13300,13300,13300,13300,13300,13300,13300,13300,13305,13300,13300,13300]
[null,"допкод МР",null,null,null,null,null,null,null,null,null,null,null,null,null,null,null,null,null,null,null,null,null,{"$f":"SUM(W38:X38)","v":33130.100000000006},{"$f":"Z38-W38","v":32724.399999999998},null,"13200","13110","13120",13310,13313,13321,13322,"00935","00936","00937","00938","00939","00940","00941","00942","00943","00944","00945","00946","13305","00948","00949","00950","00920","00921","00929","00922"]
[null,null,null,null,null,null,null,null,null,null,null,null,null,null,null,null,null,null,null,null,null,null,null,null,null,null,null,null,null,null,null,null,null,null,null,null,null,null,null,null,null,null,null,null,null,null,null,null,null,null,null,null,null,null,null,null,null,null,null,null,null,null,null,null,null,null,null,null,null,null,null,null,null,null,null,null,null,null,null,null,null,null,null,350,null,null,null,null,null,null,null,null,null,"заявки техпаспорт",null,null,null,null,null,"распределение земельного",null,null,null,null,"распределение имущественного"]
["Код администратора","Наименование поселений","население на 01.01.2017",null,null,null,null,null,null,null,null,null,null,null,null,null,null,null,null,null,null,null,"Районный фонд финансовой поддержки поселений",null,null,null,"Дотации бюджетам МР","Субсидии из РФС соцрасходов","Субсидии(соцрасходы Образования)","Субвенция исходя из количества жителей (СП)","Субвенция исходя из количества жителей (ГП)","Субвенции ИМО образовательных учрежд","Субвенции Образованию","Субвенции детсадам","Субвенции школам","Субвенции по комиисии несоверш","Субвенции по адм.практике","Субвенция протоколы","Субвенции молодежная политика","Субвенция ведение регистра, ","Субвенции на проведение протовоэпид мероприятий","Субвенции опоп","Субвенции на опеку","Субвенции архиву","Субвенция (свободный)","Субвенция (земельный)","Субвенции на скотомогильники","Субвенции на биотермические ямы","Субвенции на отстрел","Субвенции ЗАГСам","Субвенции по первичному воинскому учету","Субвенции по составлению (изменению) списков кандидатов в присяжные заседатели федеральных судов","Иные трансферты на книжный фонд","Субвенции из  нижстоящ.бюджетов (ксп+зем+кржф)","ВСЕГО ","Дефицит","Общегосударственные вопросы","ЦБ","ЗАГС","Полномочия","Национальная оборона","Национальная безопасность","Национальная экономика","ЖКХ","Охрана окружающей среды","Образование","Молодежная политика","Культура","Здравоохранение","Социальная политика","Физическая культура и спорт","Обслуживание муниципального долга","МТ (по соглашению-ксп)","МТ (по соглашению-ЖКХ)","МТ (здравоохранение)","МТ (по соглашению-культура)","Всего расходов",null,null,null,null,null,"РАСХОДЫ  ЖКХ НА 1 ЖИТЕЛЯ ПОСЕЛЕНИЯ,руб",null,null,null,null,null,null,null,null,null,null,null,null,null,null,null,null,"06033.10","06043.10","06033.13","06043.13"]
[null,null,null,"НДФЛ","имущество фл ","земельный налог ","ед.налог на вм.доход","налог  взим по упрощ системена вм.доход","патент","сельхозналог","госпошлина (суды)","Акциз","добыча","налог на игорный бизнес","аренда",null,"продажа земли","прочие доходы","прибыль МБП","штрафы","негативное воздействие","ВСЕГО","дотация исходя из количества жителей","дотация по обеспеченности","дотация для сбалансированности","итого",null,null,null,null,null,null,null,null,null,null,null,null,null,null,null,null,null,null,null,null,null,null,null,null,null,null,null,null,"доходов",null,null,null,null,null,null,null,null,null,null,null,null,null,null,null,null,null,null,null,null,null,null,"район",null,null,null,null,"всего",null,null,null,null,null,null,null,"дефицит",null,null,"дороги","скважины","кладбища","итого",null,null,"юр.лица","физ.лица","юр.лица","физ.лица","итого","юр.лица","физ.лица","итого"]
[null,null,null,null,null,null,null,null,null,null,null,null,null,null,"земли ","имущества",null,null,null,null,null,null,null,null,null,null,null,null,null,null,null,null,null,null,null,null,null,null,null,null,null,null,null,null,null,null,null,null,null,null,null,null,null,null,null,null,null,null,null,null,null,null,null,null,null,null,null,null,null,null,null,null,null,null,null,null,null,null,"доля","исполкомы","код администартора","совет",null,"жкх","кржф","дороги","водители","дополнительно в счет отриц трансфертов","дорфонд","башни"]
[null,null,null,null,null,null,null,null,null,null,null,null,null,null,null,null,null,null,null,null,null,null,null,null,null,null,null,null,null,null,null,null,null,null,null,null,null,null,null,null,null,null,null,null,null,null,null,null,null,null,null,null,null,null,null,null,"01","01","01","01","02","03","04","05","06","07","07","08","09","10","11","13",14,14,14,14]
[1,"Байлянгарское сельское поселение",1092,{"$f":"DF8-CO8","v":95.826099375140117},164,456,0,0,0,0,0,0,0,0,0,40,0,0,0,0,0,{"$f":"SUM(D8:U8)","v":755.82609937514007},10.4,801.7,21.7,{"$f":"SUM(W8:Y8)","v":833.80000000000007},null,null,null,null,null,null,null,null,null,null,null,null,null,null,null,null,null,null,null,null,null,null,null,0,90.6,null,null,null,{"$f":"SUM(V8:BB8)-Z8","v":1680.2260993751397},-9.2370555648813024E-14,768,196,0,0,{"$f":"AY8","v":90.6},0,285.59425674867225,207.40184262646767,null,null,null,118.43,0,0,0,0,11,null,3.2,null,{"$f":"SUM(BE8:BX8)","v":1680.2260993751399},{"$f":"BC40","v":1151082.3923338004},{"$f":"C8/$C$38","v":2.1364009860312245E-2},1,621,2,{"$f":"SUM(CF8:CL8)","v":435},{"$f":"ROUND(C8*$CF$3/1000,0)","v":382},null,null,53,null,null,{"$f":"S8","v":0},{"$f":"BC8-BY8","v":0},{"$f":"BL8-CE8","v":-227.59815737353233},-2.6099375140120173E-2,162000,null,null,{"$f":"SUM(CP8:CR8)","v":162000},null,{"$f":"BC8-BY8","v":0},50,{"$f":"F8-CV8","v":406},null,null,{"$f":"SUM(CV8:CY8)","v":456},{"$f":"E8","v":164},null,{"$f":"SUM(DA8:DB8)","v":164},null,null,95.8]
[2,"Березнякское сельское поселение",728,{"$f":"DF9-CO9","v":84.469929434022106},100,264,0,0,0,0.5,0,0,0,0,0,17,0,0,0,0,0,465.96992943402211,6.9,818.6,19.600000000000001,845.1,null,null,null,null,null,null,null,null,null,null,null,null,null,null,null,null,null,null,null,null,null,null,null,0,57.8,null,null,null,1368.8699294340222,-9.2370555648813024E-14,761,158,0,0,57.8,0,91.830625887705366,290.03930354631694,null,null,null,0,0,0,0,0,8,null,2.2000000000000002,null,1368.8699294340222,{"$f":"BY40","v":1151082.3923338014},1.4242673240208161E-2,13,622,3,{"$f":"SUM(CF9:CL9)","v":378},255,null,null,{"$f":"78+45","v":123},null,null,0,0,-87.960696453683056,3.0070565977894148E-2,null,null,null,{"$f":"SUM(CP9:CR9)","v":0},null,{"$f":"BC9-BY9","v":0},119,{"$f":"F9-CV9","v":145},null,null,{"$f":"SUM(CV9:CY9)","v":264},{"$f":"E9","v":100},null,100,null,null,84.5]
[3,"Большекукморское сельское поселение",2815,281.6843399272804,547,1266,0,0,0,19,0,0,0,0,0,0,0,0,0,0,0,2113.6843399272802,26.7,615.29999999999995,29.6,671.6,null,null,null,null,null,null,null,null,null,null,null,null,null,null,null,null,null,null,null,null,null,null,null,0,331.1,null,null,null,3116.3843399272801,-7.1054273576010019E-14,947,552,0,0,331.1,0,73.646343533704282,921.4379963935761,null,null,null,258.10000000000002,0,0,0,0,25,null,8.1,null,3116.3843399272801,{"$f":"BZ8-BZ9","v":0},5.5072974136244471E-2,12,623,4,985,985,null,null,null,null,null,0,0,-63.5620036064239,1.5660072719583695E-2,300000,null,null,300000,null,0,451,815,null,null,1266,547,null,547,null,null,281.7]
[4,"Большесардекское сельское поселение",3438,264.80620399240507,349,780,0,0,0,162,0,0,0,0,0,11,0,0,0,0,0,1566.806203992405,32.6,851.5,17.2,901.30000000000007,null,null,null,null,null,null,null,null,null,null,null,null,null,null,null,null,null,null,null,null,null,null,null,0,268.60000000000002,null,null,null,2736.7062039924044,-2.4868995751603507E-13,873,329,0,0,268.60000000000002,0,422.27944577624692,793.03675821615741,null,null,null,15.59,0,0,0,0,25,null,10.199999999999999,null,2736.7062039924044,{"$f":"BC11-BY11","v":0},6.726141565911492E-2,5,624,6,1203,1203,null,null,null,null,null,0,0,-409.96324178384259,-6.2039924050623085E-3,210000,40000,null,250000,null,0,231,549,null,null,780,349,null,349,null,null,264.8]
[5,"Важашурское сельское поселение",920,81.216606554908552,62,306,0,0,0,0,0,0,0,0,0,1,0,0,0,0,0,450.21660655490854,8.6999999999999993,972.6,20.6,1001.9000000000001,null,null,null,null,null,null,null,null,null,null,null,null,null,null,null,null,null,null,null,null,null,null,null,0,79.699999999999989,null,null,null,1531.816606554908,-2.2737367544323206E-13,736,159,0,0,79.699999999999989,0,94.154173077383263,231.14243347752463,null,null,null,219.92,0,0,0,0,9,null,2.9,null,1531.8166065549083,0,1.7998982666197129E-2,7,625,8,322,322,null,null,null,null,null,0,0,-90.857566522475366,-1.6606554908548787E-2,194000,null,null,194000,null,0,78,228,null,null,306,62,null,62,null,null,81.2]
[6,"Каенсарское сельское поселение",360,72.189212034363848,36,71,0,0,0,6.5,0,0,0,0,0,0,0,0,0,0,0,185.68921203436383,3.4,949.7,20,973.1,null,null,null,null,null,null,null,null,null,null,null,null,null,null,null,null,null,null,null,null,null,null,null,0,31.6,null,null,null,1190.3892120343639,-1.8118839761882555E-13,772,149,0,0,31.6,0,99.609457783583593,41.419754250780194,null,null,null,90.66,0,0,0,0,5,null,1.1000000000000001,null,1190.3892120343639,0,7.0430801737293106E-3,15,626,16,139.6,126,null,null,13.6,null,null,0,0,-98.180245749219807,1.0787965636154695E-2,54000,null,null,54000,null,0,16,55,null,null,71,36,null,36,null,null,72.2]
[7,"Каркаусское сельское поселение",898,112.66470328646297,80,378,0,0,0,6.5,0,0,0,0,9,1,0,0,0,0,0,587.16470328646301,8.5,1130.8,26.9,1166.2,null,null,null,null,null,null,null,null,null,null,null,null,null,null,null,null,null,null,null,null,null,null,null,0,68.399999999999991,null,null,null,1821.7647032864631,0,762,219,0,0,68.399999999999991,0,138.20054589040808,179.01415739605488,null,null,null,443.45,0,0,0,0,9,null,2.7,null,1821.7647032864634,0,1.7568572211135891E-2,18,627,17,314,314,null,null,null,null,null,0,0,-134.98584260394512,3.5296713537036339E-2,null,null,null,0,null,0,110,268,null,null,378,80,null,80,null,null,112.7]
[8,"Кошкинское сельское поселение",1017,171.14469544579842,85,393,0,0,0,20.5,0,0,0,0,19,1,0,0,0,0,0,689.64469544579845,9.6,688.6,18.8,717,null,null,null,null,null,null,null,null,null,null,null,null,null,null,null,null,null,null,null,null,null,null,null,0,93,null,null,null,1499.6446954457988,1.1368683772161603E-13,775,260,0,0,93,0,32.327613073779666,327.31708237201912,null,null,null,0,0,0,0,0,9,null,3,null,1499.6446954457988,0,1.9896701490785304E-2,19,628,20,356,356,null,null,null,null,null,0,0,-28.682917627980885,-4.4695445798424771E-2,null,null,null,0,null,0,130,263,null,null,393,85,null,85,null,null,171.1]
[9,"Лельвижское сельское поселение",515,168.97282354001095,37,160,0,0,0,0,0,0,0,0,0,1,0,0,0,0,0,366.97282354001095,4.9000000000000004,716.8,17.399999999999999,739.09999999999991,null,null,null,null,null,null,null,null,null,null,null,null,null,null,null,null,null,null,null,null,null,null,null,0,46.2,null,null,null,1152.2728235400111,4.6185277824406512E-14,763,137,0,0,46.2,0,83.849746410116012,97.993077129894615,null,null,null,16.63,0,0,0,0,6,null,1.6,null,1152.2728235400107,0,1.0075517470751654E-2,26,629,27,180,180,null,null,null,null,null,0,0,-82.006922870105385,2.7176459989050272E-2,60000,15000,null,75000,null,0,26,134,null,null,160,37,null,37,null,null,169]
[10,"Лубянское сельское поселение",1578,394.29905374303718,71,234,0,0,0,0,0,0,0,0,0,11,0,0,0,0,0,710.29905374303712,15,2867,58.7,2940.7,null,null,null,null,null,null,null,null,null,null,null,null,null,null,null,null,null,null,null,null,null,null,null,0,87.300000000000011,null,null,null,3738.2990537430369,5.4001247917767614E-13,825,241,0,0,87.300000000000011,0,1048.0208063355947,1495.7582474074429,null,null,null,15.62,0,0,0,0,21,null,4.5999999999999996,null,3738.2990537430373,0,3.0872168094846813E-2,28,630,29,2518,552,850,{"$f":"855+70","v":925},191,{"$f":"351-351","v":0},null,0,0,-1022.2417525925571,9.4625696283401339E-4,null,null,null,0,null,0,85,149,null,null,234,71,null,71,null,null,394.3]
[11,"Мамаширское сельское поселение",809,63.236844463463243,66,237,0,0,0,19,0,0,0,0,0,1,0,0,0,0,0,386.23684446346323,7.7,1060.0999999999999,22.1,1089.8999999999999,null,null,null,null,null,null,null,null,null,null,null,null,null,null,null,null,null,null,null,null,null,null,null,0,61.4,null,null,null,1537.5368444634635,-1.3500311979441904E-13,743,165,0,0,61.4,0,132.44218981164107,193.86465465182243,null,null,null,230.43,0,0,0,0,9,null,2.4,null,1537.5368444634635,0,1.5827366279297258E-2,184,631,185,323,283,null,null,40,null,null,0,0,-129.13534534817757,-3.6844463463239663E-2,null,null,null,0,null,0,46,191,null,null,237,66,null,66,null,null,63.2]
[12,"Манзарасское сельское поселение",2081,245.58456999517202,345,541,0,0,0,0,0,0,0,0,0,1,0,0,0,0,0,1132.5845699951719,19.7,1109.5999999999999,26.5,1155.8,null,null,null,null,null,null,null,null,null,null,null,null,null,null,null,null,null,null,null,null,null,null,null,0,149.30000000000001,null,null,null,2437.6845699951718,0,862,236,0,0,149.30000000000001,0,41.015659087357974,997.50891090781386,null,null,null,128.96,0,0,0,0,17,null,5.9,null,2437.6845699951718,0,4.0712916226474154E-2,186,632,187,1028,728,null,null,150,150,null,0,0,-30.491089092186144,1.5430004827976518E-2,null,null,null,0,null,0,130,411,null,null,541,345,null,345,null,null,245.6]
[13,"Нижнеискубашское сельское поселение",993,74.461349044691588,64,333,0,0,0,9,0,0,0,0,0,1,0,0,0,0,0,481.46134904469159,9.4,956.1,20.2,985.7,null,null,null,null,null,null,null,null,null,null,null,null,null,null,null,null,null,null,null,null,null,null,null,0,80.099999999999994,null,null,null,1547.2613490446913,1.1368683772161603E-13,805,209,0,0,80.099999999999994,0,28.084613857846097,402.27673518684571,null,null,null,10.8,0,0,0,0,9,null,3,null,1547.2613490446918,0,1.9427162812536682E-2,188,633,189,426,348,null,null,78,null,null,0,0,-23.723264813154287,3.8650955308412449E-2,null,null,null,0,null,0,77,256,null,null,333,64,null,64,null,null,74.5]
[14,"Нижнерусское сельское поселение",761,56.261832702467288,61,191,0,0,0,0,0,0,0,0,0,11,0,0,0,0,0,319.2618327024673,7.2,1141.4000000000001,22.9,1171.5000000000002,null,null,null,null,null,null,null,null,null,null,null,null,null,null,null,null,null,null,null,null,null,null,null,0,60.5,null,null,null,1551.2618327024672,-3.1974423109204508E-13,762,233,0,0,60.5,0,144.86811608687515,245.0837166155921,null,null,null,95.41,0,0,0,0,8,null,2.4,null,1551.2618327024672,0,1.4888288922800016E-2,190,634,191,386,266,null,20,100,null,null,0,0,-140.9162833844079,3.8167297532709199E-2,null,null,null,0,null,0,26,165,null,null,191,61,null,61,null,null,56.3]
[15,"Ныртинское сельское поселение",863,85.597312439910723,47,341,0,0,0,8,0,0,0,0,0,10,0,0,0,0,0,491.59731243991075,8.1999999999999993,849.3,19.399999999999999,876.9,null,null,null,null,null,null,null,null,null,null,null,null,null,null,null,null,null,null,null,null,null,null,null,0,66.199999999999989,null,null,null,1434.6973124399105,0,775,177,0,0,66.199999999999989,0,52.633395035747512,318.12391740416302,null,null,null,33.94,0,0,0,0,9,null,2.8,null,1434.6973124399105,0,1.6883828305356653E-2,192,635,193,367,302,null,null,40,25,null,0,0,-48.876082595836976,2.6875600892708462E-3,null,null,null,0,null,0,90,251,null,null,341,47,null,47,null,null,85.6]
[16,"Нырьинское сельское поселение",1398,343.66823271147604,97,387,0,0,0,1010.5,0,0,0,0,0,14,0,0,0,0,0,1852.1682327114761,13.3,38.799999999999997,25.7,77.8,null,null,null,null,null,null,null,null,null,null,null,null,null,null,null,null,null,null,null,null,null,null,null,0,130.69999999999999,null,null,null,2060.6682327114759,0,746,207,0,0,130.69999999999999,0,129.91659504025205,414.60163767122418,null,null,null,16.149999999999977,0,0,0,0,12,null,4.3,400,2060.6682327114759,0,2.7350628007982158E-2,194,636,195,539,489,null,null,50,null,null,0,0,-124.39836232877582,3.176728852395172E-2,156000,null,null,156000,null,0,48,339,null,null,387,97,null,97,null,null,343.7]
[17,"Олуязское сельское поселение",1503,405.74520997354983,184,504,0,0,0,17.5,0,0,0,0,0,1,0,0,0,0,0,1112.2452099735499,14.2,956.7,28.4,999.30000000000007,null,null,null,null,null,null,null,null,null,null,null,null,null,null,null,null,null,null,null,null,null,null,null,0,107,null,null,null,2218.5452099735498,1.3500311979441904E-13,851,179,0,0,107,0,0,660.7652099735501,null,null,null,402.38,0,0,0,0,14,null,4.4000000000000004,null,2218.5452099735503,0,2.9404859725319872E-2,196,637,197,660.8,526,null,null,null,134.80000000000001,null,0,0,-3.4790026449854849E-2,-4.5209973549845017E-2,144000,null,null,144000,null,0,88,416,null,null,504,184,null,184,null,null,405.7]
[18,"Ошторма-Юмьинское сельское поселение",1420,168.95824055214052,135,391,0,0,0,5.5,0,0,0,0,27,27,0,0,0,0,0,754.45824055214052,13.5,779,18.100000000000001,810.6,null,null,null,null,null,null,null,null,null,null,null,null,null,null,null,null,null,null,null,null,null,null,null,0,121.1,null,null,null,1686.1582405521403,-1.1368683772161603E-13,756,273,0,0,121.1,0,185.47968001081085,316.60856054132961,null,null,null,17.670000000000002,0,0,0,0,12,null,4.3,null,1686.1582405521403,0,2.7781038463043393E-2,200,638,199,497,497,null,null,null,null,null,0,0,-180.39143945867039,4.1759447859476495E-2,null,null,null,0,null,0,121,270,null,null,391,135,null,135,null,null,169]
[19,"поселок городского типа Кукмор",17700,19632.750461641979,4284,16604,0,0,0,207.7,0,0,0,42,2326,11,400,0,0,0,0,43507.450461641973,886.6,3769.8,88,4744.4000000000005,null,null,null,null,null,null,null,null,null,null,null,null,null,null,null,null,null,null,null,null,null,null,null,0,0,null,null,null,48251.850461641974,0,6243,0,0,0,0,0,16957.550461641978,12243.21,null,null,null,null,0,0,0,0,205,{"$f":"4388+215.09","v":4603.09},0,8000,{"$f":"SUM(BE26:BX26)","v":48251.850461641981},0,0.34628477520835776,233,639,null,18458.2,{"$f":"BL26+BV26","v":16846.3},null,null,null,{"$f":"1632.9-21","v":1611.9},null,0,0,-6214.9900000000016,4.9538358020072337E-2,null,null,null,0,null,0,null,null,10344,{"$f":"F26-CX26","v":6260},{"$f":"SUM(CV26:CY26)","v":16604},null,{"$f":"E26","v":4284},{"$f":"SUM(DB26:DB26)","v":4284},null,null,19632.8]
[20,"Починок-Кучуковское сельское поселение",1055,123.97778825702176,77,345,0,0,0,0.3,0,0,0,0,24,1,0,0,0,0,0,571.27778825702171,10,782.9,17.899999999999999,810.8,null,null,null,null,null,null,null,null,null,null,null,null,null,null,null,null,null,null,null,null,null,null,null,0,89.800000000000011,null,null,null,1471.8777882570223,9.2370555648813024E-14,802,194,0,0,89.800000000000011,0,70.918701180604131,301.85908707641767,null,null,null,0,0,0,0,0,10,null,3.3,null,1471.8777882570216,0,2.0640137731345619E-2,202,640,203,369,{"$f":"ROUND(C27*$CF$3/1000,0)","v":369},null,null,null,null,null,0,0,-67.140912923582334,2.221174297824291E-2,300000,null,30000,330000,null,0,72,273,null,null,345,77,null,{"$f":"SUM(DA27:DB27)","v":77},null,null,124]
[21,"Псякское сельское поселение",712,191.60589282924124,94,275,0,0,0,1,0,0,0,0,0,26,0,0,0,0,0,587.60589282924127,6.7,808.7,22.1,837.50000000000011,null,null,null,null,null,null,null,null,null,null,null,null,null,null,null,null,null,null,null,null,null,null,null,0,53.2,null,null,null,1478.3058928292412,2.2737367544323206E-13,751,240,0,0,53.2,0,46.875038956980532,275.39085387226049,null,null,null,101.74,0,0,0,0,8,null,2.1,null,1478.305892829241,0,1.3929647454709081E-2,204,641,205,319,249,null,null,null,70,null,0,0,-43.609146127739507,-5.8928292412474548E-3,null,null,null,0,null,0,109,166,null,null,275,94,null,94,null,null,191.6]
[22,"Сардекбашское сельское поселение",1248,157.68396603880382,111,324,0,0,0,11,0,0,0,0,13,11,0,0,0,0,0,627.68396603880387,11.8,832.8,18.3,862.89999999999986,null,null,null,null,null,null,null,null,null,null,null,null,null,null,null,null,null,null,null,null,null,null,null,0,107.7,null,null,null,1598.2839660388033,-1.3500311979441904E-13,764,251,0,0,107.7,0,210.83665151555675,230.63731452324683,null,null,null,18.41,0,0,0,0,12,null,3.7,null,1598.2839660388038,0,2.4416011268928277E-2,206,642,207,437,437,null,null,null,null,null,0,0,-206.36268547675317,1.6033961196171731E-2,156000,null,null,156000,null,0,108,216,null,null,324,111,null,111,null,null,157.69999999999999]
[23,"Село-Чуринское сельское поселение",1353,214.09276865536103,125,380,0,0,0,50,0,0,0,0,0,13,0,0,0,0,0,782.09276865536106,12.8,1126.5,26.5,1165.8,null,null,null,null,null,null,null,null,null,null,null,null,null,null,null,null,null,null,null,null,null,null,null,0,111.4,null,null,null,2059.2927686553612,1.8474111129762605E-13,770,263,0,0,111.4,0,281.55330511444976,197.29946354091155,null,null,null,420.04,0,0,0,0,12,null,4,null,2059.2927686553612,0,2.6470242986265994E-2,208,643,209,474,474,null,null,null,null,null,0,0,-276.70053645908843,7.2313446389671299E-3,300000,100000,null,400000,null,0,50,330,null,null,380,125,null,125,null,null,214.1]
[24,"Среднекуморское сельское поселение",1029,135.15564708002097,59,248,0,0,0,0,0,0,0,0,0,1,0,0,0,0,0,443.15564708002097,9.8000000000000007,1000,19.899999999999999,1029.7,null,null,null,null,null,null,null,null,null,null,null,null,null,null,null,null,null,null,null,null,null,null,null,0,105.5,null,null,null,1578.3556470800211,1.3500311979441904E-13,774,165,0,0,105.5,0,133.85652288361894,229.82912419640232,null,null,null,157.07,0,0,0,0,10,null,3.1,null,1578.3556470800211,0,2.0131470829909615E-2,213,644,214,360,360,null,null,null,null,null,0,0,-130.17087580359768,4.4352919979019134E-2,100000,null,null,100000,null,0,95,153,null,null,248,59,null,59,null,null,135.19999999999999]
[25,"Туембашское сельское поселение",700,67.567320280574762,50,190,0,0,0,18,0,0,0,0,63,5,0,0,0,0,0,393.56732028057479,6.6,944.8,21,972.4,null,null,null,null,null,null,null,null,null,null,null,null,null,null,null,null,null,null,null,null,null,null,null,0,48.1,null,null,null,1414.0673202805747,0,769,233,0,0,48.1,0,100.82174327385034,227.50557700672439,null,null,null,23.54,0,0,0,0,10,null,2.1,null,1414.0673202805747,0,1.3694878115584772E-2,215,645,216,325,245,null,null,80,null,null,0,0,-97.494422993275606,3.2679719425232179E-2,null,null,null,0,null,0,19,171,null,null,190,50,null,50,null,null,67.599999999999994]
[26,"Уркушское сельское поселение",577,67.643743811576172,27,215,0,0,0,2,0,0,0,0,0,1,0,0,0,0,0,312.6437438115762,5.5,914,19.8,939.3,null,null,null,null,null,null,null,null,null,null,null,null,null,null,null,null,null,null,null,null,null,null,null,0,48.1,null,null,null,1300.0437438115762,-4.6185277824406512E-14,722,159,0,0,48.1,0,191.13701229872225,164.46673151285407,null,null,null,4.54,0,0,0,0,9,null,1.8,null,1300.0437438115762,0,1.1288492389560589E-2,218,646,219,352,202,null,null,100,50,null,0,0,-187.53326848714593,-4.3743811576177904E-2,null,null,null,0,null,0,48,167,null,null,215,27,null,27,null,null,67.599999999999994]
[27,"Чарлинское сельское поселение",630,184.759715047459,51,226,0,0,0,6.5,0,0,0,0,0,30,0,0,0,0,0,498.259715047459,6,893.2,22.7,921.90000000000009,null,null,null,null,null,null,null,null,null,null,null,null,null,null,null,null,null,null,null,null,null,null,null,0,56.099999999999994,null,null,null,1476.2597150474589,9.2370555648813024E-14,757,304,0,0,56.099999999999994,0,23.942638432768053,229.62707661469119,null,null,null,95.59,0,0,0,0,8,null,2,null,1476.2597150474592,0,1.2325390304026294E-2,225,647,226,251,221,null,null,null,30,null,0,0,-21.372923385308809,4.0284952541014718E-2,null,null,null,0,null,0,86,140,null,null,226,51,null,51,null,null,184.8]
[28,"Ядыгерьское сельское поселение",1023,252.33134120402752,132,368,0,0,0,520,0,0,0,0,13,19,0,0,0,0,0,1304.3313412040275,9.6999999999999993,142,20.100000000000001,171.79999999999998,null,null,null,null,null,null,null,null,null,null,null,null,null,null,null,null,null,null,null,null,null,null,null,0,82,null,null,null,1558.1313412040274,4.9737991503207013E-14,754,156,0,0,82,0,143.95890196917509,328.83243923485253,null,null,null,80.34,0,0,0,0,10,null,3,null,1558.1313412040274,0,2.0014086160347458E-2,227,648,228,468,358,null,null,null,110,null,0,0,-139.16756076514747,-3.1341204027512504E-2,60000,600000,null,660000,null,0,95,273,null,null,368,132,null,132,null,null,252.3]
[29,"Яныльское сельское поселение",1424,403.38847846069564,168,833,0,0,0,0,0,0,0,0,0,0,0,0,0,0,0,1404.3884784606958,13.5,2520,67.400000000000006,2600.9,null,null,null,null,null,null,null,null,null,null,null,null,null,null,null,null,null,null,null,null,null,null,null,0,114.19999999999999,null,null,null,4119.4884784606948,-1.8474111129762605E-13,1043,200,0,0,114.19999999999999,0,57.98765595109225,445.11082250960379,null,null,null,2238.89,0,0,0,0,16,null,4.3,null,4119.4884784606957,0,2.7859294909418162E-2,229,649,230,498,498,null,null,null,null,null,0,0,-52.889177490396207,1.1521539304339967E-2,null,null,null,0,null,0,301,532,null,null,833,168,null,168,null,null,403.4]
[30,"Ятмас-Дусаевское сельское поселение",474,38.273283675793479,18,146,0,0,0,50,0,0,0,0,48,1,0,0,0,0,0,301.27328367579349,4.4000000000000004,888.5,20.100000000000001,913,null,null,null,null,null,null,null,null,null,null,null,null,null,null,null,null,null,null,null,null,null,null,null,0,34.1,null,null,null,1248.3732836757931,-2.7355895326763857E-13,762,160,0,0,34.1,0,17.679163399723254,251.04412027607023,null,null,null,16.05,0,0,0,0,6,null,1.5,null,{"$f":"SUM(BE37:BX37)","v":1248.3732836757936},{"$f":"BC37-BY37","v":0},9.2733888954102586E-3,231,650,232,266,166,null,null,100,null,null,0,0,-14.955879723929769,2.6716324206518038E-2,76800,null,null,76800,null,0,16,130,null,null,146,18,null,18,null,null,38.299999999999997]
[null,"Итого по поселениям ",{"$f":"SUM(C8:C37)","v":51114},{"$f":"SUM(D8:D37)","v":24640.017666198852},{"$f":"SUM(E8:E37)","v":7726},{"$f":"SUM(F8:F37)","v":27387},0,0,0,2151,{"$f":"SUM(K8:K37)","v":0},{"$f":"SUM(L8:L37)","v":0},0,42,2542,268,{"$f":"SUM(Q8:Q37)","v":400},{"$f":"SUM(R8:R37)","v":0},{"$f":"SUM(S8:S37)","v":0},{"$f":"SUM(T8:T37)","v":0},0,65156.017666198859,1203.3,31926.800000000003,797.59999999999991,33927.699999999997,{"$f":"SUM(AA8:AA37)","v":0},0,0,{"$f":"SUM(AD8:AD37)","v":0},{"$f":"SUM(AE8:AE37)","v":0},{"$f":"SUM(AF8:AF37)","v":0},{"$f":"SUM(AG8:AG37)","v":0},{"$f":"SUM(AH8:AH37)","v":0},0,{"$f":"SUM(AJ8:AJ37)","v":0},{"$f":"SUM(AK8:AK37)","v":0},{"$f":"SUM(AL8:AL37)","v":0},0,0,0,0,0,0,0,0,0,0,0,0,2780.7999999999993,0,{"$f":"SUM(BA8:BA37)","v":0},0,101864.51766619887,-3.907985046680551E-13,29193,{"$f":"SUM(BF8:BF37)","v":6404},{"$f":"SUM(BG8:BG37)","v":0},{"$f":"SUM(BH8:BH37)","v":0},2780.7999999999993,0,{"$f":"SUM(BK8:BK37)","v":21321.071060066239},{"$f":"SUM(BL8:BL37)","v":23258.206606132608},{"$f":"SUM(BM8:BM37)","v":0},0,{"$f":"SUM(BO8:BO37)","v":0},{"$f":"SUM(BP8:BP37)","v":5270.35},0,0,{"$f":"SUM(BS8:BS37)","v":0},{"$f":"SUM(BT8:BT37)","v":0},534,4603.09,99.999999999999972,{"$f":"SUM(BX8:BX37)","v":8400},101864.51766619888,null,1,null,null,null,{"$f":"SUM(CE8:CE37)","v":33634.6},{"$f":"SUM(CF8:CF37)","v":28539.3},850,945,1118.5999999999999,2181.6999999999998,0,0,0,-10376.393393867391,0.28233380112214945,{"$f":"SUM(CP8:CP37)","v":2272800},755000,30000,3057800,0,0,2921,7862,10344,6260,27387,3442,4284,7726,null,null,24640.299999999992]
[]
[null,"Муниципальный район",null,{"$f":"372512-D38","v":347871.98233380116},null,null,15893,8109,167,2151,3111,25500,121,0,3558,347,969,165,3,4021,1092,{"$f":"SUM(D40:U40)","v":413078.98233380116},null,null,null,null,25478.3,26088.6,281582.40000000002,316.7,886.6,5427.7,286.60000000000002,92310.2,282543,567.6,272.5,0.42,286.60000000000002,3.4,808.9,0,799.2,55.9,0,7.9,151.4,1741.5,119.9,1829.2,2780.8,21,0,{"$f":"BU38+BW38+BV38+BX38","v":13637.09},{"$f":"SUM(V40:BB40)","v":1151082.3923338004},{"$f":"BC40-BY40","v":0},36105.259999999995,12408.5,1829.2,2301.12,0,2158.1,31597.9,23470.72233380115,1528,844229.39000000036,15144.100000000002,121106.50000000001,808.9,20288.000000000004,1398.2,0,null,null,null,{"$f":"Z38+AX38+AY38","v":36708.5},{"$f":"SUM(BE40:BX40)","v":1151082.3923338014},{"$f":"BC51-BZ38","v":1202601.32}]
[null,null,null,null,null,null,null,null,null,null,null,null,null,null,null,null,null,null,null,null,null,null,null,null,null,null,null,null,null,null,null,null,null,null,null,null,null,null,null,null,null,null,null,null,null,null,null,null,null,null,null,null,null,null,{"$f":"SUM(AA40:AZ40)","v":724366.32000000018},null,null,null,null,null,null,null,null,null,null,null,null,null,null,null,null,null,null,null,null,null,null,{"$f":"SUM(BY42-BW40)","v":1252946.9100000001}]
[null,"Всего консолидиров.",{"$f":"SUM(C38)+C40","v":51114},{"$f":"SUM(D38)+D40","v":372512},{"$f":"SUM(E38)+E40","v":7726},{"$f":"SUM(F38)+F40","v":27387},{"$f":"SUM(G38)+G40","v":15893},8109,167,4302,3111,{"$f":"SUM(L38)+L40","v":25500},121,42,6100,615,{"$f":"SUM(Q38)+Q40","v":1369},165,3,4021,1092,478235,1203.3,31926.800000000003,797.59999999999991,33927.699999999997,25478.3,26088.6,281582.40000000002,{"$f":"SUM(AD38)+AD40","v":316.7},{"$f":"SUM(AE38)+AE40","v":886.6},{"$f":"SUM(AF38)+AF40","v":5427.7},{"$f":"SUM(AG38)+AG40","v":286.60000000000002},{"$f":"SUM(AH38)+AH40","v":92310.2},282543,567.6,272.5,0.42,286.60000000000002,3.4,808.9,0,799.2,55.9,0,7.9,151.4,1741.5,119.9,{"$f":"SUM(AX38)+AX40","v":1829.2},5561.5999999999995,{"$f":"SUM(AZ38)+AZ40","v":21},{"$f":"SUM(BA38)+BA40","v":0},{"$f":"SUM(BB38)+BB40","v":13637.09},1252946.9099999992,-3.907985046680551E-13,65298.259999999995,18812.5,{"$f":"SUM(BG38)+BG40","v":1829.2},{"$f":"SUM(BH38)+BH40","v":2301.12},2780.7999999999993,2158.1,{"$f":"SUM(BK38)+BK40","v":52918.971060066237},46728.928939933758,{"$f":"SUM(BM38)+BM40","v":1528},844229.39000000036,{"$f":"SUM(BO38)+BO40","v":15144.100000000002},126376.85000000002,808.9,20288.000000000004,{"$f":"SUM(BS38)+BS40","v":1398.2},{"$f":"SUM(BT38)+BT40","v":0},534,4603.09,99.999999999999972,45108.5,1252946.9100000001,{"$f":"SUM(BZ41+BW40)","v":1252946.9100000001}]
[null,{"$f":"ROUND(D42*0.1,0)","v":37251},null,49458.9,{"$f":"V40-D44","v":90025.882333801186},{"$f":"E43*0.5","v":45012.941166900593},{"$f":"E43*0.05","v":4501.2941166900591},null,109260.9,null,247054.6,"дот",null,null,null,null,null,null,null,null,null,{"$f":"V42-D44","v":155181.90000000002},null,null,null,null,null,null,null,null,null,null,null,null,null,null,null,null,null,null,null,null,null,null,null,null,null,null,null,null,null,null,null,"дотации",{"$f":"AA40","v":25478.3},null,{"$f":"SUM(BE40:BH40)","v":52644.079999999994},null,null,null,null,null,null,null,null,null,null,null,null,null,null,null,null,null,null,null,{"$f":"SUM(BE42:BT42)","v":1202601.3200000003},{"$f":"BY42-BU42-BV42-BW42-BX42-BY43","v":0},null,null,null,null,{"$f":"BL38-BL26","v":11014.996606132609}]
[null,{"$f":"B43-D38","v":12610.982333801148},{"$f":"C38-C26","v":33414},{"$f":"D42-D43","v":323053.09999999998},null,null,null,null,{"$f":"V42+D43-D38-D40","v":155181.90000000002},null,16704.599999999999,"ден",null,null,"неналоговые",null,null,null,null,{"$f":"SUM(O42:U42)","v":13365},null,{"$f":"V42-D45","v":161599.79999999999},null,17561.5,{"$f":"X44-Y2","v":-15162.899999999998},null,null,null,null,null,null,null,null,null,null,null,null,null,null,null,null,null,null,null,null,null,null,null,null,null,null,null,null,"субсидии",{"$f":"SUM(AB40:AC40)","v":307671},null,{"$f":"SUM(BE38:BG38)","v":35597},{"$f":"SUM(BE45:BH45)","v":88241.099999999991},null,null,null,null,null,null,null,null,null,null,null,null,null,null,null,null,null,null,{"$f":"BY42-BC45-BU42-BV42-BX42+AE40-AH40-AO40-BW42","v":719151.80000000016}]
[null,null,null,{"$f":"ROUND(D42*0.85,1)","v":316635.2},null,null,{"$f":"D42*0.15","v":55876.799999999996},null,{"$f":"I43-I44","v":-45921.000000000029},{"$f":"($J$42-$J$26*2)*0.3+$J$26","v":1373.68},{"$f":"K43-K44","v":230350},"допнорм",null,null,null,null,11500,11500,1455,{"$f":"SUM(R45:S45)","v":12955},null,286292,null,null,null,null,null,null,null,null,null,null,null,null,null,null,null,null,null,null,null,null,null,null,null,null,null,null,null,null,null,null,null,"субвенции",{"$f":"SUM(AD40:AZ40)","v":391217.02000000008},null,{"$f":"SUM(BE47:BE53)","v":65298.279999999992},{"$f":"SUM(BF47:BF53)","v":18812.5},1829.2,2301.1200000000003,2780.8,2158.1,{"$f":"SUM(BK47:BK54)","v":52918.971060066237},{"$f":"SUM(BL47:BL54)","v":46728.928939933758},1528,844229.39,15144.1,126376.84999999999,808.9,20288,1398.2,0,0,0,0,0,{"$f":"SUM(BE45:BX45)","v":1202601.3400000001},1074481.1870099995]
[null,null,null,null,null,null,null,null,null,{"$f":"($J$42-$J$26*2)*0.5+$J$26","v":2151},null,null,null,null,null,null,null,null,null,{"$f":"T45-T44","v":-410},null,{"$f":"V45-V42","v":-191943},null,null,null,null,null,null,null,null,null,null,null,null,null,null,null,null,null,null,null,null,null,null,null,null,null,null,null,null,null,null,null,"иные ",{"$f":"BA40","v":0},null,{"$f":"BE42-BE45","v":-1.9999999996798579E-2},{"$f":"BF42-BF45","v":0},0,0,0,0,{"$f":"BK42-BK45","v":0},{"$f":"BL42-BL45","v":0},{"$f":"BM42-BM45","v":0},0,{"$f":"BO42-BO45","v":0},{"$f":"BP42-BP45","v":0},0,0,0,0,null,null,null,null,-1.9999999996798579E-2]
[null,null,null,{"$f":"29185-D38","v":4544.9823338011483},null,null,null,null,null,{"$f":"J46-J45","v":777.31999999999994},null,null,null,null,null,null,null,null,null,null,null,null,null,22562.000000000004,4561.8,28916.700000000004,null,null,null,null,null,null,null,null,null,null,null,null,null,null,null,null,null,null,null,null,null,null,null,null,null,null,null,"итого из РТ",{"$f":"SUM(BC43:BC46)","v":724366.32000000007},"имущ р",465.6,null,null,null,null,null,null,null,null,22121.79,253,943,null,null,null,null,null,null,null,null,23783.39,23204.1,{"$f":"BZ47-BY47-BY48","v":-7482.420000000001}]
[null,null,null,null,null,null,null,null,null,null,null,null,null,null,null,null,null,null,null,null,null,null,null,{"$f":"X38-X47","v":9364.7999999999993},-3764.2000000000003,{"$f":"Z38-Z47","v":5010.9999999999927},null,null,null,null,null,null,null,null,null,null,null,null,null,null,null,null,null,null,null,null,null,null,null,null,null,null,null,null,{"$f":"D44","v":323053.09999999998},"имущ с",2191.08,null,null,null,null,null,null,null,null,null,null,4712.05,null,null,null,null,null,null,null,null,{"$f":"SUM(BE48:BX48)","v":6903.13},{"$f":"BY47+BY48","v":30686.52},null,null,null,null,{"$f":"BZ47-BZ48","v":-7482.4200000000019}]
[null,null,null,{"$f":"D38-D26","v":5007.2672045568725},null,null,null,null,null,null,null,null,null,null,null,null,null,null,null,null,null,null,null,null,null,null,null,null,null,null,null,null,null,null,null,null,null,null,null,null,null,null,null,null,null,null,null,null,null,null,null,null,null,"всего",{"$f":"SUM(BC47:BC48)","v":1047419.42},"экол р",4.3,null,null,null,null,null,null,null,null,711,12.5,34.4,null,null,null,null,null,null,null,null,{"$f":"SUM(BE49:BX49)","v":762.19999999999993},774.6,{"$f":"BZ49-BY49-BY50","v":9.0594198809412774E-14}]
[null,null,null,null,null,null,null,null,null,null,null,null,null,null,null,null,null,null,null,null,null,null,null,null,null,null,null,null,null,null,null,null,null,null,null,null,null,null,null,null,null,null,null,null,null,null,null,null,null,null,null,null,null,null,{"$f":"V43","v":155181.90000000002},"экол с",12.4,null,null,null,null,null,null,null,null,null,null,null,null,null,null,null,null,null,null,null,12.4,{"$f":"SUM(BY49:BY50)","v":774.59999999999991},null,null,null,null,{"$f":"BZ49-BZ50","v":0}]
[null,null,"2019год",329726,null,null,null,null,null,null,null,null,null,null,null,null,null,null,null,null,null,null,null,null,null,null,null,null,null,null,null,null,null,null,null,null,null,null,null,null,null,null,null,null,null,null,null,null,null,null,null,null,null,"конс",{"$f":"SUM(BC49:BC50)","v":1202601.32},"ку",null,null,null,null,null,null,null,null,null,null,null,null,null,null,null,null,null,null,null,null,0,{"$f":"BY52+BZ47+BZ49","v":805105.2}]
[null,null,null,{"$f":"D51/302000","v":1.0918079470198676},null,null,null,null,null,null,null,null,null,null,null,null,null,null,null,null,null,null,null,null,null,null,null,null,null,null,null,null,null,null,null,null,null,null,null,null,null,null,null,null,null,null,null,null,null,null,{"$f":"BB52+AD40+AE40","v":812587.6},null,{"$f":"BB52-BY52","v":30257.800000000047},{"$f":"BC43+BC44+BC46+V42","v":811384.3},"собственные+ дотации, субсидии",null,{"$f":"56879.2+5845.7-100","v":62624.899999999994},18812.5,null,null,null,{"$f":"2058.1+100","v":2158.1},{"$f":"25500+367.9","v":25867.9},71767.199999999997,1528,441115.7,14878.6,120687.4,0,{"$f":"9069.6+11218.4","v":20288},1398.2,null,null,null,null,{"$f":"SUM(Z41:BB41)","v":0},781126.5,{"$f":"BY52+BZ48+BZ50-V42-BC43-BC44","v":1203.320000000007}]
[null,null,null,null,null,null,null,null,null,null,null,null,null,null,null,null,null,null,null,null,null,null,null,null,null,null,null,null,null,null,null,null,null,null,null,null,null,null,null,null,null,null,null,null,null,null,null,null,null,null,null,null,{"$f":"BB53-BY53","v":1203.3000000000466},{"$f":"BC45","v":391217.02000000008},"субвенции+иные",null,null,null,{"$f":"AX40","v":1829.2},{"$f":"AJ40+AK40+AM40+AG40+AQ40+AN40+AZ40+AR40+AL40+AT40","v":2301.1200000000003},{"$f":"AY40","v":2780.8},{"$f":"AP40","v":0},{"$f":"AU40+AV40+AW40","v":2012.8000000000002},null,null,{"$f":"AI40+AF40+AH40","v":380280.9},null,{"$f":"BA40","v":0},{"$f":"AO42","v":808.9},null,null,null,null,null,null,null,{"$f":"SUM(BD53:BX53)","v":390013.72000000003},{"$f":"BY53-BC45-BC46","v":-1203.3000000000466}]
[null,null,null,null,null,null,null,null,null,null,null,null,null,null,null,null,null,null,null,null,null,null,null,null,null,null,null,null,null,null,null,null,null,null,null,null,null,null,null,null,null,null,null,null,null,null,null,null,null,null,null,null,null,{"$f":"SUM(BB52:BB53)","v":1202601.32},"итого",null,null,null,null,null,null,null,25038.271060066239,-25038.271060066239,null,null,null,null,null,null,null,null,null,null,null,null,{"$f":"BZ48+BZ49","v":31461.119999999999}]
[]
[null,null,null,null,null,null,null,null,null,null,null,null,null,null,null,null,null,null,null,null,null,null,null,null,null,null,null,null,null,null,null,null,null,null,null,null,null,null,null,null,null,null,null,null,null,null,null,null,null,null,null,null,null,null,null,null,{"$f":"56879.2/54938.2","v":1.0353306078466349},{"$f":"18812.5/18248.1","v":1.0309292474284995},null,null,null,null,null,1.0102379085556146]
[]
[null,null,null,null,null,null,null,null,null,null,null,null,null,null,null,null,null,null,null,null,null,null,null,null,null,null,null,null,null,null,null,null,null,null,null,null,null,null,null,null,null,null,null,null,null,null,null,null,null,null,null,null,null,null,null,null,3527.8999999999942,1107,0,0,0,154.39999999999986,3914.2000000000007,1426.5999999999913,0,9207.2000000000116,1077,1912.7999999999884,0,684.20000000000073,0,0,0,0,0,0,23011.300000000047]
[null,null,null,null,null,null,null,null,null,null,null,null,null,null,null,null,null,null,null,null,null,null,null,null,null,null,null,null,null,null,null,null,null,null,null,null,null,null,null,null,null,null,null,null,null,null,null,null,null,null,null,null,null,null,null,null,0,0,108.79999999999995,-15.159999999999854,128,0,0,0,0,354.79999999998836,0,0,59,0,0,0,0,0,0,0,635.43999999994412]

{"sheet":"свод18","index":30,"n_rows":303,"n_cols":25,"rows_kept":303,"cut":false,"hidden":true,"merged":[[6,0,10,0],[6,9,10,9],[8,16,10,16],[8,4,10,4],[8,5,10,5],[8,6,10,6],[6,2,6,6],[6,7,10,7],[6,8,10,8],[7,2,7,6],[8,2,10,2],[8,3,10,3]]}
[]
[]
[]
[null,"Расшифровка бюджета на 2018 год по подразделам"]
[null,null,null,null,null,null,null,null,{"$f":"I6-I13","v":0}]
[null,null,null,null,null,null,null,1187443.2580000006,1124972.8399999996,85537.5]
["№ учреждения",null,"К  О  Д  Ы",null,null,null,null,"всего расходов (консолидированный), тысяч рублей","всего расходов райбюджет, тысяч рублей","всего расходов село, тысяч рублей",2017]
[null,null,"функц-ной классификации"]
[null,"Наименование показателя","ведомство","раз-дел","под-раз-дел","целевая статья","вид рас- хода",null,null,null,null,null,null,null,null,null,"вид рас- хода"]
[]
[]
[1,"2","3","4","5","6","7","9","10","10",null,null,null,null,null,null,"7"]
[null,"ИТОГО",null,null,null,null,null,{"$f":"SUBTOTAL(9,H15:H374)","v":1210846.439999999},1124972.8399999999,85873.600000000006,1124972.8399999999,0,1124972.8399999999,0,null,null,null,null,null,null,null,null,null,{"$f":"SUBTOTAL(9,X15:X374)","v":0}]
[{"$f":"SUBTOTAL(9,A12:A13)","v":1},null,null,null,null,null,null,null,null,null,null,null,null,{"$f":"SUBTOTAL(9,N12:N13)","v":0},0,0,null,0]
[1,"Главы образований ","602","01","02","9900002030",{"$f":"IF(P15=\"бу\",611,Q15)","v":"121"},10744,1230,9514,1230,null,{"$f":"SUM(K15:L15)","v":1230},{"$f":"C15&D15&E15&F15&R15","v":"60201029900002030Фонд оплаты труда государственных (муниципальных) органов и взносы по обязательному социальному страхованию"},{"$f":"B15&G15","v":"Главы образований 121"},"ку","121","Фонд оплаты труда государственных (муниципальных) органов и взносы по обязательному социальному страхованию",null,null,null,null,{"$f":"K15-I15","v":0},{"$f":"H15-(I15+J15)","v":0},{"$f":"I15-K15","v":0}]
[1,"Главы образований ","602","01","02","9900002030",{"$f":"IF(P16=\"бу\",611,Q16)","v":"129"},3248,371,2877,371,null,{"$f":"SUM(K16:L16)","v":371},{"$f":"C16&D16&E16&F16&R16","v":"60201029900002030Взносы по обязательному социальному страхованию на выплату денежного содержания и иные выплаты работникам государственных (муниципальных) органов"},{"$f":"B16&G16","v":"Главы образований 129"},"ку","129","Взносы по обязательному социальному страхованию на выплату денежного содержания и иные выплаты работникам государственных (муниципальных) органов",null,null,null,null,{"$f":"K16-I16","v":0},{"$f":"H16-(I16+J16)","v":0},{"$f":"I16-K16","v":0}]
[2,"Функционирование законодательных органов","602","01","03","9900002040","121",4199,4021,178,4021,null,{"$f":"SUM(K17:L17)","v":4021},{"$f":"C17&D17&E17&F17&R17","v":"60201039900002040Фонд оплаты труда государственных (муниципальных) органов и взносы по обязательному социальному страхованию"},"Функционирование законодательных органов","ку","121","Фонд оплаты труда государственных (муниципальных) органов и взносы по обязательному социальному страхованию",null,null,null,null,0,0,0]
[2,"Функционирование законодательных органов","602","01","03","9900002040","129",1017.8,963.8,54,963.8,null,963.8,"60201039900002040Взносы по обязательному социальному страхованию на выплату денежного содержания и иные выплаты работникам государственных (муниципальных) органов","Функционирование законодательных органов","ку","129","Взносы по обязательному социальному страхованию на выплату денежного содержания и иные выплаты работникам государственных (муниципальных) органов",null,null,null,null,0,0,0]
[2,"Функционирование законодательных органов","602","01","03","9900002040","122",0,0,0,0,null,0,"60201039900002040Иные выплаты персоналу государственных (муниципальных) органов, за исключением фонда оплаты труда","Функционирование законодательных органов","ку","122","Иные выплаты персоналу государственных (муниципальных) органов, за исключением фонда оплаты труда",null,null,null,null,0,0,0]
[2,"Функционирование законодательных органов","602","01","03","9900002040","244",985.20000000000095,985.20000000000095,0,985.20000000000095,null,985.20000000000095,"60201039900002040Прочая закупка товаров, работ и услуг для обеспечения государственных (муниципальных) нужд","Функционирование законодательных органов","ку","244","Прочая закупка товаров, работ и услуг для обеспечения государственных (муниципальных) нужд",null,null,null,null,0,0,0]
[2,"Функционирование законодательных органов","602","01","03","9900002040","412",0,0,0,0,null,0,"60201039900002040Бюджетные инвестиции на приобретение объектов недвижимого имущества в государственную (муниципальную) собственность","Функционирование законодательных органов","ку","412","Бюджетные инвестиции на приобретение объектов недвижимого имущества в государственную (муниципальную) собственность",null,null,null,null,0,0,0]
[3,"Функционирование местных администраций","601","01","04","9900002040","121",13673.07,6395.07,7278,6395.07,null,6395.07,"60101049900002040Фонд оплаты труда государственных (муниципальных) органов и взносы по обязательному социальному страхованию","Функционирование местных администраций","ку","121","Фонд оплаты труда государственных (муниципальных) органов и взносы по обязательному социальному страхованию",null,null,null,null,0,0,0]
[3,"Функционирование местных администраций","601","01","04","9900002040","129",4080.01,1881.0100000000002,2199,1881.0100000000002,null,1881.0100000000002,"60101049900002040Взносы по обязательному социальному страхованию на выплату денежного содержания и иные выплаты работникам государственных (муниципальных) органов","Функционирование местных администраций","ку","129","Взносы по обязательному социальному страхованию на выплату денежного содержания и иные выплаты работникам государственных (муниципальных) органов",null,null,null,null,0,0,0]
[3,"Функционирование местных администраций","601","01","04","9900002040","122",0,0,0,0,null,0,"60101049900002040Иные выплаты персоналу государственных (муниципальных) органов, за исключением фонда оплаты труда","Функционирование местных администраций","ку","122","Иные выплаты персоналу государственных (муниципальных) органов, за исключением фонда оплаты труда",null,null,null,null,0,0,0]
[3,"Функционирование местных администраций","601","01","04","9900002040","244",3042,2139,902.99999999999977,2139,null,2139,"60101049900002040Прочая закупка товаров, работ и услуг для обеспечения государственных (муниципальных) нужд","Функционирование местных администраций","ку","244","Прочая закупка товаров, работ и услуг для обеспечения государственных (муниципальных) нужд",null,null,null,null,0,0,0]
[3,"Функционирование местных администраций","601","01","04","9900002040","412",0,0,0,0,null,0,"60101049900002040Бюджетные инвестиции на приобретение объектов недвижимого имущества в государственную (муниципальную) собственность","Функционирование местных администраций","ку","412","Бюджетные инвестиции на приобретение объектов недвижимого имущества в государственную (муниципальную) собственность",null,null,null,null,0,0,0]
[4,"Функционирование местных администраций (УО)","611","01","04","9900002040","121",1173.8,1173.8,0,1173.8,null,1173.8,"61101049900002040Фонд оплаты труда государственных (муниципальных) органов и взносы по обязательному социальному страхованию","Функционирование местных администраций (УО)","ку","121","Фонд оплаты труда государственных (муниципальных) органов и взносы по обязательному социальному страхованию",null,null,null,null,0,0,0]
[4,"Функционирование местных администраций (УО)","611","01","04","9900002040","129",354,354,0,354,null,354,"61101049900002040Взносы по обязательному социальному страхованию на выплату денежного содержания и иные выплаты работникам государственных (муниципальных) органов","Функционирование местных администраций (УО)","ку","129","Взносы по обязательному социальному страхованию на выплату денежного содержания и иные выплаты работникам государственных (муниципальных) органов",null,null,null,null,0,0,0]
[4,"Функционирование местных администраций (УО)","611","01","04","9900002040","122",0,0,0,0,null,0,"61101049900002040Иные выплаты персоналу государственных (муниципальных) органов, за исключением фонда оплаты труда","Функционирование местных администраций (УО)","ку","122","Иные выплаты персоналу государственных (муниципальных) органов, за исключением фонда оплаты труда",null,null,null,null,0,0,0]
[4,"Функционирование местных администраций (УО)","611","01","04","9900002040","244",68,68,0,68,null,68,"61101049900002040Прочая закупка товаров, работ и услуг для обеспечения государственных (муниципальных) нужд","Функционирование местных администраций (УО)","ку","244","Прочая закупка товаров, работ и услуг для обеспечения государственных (муниципальных) нужд",null,null,null,null,0,0,0]
[4,"Функционирование местных администраций (УО)","611","01","04","9900002040","412",0,0,0,0,null,0,"61101049900002040Бюджетные инвестиции на приобретение объектов недвижимого имущества в государственную (муниципальную) собственность","Функционирование местных администраций (УО)","ку","412","Бюджетные инвестиции на приобретение объектов недвижимого имущества в государственную (муниципальную) собственность",null,null,null,null,0,0,0]
[5,"Функционирование местных администраций (УДМС)","612","01","04","9900002040","121",560.79999999999995,560.79999999999995,0,560.79999999999995,null,560.79999999999995,"61201049900002040Фонд оплаты труда государственных (муниципальных) органов и взносы по обязательному социальному страхованию","Функционирование местных администраций (УДМС)","ку","121","Фонд оплаты труда государственных (муниципальных) органов и взносы по обязательному социальному страхованию",null,null,null,null,0,0,0]
[5,"Функционирование местных администраций (УДМС)","612","01","04","9900002040","129",169,169,0,169,null,169,"61201049900002040Взносы по обязательному социальному страхованию на выплату денежного содержания и иные выплаты работникам государственных (муниципальных) органов","Функционирование местных администраций (УДМС)","ку","129","Взносы по обязательному социальному страхованию на выплату денежного содержания и иные выплаты работникам государственных (муниципальных) органов",null,null,null,null,0,0,0]
[5,"Функционирование местных администраций (УДМС)","612","01","04","9900002040","122",0,0,0,0,null,0,"61201049900002040Иные выплаты персоналу государственных (муниципальных) органов, за исключением фонда оплаты труда","Функционирование местных администраций (УДМС)","ку","122","Иные выплаты персоналу государственных (муниципальных) органов, за исключением фонда оплаты труда",null,null,null,null,0,0,0]
[5,"Функционирование местных администраций (УДМС)","612","01","04","9900002040","244",0,0,0,0,null,0,"61201049900002040Прочая закупка товаров, работ и услуг для обеспечения государственных (муниципальных) нужд","Функционирование местных администраций (УДМС)","ку","244","Прочая закупка товаров, работ и услуг для обеспечения государственных (муниципальных) нужд",null,null,null,null,0,0,0]
[5,"Функционирование местных администраций (УДМС)","612","01","04","9900002040","412",0,0,0,0,null,0,"61201049900002040Бюджетные инвестиции на приобретение объектов недвижимого имущества в государственную (муниципальную) собственность","Функционирование местных администраций (УДМС)","ку","412","Бюджетные инвестиции на приобретение объектов недвижимого имущества в государственную (муниципальную) собственность",null,null,null,null,0,0,0]
[6,"Функционирование местных администраций (УК)","613","01","04","9900002040","121",617,617,0,617,null,617,"61301049900002040Фонд оплаты труда государственных (муниципальных) органов и взносы по обязательному социальному страхованию","Функционирование местных администраций (УК)","ку","121","Фонд оплаты труда государственных (муниципальных) органов и взносы по обязательному социальному страхованию",null,null,null,null,0,0,0]
[6,"Функционирование местных администраций (УК)","613","01","04","9900002040","129",186,186,0,186,null,186,"61301049900002040Взносы по обязательному социальному страхованию на выплату денежного содержания и иные выплаты работникам государственных (муниципальных) органов","Функционирование местных администраций (УК)","ку","129","Взносы по обязательному социальному страхованию на выплату денежного содержания и иные выплаты работникам государственных (муниципальных) органов",null,null,null,null,0,0,0]
[6,"Функционирование местных администраций (УК)","613","01","04","9900002040","122",0,0,0,0,null,0,"61301049900002040Иные выплаты персоналу государственных (муниципальных) органов, за исключением фонда оплаты труда","Функционирование местных администраций (УК)","ку","122","Иные выплаты персоналу государственных (муниципальных) органов, за исключением фонда оплаты труда",null,null,null,null,0,0,0]
[6,"Функционирование местных администраций (УК)","613","01","04","9900002040","244",0,0,0,0,null,0,"61301049900002040Прочая закупка товаров, работ и услуг для обеспечения государственных (муниципальных) нужд","Функционирование местных администраций (УК)","ку","244","Прочая закупка товаров, работ и услуг для обеспечения государственных (муниципальных) нужд",null,null,null,null,0,0,0]
[6,"Функционирование местных администраций (УК)","613","01","04","9900002040","412",0,0,0,0,null,0,"61301049900002040Бюджетные инвестиции на приобретение объектов недвижимого имущества в государственную (муниципальную) собственность","Функционирование местных администраций (УК)","ку","412","Бюджетные инвестиции на приобретение объектов недвижимого имущества в государственную (муниципальную) собственность",null,null,null,null,0,0,0]
[7,"КСП","603","01","06","9900002040","121",453,453,0,453,null,453,"60301069900002040Фонд оплаты труда государственных (муниципальных) органов и взносы по обязательному социальному страхованию","КСП","ку","121","Фонд оплаты труда государственных (муниципальных) органов и взносы по обязательному социальному страхованию",null,null,null,null,0,0,0]
[7,"КСП","603","01","06","9900002040","129",137,137,0,137,null,137,"60301069900002040Взносы по обязательному социальному страхованию на выплату денежного содержания и иные выплаты работникам государственных (муниципальных) органов","КСП","ку","129","Взносы по обязательному социальному страхованию на выплату денежного содержания и иные выплаты работникам государственных (муниципальных) органов",null,null,null,null,0,0,0]
[7,"КСП","603","01","06","9900002040","122",1,1,0,1,null,1,"60301069900002040Иные выплаты персоналу государственных (муниципальных) органов, за исключением фонда оплаты труда","КСП","ку","122","Иные выплаты персоналу государственных (муниципальных) органов, за исключением фонда оплаты труда",null,null,null,null,0,0,0]
[7,"КСП","603","01","06","9900002040","244",25,25,0,25,null,25,"60301069900002040Прочая закупка товаров, работ и услуг для обеспечения государственных (муниципальных) нужд","КСП","ку","244","Прочая закупка товаров, работ и услуг для обеспечения государственных (муниципальных) нужд",null,null,null,null,0,0,0]
[7,"КСП","603","01","06","9900002040","412",0,0,0,0,null,0,"60301069900002040Бюджетные инвестиции на приобретение объектов недвижимого имущества в государственную (муниципальную) собственность","КСП","ку","412","Бюджетные инвестиции на приобретение объектов недвижимого имущества в государственную (муниципальную) собственность",null,null,null,null,0,0,0]
[8,"ФБП","605","01","06","1800102040","121",2751,2751,0,2751,null,2751,"60501061800102040Фонд оплаты труда государственных (муниципальных) органов и взносы по обязательному социальному страхованию","ФБП","ку","121","Фонд оплаты труда государственных (муниципальных) органов и взносы по обязательному социальному страхованию",null,null,null,null,0,0,0]
[8,"ФБП","605","01","06","1800102040","129",828.7,828.7,0,828.7,null,828.7,"60501061800102040Взносы по обязательному социальному страхованию на выплату денежного содержания и иные выплаты работникам государственных (муниципальных) органов","ФБП","ку","129","Взносы по обязательному социальному страхованию на выплату денежного содержания и иные выплаты работникам государственных (муниципальных) органов",null,null,null,null,0,0,0]
[8,"ФБП","605","01","06","1800102040","122",0,0,0,0,null,0,"60501061800102040Иные выплаты персоналу государственных (муниципальных) органов, за исключением фонда оплаты труда","ФБП","ку","122","Иные выплаты персоналу государственных (муниципальных) органов, за исключением фонда оплаты труда",null,null,null,null,0,0,0]
[8,"ФБП","605","01","06","1800102040","244",427.99999999999977,427.99999999999977,0,427.99999999999977,null,427.99999999999977,"60501061800102040Прочая закупка товаров, работ и услуг для обеспечения государственных (муниципальных) нужд","ФБП","ку","244","Прочая закупка товаров, работ и услуг для обеспечения государственных (муниципальных) нужд",null,null,null,null,0,0,0]
[8,"ФБП","605","01","06","1800102040","412",0,0,0,0,null,0,"60501061800102040Бюджетные инвестиции на приобретение объектов недвижимого имущества в государственную (муниципальную) собственность","ФБП","ку","412","Бюджетные инвестиции на приобретение объектов недвижимого имущества в государственную (муниципальную) собственность",null,null,null,null,0,0,0]
[9,"Резервные фонды ","601","01","11","9900007410","870",{"$f":"SUM(I52:J52)","v":5845.7},5845.7,null,5845.7,null,5845.7,"60101119900007410Уплата иных платежей","Резервные фонды ","ку","870","Уплата иных платежей",null,null,null,null,0,0,0]
[10,"Палата имущественных и земельных отношений","606","01","13","1600102040","121",999,999,0,999,null,999,"60601131600102040Фонд оплаты труда государственных (муниципальных) органов и взносы по обязательному социальному страхованию","Палата имущественных и земельных отношений","ку","121","Фонд оплаты труда государственных (муниципальных) органов и взносы по обязательному социальному страхованию",null,null,null,null,0,0,0]
[10,"Палата имущественных и земельных отношений","606","01","13","1600102040","129",302,302,0,302,null,302,"60601131600102040Взносы по обязательному социальному страхованию на выплату денежного содержания и иные выплаты работникам государственных (муниципальных) органов","Палата имущественных и земельных отношений","ку","129","Взносы по обязательному социальному страхованию на выплату денежного содержания и иные выплаты работникам государственных (муниципальных) органов",null,null,null,null,0,0,0]
[10,"Палата имущественных и земельных отношений","606","01","13","1600102040","122",0,0,0,0,null,0,"60601131600102040Иные выплаты персоналу государственных (муниципальных) органов, за исключением фонда оплаты труда","Палата имущественных и земельных отношений","ку","122","Иные выплаты персоналу государственных (муниципальных) органов, за исключением фонда оплаты труда",null,null,null,null,0,0,0]
[10,"Палата имущественных и земельных отношений","606","01","13","1600102040","244",112,112,0,112,null,112,"60601131600102040Прочая закупка товаров, работ и услуг для обеспечения государственных (муниципальных) нужд","Палата имущественных и земельных отношений","ку","244","Прочая закупка товаров, работ и услуг для обеспечения государственных (муниципальных) нужд",null,null,null,null,0,0,0]
[10,"Палата имущественных и земельных отношений","606","01","13","1600102040","412",0,0,0,0,null,0,"60601131600102040Бюджетные инвестиции на приобретение объектов недвижимого имущества в государственную (муниципальную) собственность","Палата имущественных и земельных отношений","ку","412","Бюджетные инвестиции на приобретение объектов недвижимого имущества в государственную (муниципальную) собственность",null,null,null,null,0,0,0]
[11,"ЗАГС","601","01","13","9900059300","121",656,656,0,656,null,656,"60101139900059300Фонд оплаты труда государственных (муниципальных) органов и взносы по обязательному социальному страхованию","ЗАГС","ку","121","Фонд оплаты труда государственных (муниципальных) органов и взносы по обязательному социальному страхованию",null,null,null,null,0,0,0]
[11,"ЗАГС","601","01","13","9900059300","129",198,198,0,198,null,198,"60101139900059300Взносы по обязательному социальному страхованию на выплату денежного содержания и иные выплаты работникам государственных (муниципальных) органов","ЗАГС","ку","129","Взносы по обязательному социальному страхованию на выплату денежного содержания и иные выплаты работникам государственных (муниципальных) органов",null,null,null,null,0,0,0]
[11,"ЗАГС","601","01","13","9900059300","122",18,18,0,18,null,18,"60101139900059300Иные выплаты персоналу государственных (муниципальных) органов, за исключением фонда оплаты труда","ЗАГС","ку","122","Иные выплаты персоналу государственных (муниципальных) органов, за исключением фонда оплаты труда",null,null,null,null,0,0,0]
[11,"ЗАГС","601","01","13","9900059300","244",848.40000000000009,848.40000000000009,0,848.40000000000009,null,848.40000000000009,"60101139900059300Прочая закупка товаров, работ и услуг для обеспечения государственных (муниципальных) нужд","ЗАГС","ку","244","Прочая закупка товаров, работ и услуг для обеспечения государственных (муниципальных) нужд",null,null,null,null,0,0,0]
[11,"ЗАГС","601","01","13","9900059300","412",0,0,0,0,null,0,"60101139900059300Бюджетные инвестиции на приобретение объектов недвижимого имущества в государственную (муниципальную) собственность","ЗАГС","ку","412","Бюджетные инвестиции на приобретение объектов недвижимого имущества в государственную (муниципальную) собственность",null,null,null,null,0,0,0]
[12,"Централизованная бухгалтерияПИЗО","606","01","13","1800129900","111",0,0,0,0,null,0,"60601131800129900Фонд оплаты труда казенных учреждений и взносы по обязательному социальному страхованию","Централизованная бухгалтерияПИЗО","ку","111","Фонд оплаты труда казенных учреждений и взносы по обязательному социальному страхованию",null,null,null,null,0,0,0]
[12,"Централизованная бухгалтерияПИЗО","606","01","13","1800129900","119",0,0,0,0,null,0,"60601131800129900Взносы по обязательному социальному страхованию на выплаты по оплате труда работников и иные выплаты работникам учреждений","Централизованная бухгалтерияПИЗО","ку","119","Взносы по обязательному социальному страхованию на выплаты по оплате труда работников и иные выплаты работникам учреждений",null,null,null,null,0,0,0]
[13,"Централизованная бухгалтерия","601","01","13","1800129900","111",8089,8089,0,8089,null,8089,"60101131800129900Фонд оплаты труда казенных учреждений и взносы по обязательному социальному страхованию","Централизованная бухгалтерия","ку","111","Фонд оплаты труда казенных учреждений и взносы по обязательному социальному страхованию",null,null,null,null,0,0,0]
[13,"Централизованная бухгалтерия","601","01","13","1800129900","119",2443,2443,0,2443,null,{"$f":"SUM(K66:L66)","v":2443},"60101131800129900Взносы по обязательному социальному страхованию на выплаты по оплате труда работников и иные выплаты работникам учреждений","Централизованная бухгалтерия","ку","119","Взносы по обязательному социальному страхованию на выплаты по оплате труда работников и иные выплаты работникам учреждений",null,null,null,null,0,0,0]
[13,"Централизованная бухгалтерия","601","01","13","1800129900","112",0,0,0,0,null,0,"60101131800129900Иные выплаты персоналу казенных учреждений, за исключением фонда оплаты труда","Централизованная бухгалтерия","ку","112","Иные выплаты персоналу казенных учреждений, за исключением фонда оплаты труда",null,null,null,null,0,0,0]
[13,"Централизованная бухгалтерия","601","01","13","1800129900","244",7173.8,1147.3000000000002,6026.5,1147.3000000000002,null,1147.3000000000002,"60101131800129900Прочая закупка товаров, работ и услуг для обеспечения государственных (муниципальных) нужд","Централизованная бухгалтерия","ку","244","Прочая закупка товаров, работ и услуг для обеспечения государственных (муниципальных) нужд",null,null,null,null,0,0,0]
[13,"Централизованная бухгалтерия","601","01","13","1800129900","412",0,0,0,0,null,0,"60101131800129900Бюджетные инвестиции на приобретение объектов недвижимого имущества в государственную (муниципальную) собственность","Централизованная бухгалтерия","ку","412","Бюджетные инвестиции на приобретение объектов недвижимого имущества в государственную (муниципальную) собственность",null,null,null,null,0,0,0]
[14,"Архивный отдел","601","01","13","08Е0144020","111",488,488,0,488,null,488,"601011308Е0144020Фонд оплаты труда казенных учреждений и взносы по обязательному социальному страхованию","Архивный отдел","ку","111","Фонд оплаты труда казенных учреждений и взносы по обязательному социальному страхованию",null,null,null,null,0,0,0]
[14,"Архивный отдел","601","01","13","08Е0144020","119",147,147,0,147,null,147,"601011308Е0144020Взносы по обязательному социальному страхованию на выплаты по оплате труда работников и иные выплаты работникам учреждений","Архивный отдел","ку","119","Взносы по обязательному социальному страхованию на выплаты по оплате труда работников и иные выплаты работникам учреждений",null,null,null,null,0,0,0]
[14,"Архивный отдел","601","01","13","08Е0144020","112",0,0,0,0,null,0,"601011308Е0144020Иные выплаты персоналу казенных учреждений, за исключением фонда оплаты труда","Архивный отдел","ку","112","Иные выплаты персоналу казенных учреждений, за исключением фонда оплаты труда",null,null,null,null,0,0,0]
[14,"Архивный отдел","601","01","13","08Е0144020","244",48,48,0,48,null,48,"601011308Е0144020Прочая закупка товаров, работ и услуг для обеспечения государственных (муниципальных) нужд","Архивный отдел","ку","244","Прочая закупка товаров, работ и услуг для обеспечения государственных (муниципальных) нужд",null,null,null,null,0,0,0]
[14,"Архивный отдел","601","01","13","08Е0144020","412",0,0,0,0,null,0,"601011308Е0144020Бюджетные инвестиции на приобретение объектов недвижимого имущества в государственную (муниципальную) собственность","Архивный отдел","ку","412","Бюджетные инвестиции на приобретение объектов недвижимого имущества в государственную (муниципальную) собственность",null,null,null,null,0,0,0]
[15,"Военкомат","601","02","03","9900051180","121",1882.9,0,1882.9,0,null,0,"60102039900051180Фонд оплаты труда государственных (муниципальных) органов и взносы по обязательному социальному страхованию","Военкомат","ку","121","Фонд оплаты труда государственных (муниципальных) органов и взносы по обязательному социальному страхованию",null,null,null,null,0,0,0]
[15,"Военкомат","601","02","03","9900051180","129",568.59999999999991,0,568.59999999999991,0,null,0,"60102039900051180Взносы по обязательному социальному страхованию на выплату денежного содержания и иные выплаты работникам государственных (муниципальных) органов","Военкомат","ку","129","Взносы по обязательному социальному страхованию на выплату денежного содержания и иные выплаты работникам государственных (муниципальных) органов",null,null,null,null,0,0,0]
[15,"Военкомат","601","02","03","9900051180","122",0,0,0,0,null,0,"60102039900051180Иные выплаты персоналу государственных (муниципальных) органов, за исключением фонда оплаты труда","Военкомат","ку","122","Иные выплаты персоналу государственных (муниципальных) органов, за исключением фонда оплаты труда",null,null,null,null,0,0,0]
[15,"Военкомат","601","02","03","9900051180","244",201.2999999999999,0,201.2999999999999,0,null,0,"60102039900051180Прочая закупка товаров, работ и услуг для обеспечения государственных (муниципальных) нужд","Военкомат","ку","244","Прочая закупка товаров, работ и услуг для обеспечения государственных (муниципальных) нужд",null,null,null,null,0,0,0]
[15,"Военкомат","601","02","03","9900051180","412",0,0,0,0,null,0,"60102039900051180Бюджетные инвестиции на приобретение объектов недвижимого имущества в государственную (муниципальную) собственность","Военкомат","ку","412","Бюджетные инвестиции на приобретение объектов недвижимого имущества в государственную (муниципальную) собственность",null,null,null,null,0,0,0]
[16,"МЧС","601","03","09","0720107420",{"$f":"IF(P80=\"бу\",611,Q80)","v":"244"},100,100,0,100,null,100,{"$f":"C80&D80&E80&F80&R80","v":"60103090720107420Прочая закупка товаров, работ и услуг для обеспечения государственных (муниципальных) нужд"},"МЧС","ку","244","Прочая закупка товаров, работ и услуг для обеспечения государственных (муниципальных) нужд",null,null,null,null,{"$f":"K80-I80","v":0},{"$f":"H80-(I80+J80)","v":0},{"$f":"I80-K80","v":0}]
[17,"ОПОП","601","03","14","0610110990","111",334,334,0,334,null,334,"60103140610110990Фонд оплаты труда казенных учреждений и взносы по обязательному социальному страхованию","ОПОП","ку","111","Фонд оплаты труда казенных учреждений и взносы по обязательному социальному страхованию",null,null,null,null,0,0,0]
[17,"ОПОП","601","03","14","0610110990","119",101,101,0,101,null,101,"60103140610110990Взносы по обязательному социальному страхованию на выплаты по оплате труда работников и иные выплаты работникам учреждений","ОПОП","ку","119","Взносы по обязательному социальному страхованию на выплаты по оплате труда работников и иные выплаты работникам учреждений",null,null,null,null,0,0,0]
[17,"ОПОП","601","03","14","0610110990","112",0,0,0,0,null,0,"60103140610110990Иные выплаты персоналу казенных учреждений, за исключением фонда оплаты труда","ОПОП","ку","112","Иные выплаты персоналу казенных учреждений, за исключением фонда оплаты труда",null,null,null,null,0,0,0]
[17,"ОПОП","601","03","14","0610110990","244",86.299999999999955,86.299999999999955,0,86.299999999999955,null,{"$f":"SUM(K84:L84)","v":86.299999999999955},"60103140610110990Прочая закупка товаров, работ и услуг для обеспечения государственных (муниципальных) нужд","ОПОП","ку","244","Прочая закупка товаров, работ и услуг для обеспечения государственных (муниципальных) нужд",null,null,null,null,0,0,0]
[18,"Экология","605","06","03","0910119100","244",1528,1528,0,1528,null,1528,"60506030910119100Прочая закупка товаров, работ и услуг для обеспечения государственных (муниципальных) нужд","Экология","ку","244","Прочая закупка товаров, работ и услуг для обеспечения государственных (муниципальных) нужд",null,null,null,null,0,0,0]
[18,"Экология","605","06","03","0910119100","412",0,0,0,0,null,0,"60506030910119100Бюджетные инвестиции на приобретение объектов недвижимого имущества в государственную (муниципальную) собственность","Экология","ку","412","Бюджетные инвестиции на приобретение объектов недвижимого имущества в государственную (муниципальную) собственность",null,null,null,null,0,0,0]
[19,"Капремонт жилфонда","601","05","01","0490176030","244",2060,0,2060,0,null,0,"60105010490176030Прочая закупка товаров, работ и услуг для обеспечения государственных (муниципальных) нужд","Капремонт жилфонда","ку","244","Прочая закупка товаров, работ и услуг для обеспечения государственных (муниципальных) нужд",null,null,null,null,0,0,0]
[20,"Инвентаризация жилого фонда","601","05","01","0480476040","244",15107,15107,0,15107,null,15107,"60105010480476040Прочая закупка товаров, работ и услуг для обеспечения государственных (муниципальных) нужд","Инвентаризация жилого фонда","ку","244","Прочая закупка товаров, работ и услуг для обеспечения государственных (муниципальных) нужд",null,null,null,null,0,0,0]
[21,"Подпрограмма «Повышение безопасности дорожного движения Кукморского муниципального района Республики Татарстан на 2015 год»","601","05","03","0620178020","244",1500,1500,0,1500,null,1500,"60105030620178020Прочая закупка товаров, работ и услуг для обеспечения государственных (муниципальных) нужд","Подпрограмма «Повышение безопасности дорожного движения Кукморского муниципального района Республики Татарстан на 2015 год»","ку","244","Прочая закупка товаров, работ и услуг для обеспечения государственных (муниципальных) нужд",null,null,null,null,0,0,0]
[22,"Уличное освещение","601","05","03","0490278010","244",13458.599999999997,0,13458.599999999997,0,null,0,"60105030490278010Прочая закупка товаров, работ и услуг для обеспечения государственных (муниципальных) нужд","Уличное освещение","ку","244","Прочая закупка товаров, работ и услуг для обеспечения государственных (муниципальных) нужд",null,null,null,null,0,0,0]
[23,"Содержание автомобильных дорог","601","04","09","0490278020","244",24822.200000000008,3717.2,21105.000000000007,3717.2,null,3717.2,"60104090490278020Прочая закупка товаров, работ и услуг для обеспечения государственных (муниципальных) нужд","Содержание автомобильных дорог","ку","244","Прочая закупка товаров, работ и услуг для обеспечения государственных (муниципальных) нужд",null,null,null,null,0,0,0]
[24,"Озеленение","601","05","03","0490278030","244",2000,0,2000,0,null,0,"60105030490278030Прочая закупка товаров, работ и услуг для обеспечения государственных (муниципальных) нужд","Озеленение","ку","244","Прочая закупка товаров, работ и услуг для обеспечения государственных (муниципальных) нужд",null,null,null,null,0,0,0]
[25,"Муниципальная программа \"Организация и содержаение мест захоронения\"","601","05","03","0490278040","244",1155,1155,0,1155,null,1155,"60105030490278040Прочая закупка товаров, работ и услуг для обеспечения государственных (муниципальных) нужд","Муниципальная программа \"Организация и содержаение мест захоронения\"","ку","244","Прочая закупка товаров, работ и услуг для обеспечения государственных (муниципальных) нужд",null,null,null,null,0,0,0]
[26,"Прочие мероприятия по благоустройству","601","05","03","0490278050","244",5634.7099999999991,0,5634.7099999999991,0,null,0,"60105030490278050Прочая закупка товаров, работ и услуг для обеспечения государственных (муниципальных) нужд","Прочие мероприятия по благоустройству","ку","244","Прочая закупка товаров, работ и услуг для обеспечения государственных (муниципальных) нужд",null,null,null,null,0,0,0]
[27,"Водонапорные башни","601","05","02","0490378050","244",0,0,0,0,null,0,"60105020490378050Прочая закупка товаров, работ и услуг для обеспечения государственных (муниципальных) нужд","Водонапорные башни","ку","244","Прочая закупка товаров, работ и услуг для обеспечения государственных (муниципальных) нужд",null,null,null,null,0,0,0]
[28,"Субвенция по соглашениям (КРЖФ)","605","05","01","9900025600","540",{"$f":"SUM(I96:J96)","v":4603.09},0,{"$f":"4388+215.09","v":4603.09},0,null,0,"60505019900025600Иные межбюджетные трансферты","Субвенция по соглашениям (КРЖФ)","ку","540","Иные межбюджетные трансферты",null,null,null,null,0,0,0]
[29,"Детсады","611","07","01","0210342000",611,69938.194910000035,69938.194910000035,0,69938.194910000035,null,69938.194910000035,"61107010210342000Субсидии бюджетным учреждениям на финансовое обеспечение государственного (муниципального) задания на оказание государственных (муниципальных) услуг (выполнение работ)","Детсады","бу","111","Субсидии бюджетным учреждениям на финансовое обеспечение государственного (муниципального) задания на оказание государственных (муниципальных) услуг (выполнение работ)",null,null,null,null,0,0,0]
[29,"Детсады","611","07","01","0210342000",611,21119.775130000009,21119.775130000009,0,21119.775130000009,null,21119.775130000009,"61107010210342000Субсидии бюджетным учреждениям на финансовое обеспечение государственного (муниципального) задания на оказание государственных (муниципальных) услуг (выполнение работ)","Детсады","бу","119","Субсидии бюджетным учреждениям на финансовое обеспечение государственного (муниципального) задания на оказание государственных (муниципальных) услуг (выполнение работ)",null,null,null,null,0,0,0]
[29,"Детсады","611","07","01","0210342000",611,300,300,0,300,null,300,"61107010210342000Субсидии бюджетным учреждениям на финансовое обеспечение государственного (муниципального) задания на оказание государственных (муниципальных) услуг (выполнение работ)","Детсады","бу","112","Субсидии бюджетным учреждениям на финансовое обеспечение государственного (муниципального) задания на оказание государственных (муниципальных) услуг (выполнение работ)",null,null,null,null,0,0,0]
[29,"Детсады","611","07","01","0210342000",611,8410.9950799999951,8410.9950799999951,0,8410.9950799999951,null,8410.9950799999951,"61107010210342000Субсидии бюджетным учреждениям на финансовое обеспечение государственного (муниципального) задания на оказание государственных (муниципальных) услуг (выполнение работ)","Детсады","бу","244","Субсидии бюджетным учреждениям на финансовое обеспечение государственного (муниципального) задания на оказание государственных (муниципальных) услуг (выполнение работ)",null,null,null,null,0,0,0]
[29,"Детсады","611","07","01","0210342000",611,0,0,0,0,null,0,"61107010210342000Субсидии бюджетным учреждениям на финансовое обеспечение государственного (муниципального) задания на оказание государственных (муниципальных) услуг (выполнение работ)","Детсады","бу","412","Субсидии бюджетным учреждениям на финансовое обеспечение государственного (муниципального) задания на оказание государственных (муниципальных) услуг (выполнение работ)",null,null,null,null,0,0,0]
[29,"Детсады","611","07","01","0210342000",611,6717,6717,0,6717,null,6717,"61107010210342000Субсидии бюджетным учреждениям на финансовое обеспечение государственного (муниципального) задания на оказание государственных (муниципальных) услуг (выполнение работ)","Детсады","бу","851","Субсидии бюджетным учреждениям на финансовое обеспечение государственного (муниципального) задания на оказание государственных (муниципальных) услуг (выполнение работ)",null,null,null,null,0,0,0]
[29,"Детсады","611","07","01","0210342000",611,250,250,0,250,null,250,"61107010210342000Субсидии бюджетным учреждениям на финансовое обеспечение государственного (муниципального) задания на оказание государственных (муниципальных) услуг (выполнение работ)","Детсады","бу","852","Субсидии бюджетным учреждениям на финансовое обеспечение государственного (муниципального) задания на оказание государственных (муниципальных) услуг (выполнение работ)",null,null,null,null,0,0,0]
[30,"Школы","611","07","02","0220242100",611,118433.50375999999,118433.50375999999,0,118433.50375999999,null,118433.50375999999,"61107020220242100Субсидии бюджетным учреждениям на финансовое обеспечение государственного (муниципального) задания на оказание государственных (муниципальных) услуг (выполнение работ)","Школы","бу","111","Субсидии бюджетным учреждениям на финансовое обеспечение государственного (муниципального) задания на оказание государственных (муниципальных) услуг (выполнение работ)",null,null,null,null,0,0,0]
[30,"Школы","611","07","02","0220242100",611,35765.730139999992,35765.730139999992,0,35765.730139999992,null,35765.730139999992,"61107020220242100Субсидии бюджетным учреждениям на финансовое обеспечение государственного (муниципального) задания на оказание государственных (муниципальных) услуг (выполнение работ)","Школы","бу","119","Субсидии бюджетным учреждениям на финансовое обеспечение государственного (муниципального) задания на оказание государственных (муниципальных) услуг (выполнение работ)",null,null,null,null,0,0,0]
[30,"Школы","611","07","02","0220242100",611,700,700,0,700,null,700,"61107020220242100Субсидии бюджетным учреждениям на финансовое обеспечение государственного (муниципального) задания на оказание государственных (муниципальных) услуг (выполнение работ)","Школы","бу","112","Субсидии бюджетным учреждениям на финансовое обеспечение государственного (муниципального) задания на оказание государственных (муниципальных) услуг (выполнение работ)",null,null,null,null,0,0,0]
[30,"Школы","611","07","02","0220242100",611,71708.373189999984,71708.373189999984,0,71708.373189999984,null,71708.373189999984,"61107020220242100Субсидии бюджетным учреждениям на финансовое обеспечение государственного (муниципального) задания на оказание государственных (муниципальных) услуг (выполнение работ)","Школы","бу","244","Субсидии бюджетным учреждениям на финансовое обеспечение государственного (муниципального) задания на оказание государственных (муниципальных) услуг (выполнение работ)",null,null,null,null,0,0,0]
[30,"Школы","611","07","02","0220242100",611,0,0,0,0,null,0,"61107020220242100Субсидии бюджетным учреждениям на финансовое обеспечение государственного (муниципального) задания на оказание государственных (муниципальных) услуг (выполнение работ)","Школы","бу","412","Субсидии бюджетным учреждениям на финансовое обеспечение государственного (муниципального) задания на оказание государственных (муниципальных) услуг (выполнение работ)",null,null,null,null,0,0,0]
[30,"Школы","611","07","02","0220242100",611,14258.39,14258.39,0,14258.39,null,14258.39,"61107020220242100Субсидии бюджетным учреждениям на финансовое обеспечение государственного (муниципального) задания на оказание государственных (муниципальных) услуг (выполнение работ)","Школы","бу","851","Субсидии бюджетным учреждениям на финансовое обеспечение государственного (муниципального) задания на оказание государственных (муниципальных) услуг (выполнение работ)",null,null,null,null,0,0,0]
[30,"Школы","611","07","02","0220242100",611,598.70000000000005,598.70000000000005,0,598.70000000000005,null,598.70000000000005,"61107020220242100Субсидии бюджетным учреждениям на финансовое обеспечение государственного (муниципального) задания на оказание государственных (муниципальных) услуг (выполнение работ)","Школы","бу","852","Субсидии бюджетным учреждениям на финансовое обеспечение государственного (муниципального) задания на оказание государственных (муниципальных) услуг (выполнение работ)",null,null,null,null,0,0,0]
[31,"Учреждения по внешкольной работе (МП)","611","07","03","0230142310",611,13707.65928,13707.65928,0,13707.65928,null,13707.65928,"61107030230142310Субсидии бюджетным учреждениям на финансовое обеспечение государственного (муниципального) задания на оказание государственных (муниципальных) услуг (выполнение работ)","Учреждения по внешкольной работе (МП)","бу","111","Субсидии бюджетным учреждениям на финансовое обеспечение государственного (муниципального) задания на оказание государственных (муниципальных) услуг (выполнение работ)",null,null,null,null,0,0,0]
[31,"Учреждения по внешкольной работе (МП)","611","07","03","0230142310",611,4139.7130999999999,4139.7130999999999,0,4139.7130999999999,null,4139.7130999999999,"61107030230142310Субсидии бюджетным учреждениям на финансовое обеспечение государственного (муниципального) задания на оказание государственных (муниципальных) услуг (выполнение работ)","Учреждения по внешкольной работе (МП)","бу","119","Субсидии бюджетным учреждениям на финансовое обеспечение государственного (муниципального) задания на оказание государственных (муниципальных) услуг (выполнение работ)",null,null,null,null,0,0,0]
[31,"Учреждения по внешкольной работе (МП)","611","07","03","0230142310",611,95.88479000000001,95.88479000000001,0,95.88479000000001,null,95.88479000000001,"61107030230142310Субсидии бюджетным учреждениям на финансовое обеспечение государственного (муниципального) задания на оказание государственных (муниципальных) услуг (выполнение работ)","Учреждения по внешкольной работе (МП)","бу","112","Субсидии бюджетным учреждениям на финансовое обеспечение государственного (муниципального) задания на оказание государственных (муниципальных) услуг (выполнение работ)",null,null,null,null,0,0,0]
[31,"Учреждения по внешкольной работе (МП)","611","07","03","0230142310",611,2141.54162,2141.54162,0,2141.54162,null,2141.54162,"61107030230142310Субсидии бюджетным учреждениям на финансовое обеспечение государственного (муниципального) задания на оказание государственных (муниципальных) услуг (выполнение работ)","Учреждения по внешкольной работе (МП)","бу","244","Субсидии бюджетным учреждениям на финансовое обеспечение государственного (муниципального) задания на оказание государственных (муниципальных) услуг (выполнение работ)",null,null,null,null,0,0,0]
[31,"Учреждения по внешкольной работе (МП)","611","07","03","0230142310",611,0,0,0,0,null,0,"61107030230142310Субсидии бюджетным учреждениям на финансовое обеспечение государственного (муниципального) задания на оказание государственных (муниципальных) услуг (выполнение работ)","Учреждения по внешкольной работе (МП)","бу","412","Субсидии бюджетным учреждениям на финансовое обеспечение государственного (муниципального) задания на оказание государственных (муниципальных) услуг (выполнение работ)",null,null,null,null,0,0,0]
[31,"Учреждения по внешкольной работе (МП)","611","07","03","0230142310",611,763.90000000000009,763.90000000000009,0,763.90000000000009,null,763.90000000000009,"61107030230142310Субсидии бюджетным учреждениям на финансовое обеспечение государственного (муниципального) задания на оказание государственных (муниципальных) услуг (выполнение работ)","Учреждения по внешкольной работе (МП)","бу","851","Субсидии бюджетным учреждениям на финансовое обеспечение государственного (муниципального) задания на оказание государственных (муниципальных) услуг (выполнение работ)",null,null,null,null,0,0,0]
[31,"Учреждения по внешкольной работе (МП)","611","07","03","0230142310",611,2.5,2.5,0,2.5,null,2.5,"61107030230142310Субсидии бюджетным учреждениям на финансовое обеспечение государственного (муниципального) задания на оказание государственных (муниципальных) услуг (выполнение работ)","Учреждения по внешкольной работе (МП)","бу","852","Субсидии бюджетным учреждениям на финансовое обеспечение государственного (муниципального) задания на оказание государственных (муниципальных) услуг (выполнение работ)",null,null,null,null,0,0,0]
[32,"Учреждения по внешкольной работе (ХЭН)","613","07","03","0230142320",611,14112.165359999999,14112.165359999999,0,14112.165359999999,null,14112.165359999999,"61307030230142320Субсидии бюджетным учреждениям на финансовое обеспечение государственного (муниципального) задания на оказание государственных (муниципальных) услуг (выполнение работ)","Учреждения по внешкольной работе (ХЭН)","бу","111","Субсидии бюджетным учреждениям на финансовое обеспечение государственного (муниципального) задания на оказание государственных (муниципальных) услуг (выполнение работ)",null,null,null,null,0,0,0]
[32,"Учреждения по внешкольной работе (ХЭН)","613","07","03","0230142320",611,4261.8739400000004,4261.8739400000004,0,4261.8739400000004,null,4261.8739400000004,"61307030230142320Субсидии бюджетным учреждениям на финансовое обеспечение государственного (муниципального) задания на оказание государственных (муниципальных) услуг (выполнение работ)","Учреждения по внешкольной работе (ХЭН)","бу","119","Субсидии бюджетным учреждениям на финансовое обеспечение государственного (муниципального) задания на оказание государственных (муниципальных) услуг (выполнение работ)",null,null,null,null,0,0,0]
[32,"Учреждения по внешкольной работе (ХЭН)","613","07","03","0230142320",611,0,0,0,0,null,0,"61307030230142320Субсидии бюджетным учреждениям на финансовое обеспечение государственного (муниципального) задания на оказание государственных (муниципальных) услуг (выполнение работ)","Учреждения по внешкольной работе (ХЭН)","бу","112","Субсидии бюджетным учреждениям на финансовое обеспечение государственного (муниципального) задания на оказание государственных (муниципальных) услуг (выполнение работ)",null,null,null,null,0,0,0]
[32,"Учреждения по внешкольной работе (ХЭН)","613","07","03","0230142320",611,339.48766000000023,339.48766000000023,0,339.48766000000023,null,339.48766000000023,"61307030230142320Субсидии бюджетным учреждениям на финансовое обеспечение государственного (муниципального) задания на оказание государственных (муниципальных) услуг (выполнение работ)","Учреждения по внешкольной работе (ХЭН)","бу","244","Субсидии бюджетным учреждениям на финансовое обеспечение государственного (муниципального) задания на оказание государственных (муниципальных) услуг (выполнение работ)",null,null,null,null,0,0,0]
[32,"Учреждения по внешкольной работе (ХЭН)","613","07","03","0230142320",611,0,0,0,0,null,0,"61307030230142320Субсидии бюджетным учреждениям на финансовое обеспечение государственного (муниципального) задания на оказание государственных (муниципальных) услуг (выполнение работ)","Учреждения по внешкольной работе (ХЭН)","бу","412","Субсидии бюджетным учреждениям на финансовое обеспечение государственного (муниципального) задания на оказание государственных (муниципальных) услуг (выполнение работ)",null,null,null,null,0,0,0]
[32,"Учреждения по внешкольной работе (ХЭН)","613","07","03","0230142320",611,0,0,0,0,null,0,"61307030230142320Субсидии бюджетным учреждениям на финансовое обеспечение государственного (муниципального) задания на оказание государственных (муниципальных) услуг (выполнение работ)","Учреждения по внешкольной работе (ХЭН)","бу","851","Субсидии бюджетным учреждениям на финансовое обеспечение государственного (муниципального) задания на оказание государственных (муниципальных) услуг (выполнение работ)",null,null,null,null,0,0,0]
[32,"Учреждения по внешкольной работе (ХЭН)","613","07","03","0230142320",611,0,0,0,0,null,0,"61307030230142320Субсидии бюджетным учреждениям на финансовое обеспечение государственного (муниципального) задания на оказание государственных (муниципальных) услуг (выполнение работ)","Учреждения по внешкольной работе (ХЭН)","бу","852","Субсидии бюджетным учреждениям на финансовое обеспечение государственного (муниципального) задания на оказание государственных (муниципальных) услуг (выполнение работ)",null,null,null,null,0,0,0]
[33,"Учреждения по внешкольной работе (ДЮСШ)","612","07","03","0230142330",611,22877.010119999999,22877.010119999999,0,22877.010119999999,null,22877.010119999999,"61207030230142330Субсидии бюджетным учреждениям на финансовое обеспечение государственного (муниципального) задания на оказание государственных (муниципальных) услуг (выполнение работ)","Учреждения по внешкольной работе (ДЮСШ)","бу","111","Субсидии бюджетным учреждениям на финансовое обеспечение государственного (муниципального) задания на оказание государственных (муниципальных) услуг (выполнение работ)",null,null,null,null,0,0,0]
[33,"Учреждения по внешкольной работе (ДЮСШ)","612","07","03","0230142330",611,6908.8570600000003,6908.8570600000003,0,6908.8570600000003,null,6908.8570600000003,"61207030230142330Субсидии бюджетным учреждениям на финансовое обеспечение государственного (муниципального) задания на оказание государственных (муниципальных) услуг (выполнение работ)","Учреждения по внешкольной работе (ДЮСШ)","бу","119","Субсидии бюджетным учреждениям на финансовое обеспечение государственного (муниципального) задания на оказание государственных (муниципальных) услуг (выполнение работ)",null,null,null,null,0,0,0]
[33,"Учреждения по внешкольной работе (ДЮСШ)","612","07","03","0230142330",611,0,0,0,0,null,0,"61207030230142330Субсидии бюджетным учреждениям на финансовое обеспечение государственного (муниципального) задания на оказание государственных (муниципальных) услуг (выполнение работ)","Учреждения по внешкольной работе (ДЮСШ)","бу","112","Субсидии бюджетным учреждениям на финансовое обеспечение государственного (муниципального) задания на оказание государственных (муниципальных) услуг (выполнение работ)",null,null,null,null,0,0,0]
[33,"Учреждения по внешкольной работе (ДЮСШ)","612","07","03","0230142330",611,13720.472749999988,13720.472749999988,0,13720.472749999988,null,13720.472749999988,"61207030230142330Субсидии бюджетным учреждениям на финансовое обеспечение государственного (муниципального) задания на оказание государственных (муниципальных) услуг (выполнение работ)","Учреждения по внешкольной работе (ДЮСШ)","бу","244","Субсидии бюджетным учреждениям на финансовое обеспечение государственного (муниципального) задания на оказание государственных (муниципальных) услуг (выполнение работ)",null,null,null,null,0,0,0]
[33,"Учреждения по внешкольной работе (ДЮСШ)","612","07","03","0230142330",611,0,0,0,0,null,{"$f":"SUM(K129:L129)","v":0},"61207030230142330Субсидии бюджетным учреждениям на финансовое обеспечение государственного (муниципального) задания на оказание государственных (муниципальных) услуг (выполнение работ)","Учреждения по внешкольной работе (ДЮСШ)","бу","412","Субсидии бюджетным учреждениям на финансовое обеспечение государственного (муниципального) задания на оказание государственных (муниципальных) услуг (выполнение работ)",null,null,null,null,0,0,0]
[33,"Учреждения по внешкольной работе (ДЮСШ)","612","07","03","0230142330",611,4531.1639399999995,4531.1639399999995,0,4531.1639399999995,null,4531.1639399999995,"61207030230142330Субсидии бюджетным учреждениям на финансовое обеспечение государственного (муниципального) задания на оказание государственных (муниципальных) услуг (выполнение работ)","Учреждения по внешкольной работе (ДЮСШ)","бу","851","Субсидии бюджетным учреждениям на финансовое обеспечение государственного (муниципального) задания на оказание государственных (муниципальных) услуг (выполнение работ)",null,null,null,null,0,0,0]
[33,"Учреждения по внешкольной работе (ДЮСШ)","612","07","03","0230142330",611,82.286999999999992,82.286999999999992,0,82.286999999999992,null,82.286999999999992,"61207030230142330Субсидии бюджетным учреждениям на финансовое обеспечение государственного (муниципального) задания на оказание государственных (муниципальных) услуг (выполнение работ)","Учреждения по внешкольной работе (ДЮСШ)","бу","852","Субсидии бюджетным учреждениям на финансовое обеспечение государственного (муниципального) задания на оказание государственных (муниципальных) услуг (выполнение работ)",null,null,null,null,0,0,0]
[34,"Субвенции на обеспечение прав на получение общедоступного и бесплатного дошкольного образования в муниципальных ДОУ","611","07","01","0210125370",611,63224,63224,0,63224,null,63224,"61107010210125370Субсидии бюджетным учреждениям на финансовое обеспечение государственного (муниципального) задания на оказание государственных (муниципальных) услуг (выполнение работ)","Субвенции на обеспечение прав на получение общедоступного и бесплатного дошкольного образования в муниципальных ДОУ","бу","111","Субсидии бюджетным учреждениям на финансовое обеспечение государственного (муниципального) задания на оказание государственных (муниципальных) услуг (выполнение работ)",null,null,null,null,0,0,0]
[34,"Субвенции на обеспечение прав на получение общедоступного и бесплатного дошкольного образования в муниципальных ДОУ","611","07","01","0210125370",611,19095.208000000013,19095.208000000013,0,19095.208000000013,null,19095.208000000013,"61107010210125370Субсидии бюджетным учреждениям на финансовое обеспечение государственного (муниципального) задания на оказание государственных (муниципальных) услуг (выполнение работ)","Субвенции на обеспечение прав на получение общедоступного и бесплатного дошкольного образования в муниципальных ДОУ","бу","119","Субсидии бюджетным учреждениям на финансовое обеспечение государственного (муниципального) задания на оказание государственных (муниципальных) услуг (выполнение работ)",null,null,null,null,0,0,0]
[34,"Субвенции на обеспечение прав на получение общедоступного и бесплатного дошкольного образования в муниципальных ДОУ","611","07","01","0210125370",611,4.5474735088646412E-13,4.5474735088646412E-13,0,4.5474735088646412E-13,null,4.5474735088646412E-13,"61107010210125370Субсидии бюджетным учреждениям на финансовое обеспечение государственного (муниципального) задания на оказание государственных (муниципальных) услуг (выполнение работ)","Субвенции на обеспечение прав на получение общедоступного и бесплатного дошкольного образования в муниципальных ДОУ","бу","244","Субсидии бюджетным учреждениям на финансовое обеспечение государственного (муниципального) задания на оказание государственных (муниципальных) услуг (выполнение работ)",null,null,null,null,0,0,0]
[34,"Субвенции на обеспечение прав на получение общедоступного и бесплатного дошкольного образования в муниципальных ДОУ","611","07","01","0210125370",611,0,0,0,0,null,0,"61107010210125370Субсидии бюджетным учреждениям на финансовое обеспечение государственного (муниципального) задания на оказание государственных (муниципальных) услуг (выполнение работ)","Субвенции на обеспечение прав на получение общедоступного и бесплатного дошкольного образования в муниципальных ДОУ","бу","412","Субсидии бюджетным учреждениям на финансовое обеспечение государственного (муниципального) задания на оказание государственных (муниципальных) услуг (выполнение работ)",null,null,null,null,0,0,0]
[35,"Субвенции на обеспечение госгарантий прав граждан на получение общего образования, а также доп.образования в общеобраз.учреждениях ","611","07","02","0220825280",611,217006,217006,0,217006,null,217006,"61107020220825280Субсидии бюджетным учреждениям на финансовое обеспечение государственного (муниципального) задания на оказание государственных (муниципальных) услуг (выполнение работ)","Субвенции на обеспечение госгарантий прав граждан на получение общего образования, а также доп.образования в общеобраз.учреждениях ","бу","111","Субсидии бюджетным учреждениям на финансовое обеспечение государственного (муниципального) задания на оказание государственных (муниципальных) услуг (выполнение работ)",null,null,null,null,0,0,0]
[35,"Субвенции на обеспечение госгарантий прав граждан на получение общего образования, а также доп.образования в общеобраз.учреждениях ","611","07","02","0220825280",611,65537.000000000015,65537.000000000015,0,65537.000000000015,null,65537.000000000015,"61107020220825280Субсидии бюджетным учреждениям на финансовое обеспечение государственного (муниципального) задания на оказание государственных (муниципальных) услуг (выполнение работ)","Субвенции на обеспечение госгарантий прав граждан на получение общего образования, а также доп.образования в общеобраз.учреждениях ","бу","119","Субсидии бюджетным учреждениям на финансовое обеспечение государственного (муниципального) задания на оказание государственных (муниципальных) услуг (выполнение работ)",null,null,null,null,0,0,0]
[35,"Субвенции на обеспечение госгарантий прав граждан на получение общего образования, а также доп.образования в общеобраз.учреждениях ","611","07","02","0220825280",611,-3.751665644813329E-12,-3.751665644813329E-12,0,-3.751665644813329E-12,null,-3.751665644813329E-12,"61107020220825280Субсидии бюджетным учреждениям на финансовое обеспечение государственного (муниципального) задания на оказание государственных (муниципальных) услуг (выполнение работ)","Субвенции на обеспечение госгарантий прав граждан на получение общего образования, а также доп.образования в общеобраз.учреждениях ","бу","244","Субсидии бюджетным учреждениям на финансовое обеспечение государственного (муниципального) задания на оказание государственных (муниципальных) услуг (выполнение работ)",null,null,null,null,0,0,0]
[35,"Субвенции на обеспечение госгарантий прав граждан на получение общего образования, а также доп.образования в общеобраз.учреждениях ","611","07","02","0220825280",611,0,0,0,0,null,0,"61107020220825280Субсидии бюджетным учреждениям на финансовое обеспечение государственного (муниципального) задания на оказание государственных (муниципальных) услуг (выполнение работ)","Субвенции на обеспечение госгарантий прав граждан на получение общего образования, а также доп.образования в общеобраз.учреждениях ","бу","412","Субсидии бюджетным учреждениям на финансовое обеспечение государственного (муниципального) задания на оказание государственных (муниципальных) услуг (выполнение работ)",null,null,null,null,0,0,0]
[36,"Программа государственной национальной политики, профилактики экстремизма и укрепления межнациональных и межконфессиональных отношений в Кукморском  муниципальном районе  на 2015-2020годы (УДМС)","612","07","07","2000110990","112",20,20,0,20,null,20,"61207072000110990Иные выплаты персоналу казенных учреждений, за исключением фонда оплаты труда","Программа государственной национальной политики, профилактики экстремизма и укрепления межнациональных и межконфессиональных отношений в Кукморском  муниципальном районе  на 2015-2020годы (УДМС)","ку","112","Иные выплаты персоналу казенных учреждений, за исключением фонда оплаты труда",null,null,null,null,0,0,0]
[36,"Программа государственной национальной политики, профилактики экстремизма и укрепления межнациональных и межконфессиональных отношений в Кукморском  муниципальном районе  на 2015-2020годы (УДМС)","612","07","07","2000110990","244",178,178,0,178,null,178,"61207072000110990Прочая закупка товаров, работ и услуг для обеспечения государственных (муниципальных) нужд","Программа государственной национальной политики, профилактики экстремизма и укрепления межнациональных и межконфессиональных отношений в Кукморском  муниципальном районе  на 2015-2020годы (УДМС)","ку","244","Прочая закупка товаров, работ и услуг для обеспечения государственных (муниципальных) нужд",null,null,null,null,0,0,0]
[36,"Программа государственной национальной политики, профилактики экстремизма и укрепления межнациональных и межконфессиональных отношений в Кукморском  муниципальном районе  на 2015-2020годы (УДМС)","612","07","07","2000110990","412",0,0,0,0,null,0,"61207072000110990Бюджетные инвестиции на приобретение объектов недвижимого имущества в государственную (муниципальную) собственность","Программа государственной национальной политики, профилактики экстремизма и укрепления межнациональных и межконфессиональных отношений в Кукморском  муниципальном районе  на 2015-2020годы (УДМС)","ку","412","Бюджетные инвестиции на приобретение объектов недвижимого имущества в государственную (муниципальную) собственность",null,null,null,null,0,0,0]
[37,"Муниципальная программа \"Развитие физической культуры, спорта в Кукморском муниципальном районе на 2009-2013 годы\"","612","07","07","1040143190",611,7473.6068400000004,7473.6068400000004,0,7473.6068400000004,null,7473.6068400000004,"61207071040143190Субсидии бюджетным учреждениям на финансовое обеспечение государственного (муниципального) задания на оказание государственных (муниципальных) услуг (выполнение работ)","Муниципальная программа \"Развитие физической культуры, спорта в Кукморском муниципальном районе на 2009-2013 годы\"","бу","111","Субсидии бюджетным учреждениям на финансовое обеспечение государственного (муниципального) задания на оказание государственных (муниципальных) услуг (выполнение работ)",null,null,null,null,0,0,0]
[37,"Муниципальная программа \"Развитие физической культуры, спорта в Кукморском муниципальном районе на 2009-2013 годы\"","612","07","07","1040143190",{"$f":"IF(P144=\"бу\",611,Q144)","v":611},2257.02927,2257.02927,0,2257.02927,null,2257.02927,{"$f":"C144&D144&E144&F144&R144","v":"61207071040143190Субсидии бюджетным учреждениям на финансовое обеспечение государственного (муниципального) задания на оказание государственных (муниципальных) услуг (выполнение работ)"},"Муниципальная программа \"Развитие физической культуры, спорта в Кукморском муниципальном районе на 2009-2013 годы\"","бу","119","Субсидии бюджетным учреждениям на финансовое обеспечение государственного (муниципального) задания на оказание государственных (муниципальных) услуг (выполнение работ)",null,null,null,null,{"$f":"K144-I144","v":0},{"$f":"H144-(I144+J144)","v":0},{"$f":"I144-K144","v":0}]
[37,"Муниципальная программа \"Развитие физической культуры, спорта в Кукморском муниципальном районе на 2009-2013 годы\"","612","07","07","1040143190",611,87.41,87.41,0,87.41,null,87.41,"61207071040143190Субсидии бюджетным учреждениям на финансовое обеспечение государственного (муниципального) задания на оказание государственных (муниципальных) услуг (выполнение работ)","Муниципальная программа \"Развитие физической культуры, спорта в Кукморском муниципальном районе на 2009-2013 годы\"","бу","112","Субсидии бюджетным учреждениям на финансовое обеспечение государственного (муниципального) задания на оказание государственных (муниципальных) услуг (выполнение работ)",null,null,null,null,0,0,0]
[37,"Муниципальная программа \"Развитие физической культуры, спорта в Кукморском муниципальном районе на 2009-2013 годы\"","612","07","07","1040143190",611,3384.3538900000012,3384.3538900000012,0,3384.3538900000012,null,3384.3538900000012,"61207071040143190Субсидии бюджетным учреждениям на финансовое обеспечение государственного (муниципального) задания на оказание государственных (муниципальных) услуг (выполнение работ)","Муниципальная программа \"Развитие физической культуры, спорта в Кукморском муниципальном районе на 2009-2013 годы\"","бу","244","Субсидии бюджетным учреждениям на финансовое обеспечение государственного (муниципального) задания на оказание государственных (муниципальных) услуг (выполнение работ)",null,null,null,null,0,0,0]
[37,"Муниципальная программа \"Развитие физической культуры, спорта в Кукморском муниципальном районе на 2009-2013 годы\"","612","07","07","1040143190",611,374.6,374.6,0,374.6,null,374.6,"61207071040143190Субсидии бюджетным учреждениям на финансовое обеспечение государственного (муниципального) задания на оказание государственных (муниципальных) услуг (выполнение работ)","Муниципальная программа \"Развитие физической культуры, спорта в Кукморском муниципальном районе на 2009-2013 годы\"","бу","412","Субсидии бюджетным учреждениям на финансовое обеспечение государственного (муниципального) задания на оказание государственных (муниципальных) услуг (выполнение работ)",null,null,null,null,0,0,0]
[37,"Муниципальная программа \"Развитие физической культуры, спорта в Кукморском муниципальном районе на 2009-2013 годы\"","612","07","07","1040143190",611,279.60000000000002,279.60000000000002,0,279.60000000000002,null,279.60000000000002,"61207071040143190Субсидии бюджетным учреждениям на финансовое обеспечение государственного (муниципального) задания на оказание государственных (муниципальных) услуг (выполнение работ)","Муниципальная программа \"Развитие физической культуры, спорта в Кукморском муниципальном районе на 2009-2013 годы\"","бу","851","Субсидии бюджетным учреждениям на финансовое обеспечение государственного (муниципального) задания на оказание государственных (муниципальных) услуг (выполнение работ)",null,null,null,null,0,0,0]
[37,"Муниципальная программа \"Развитие физической культуры, спорта в Кукморском муниципальном районе на 2009-2013 годы\"","612","07","07","1040143190",611,12.5,12.5,0,12.5,null,12.5,"61207071040143190Субсидии бюджетным учреждениям на финансовое обеспечение государственного (муниципального) задания на оказание государственных (муниципальных) услуг (выполнение работ)","Муниципальная программа \"Развитие физической культуры, спорта в Кукморском муниципальном районе на 2009-2013 годы\"","бу","852","Субсидии бюджетным учреждениям на финансовое обеспечение государственного (муниципального) задания на оказание государственных (муниципальных) услуг (выполнение работ)",null,null,null,null,0,0,0]
[38,"Программа государственной национальной политики, профилактики экстремизма и укрепления межнациональных и межконфессиональных отношений в Кукморском  муниципальном районе  на 2015-2020годы (Форпост)","612","07","07","1040143190","112",0,0,0,0,null,0,"61207071040143190Иные выплаты персоналу казенных учреждений, за исключением фонда оплаты труда","Программа государственной национальной политики, профилактики экстремизма и укрепления межнациональных и межконфессиональных отношений в Кукморском  муниципальном районе  на 2015-2020годы (Форпост)","ку","112","Иные выплаты персоналу казенных учреждений, за исключением фонда оплаты труда",null,null,null,null,0,0,0]
[38,"Программа государственной национальной политики, профилактики экстремизма и укрепления межнациональных и межконфессиональных отношений в Кукморском  муниципальном районе  на 2015-2020годы (Форпост)","612","07","07","1040143190","244",0,0,0,0,null,0,"61207071040143190Прочая закупка товаров, работ и услуг для обеспечения государственных (муниципальных) нужд","Программа государственной национальной политики, профилактики экстремизма и укрепления межнациональных и межконфессиональных отношений в Кукморском  муниципальном районе  на 2015-2020годы (Форпост)","ку","244","Прочая закупка товаров, работ и услуг для обеспечения государственных (муниципальных) нужд",null,null,null,null,0,0,0]
[38,"Программа государственной национальной политики, профилактики экстремизма и укрепления межнациональных и межконфессиональных отношений в Кукморском  муниципальном районе  на 2015-2020годы (Форпост)","612","07","07","1040143190","412",0,0,0,0,null,0,"61207071040143190Бюджетные инвестиции на приобретение объектов недвижимого имущества в государственную (муниципальную) собственность","Программа государственной национальной политики, профилактики экстремизма и укрепления межнациональных и межконфессиональных отношений в Кукморском  муниципальном районе  на 2015-2020годы (Форпост)","ку","412","Бюджетные инвестиции на приобретение объектов недвижимого имущества в государственную (муниципальную) собственность",null,null,null,null,0,0,0]
[39,"ИКМЦ","611","07","09","0220825301","111",3602.4903599999998,3602.4903599999998,0,3602.4903599999998,null,3602.4903599999998,"61107090220825301Фонд оплаты труда казенных учреждений и взносы по обязательному социальному страхованию","ИКМЦ","ку","111","Фонд оплаты труда казенных учреждений и взносы по обязательному социальному страхованию",null,null,null,null,0,0,0]
[39,"ИКМЦ","611","07","09","0220825301","119",1088,1088,0,1088,null,1088,"61107090220825301Взносы по обязательному социальному страхованию на выплаты по оплате труда работников и иные выплаты работникам учреждений","ИКМЦ","ку","119","Взносы по обязательному социальному страхованию на выплаты по оплате труда работников и иные выплаты работникам учреждений",null,null,null,null,0,0,0]
[39,"ИКМЦ","611","07","09","0220825301","112",12,12,0,12,null,12,"61107090220825301Иные выплаты персоналу казенных учреждений, за исключением фонда оплаты труда","ИКМЦ","ку","112","Иные выплаты персоналу казенных учреждений, за исключением фонда оплаты труда",null,null,null,null,0,0,0]
[39,"ИКМЦ","611","07","09","0220825301","244",370.40963999999985,370.40963999999985,0,370.40963999999985,null,370.40963999999985,"61107090220825301Прочая закупка товаров, работ и услуг для обеспечения государственных (муниципальных) нужд","ИКМЦ","ку","244","Прочая закупка товаров, работ и услуг для обеспечения государственных (муниципальных) нужд",null,null,null,null,0,0,0]
[39,"ИКМЦ","611","07","09","0220825301","412",0,0,0,0,null,0,"61107090220825301Бюджетные инвестиции на приобретение объектов недвижимого имущества в государственную (муниципальную) собственность","ИКМЦ","ку","412","Бюджетные инвестиции на приобретение объектов недвижимого имущества в государственную (муниципальную) собственность",null,null,null,null,0,0,0]
[39,"ИКМЦ","611","07","09","0220825301","851",0,0,0,0,null,0,"61107090220825301Уплата налога на имущество организаций и земельного налога","ИКМЦ","ку","851","Уплата налога на имущество организаций и земельного налога",null,null,null,null,0,0,0]
[39,"ИКМЦ","611","07","09","0220825301","852",0,0,0,0,null,0,"61107090220825301Уплата прочих налогов, сборов и иных платежей","ИКМЦ","ку","852","Уплата прочих налогов, сборов и иных платежей",null,null,null,null,0,0,0]
[40,"Услуги в образовании","611","07","09","0250242520","111",2181,2181,0,2181,null,2181,"61107090250242520Фонд оплаты труда казенных учреждений и взносы по обязательному социальному страхованию","Услуги в образовании","ку","111","Фонд оплаты труда казенных учреждений и взносы по обязательному социальному страхованию",null,null,null,null,0,0,0]
[40,"Услуги в образовании","611","07","09","0250242520","119",675.69195000000002,675.69195000000002,0,675.69195000000002,null,675.69195000000002,"61107090250242520Взносы по обязательному социальному страхованию на выплаты по оплате труда работников и иные выплаты работникам учреждений","Услуги в образовании","ку","119","Взносы по обязательному социальному страхованию на выплаты по оплате труда работников и иные выплаты работникам учреждений",null,null,null,null,0,0,0]
[40,"Услуги в образовании","611","07","09","0250242520","112",40,40,0,40,null,40,"61107090250242520Иные выплаты персоналу казенных учреждений, за исключением фонда оплаты труда","Услуги в образовании","ку","112","Иные выплаты персоналу казенных учреждений, за исключением фонда оплаты труда",null,null,null,null,0,0,0]
[40,"Услуги в образовании","611","07","09","0250242520","244",1085.549,1085.549,0,1085.549,null,1085.549,"61107090250242520Прочая закупка товаров, работ и услуг для обеспечения государственных (муниципальных) нужд","Услуги в образовании","ку","244","Прочая закупка товаров, работ и услуг для обеспечения государственных (муниципальных) нужд",null,null,null,null,0,0,0]
[40,"Услуги в образовании","611","07","09","0250242520","412",0,0,0,0,null,0,"61107090250242520Бюджетные инвестиции на приобретение объектов недвижимого имущества в государственную (муниципальную) собственность","Услуги в образовании","ку","412","Бюджетные инвестиции на приобретение объектов недвижимого имущества в государственную (муниципальную) собственность",null,null,null,null,0,0,0]
[40,"Услуги в образовании","611","07","09","0250242520","851",17,17,0,17,null,17,"61107090250242520Уплата налога на имущество организаций и земельного налога","Услуги в образовании","ку","851","Уплата налога на имущество организаций и земельного налога",null,null,null,null,0,0,0]
[40,"Услуги в образовании","611","07","09","0250242520","852",0,0,0,0,null,0,"61107090250242520Уплата прочих налогов, сборов и иных платежей","Услуги в образовании","ку","852","Уплата прочих налогов, сборов и иных платежей",null,null,null,null,0,0,0]
[41,"СДК,клубы","613","08","01","0840144091",611,53943.139239999997,53943.139239999997,0,53943.139239999997,null,53943.139239999997,"61308010840144091Субсидии бюджетным учреждениям на финансовое обеспечение государственного (муниципального) задания на оказание государственных (муниципальных) услуг (выполнение работ)","СДК,клубы","бу","111","Субсидии бюджетным учреждениям на финансовое обеспечение государственного (муниципального) задания на оказание государственных (муниципальных) услуг (выполнение работ)",null,null,null,null,0,0,0]
[41,"СДК,клубы","613","08","01","0840144091",611,16290.840259999999,16290.840259999999,0,16290.840259999999,null,16290.840259999999,"61308010840144091Субсидии бюджетным учреждениям на финансовое обеспечение государственного (муниципального) задания на оказание государственных (муниципальных) услуг (выполнение работ)","СДК,клубы","бу","119","Субсидии бюджетным учреждениям на финансовое обеспечение государственного (муниципального) задания на оказание государственных (муниципальных) услуг (выполнение работ)",null,null,null,null,0,0,0]
[41,"СДК,клубы","613","08","01","0840144091",611,586,586,0,586,null,586,"61308010840144091Субсидии бюджетным учреждениям на финансовое обеспечение государственного (муниципального) задания на оказание государственных (муниципальных) услуг (выполнение работ)","СДК,клубы","бу","112","Субсидии бюджетным учреждениям на финансовое обеспечение государственного (муниципального) задания на оказание государственных (муниципальных) услуг (выполнение работ)",null,null,null,null,0,0,0]
[41,"СДК,клубы","613","08","01","0840144091",611,18851.950000000008,18851.950000000008,0,18851.950000000008,null,18851.950000000008,"61308010840144091Субсидии бюджетным учреждениям на финансовое обеспечение государственного (муниципального) задания на оказание государственных (муниципальных) услуг (выполнение работ)","СДК,клубы","бу","244","Субсидии бюджетным учреждениям на финансовое обеспечение государственного (муниципального) задания на оказание государственных (муниципальных) услуг (выполнение работ)",null,null,null,null,0,0,0]
[41,"СДК,клубы","613","08","01","0840144091",611,0,0,0,0,null,0,"61308010840144091Субсидии бюджетным учреждениям на финансовое обеспечение государственного (муниципального) задания на оказание государственных (муниципальных) услуг (выполнение работ)","СДК,клубы","бу","412","Субсидии бюджетным учреждениям на финансовое обеспечение государственного (муниципального) задания на оказание государственных (муниципальных) услуг (выполнение работ)",null,null,null,null,0,0,0]
[41,"СДК,клубы","613","08","01","0840144091",611,5662.2000000000007,966.3,4695.9000000000005,966.3,null,966.3,"61308010840144091Субсидии бюджетным учреждениям на финансовое обеспечение государственного (муниципального) задания на оказание государственных (муниципальных) услуг (выполнение работ)","СДК,клубы","бу","851","Субсидии бюджетным учреждениям на финансовое обеспечение государственного (муниципального) задания на оказание государственных (муниципальных) услуг (выполнение работ)",null,null,null,null,0,0,0]
[41,"СДК,клубы","613","08","01","0840144091",611,56,56,0,56,null,56,"61308010840144091Субсидии бюджетным учреждениям на финансовое обеспечение государственного (муниципального) задания на оказание государственных (муниципальных) услуг (выполнение работ)","СДК,клубы","бу","852","Субсидии бюджетным учреждениям на финансовое обеспечение государственного (муниципального) задания на оказание государственных (муниципальных) услуг (выполнение работ)",null,null,null,null,0,0,0]
[42,"Музеи","613","08","01","0810144090",611,2494.1358,2494.1358,0,2494.1358,null,2494.1358,"61308010810144090Субсидии бюджетным учреждениям на финансовое обеспечение государственного (муниципального) задания на оказание государственных (муниципальных) услуг (выполнение работ)","Музеи","бу","111","Субсидии бюджетным учреждениям на финансовое обеспечение государственного (муниципального) задания на оказание государственных (муниципальных) услуг (выполнение работ)",null,null,null,null,0,0,0]
[42,"Музеи","613","08","01","0810144090",611,753.22901000000002,753.22901000000002,0,753.22901000000002,null,753.22901000000002,"61308010810144090Субсидии бюджетным учреждениям на финансовое обеспечение государственного (муниципального) задания на оказание государственных (муниципальных) услуг (выполнение работ)","Музеи","бу","119","Субсидии бюджетным учреждениям на финансовое обеспечение государственного (муниципального) задания на оказание государственных (муниципальных) услуг (выполнение работ)",null,null,null,null,0,0,0]
[42,"Музеи","613","08","01","0810144090",611,0,0,0,0,null,0,"61308010810144090Субсидии бюджетным учреждениям на финансовое обеспечение государственного (муниципального) задания на оказание государственных (муниципальных) услуг (выполнение работ)","Музеи","бу","112","Субсидии бюджетным учреждениям на финансовое обеспечение государственного (муниципального) задания на оказание государственных (муниципальных) услуг (выполнение работ)",null,null,null,null,0,0,0]
[42,"Музеи","613","08","01","0810144090",611,312.2641200000001,312.2641200000001,0,312.2641200000001,null,312.2641200000001,"61308010810144090Субсидии бюджетным учреждениям на финансовое обеспечение государственного (муниципального) задания на оказание государственных (муниципальных) услуг (выполнение работ)","Музеи","бу","244","Субсидии бюджетным учреждениям на финансовое обеспечение государственного (муниципального) задания на оказание государственных (муниципальных) услуг (выполнение работ)",null,null,null,null,0,0,0]
[42,"Музеи","613","08","01","0810144090",611,0,0,0,0,null,0,"61308010810144090Субсидии бюджетным учреждениям на финансовое обеспечение государственного (муниципального) задания на оказание государственных (муниципальных) услуг (выполнение работ)","Музеи","бу","412","Субсидии бюджетным учреждениям на финансовое обеспечение государственного (муниципального) задания на оказание государственных (муниципальных) услуг (выполнение работ)",null,null,null,null,0,0,0]
[42,"Музеи","613","08","01","0810144090",611,22.3,22.3,0,22.3,null,22.3,"61308010810144090Субсидии бюджетным учреждениям на финансовое обеспечение государственного (муниципального) задания на оказание государственных (муниципальных) услуг (выполнение работ)","Музеи","бу","851","Субсидии бюджетным учреждениям на финансовое обеспечение государственного (муниципального) задания на оказание государственных (муниципальных) услуг (выполнение работ)",null,null,null,null,0,0,0]
[42,"Музеи","613","08","01","0810144090",611,0.4,0.4,0,0.4,null,0.4,"61308010810144090Субсидии бюджетным учреждениям на финансовое обеспечение государственного (муниципального) задания на оказание государственных (муниципальных) услуг (выполнение работ)","Музеи","бу","852","Субсидии бюджетным учреждениям на финансовое обеспечение государственного (муниципального) задания на оказание государственных (муниципальных) услуг (выполнение работ)",null,null,null,null,0,0,0]
[43,"Библиотеки","613","08","01","0830144090",611,17387.583600000002,17387.583600000002,0,17387.583600000002,null,17387.583600000002,"61308010830144090Субсидии бюджетным учреждениям на финансовое обеспечение государственного (муниципального) задания на оказание государственных (муниципальных) услуг (выполнение работ)","Библиотеки","бу","111","Субсидии бюджетным учреждениям на финансовое обеспечение государственного (муниципального) задания на оказание государственных (муниципальных) услуг (выполнение работ)",null,null,null,null,0,0,0]
[43,"Библиотеки","613","08","01","0830144090",611,5251.0502500000002,5251.0502500000002,0,5251.0502500000002,null,5251.0502500000002,"61308010830144090Субсидии бюджетным учреждениям на финансовое обеспечение государственного (муниципального) задания на оказание государственных (муниципальных) услуг (выполнение работ)","Библиотеки","бу","119","Субсидии бюджетным учреждениям на финансовое обеспечение государственного (муниципального) задания на оказание государственных (муниципальных) услуг (выполнение работ)",null,null,null,null,0,0,0]
[43,"Библиотеки","613","08","01","0830144090",611,329,329,0,329,null,329,"61308010830144090Субсидии бюджетным учреждениям на финансовое обеспечение государственного (муниципального) задания на оказание государственных (муниципальных) услуг (выполнение работ)","Библиотеки","бу","112","Субсидии бюджетным учреждениям на финансовое обеспечение государственного (муниципального) задания на оказание государственных (муниципальных) услуг (выполнение работ)",null,null,null,null,0,0,0]
[43,"Библиотеки","613","08","01","0830144090",611,2024.3077199999971,2024.3077199999971,0,2024.3077199999971,null,2024.3077199999971,"61308010830144090Субсидии бюджетным учреждениям на финансовое обеспечение государственного (муниципального) задания на оказание государственных (муниципальных) услуг (выполнение работ)","Библиотеки","бу","244","Субсидии бюджетным учреждениям на финансовое обеспечение государственного (муниципального) задания на оказание государственных (муниципальных) услуг (выполнение работ)",null,null,null,null,0,0,0]
[43,"Библиотеки","613","08","01","0830144090",611,0,0,0,0,null,0,"61308010830144090Субсидии бюджетным учреждениям на финансовое обеспечение государственного (муниципального) задания на оказание государственных (муниципальных) услуг (выполнение работ)","Библиотеки","бу","412","Субсидии бюджетным учреждениям на финансовое обеспечение государственного (муниципального) задания на оказание государственных (муниципальных) услуг (выполнение работ)",null,null,null,null,0,0,0]
[43,"Библиотеки","613","08","01","0830144090",611,48,48,0,48,null,48,"61308010830144090Субсидии бюджетным учреждениям на финансовое обеспечение государственного (муниципального) задания на оказание государственных (муниципальных) услуг (выполнение работ)","Библиотеки","бу","851","Субсидии бюджетным учреждениям на финансовое обеспечение государственного (муниципального) задания на оказание государственных (муниципальных) услуг (выполнение работ)",null,null,null,null,0,0,0]
[43,"Библиотеки","613","08","01","0830144090",611,5,5,0,5,null,5,"61308010830144090Субсидии бюджетным учреждениям на финансовое обеспечение государственного (муниципального) задания на оказание государственных (муниципальных) услуг (выполнение работ)","Библиотеки","бу","852","Субсидии бюджетным учреждениям на финансовое обеспечение государственного (муниципального) задания на оказание государственных (муниципальных) услуг (выполнение работ)",null,null,null,null,0,0,0]
[44,"Книжные фонды","613","08","01","0830151440","244",0,0,0,0,null,0,"61308010830151440Прочая закупка товаров, работ и услуг для обеспечения государственных (муниципальных) нужд","Книжные фонды","ку","244","Прочая закупка товаров, работ и услуг для обеспечения государственных (муниципальных) нужд",null,null,null,null,0,0,0]
[44,"Книжные фонды","613","08","01","0830151440","412",0,0,0,0,null,0,"61308010830151440Бюджетные инвестиции на приобретение объектов недвижимого имущества в государственную (муниципальную) собственность","Книжные фонды","ку","412","Бюджетные инвестиции на приобретение объектов недвижимого имущества в государственную (муниципальную) собственность",null,null,null,null,0,0,0]
[45,"Субвенции на скотомогильники","601","04","05","2800125360","244",151.4,151.4,0,151.4,null,151.4,"60104052800125360Прочая закупка товаров, работ и услуг для обеспечения государственных (муниципальных) нужд","Субвенции на скотомогильники","ку","244","Прочая закупка товаров, работ и услуг для обеспечения государственных (муниципальных) нужд",null,null,null,null,0,0,0]
[45,"Субвенции на скотомогильники","601","04","05","2800125360","412",0,0,0,0,null,0,"60104052800125360Бюджетные инвестиции на приобретение объектов недвижимого имущества в государственную (муниципальную) собственность","Субвенции на скотомогильники","ку","412","Бюджетные инвестиции на приобретение объектов недвижимого имущества в государственную (муниципальную) собственность",null,null,null,null,0,0,0]
[46,"ЦГСЭН","601","09","07","0110202110","244",749.9,749.9,0,749.9,null,749.9,"60109070110202110Прочая закупка товаров, работ и услуг для обеспечения государственных (муниципальных) нужд","ЦГСЭН","ку","244","Прочая закупка товаров, работ и услуг для обеспечения государственных (муниципальных) нужд",null,null,null,null,0,0,0]
[47,"Муниципальная программа \"Развитие физической культуры, спорта в Кукморском муниципальном районе на 2009-2013 годы","612","11","02","1010112870","244",597.70000000000005,597.70000000000005,0,597.70000000000005,null,{"$f":"SUM(K193:L193)","v":597.70000000000005},"61211021010112870Прочая закупка товаров, работ и услуг для обеспечения государственных (муниципальных) нужд","Муниципальная программа \"Развитие физической культуры, спорта в Кукморском муниципальном районе на 2009-2013 годы","ку","244","Прочая закупка товаров, работ и услуг для обеспечения государственных (муниципальных) нужд",null,null,null,null,0,0,0]
[47,"Муниципальная программа \"Развитие физической культуры, спорта в Кукморском муниципальном районе на 2009-2013 годы","612","11","02","1010112870","412",0,0,0,0,null,0,"61211021010112870Бюджетные инвестиции на приобретение объектов недвижимого имущества в государственную (муниципальную) собственность","Муниципальная программа \"Развитие физической культуры, спорта в Кукморском муниципальном районе на 2009-2013 годы","ку","412","Бюджетные инвестиции на приобретение объектов недвижимого имущества в государственную (муниципальную) собственность",null,null,null,null,0,0,0]
[48,"Целевая программа Кукморского муниципального района \n«Доступная среда» на 2011-2015 годы","612","11","02","0360112870","244",385.5,385.5,0,385.5,null,385.5,"61211020360112870Прочая закупка товаров, работ и услуг для обеспечения государственных (муниципальных) нужд","Целевая программа Кукморского муниципального района \n«Доступная среда» на 2011-2015 годы","ку","244","Прочая закупка товаров, работ и услуг для обеспечения государственных (муниципальных) нужд",null,null,null,null,0,0,0]
[48,"Целевая программа Кукморского муниципального района \n«Доступная среда» на 2011-2015 годы","612","11","02","0360112870","412",0,0,0,0,null,0,"61211020360112870Бюджетные инвестиции на приобретение объектов недвижимого имущества в государственную (муниципальную) собственность","Целевая программа Кукморского муниципального района \n«Доступная среда» на 2011-2015 годы","ку","412","Бюджетные инвестиции на приобретение объектов недвижимого имущества в государственную (муниципальную) собственность",null,null,null,null,0,0,0]
[49,"Муниципальная программа по формированию здорового образа жизни, снижению потребления алкогольной продукции, пива и табака среди населения Кукморского муниципального района на 2011 - 2015 годы","612","11","02","1070112870","244",0,0,0,0,null,0,"61211021070112870Прочая закупка товаров, работ и услуг для обеспечения государственных (муниципальных) нужд","Муниципальная программа по формированию здорового образа жизни, снижению потребления алкогольной продукции, пива и табака среди населения Кукморского муниципального района на 2011 - 2015 годы","ку","244","Прочая закупка товаров, работ и услуг для обеспечения государственных (муниципальных) нужд",null,null,null,null,0,0,0]
[49,"Муниципальная программа по формированию здорового образа жизни, снижению потребления алкогольной продукции, пива и табака среди населения Кукморского муниципального района на 2011 - 2015 годы","612","11","02","1070112870","412",0,0,0,0,null,0,"61211021070112870Бюджетные инвестиции на приобретение объектов недвижимого имущества в государственную (муниципальную) собственность","Муниципальная программа по формированию здорового образа жизни, снижению потребления алкогольной продукции, пива и табака среди населения Кукморского муниципального района на 2011 - 2015 годы","ку","412","Бюджетные инвестиции на приобретение объектов недвижимого имущества в государственную (муниципальную) собственность",null,null,null,null,0,0,0]
[50,"Реализация госфункций","611","10","03","0310205510",611,7742,7742,0,7742,null,7742,"61110030310205510Субсидии бюджетным учреждениям на финансовое обеспечение государственного (муниципального) задания на оказание государственных (муниципальных) услуг (выполнение работ)","Реализация госфункций","бу","244","Субсидии бюджетным учреждениям на финансовое обеспечение государственного (муниципального) задания на оказание государственных (муниципальных) услуг (выполнение работ)",null,null,null,null,0,0,0]
[51,"Мероприятия в соцполитике","601","10","03","0310105410","244",643.4,643.4,0,643.4,null,643.4,"60110030310105410Прочая закупка товаров, работ и услуг для обеспечения государственных (муниципальных) нужд","Мероприятия в соцполитике","ку","244","Прочая закупка товаров, работ и услуг для обеспечения государственных (муниципальных) нужд",null,null,null,null,0,0,0]
[52,"Программа отдыха, оздоровления, занятости детей и молодежи Кукморского муниципального района на 2013 год ","612","07","07","1040143190",611,0,0,0,0,null,0,"61207071040143190Субсидии бюджетным учреждениям на финансовое обеспечение государственного (муниципального) задания на оказание государственных (муниципальных) услуг (выполнение работ)","Программа отдыха, оздоровления, занятости детей и молодежи Кукморского муниципального района на 2013 год ","бу","111","Субсидии бюджетным учреждениям на финансовое обеспечение государственного (муниципального) задания на оказание государственных (муниципальных) услуг (выполнение работ)",null,null,null,null,0,0,0]
[52,"Программа отдыха, оздоровления, занятости детей и молодежи Кукморского муниципального района на 2013 год ","612","07","07","1040143190",611,0,0,0,0,null,0,"61207071040143190Субсидии бюджетным учреждениям на финансовое обеспечение государственного (муниципального) задания на оказание государственных (муниципальных) услуг (выполнение работ)","Программа отдыха, оздоровления, занятости детей и молодежи Кукморского муниципального района на 2013 год ","бу","119","Субсидии бюджетным учреждениям на финансовое обеспечение государственного (муниципального) задания на оказание государственных (муниципальных) услуг (выполнение работ)",null,null,null,null,0,0,0]
[52,"Программа отдыха, оздоровления, занятости детей и молодежи Кукморского муниципального района на 2013 год ","612","07","07","1040143190",611,0,0,0,0,null,0,"61207071040143190Субсидии бюджетным учреждениям на финансовое обеспечение государственного (муниципального) задания на оказание государственных (муниципальных) услуг (выполнение работ)","Программа отдыха, оздоровления, занятости детей и молодежи Кукморского муниципального района на 2013 год ","бу","112","Субсидии бюджетным учреждениям на финансовое обеспечение государственного (муниципального) задания на оказание государственных (муниципальных) услуг (выполнение работ)",null,null,null,null,0,0,0]
[52,"Программа отдыха, оздоровления, занятости детей и молодежи Кукморского муниципального района на 2013 год ","612","07","07","1040143190",611,0,0,0,0,null,0,"61207071040143190Субсидии бюджетным учреждениям на финансовое обеспечение государственного (муниципального) задания на оказание государственных (муниципальных) услуг (выполнение работ)","Программа отдыха, оздоровления, занятости детей и молодежи Кукморского муниципального района на 2013 год ","бу","244","Субсидии бюджетным учреждениям на финансовое обеспечение государственного (муниципального) задания на оказание государственных (муниципальных) услуг (выполнение работ)",null,null,null,null,0,0,0]
[52,"Программа отдыха, оздоровления, занятости детей и молодежи Кукморского муниципального района на 2013 год ","612","07","07","1040143190",611,0,0,0,0,null,0,"61207071040143190Субсидии бюджетным учреждениям на финансовое обеспечение государственного (муниципального) задания на оказание государственных (муниципальных) услуг (выполнение работ)","Программа отдыха, оздоровления, занятости детей и молодежи Кукморского муниципального района на 2013 год ","бу","412","Субсидии бюджетным учреждениям на финансовое обеспечение государственного (муниципального) задания на оказание государственных (муниципальных) услуг (выполнение работ)",null,null,null,null,0,0,0]
[52,"Программа отдыха, оздоровления, занятости детей и молодежи Кукморского муниципального района на 2013 год ","612","07","07","1040143190",611,0,0,0,0,null,0,"61207071040143190Субсидии бюджетным учреждениям на финансовое обеспечение государственного (муниципального) задания на оказание государственных (муниципальных) услуг (выполнение работ)","Программа отдыха, оздоровления, занятости детей и молодежи Кукморского муниципального района на 2013 год ","бу","851","Субсидии бюджетным учреждениям на финансовое обеспечение государственного (муниципального) задания на оказание государственных (муниципальных) услуг (выполнение работ)",null,null,null,null,0,0,0]
[52,"Программа отдыха, оздоровления, занятости детей и молодежи Кукморского муниципального района на 2013 год ","612","07","07","1040143190",611,0,0,0,0,null,0,"61207071040143190Субсидии бюджетным учреждениям на финансовое обеспечение государственного (муниципального) задания на оказание государственных (муниципальных) услуг (выполнение работ)","Программа отдыха, оздоровления, занятости детей и молодежи Кукморского муниципального района на 2013 год ","бу","852","Субсидии бюджетным учреждениям на финансовое обеспечение государственного (муниципального) задания на оказание государственных (муниципальных) услуг (выполнение работ)",null,null,null,null,0,0,0]
[53,"Дотации на выполнение полномочий","605","14","01","1800380060",{"$f":"IF(P208=\"бу\",611,Q208)","v":"511"},1219.2000000000003,1219.2000000000003,0,1219.2000000000003,null,1219.2000000000003,{"$f":"C208&D208&E208&F208&R208","v":"60514011800380060Дотации на выравнивание бюджетной обеспеченности"},"Дотации на выполнение полномочий","ку","511","Дотации на выравнивание бюджетной обеспеченности",null,null,null,null,{"$f":"K208-I208","v":0},{"$f":"H208-(I208+J208)","v":0},{"$f":"I208-K208","v":0}]
[54,"Дотации на выравнивание уровня бюджетной обеспеченности","605","14","01","1800380040","511",26171.7,26171.7,0,26171.7,null,26171.7,"60514011800380040Дотации на выравнивание бюджетной обеспеченности","Дотации на выравнивание уровня бюджетной обеспеченности","ку","511","Дотации на выравнивание бюджетной обеспеченности",null,null,null,null,0,0,0]
[55,"Дотации по обсеспечению сбалансированности бюджетов","605","14","02","1800380040","512",1007.1000000000001,1007.1000000000001,0,1007.1000000000001,null,1007.1000000000001,"60514021800380040Иные дотации","Дотации по обсеспечению сбалансированности бюджетов","ку","512","Иные дотации",null,null,null,null,0,0,0]
[56,"Субвенция на выполнение федеральных  полномочий по государственной регистрации актов гражданского состояния","605","01","13","9900059300","530",0,0,0,0,null,0,"60501139900059300Субвенции","Субвенция на выполнение федеральных  полномочий по государственной регистрации актов гражданского состояния","ку","530","Субвенции",null,null,null,null,0,0,0]
[57,"Субвенция на первичный воинский учет","605","02","03","9900051180","530",2652.7999999999993,2652.7999999999993,0,2652.7999999999993,null,2652.7999999999993,"60502039900051180Субвенции","Субвенция на первичный воинский учет","ку","530","Субвенции",null,null,null,null,0,0,0]
[58,"Субвенция протоколы об адмнарушениях","601","01","13","9900025350","244",0.38,0.38,0,0.38,null,0.38,"60101139900025350Прочая закупка товаров, работ и услуг для обеспечения государственных (муниципальных) нужд","Субвенция протоколы об адмнарушениях","ку","244","Прочая закупка товаров, работ и услуг для обеспечения государственных (муниципальных) нужд",null,null,null,null,0,0,0]
[59,"Субвенции бюд.муниципальным районам и городских округов по реализации полномочий в области молодежной политики (управление)     ","612","01","04","9900025240","121",204.2,204.2,0,204.2,null,204.2,"61201049900025240Фонд оплаты труда государственных (муниципальных) органов и взносы по обязательному социальному страхованию","Субвенции бюд.муниципальным районам и городских округов по реализации полномочий в области молодежной политики (управление)     ","ку","121","Фонд оплаты труда государственных (муниципальных) органов и взносы по обязательному социальному страхованию",null,null,null,null,0,0,0]
[59,"Субвенции бюд.муниципальным районам и городских округов по реализации полномочий в области молодежной политики (управление)     ","612","01","04","9900025240","129",61.7,61.7,0,61.7,null,61.7,"61201049900025240Взносы по обязательному социальному страхованию на выплату денежного содержания и иные выплаты работникам государственных (муниципальных) органов","Субвенции бюд.муниципальным районам и городских округов по реализации полномочий в области молодежной политики (управление)     ","ку","129","Взносы по обязательному социальному страхованию на выплату денежного содержания и иные выплаты работникам государственных (муниципальных) органов",null,null,null,null,0,0,0]
[59,"Субвенции бюд.муниципальным районам и городских округов по реализации полномочий в области молодежной политики (управление)     ","612","01","04","9900025240","244",-1.4210854715202004E-14,-1.4210854715202004E-14,0,-1.4210854715202004E-14,null,-1.4210854715202004E-14,"61201049900025240Прочая закупка товаров, работ и услуг для обеспечения государственных (муниципальных) нужд","Субвенции бюд.муниципальным районам и городских округов по реализации полномочий в области молодежной политики (управление)     ","ку","244","Прочая закупка товаров, работ и услуг для обеспечения государственных (муниципальных) нужд",null,null,null,null,0,0,0]
[60,"Субвенции бюд.муниципальным районам и городских округов по реализации полномочий в области образования (управление)","611","01","04","0220825302","121",204.2,204.2,0,204.2,null,204.2,"61101040220825302Фонд оплаты труда государственных (муниципальных) органов и взносы по обязательному социальному страхованию","Субвенции бюд.муниципальным районам и городских округов по реализации полномочий в области образования (управление)","ку","121","Фонд оплаты труда государственных (муниципальных) органов и взносы по обязательному социальному страхованию",null,null,null,null,0,0,0]
[60,"Субвенции бюд.муниципальным районам и городских округов по реализации полномочий в области образования (управление)","611","01","04","0220825302","129",61.7,61.7,0,61.7,null,61.7,"61101040220825302Взносы по обязательному социальному страхованию на выплату денежного содержания и иные выплаты работникам государственных (муниципальных) органов","Субвенции бюд.муниципальным районам и городских округов по реализации полномочий в области образования (управление)","ку","129","Взносы по обязательному социальному страхованию на выплату денежного содержания и иные выплаты работникам государственных (муниципальных) органов",null,null,null,null,0,0,0]
[60,"Субвенции бюд.муниципальным районам и городских округов по реализации полномочий в области образования (управление)","611","01","04","0220825302","244",-1.4210854715202004E-14,-1.4210854715202004E-14,0,-1.4210854715202004E-14,null,-1.4210854715202004E-14,"61101040220825302Прочая закупка товаров, работ и услуг для обеспечения государственных (муниципальных) нужд","Субвенции бюд.муниципальным районам и городских округов по реализации полномочий в области образования (управление)","ку","244","Прочая закупка товаров, работ и услуг для обеспечения государственных (муниципальных) нужд",null,null,null,null,0,0,0]
[61,"Субвенции бюд. муниципальным районам и городских округов по реализации полномочий по образованию и организации деятельности комиссии по делам несовершеннолетних ","601","01","13","9900025260","111",374,374,0,374,null,374,"60101139900025260Фонд оплаты труда казенных учреждений и взносы по обязательному социальному страхованию","Субвенции бюд. муниципальным районам и городских округов по реализации полномочий по образованию и организации деятельности комиссии по делам несовершеннолетних ","ку","111","Фонд оплаты труда казенных учреждений и взносы по обязательному социальному страхованию",null,null,null,null,0,0,0]
[61,"Субвенции бюд. муниципальным районам и городских округов по реализации полномочий по образованию и организации деятельности комиссии по делам несовершеннолетних ","601","01","13","9900025260","119",113,113,0,113,null,113,"60101139900025260Взносы по обязательному социальному страхованию на выплаты по оплате труда работников и иные выплаты работникам учреждений","Субвенции бюд. муниципальным районам и городских округов по реализации полномочий по образованию и организации деятельности комиссии по делам несовершеннолетних ","ку","119","Взносы по обязательному социальному страхованию на выплаты по оплате труда работников и иные выплаты работникам учреждений",null,null,null,null,0,0,0]
[61,"Субвенции бюд. муниципальным районам и городских округов по реализации полномочий по образованию и организации деятельности комиссии по делам несовершеннолетних ","601","01","13","9900025260","112",0,0,0,0,null,0,"60101139900025260Иные выплаты персоналу казенных учреждений, за исключением фонда оплаты труда","Субвенции бюд. муниципальным районам и городских округов по реализации полномочий по образованию и организации деятельности комиссии по делам несовершеннолетних ","ку","112","Иные выплаты персоналу казенных учреждений, за исключением фонда оплаты труда",null,null,null,null,0,0,0]
[61,"Субвенции бюд. муниципальным районам и городских округов по реализации полномочий по образованию и организации деятельности комиссии по делам несовершеннолетних ","601","01","13","9900025260","244",40.700000000000045,40.700000000000045,0,40.700000000000045,null,40.700000000000045,"60101139900025260Прочая закупка товаров, работ и услуг для обеспечения государственных (муниципальных) нужд","Субвенции бюд. муниципальным районам и городских округов по реализации полномочий по образованию и организации деятельности комиссии по делам несовершеннолетних ","ку","244","Прочая закупка товаров, работ и услуг для обеспечения государственных (муниципальных) нужд",null,null,null,null,0,0,0]
[62,"Субвенции бюд. муниципальным районам и городских округов по реализации полномочий по образованию и организации деятельности административных комиссий","601","01","13","9900025270","111",195.1,195.1,0,195.1,null,195.1,"60101139900025270Фонд оплаты труда казенных учреждений и взносы по обязательному социальному страхованию","Субвенции бюд. муниципальным районам и городских округов по реализации полномочий по образованию и организации деятельности административных комиссий","ку","111","Фонд оплаты труда казенных учреждений и взносы по обязательному социальному страхованию",null,null,null,null,0,0,0]
[62,"Субвенции бюд. муниципальным районам и городских округов по реализации полномочий по образованию и организации деятельности административных комиссий","601","01","13","9900025270","119",58.9,58.9,0,58.9,null,58.9,"60101139900025270Взносы по обязательному социальному страхованию на выплаты по оплате труда работников и иные выплаты работникам учреждений","Субвенции бюд. муниципальным районам и городских округов по реализации полномочий по образованию и организации деятельности административных комиссий","ку","119","Взносы по обязательному социальному страхованию на выплаты по оплате труда работников и иные выплаты работникам учреждений",null,null,null,null,0,0,0]
[62,"Субвенции бюд. муниципальным районам и городских округов по реализации полномочий по образованию и организации деятельности административных комиссий","601","01","13","9900025270","112",0,0,0,0,null,0,"60101139900025270Иные выплаты персоналу казенных учреждений, за исключением фонда оплаты труда","Субвенции бюд. муниципальным районам и городских округов по реализации полномочий по образованию и организации деятельности административных комиссий","ку","112","Иные выплаты персоналу казенных учреждений, за исключением фонда оплаты труда",null,null,null,null,0,0,0]
[62,"Субвенции бюд. муниципальным районам и городских округов по реализации полномочий по образованию и организации деятельности административных комиссий","601","01","13","9900025270","244",7.1054273576010019E-15,7.1054273576010019E-15,0,7.1054273576010019E-15,null,7.1054273576010019E-15,"60101139900025270Прочая закупка товаров, работ и услуг для обеспечения государственных (муниципальных) нужд","Субвенции бюд. муниципальным районам и городских округов по реализации полномочий по образованию и организации деятельности административных комиссий","ку","244","Прочая закупка товаров, работ и услуг для обеспечения государственных (муниципальных) нужд",null,null,null,null,0,0,0]
[63,"Субвенции на опеку и попечительство","601","01","13","0350325330","111",551.5,551.5,0,551.5,null,551.5,"60101130350325330Фонд оплаты труда казенных учреждений и взносы по обязательному социальному страхованию","Субвенции на опеку и попечительство","ку","111","Фонд оплаты труда казенных учреждений и взносы по обязательному социальному страхованию",null,null,null,null,0,0,0]
[63,"Субвенции на опеку и попечительство","601","01","13","0350325330","119",166.6,166.6,0,166.6,null,166.6,"60101130350325330Взносы по обязательному социальному страхованию на выплаты по оплате труда работников и иные выплаты работникам учреждений","Субвенции на опеку и попечительство","ку","119","Взносы по обязательному социальному страхованию на выплаты по оплате труда работников и иные выплаты работникам учреждений",null,null,null,null,0,0,0]
[63,"Субвенции на опеку и попечительство","601","01","13","0350325330","112",0,0,0,0,null,0,"60101130350325330Иные выплаты персоналу казенных учреждений, за исключением фонда оплаты труда","Субвенции на опеку и попечительство","ку","112","Иные выплаты персоналу казенных учреждений, за исключением фонда оплаты труда",null,null,null,null,0,0,0]
[63,"Субвенции на опеку и попечительство","601","01","13","0350325330","244",25.000000000000028,25.000000000000028,0,25.000000000000028,null,25.000000000000028,"60101130350325330Прочая закупка товаров, работ и услуг для обеспечения государственных (муниципальных) нужд","Субвенции на опеку и попечительство","ку","244","Прочая закупка товаров, работ и услуг для обеспечения государственных (муниципальных) нужд",null,null,null,null,0,0,0]
[63,"Субвенции на опеку и попечительство","601","01","13","0350325330","412",0,0,0,0,null,0,"60101130350325330Бюджетные инвестиции на приобретение объектов недвижимого имущества в государственную (муниципальную) собственность","Субвенции на опеку и попечительство","ку","412","Бюджетные инвестиции на приобретение объектов недвижимого имущества в государственную (муниципальную) собственность",null,null,null,null,0,0,0]
[64,"Субвенции на гос.полномочия в области архивного дела","601","01","13","9900025340","244",55.9,55.9,0,55.9,null,55.9,"60101139900025340Прочая закупка товаров, работ и услуг для обеспечения государственных (муниципальных) нужд","Субвенции на гос.полномочия в области архивного дела","ку","244","Прочая закупка товаров, работ и услуг для обеспечения государственных (муниципальных) нужд",null,null,null,null,0,0,0]
[65,"Субвенции на ведение регистра","601","01","13","2410125390",111,2.4,2.4,0,2.4,null,{"$f":"SUM(K234:L234)","v":2.4},"60101132410125390Прочая закупка товаров, работ и услуг для обеспечения государственных (муниципальных) нужд","Субвенции на ведение регистра","ку","244","Прочая закупка товаров, работ и услуг для обеспечения государственных (муниципальных) нужд",null,null,null,null,0,0,0]
[65,"Субвенции на ведение регистра","601","01","13","2410125390",119,0.7,0.7,0,0.7,null,{"$f":"SUM(K235:L235)","v":0.7},"60101132410125390Прочая закупка товаров, работ и услуг для обеспечения государственных (муниципальных) нужд","Субвенции на ведение регистра","ку","244","Прочая закупка товаров, работ и услуг для обеспечения государственных (муниципальных) нужд",null,null,null,null,0,0,0]
[65,"Субвенции на ведение регистра","601","01","13","2410125390","244",-2.2204460492503131E-16,-2.2204460492503131E-16,0,-2.2204460492503131E-16,null,-2.2204460492503131E-16,"60101132410125390Прочая закупка товаров, работ и услуг для обеспечения государственных (муниципальных) нужд","Субвенции на ведение регистра","ку","244","Прочая закупка товаров, работ и услуг для обеспечения государственных (муниципальных) нужд",null,null,null,null,0,0,0]
[66,"ЕДДС","601","03","09","0720122670","111",874,874,0,874,null,874,"60103090720122670Фонд оплаты труда казенных учреждений и взносы по обязательному социальному страхованию","ЕДДС","ку","111","Фонд оплаты труда казенных учреждений и взносы по обязательному социальному страхованию",null,null,null,null,0,0,0]
[66,"ЕДДС","601","03","09","0720122670","119",264,264,0,264,null,264,"60103090720122670Взносы по обязательному социальному страхованию на выплаты по оплате труда работников и иные выплаты работникам учреждений","ЕДДС","ку","119","Взносы по обязательному социальному страхованию на выплаты по оплате труда работников и иные выплаты работникам учреждений",null,null,null,null,0,0,0]
[66,"ЕДДС","601","03","09","0720122670","112",0,0,0,0,null,0,"60103090720122670Иные выплаты персоналу казенных учреждений, за исключением фонда оплаты труда","ЕДДС","ку","112","Иные выплаты персоналу казенных учреждений, за исключением фонда оплаты труда",null,null,null,null,0,0,0]
[66,"ЕДДС","601","03","09","0720122670","244",244.40000000000009,244.40000000000009,0,244.40000000000009,null,244.40000000000009,"60103090720122670Прочая закупка товаров, работ и услуг для обеспечения государственных (муниципальных) нужд","ЕДДС","ку","244","Прочая закупка товаров, работ и услуг для обеспечения государственных (муниципальных) нужд",null,null,null,null,0,0,0]
[67,"Субвенции присяжным","601","01","05","9900051200","244",193,193,0,193,null,193,"60101059900051200Прочая закупка товаров, работ и услуг для обеспечения государственных (муниципальных) нужд","Субвенции присяжным","ку","244","Прочая закупка товаров, работ и услуг для обеспечения государственных (муниципальных) нужд",null,null,null,null,0,0,0]
[68,"Субвенции перепись","601","01","13","0012020","244",0,0,0,0,null,0,"60101130012020Прочая закупка товаров, работ и услуг для обеспечения государственных (муниципальных) нужд","Субвенции перепись","ку","244","Прочая закупка товаров, работ и услуг для обеспечения государственных (муниципальных) нужд",null,null,null,null,0,0,0]
[69,"КРЖФ по программе (МБ)","601","05","01","0450196010","630",{"$f":"SUM(I242:J243)","v":4603.09},{"$f":"4388+215.09","v":4603.09},null,4603.09,null,4603.09,"60105010450196010Субсидии некоммерческим организациям (за исключением государственных (муниципальных) учреждений)","КРЖФ по программе (МБ)","ку","630","Субсидии некоммерческим организациям (за исключением государственных (муниципальных) учреждений)",null,null,null,null,0,0,0]
[70,"Субвенция по соглашениям (ПИЗО)","605","01","13","9900025600","540",99.999999999999972,0,99.999999999999972,0,null,0,"60501139900025600Иные межбюджетные трансферты","Субвенция по соглашениям (ПИЗО)","ку","540","Иные межбюджетные трансферты",null,null,null,null,0,0,0]
[71,"Дорожный фонд","601","04","09","Д100003650","244",21600,21600,0,21600,null,21600,"6010409Д100003650Прочая закупка товаров, работ и услуг для обеспечения государственных (муниципальных) нужд","Дорожный фонд","ку","244","Прочая закупка товаров, работ и услуг для обеспечения государственных (муниципальных) нужд",null,null,null,null,0,0,0]
[71,"Дорожный фонд","601","04","09","Д100003650","412",0,0,0,0,null,0,"6010409Д100003650Бюджетные инвестиции на приобретение объектов недвижимого имущества в государственную (муниципальную) собственность","Дорожный фонд","ку","412","Бюджетные инвестиции на приобретение объектов недвижимого имущества в государственную (муниципальную) собственность",null,null,null,null,0,0,0]
[72,"Субвенция по соглашениям (КСП)","605","01","06","9900025600","540",534,0,534,0,null,0,"60501069900025600Иные межбюджетные трансферты","Субвенция по соглашениям (КСП)","ку","540","Иные межбюджетные трансферты",null,null,null,null,0,0,0]
[73,"Субвенция по соглашениям (Культура)","605","08","01","9900025700",540,0,0,0,0,null,0,"60508019900025700Субсидии бюджетным учреждениям на финансовое обеспечение государственного (муниципального) задания на оказание государственных (муниципальных) услуг (выполнение работ)","Библиотекидотация","бу","111","Субсидии бюджетным учреждениям на финансовое обеспечение государственного (муниципального) задания на оказание государственных (муниципальных) услуг (выполнение работ)",null,null,null,null,0,0,0]
[74,"Компенсация родвзноса","611","10","04","0350113200","313",11218.4,11218.4,0,11218.4,null,11218.4,"61110040350113200Пособия, компенсации, меры социальной поддержки по публичным нормативным обязательствам","Компенсация родвзноса","ку","313","Пособия, компенсации, меры социальной поддержки по публичным нормативным обязательствам",null,null,null,null,0,0,0]
[75,"Муниципальная  программа «Реализация антикоррупционной политики в Кукморском  муниципальном районе Республики Татарстан на 2015-2020 годы» (ИК)","601","01","13","2700110990","244",5,5,0,5,null,5,"60101132700110990Прочая закупка товаров, работ и услуг для обеспечения государственных (муниципальных) нужд","Муниципальная  программа «Реализация антикоррупционной политики в Кукморском  муниципальном районе Республики Татарстан на 2015-2020 годы» (ИК)","ку","244","Прочая закупка товаров, работ и услуг для обеспечения государственных (муниципальных) нужд",null,null,null,null,0,0,0]
[76,"Муниципальная  программа «Реализация антикоррупционной политики в Кукморском  муниципальном районе Республики Татарстан на 2015-2020 годы» (УО)","611","07","09","2700110990","244",10,10,0,10,null,10,"61107092700110990Прочая закупка товаров, работ и услуг для обеспечения государственных (муниципальных) нужд","Муниципальная  программа «Реализация антикоррупционной политики в Кукморском  муниципальном районе Республики Татарстан на 2015-2020 годы» (УО)","ку","244","Прочая закупка товаров, работ и услуг для обеспечения государственных (муниципальных) нужд",null,null,null,null,0,0,0]
[77,"Муниципальная  программа «Реализация антикоррупционной политики в Кукморском  муниципальном районе Республики Татарстан на 2015-2020 годы» (УК)","613","08","01","2700110990",611,12,12,0,12,null,12,"61308012700110990Субсидии бюджетным учреждениям на финансовое обеспечение государственного (муниципального) задания на оказание государственных (муниципальных) услуг (выполнение работ)","Муниципальная  программа «Реализация антикоррупционной политики в Кукморском  муниципальном районе Республики Татарстан на 2015-2020 годы» (УК)","бу","244","Субсидии бюджетным учреждениям на финансовое обеспечение государственного (муниципального) задания на оказание государственных (муниципальных) услуг (выполнение работ)",null,null,null,null,0,0,0]
[78,"Муниципальная  программа «Реализация антикоррупционной политики в Кукморском  муниципальном районе Республики Татарстан на 2015-2020 годы» (УДМС)","612","07","07","2700110990","244",21,21,0,21,null,21,"61207072700110990Прочая закупка товаров, работ и услуг для обеспечения государственных (муниципальных) нужд","Муниципальная  программа «Реализация антикоррупционной политики в Кукморском  муниципальном районе Республики Татарстан на 2015-2020 годы» (УДМС)","ку","244","Прочая закупка товаров, работ и услуг для обеспечения государственных (муниципальных) нужд",null,null,null,null,0,0,0]
[79,"Подпрограмма «Профилактика терроризма и экстремизма в Кукморском муниципальном районе на 2015-2016гг.» (Исполком)","601","01","13","0630110990","244",55,55,0,55,null,55,"60101130630110990Прочая закупка товаров, работ и услуг для обеспечения государственных (муниципальных) нужд","Подпрограмма «Профилактика терроризма и экстремизма в Кукморском муниципальном районе на 2015-2016гг.»","ку","244","Прочая закупка товаров, работ и услуг для обеспечения государственных (муниципальных) нужд",null,null,null,null,0,0,0]
[80,"Подпрограмма «Профилактика терроризма и экстремизма в Кукморском муниципальном районе на 2015-2016гг.»","611","07","09","0630110990","244",3315.5,3315.5,0,3315.5,null,3315.5,"61107090630110990Прочая закупка товаров, работ и услуг для обеспечения государственных (муниципальных) нужд","Подпрограмма «Профилактика терроризма и экстремизма в Кукморском муниципальном районе на 2015-2016гг.»","ку","244","Прочая закупка товаров, работ и услуг для обеспечения государственных (муниципальных) нужд",null,null,null,null,0,0,0]
[81,"Подпрограмма «Профилактика терроризма и экстремизма в Кукморском муниципальном районе на 2015-2016гг.» (УК)","613","08","01","0630110990",611,3.5,3.5,0,3.5,null,3.5,"61308010630110990Субсидии бюджетным учреждениям на финансовое обеспечение государственного (муниципального) задания на оказание государственных (муниципальных) услуг (выполнение работ)","Подпрограмма «Профилактика терроризма и экстремизма в Кукморском муниципальном районе на 2015-2016гг.»","бу","244","Субсидии бюджетным учреждениям на финансовое обеспечение государственного (муниципального) задания на оказание государственных (муниципальных) услуг (выполнение работ)",null,null,null,null,0,0,0]
[82,"Подпрограмма «Профилактика терроризма и экстремизма в Кукморском муниципальном районе на 2015-2016гг.» (УДМС)","612","07","07","0630110990","244",1,1,0,1,null,1,"61207070630110990Прочая закупка товаров, работ и услуг для обеспечения государственных (муниципальных) нужд","Подпрограмма «Профилактика терроризма и экстремизма в Кукморском муниципальном районе на 2015-2016гг.»","ку","244","Прочая закупка товаров, работ и услуг для обеспечения государственных (муниципальных) нужд",null,null,null,null,0,0,0]
[83,"Программа государственной национальной политики, профилактики экстремизма и укрепления межнациональных и межконфессиональных отношений в Кукморском  муниципальном районе  на 2015-2020годы (ИК)","601","01","13","2000110990","244",80,80,0,80,null,80,"60101132000110990Прочая закупка товаров, работ и услуг для обеспечения государственных (муниципальных) нужд","Программа государственной национальной политики, профилактики экстремизма и укрепления межнациональных и межконфессиональных отношений в Кукморском  муниципальном районе  на 2015-2020годы (ИК)","ку","244","Прочая закупка товаров, работ и услуг для обеспечения государственных (муниципальных) нужд",null,null,null,null,0,0,0]
[84,"Программа государственной национальной политики, профилактики экстремизма и укрепления межнациональных и межконфессиональных отношений в Кукморском  муниципальном районе  на 2015-2020годы (УО)","611","07","09","2000110990","244",400,400,0,400,null,{"$f":"SUM(K259:L259)","v":400},"61107092000110990Прочая закупка товаров, работ и услуг для обеспечения государственных (муниципальных) нужд","Программа государственной национальной политики, профилактики экстремизма и укрепления межнациональных и межконфессиональных отношений в Кукморском  муниципальном районе  на 2015-2020годы (УО)","ку","244","Прочая закупка товаров, работ и услуг для обеспечения государственных (муниципальных) нужд",null,null,null,null,0,0,0]
[85,"Программа государственной национальной политики, профилактики экстремизма и укрепления межнациональных и межконфессиональных отношений в Кукморском  муниципальном районе  на 2015-2020годы (УК)","613","08","01","2000110990",611,415,415,0,415,null,415,"61308012000110990Субсидии бюджетным учреждениям на финансовое обеспечение государственного (муниципального) задания на оказание государственных (муниципальных) услуг (выполнение работ)","Программа государственной национальной политики, профилактики экстремизма и укрепления межнациональных и межконфессиональных отношений в Кукморском  муниципальном районе  на 2015-2020годы (УК)","бу","244","Субсидии бюджетным учреждениям на финансовое обеспечение государственного (муниципального) задания на оказание государственных (муниципальных) услуг (выполнение работ)",null,null,null,null,0,0,0]
[86,"Программа государственной национальной политики, профилактики экстремизма и укрепления межнациональных и межконфессиональных отношений в Кукморском  муниципальном районе  на 2015-2020годы (УДМС-Спорт)","612","11","02","2000110990","244",415,415,0,415,null,415,"61211022000110990Прочая закупка товаров, работ и услуг для обеспечения государственных (муниципальных) нужд","Программа государственной национальной политики, профилактики экстремизма и укрепления межнациональных и межконфессиональных отношений в Кукморском  муниципальном районе  на 2015-2020годы (УДМС-Спорт)","ку","244","Прочая закупка товаров, работ и услуг для обеспечения государственных (муниципальных) нужд",null,null,null,null,0,0,0]
[87,"Субвенции на содержание биотермических ям","601","04","05","2800125360","244",1741.5,1741.5,0,1741.5,null,1741.5,"60104052800125360Прочая закупка товаров, работ и услуг для обеспечения государственных (муниципальных) нужд","Субвенции на скотомогильники","ку","244","Прочая закупка товаров, работ и услуг для обеспечения государственных (муниципальных) нужд",null,null,null,null,0,0,0]
[87,"Субвенции на содержание биотермических ям","601","04","05","2800125360","412",0,0,0,0,null,0,"60104052800125360Бюджетные инвестиции на приобретение объектов недвижимого имущества в государственную (муниципальную) собственность","Субвенции на скотомогильники","ку","412","Бюджетные инвестиции на приобретение объектов недвижимого имущества в государственную (муниципальную) собственность",null,null,null,null,0,0,0]
[88,"Субвенции на отлов, содержание и регулирование численности безнадзорных животных","601","04","05","2800125360","244",119.9,119.9,0,119.9,null,119.9,"60104052800125360Прочая закупка товаров, работ и услуг для обеспечения государственных (муниципальных) нужд","Субвенции на скотомогильники","ку","244","Прочая закупка товаров, работ и услуг для обеспечения государственных (муниципальных) нужд",null,null,null,null,0,0,0]
[88,"Субвенции на отлов, содержание и регулирование численности безнадзорных животных","601","04","05","2800125360","412",0,0,0,0,null,0,"60104052800125360Бюджетные инвестиции на приобретение объектов недвижимого имущества в государственную (муниципальную) собственность","Субвенции на скотомогильники","ку","412","Бюджетные инвестиции на приобретение объектов недвижимого имущества в государственную (муниципальную) собственность",null,null,null,null,0,0,0]
[89,"Субвенции бюд. муниципальным районам и городских округов по реализации полномочий по распределению земельными уастками","601","01","13","9900025400","121",5.6,5.6,0,5.6,null,5.6,"60101139900025400Фонд оплаты труда государственных (муниципальных) органов и взносы по обязательному социальному страхованию","Субвенции бюд. муниципальным районам и городских округов по реализации полномочий по образованию и организации деятельности административных комиссий","ку","121","Фонд оплаты труда государственных (муниципальных) органов и взносы по обязательному социальному страхованию",null,null,null,null,0,0,0]
[89,"Субвенции бюд. муниципальным районам и городских округов по реализации полномочий по распределению земельными уастками","601","01","13","9900025400","129",1.7,1.7,0,1.7,null,1.7,"60101139900025400Взносы по обязательному социальному страхованию на выплату денежного содержания и иные выплаты работникам государственных (муниципальных) органов","Субвенции бюд. муниципальным районам и городских округов по реализации полномочий по образованию и организации деятельности административных комиссий","ку","129","Взносы по обязательному социальному страхованию на выплату денежного содержания и иные выплаты работникам государственных (муниципальных) органов",null,null,null,null,0,0,0]
[89,"Субвенции бюд. муниципальным районам и городских округов по реализации полномочий по распределению земельными уастками","601","01","13","9900025400","244",2.2204460492503131E-16,2.2204460492503131E-16,0,2.2204460492503131E-16,null,2.2204460492503131E-16,"60101139900025400Прочая закупка товаров, работ и услуг для обеспечения государственных (муниципальных) нужд","Субвенции бюд. муниципальным районам и городских округов по реализации полномочий по образованию и организации деятельности административных комиссий","ку","244","Прочая закупка товаров, работ и услуг для обеспечения государственных (муниципальных) нужд",null,null,null,null,0,0,0]
[90,"Расходы на ремонт и содержание гидротехнических сооружений","605","04","06","9900090430","244",353.7,353.7,0,353.7,null,353.7,"60504069900090430Прочая закупка товаров, работ и услуг для обеспечения государственных (муниципальных) нужд","Субвенции на скотомогильники","ку","244","Прочая закупка товаров, работ и услуг для обеспечения государственных (муниципальных) нужд",null,null,null,null,0,0,0]
[91,"Школы-детсады","611","07","02","0210342000",611,8402.2451100000017,8402.2451100000017,0,8402.2451100000017,null,{"$f":"SUM(K270:L270)","v":8402.2451100000017},"61107020210342000Субсидии бюджетным учреждениям на финансовое обеспечение государственного (муниципального) задания на оказание государственных (муниципальных) услуг (выполнение работ)","Детсады","бу","111","Субсидии бюджетным учреждениям на финансовое обеспечение государственного (муниципального) задания на оказание государственных (муниципальных) услуг (выполнение работ)",null,null,null,null,0,0,0]
[91,"Школы-детсады","611","07","02","0210342000",611,2536.7451200000005,2536.7451200000005,0,2536.7451200000005,null,2536.7451200000005,"61107020210342000Субсидии бюджетным учреждениям на финансовое обеспечение государственного (муниципального) задания на оказание государственных (муниципальных) услуг (выполнение работ)","Детсады","бу","119","Субсидии бюджетным учреждениям на финансовое обеспечение государственного (муниципального) задания на оказание государственных (муниципальных) услуг (выполнение работ)",null,null,null,null,0,0,0]
[91,"Школы-детсады","611","07","02","0210342000",611,0,0,0,0,null,0,"61107020210342000Субсидии бюджетным учреждениям на финансовое обеспечение государственного (муниципального) задания на оказание государственных (муниципальных) услуг (выполнение работ)","Детсады","бу","112","Субсидии бюджетным учреждениям на финансовое обеспечение государственного (муниципального) задания на оказание государственных (муниципальных) услуг (выполнение работ)",null,null,null,null,0,{"$f":"H272-(I272+J272)","v":0},{"$f":"I272-K272","v":0}]
[91,"Школы-детсады","611","07","02","0210342000",611,160.37999000000042,160.37999000000042,0,160.37999000000042,null,160.37999000000042,"61107020210342000Субсидии бюджетным учреждениям на финансовое обеспечение государственного (муниципального) задания на оказание государственных (муниципальных) услуг (выполнение работ)","Детсады","бу","244","Субсидии бюджетным учреждениям на финансовое обеспечение государственного (муниципального) задания на оказание государственных (муниципальных) услуг (выполнение работ)",null,null,null,null,0,0,0]
[91,"Школы-детсады","611","07","02","0210342000",{"$f":"IF(P274=\"бу\",611,Q274)","v":611},0,0,0,0,null,0,{"$f":"C274&D274&E274&F274&R274","v":"61107020210342000Субсидии бюджетным учреждениям на финансовое обеспечение государственного (муниципального) задания на оказание государственных (муниципальных) услуг (выполнение работ)"},"Детсады","бу","412","Субсидии бюджетным учреждениям на финансовое обеспечение государственного (муниципального) задания на оказание государственных (муниципальных) услуг (выполнение работ)",null,null,null,null,{"$f":"K274-I274","v":0},0,0]
[91,"Школы-детсады","611","07","02","0210342000",611,0,0,0,0,null,0,"61107020210342000Субсидии бюджетным учреждениям на финансовое обеспечение государственного (муниципального) задания на оказание государственных (муниципальных) услуг (выполнение работ)","Детсады","бу","851","Субсидии бюджетным учреждениям на финансовое обеспечение государственного (муниципального) задания на оказание государственных (муниципальных) услуг (выполнение работ)",null,null,null,null,0,0,0]
[91,"Школы-детсады","611","07","02","0210342000",611,0,0,0,0,null,0,"61107020210342000Субсидии бюджетным учреждениям на финансовое обеспечение государственного (муниципального) задания на оказание государственных (муниципальных) услуг (выполнение работ)","Детсады","бу","852","Субсидии бюджетным учреждениям на финансовое обеспечение государственного (муниципального) задания на оказание государственных (муниципальных) услуг (выполнение работ)",null,null,null,null,0,0,0]
[92,"Субвенции на обеспечение прав на получение общедоступного и бесплатного дошкольного образования в муниципальных ДОУ (школы-детсады)","611","07","02","0210125370",611,7673,7673,0,7673,null,{"$f":"SUM(K277:L277)","v":7673},"61107020210125370Субсидии бюджетным учреждениям на финансовое обеспечение государственного (муниципального) задания на оказание государственных (муниципальных) услуг (выполнение работ)","Субвенции на обеспечение прав на получение общедоступного и бесплатного дошкольного образования в муниципальных ДОУ","бу","111","Субсидии бюджетным учреждениям на финансовое обеспечение государственного (муниципального) задания на оказание государственных (муниципальных) услуг (выполнение работ)",null,null,null,null,0,0,0]
[92,"Субвенции на обеспечение прав на получение общедоступного и бесплатного дошкольного образования в муниципальных ДОУ (школы-детсады)","611","07","02","0210125370",611,2317.9920000000002,2317.9920000000002,0,2317.9920000000002,null,2317.9920000000002,"61107020210125370Субсидии бюджетным учреждениям на финансовое обеспечение государственного (муниципального) задания на оказание государственных (муниципальных) услуг (выполнение работ)","Субвенции на обеспечение прав на получение общедоступного и бесплатного дошкольного образования в муниципальных ДОУ","бу","119","Субсидии бюджетным учреждениям на финансовое обеспечение государственного (муниципального) задания на оказание государственных (муниципальных) услуг (выполнение работ)",null,null,null,null,0,0,0]
[92,"Субвенции на обеспечение прав на получение общедоступного и бесплатного дошкольного образования в муниципальных ДОУ (школы-детсады)","611","07","02","0210125370",611,-1.1368683772161603E-13,-1.1368683772161603E-13,0,-1.1368683772161603E-13,null,-1.1368683772161603E-13,"61107020210125370Субсидии бюджетным учреждениям на финансовое обеспечение государственного (муниципального) задания на оказание государственных (муниципальных) услуг (выполнение работ)","Субвенции на обеспечение прав на получение общедоступного и бесплатного дошкольного образования в муниципальных ДОУ","бу","244","Субсидии бюджетным учреждениям на финансовое обеспечение государственного (муниципального) задания на оказание государственных (муниципальных) услуг (выполнение работ)",null,null,null,null,0,0,0]
[92,"Субвенции на обеспечение прав на получение общедоступного и бесплатного дошкольного образования в муниципальных ДОУ (школы-детсады)","611","07","02","0210125370",611,0,0,0,0,null,0,"61107020210125370Субсидии бюджетным учреждениям на финансовое обеспечение государственного (муниципального) задания на оказание государственных (муниципальных) услуг (выполнение работ)","Субвенции на обеспечение прав на получение общедоступного и бесплатного дошкольного образования в муниципальных ДОУ","бу","412","Субсидии бюджетным учреждениям на финансовое обеспечение государственного (муниципального) задания на оказание государственных (муниципальных) услуг (выполнение работ)",null,null,null,null,0,0,0]
[93,"Муниципальная программа улучшения условий и охраны труда в Кукморском муниципальном районе на 2015 - 2017 годы (УО)","611","07","09","0520115500","244",10,10,0,10,null,{"$f":"SUM(K281:L281)","v":10},"61107090520115500Прочая закупка товаров, работ и услуг для обеспечения государственных (муниципальных) нужд","Муниципальная  программа «Реализация антикоррупционной политики в Кукморском  муниципальном районе Республики Татарстан на 2015-2020 годы» (УО)","ку","244","Прочая закупка товаров, работ и услуг для обеспечения государственных (муниципальных) нужд",null,null,null,null,0,0,0]
[94,"Налоги ОМС (Совет)","602","01","13","9900002950","851",176.9,176.9,0,176.9,null,{"$f":"SUM(K282:L282)","v":176.9},"60201139900002950Уплата налога на имущество организаций и земельного налога","Функционирование законодательных органов","ку","851","Уплата налога на имущество организаций и земельного налога",null,null,null,null,0,0,0]
[94,"Налоги ОМС (Совет)","602","01","13","9900002950","852",0,0,0,0,null,0,"60201139900002950Уплата прочих налогов, сборов и иных платежей","Функционирование законодательных органов","ку","852","Уплата прочих налогов, сборов и иных платежей",null,null,null,null,0,0,0]
[95,"Налоги ОМС (Исполком)","601","01","13","9900002950","851",299.39999999999998,299.39999999999998,0,299.39999999999998,null,299.39999999999998,"60101139900002950Уплата налога на имущество организаций и земельного налога","Функционирование местных администраций","ку","851","Уплата налога на имущество организаций и земельного налога",null,null,null,null,0,0,0]
[95,"Налоги ОМС (Исполком)","601","01","13","9900002950","852",0,0,0,0,null,0,"60101139900002950Уплата прочих налогов, сборов и иных платежей","Функционирование местных администраций","ку","852","Уплата прочих налогов, сборов и иных платежей",null,null,null,null,0,0,0]
[96,"Налоги ОМС (УО)","611","01","13","9900002950","851",41.4,41.4,0,41.4,null,41.4,"61101139900002950Уплата налога на имущество организаций и земельного налога","Функционирование местных администраций (УО)","ку","851","Уплата налога на имущество организаций и земельного налога",null,null,null,null,0,0,0]
[96,"Налоги ОМС (УО)","611","01","13","9900002950","852",0,0,0,0,null,0,"61101139900002950Уплата прочих налогов, сборов и иных платежей","Функционирование местных администраций (УО)","ку","852","Уплата прочих налогов, сборов и иных платежей",null,null,null,null,0,0,0]
[97,"Налоги ОМС (УДМС)","612","01","13","9900002950","851",7.1,7.1,0,7.1,null,7.1,"61201139900002950Уплата налога на имущество организаций и земельного налога","Функционирование местных администраций (УДМС)","ку","851","Уплата налога на имущество организаций и земельного налога",null,null,null,null,0,0,0]
[97,"Налоги ОМС (УДМС)","612","01","13","9900002950","852",3,3,0,3,null,3,"61201139900002950Уплата прочих налогов, сборов и иных платежей","Функционирование местных администраций (УДМС)","ку","852","Уплата прочих налогов, сборов и иных платежей",null,null,null,null,0,0,0]
[98,"Налоги ОМС (УК)","613","01","13","9900002950","851",0,0,0,0,null,0,"61301139900002950Уплата налога на имущество организаций и земельного налога","Функционирование местных администраций (УК)","ку","851","Уплата налога на имущество организаций и земельного налога",null,null,null,null,0,0,0]
[98,"Налоги ОМС (УК)","613","01","13","9900002950","852",0,0,0,0,null,0,"61301139900002950Уплата прочих налогов, сборов и иных платежей","Функционирование местных администраций (УК)","ку","852","Уплата прочих налогов, сборов и иных платежей",null,null,null,null,0,0,0]
[99,"Налоги ОМС (ФБП)","605","01","13","9900002950","851",0,0,0,0,null,0,"60501139900002950Уплата налога на имущество организаций и земельного налога","ФБП","ку","851","Уплата налога на имущество организаций и земельного налога",null,null,null,null,0,0,0]
[99,"Налоги ОМС (ФБП)","605","01","13","9900002950","852",2.2999999999999998,2.2999999999999998,0,2.2999999999999998,null,2.2999999999999998,"60501139900002950Уплата прочих налогов, сборов и иных платежей","ФБП","ку","852","Уплата прочих налогов, сборов и иных платежей",null,null,null,null,0,0,0]
[100,"Налоги ОМС (ПИЗО)","606","01","13","9900002950","851",2,2,0,2,null,2,"60601139900002950Уплата налога на имущество организаций и земельного налога","Палата имущественных и земельных отношений","ку","851","Уплата налога на имущество организаций и земельного налога",null,null,null,null,0,0,0]
[100,"Налоги ОМС (ПИЗО)","606","01","13","9900002950","852",33,33,0,33,null,33,"60601139900002950Уплата прочих налогов, сборов и иных платежей","Палата имущественных и земельных отношений","ку","852","Уплата прочих налогов, сборов и иных платежей",null,null,null,null,0,0,0]
[101,"Налоги ОМС (ЦБ)","601","01","13","9900002950","851",0,0,0,0,null,{"$f":"SUM(K296:L296)","v":0},"60101139900002950Уплата налога на имущество организаций и земельного налога","Централизованная бухгалтерия","ку","851","Уплата налога на имущество организаций и земельного налога",null,null,null,null,0,0,0]
[101,"Налоги ОМС (ЦБ)","601","01","13","9900002950","852",2,2,0,2,null,2,"60101139900002950Уплата прочих налогов, сборов и иных платежей","Централизованная бухгалтерия","ку","852","Уплата прочих налогов, сборов и иных платежей",null,null,null,null,0,0,0]
[null,null,null,null,null,null,null,null,null,null,null,null,null,{"$f":"C298&D298&E298&F298&G298","v":""},null,null,null,null,null,null,null,null,null,null,0]
[null,null,null,null,null,null,null,null,null,null,null,null,null,""]
[null,null,null,null,null,null,null,null,null,null,null,null,null,""]
[null,null,null,null,null,null,null,null,null,null,null,null,null,""]
[null,null,null,null,null,null,null,null,null,null,null,null,null,""]
[null,null,null,null,null,null,null,null,null,null,null,null,null,""]

{"sheet":"свод19","index":31,"n_rows":303,"n_cols":23,"rows_kept":303,"cut":false,"hidden":true,"merged":[[8,16,10,16],[6,9,10,9],[8,5,10,5],[8,6,10,6],[6,7,10,7],[6,8,10,8],[6,0,10,0],[6,2,6,6],[7,2,7,6],[8,2,10,2],[8,3,10,3],[8,4,10,4]]}
[]
[]
[]
[null,"Расшифровка бюджета на 2019 год по подразделам"]
[null,null,null,null,null,null,null,{"$f":"H6-H13","v":120115.8105300006},{"$f":"I6-I13","v":4.9875327385962009E-3},{"$f":"J6-J13","v":32531.72}]
[null,null,null,null,null,null,null,1187443.2580000006,1139593.4349875322,85537.5,0]
["№ учреждения",null,"К  О  Д  Ы",null,null,null,null,"всего расходов (консолидированный), тысяч рублей","всего расходов райбюджет, тысяч рублей","всего расходов село, тысяч рублей",2018,"2019+",2019]
[null,null,"функц-ной классификации"]
[null,"Наименование показателя","ведомство","раз-дел","под-раз-дел","целевая статья","вид рас- хода",null,null,null,null,null,null,null,null,null,"вид рас- хода"]
[]
[]
[1,"2","3","4","5","6","7","9","10","10",null,null,null,null,null,null,"7"]
[null,"ИТОГО",null,null,null,null,null,{"$f":"SUBTOTAL(9,H15:H374)","v":1067327.44747},{"$f":"SUBTOTAL(9,I15:I374)","v":1139593.4299999995},{"$f":"SUBTOTAL(9,J15:J374)","v":53005.78},{"$f":"SUBTOTAL(9,K15:K374)","v":1124972.8399999999},{"$f":"SUBTOTAL(9,L15:L344)","v":14649.490000000009},{"$f":"SUBTOTAL(9,M15:M374)","v":1139593.4299999995},-4.9875327385962009E-3]
[{"$f":"SUBTOTAL(9,A12:A13)","v":1},null,null,null,null,null,null,null,null,null,null,null,null,{"$f":"SUBTOTAL(9,N12:N13)","v":-4.9875327385962009E-3},{"$f":"SUBTOTAL(9,O12:O13)","v":0},0,null,0]
[1,"Главы образований ","602","01","02","9900002030",{"$f":"IF(P15=\"бу\",611,Q15)","v":"121"},10744,{"$f":"M15","v":1230},9514,1230,null,{"$f":"SUM(K15:L15)","v":1230},{"$f":"C15&D15&E15&F15&R15","v":"60201029900002030Фонд оплаты труда государственных (муниципальных) органов и взносы по обязательному социальному страхованию"},{"$f":"B15&G15","v":"Главы образований 121"},"ку","121","Фонд оплаты труда государственных (муниципальных) органов и взносы по обязательному социальному страхованию",null,null,null,null,{"$f":"K15-I15","v":0}]
[1,"Главы образований ","602","01","02","9900002030","129",3248,{"$f":"M16","v":371},2877,371,null,{"$f":"SUM(K16:L16)","v":371},{"$f":"C16&D16&E16&F16&R16","v":"60201029900002030Взносы по обязательному социальному страхованию на выплату денежного содержания и иные выплаты работникам государственных (муниципальных) органов"},{"$f":"B16&G16","v":"Главы образований 129"},"ку","129","Взносы по обязательному социальному страхованию на выплату денежного содержания и иные выплаты работникам государственных (муниципальных) органов",null,null,null,null,{"$f":"K16-I16","v":0}]
[2,"Функционирование законодательных органов","602","01","03","9900002040","121",4199,4021,178,4021,null,4021,"60201039900002040Фонд оплаты труда государственных (муниципальных) органов и взносы по обязательному социальному страхованию","Функционирование законодательных органов","ку","121","Фонд оплаты труда государственных (муниципальных) органов и взносы по обязательному социальному страхованию",null,null,null,null,0]
[2,"Функционирование законодательных органов","602","01","03","9900002040","129",1017.8,963.8,54,963.8,null,963.8,"60201039900002040Взносы по обязательному социальному страхованию на выплату денежного содержания и иные выплаты работникам государственных (муниципальных) органов","Функционирование законодательных органов","ку","129","Взносы по обязательному социальному страхованию на выплату денежного содержания и иные выплаты работникам государственных (муниципальных) органов",null,null,null,null,0]
[2,"Функционирование законодательных органов","602","01","03","9900002040","122",0,0,0,0,null,0,"60201039900002040Иные выплаты персоналу государственных (муниципальных) органов, за исключением фонда оплаты труда","Функционирование законодательных органов","ку","122","Иные выплаты персоналу государственных (муниципальных) органов, за исключением фонда оплаты труда",null,null,null,null,0]
[2,"Функционирование законодательных органов","602","01","03","9900002040","244",985.20000000000095,985.20000000000095,0,985.20000000000095,null,985.20000000000095,"60201039900002040Прочая закупка товаров, работ и услуг для обеспечения государственных (муниципальных) нужд","Функционирование законодательных органов","ку","244","Прочая закупка товаров, работ и услуг для обеспечения государственных (муниципальных) нужд",null,null,null,null,0]
[2,"Функционирование законодательных органов","602","01","03","9900002040","412",0,0,0,0,null,0,"60201039900002040Бюджетные инвестиции на приобретение объектов недвижимого имущества в государственную (муниципальную) собственность","Функционирование законодательных органов","ку","412","Бюджетные инвестиции на приобретение объектов недвижимого имущества в государственную (муниципальную) собственность",null,null,null,null,0]
[3,"Функционирование местных администраций","601","01","04","9900002040","121",4267.08,6932.8499999999995,4267.08,6395.07,537.78,6932.8499999999995,"60101049900002040Фонд оплаты труда государственных (муниципальных) органов и взносы по обязательному социальному страхованию","Функционирование местных администраций","ку","121","Фонд оплаты труда государственных (муниципальных) органов и взносы по обязательному социальному страхованию",null,null,null,null,-537.77999999999975]
[3,"Функционирование местных администраций","601","01","04","9900002040","129",112.8,2113.0100000000002,112.8,1881.0100000000002,232,2113.0100000000002,"60101049900002040Взносы по обязательному социальному страхованию на выплату денежного содержания и иные выплаты работникам государственных (муниципальных) органов","Функционирование местных администраций","ку","129","Взносы по обязательному социальному страхованию на выплату денежного содержания и иные выплаты работникам государственных (муниципальных) органов",null,null,null,null,-232]
[3,"Функционирование местных администраций","601","01","04","9900002040","122",13673.07,0,7278,0,null,0,"60101049900002040Иные выплаты персоналу государственных (муниципальных) органов, за исключением фонда оплаты труда","Функционирование местных администраций","ку","122","Иные выплаты персоналу государственных (муниципальных) органов, за исключением фонда оплаты труда",null,null,null,null,0]
[3,"Функционирование местных администраций","601","01","04","9900002040","244",4080.01,2139,2199,2139,null,2139,"60101049900002040Прочая закупка товаров, работ и услуг для обеспечения государственных (муниципальных) нужд","Функционирование местных администраций","ку","244","Прочая закупка товаров, работ и услуг для обеспечения государственных (муниципальных) нужд",null,null,null,null,0]
[3,"Функционирование местных администраций","601","01","04","9900002040","412",0,0,0,0,null,0,"60101049900002040Бюджетные инвестиции на приобретение объектов недвижимого имущества в государственную (муниципальную) собственность","Функционирование местных администраций","ку","412","Бюджетные инвестиции на приобретение объектов недвижимого имущества в государственную (муниципальную) собственность",null,null,null,null,0]
[4,"Функционирование местных администраций (УО)","611","01","04","9900002040","121",68,1173.8,0,1173.8,null,1173.8,"61101049900002040Фонд оплаты труда государственных (муниципальных) органов и взносы по обязательному социальному страхованию","Функционирование местных администраций (УО)","ку","121","Фонд оплаты труда государственных (муниципальных) органов и взносы по обязательному социальному страхованию",null,null,null,null,0]
[4,"Функционирование местных администраций (УО)","611","01","04","9900002040","129",0,354,0,354,null,354,"61101049900002040Взносы по обязательному социальному страхованию на выплату денежного содержания и иные выплаты работникам государственных (муниципальных) органов","Функционирование местных администраций (УО)","ку","129","Взносы по обязательному социальному страхованию на выплату денежного содержания и иные выплаты работникам государственных (муниципальных) органов",null,null,null,null,0]
[4,"Функционирование местных администраций (УО)","611","01","04","9900002040","122",0,0,0,0,null,0,"61101049900002040Иные выплаты персоналу государственных (муниципальных) органов, за исключением фонда оплаты труда","Функционирование местных администраций (УО)","ку","122","Иные выплаты персоналу государственных (муниципальных) органов, за исключением фонда оплаты труда",null,null,null,null,0]
[4,"Функционирование местных администраций (УО)","611","01","04","9900002040","244",0,68,0,68,null,68,"61101049900002040Прочая закупка товаров, работ и услуг для обеспечения государственных (муниципальных) нужд","Функционирование местных администраций (УО)","ку","244","Прочая закупка товаров, работ и услуг для обеспечения государственных (муниципальных) нужд",null,null,null,null,0]
[4,"Функционирование местных администраций (УО)","611","01","04","9900002040","412",1173.8,0,0,0,null,0,"61101049900002040Бюджетные инвестиции на приобретение объектов недвижимого имущества в государственную (муниципальную) собственность","Функционирование местных администраций (УО)","ку","412","Бюджетные инвестиции на приобретение объектов недвижимого имущества в государственную (муниципальную) собственность",null,null,null,null,0]
[5,"Функционирование местных администраций (УДМС)","612","01","04","9900002040","121",169,560.79999999999995,0,560.79999999999995,null,560.79999999999995,"61201049900002040Фонд оплаты труда государственных (муниципальных) органов и взносы по обязательному социальному страхованию","Функционирование местных администраций (УДМС)","ку","121","Фонд оплаты труда государственных (муниципальных) органов и взносы по обязательному социальному страхованию",null,null,null,null,0]
[5,"Функционирование местных администраций (УДМС)","612","01","04","9900002040","129",0,169,0,169,null,169,"61201049900002040Взносы по обязательному социальному страхованию на выплату денежного содержания и иные выплаты работникам государственных (муниципальных) органов","Функционирование местных администраций (УДМС)","ку","129","Взносы по обязательному социальному страхованию на выплату денежного содержания и иные выплаты работникам государственных (муниципальных) органов",null,null,null,null,0]
[5,"Функционирование местных администраций (УДМС)","612","01","04","9900002040","122",0,0,0,0,null,0,"61201049900002040Иные выплаты персоналу государственных (муниципальных) органов, за исключением фонда оплаты труда","Функционирование местных администраций (УДМС)","ку","122","Иные выплаты персоналу государственных (муниципальных) органов, за исключением фонда оплаты труда",null,null,null,null,0]
[5,"Функционирование местных администраций (УДМС)","612","01","04","9900002040","244",0,0,0,0,null,0,"61201049900002040Прочая закупка товаров, работ и услуг для обеспечения государственных (муниципальных) нужд","Функционирование местных администраций (УДМС)","ку","244","Прочая закупка товаров, работ и услуг для обеспечения государственных (муниципальных) нужд",null,null,null,null,0]
[5,"Функционирование местных администраций (УДМС)","612","01","04","9900002040","412",0,0,0,0,null,0,"61201049900002040Бюджетные инвестиции на приобретение объектов недвижимого имущества в государственную (муниципальную) собственность","Функционирование местных администраций (УДМС)","ку","412","Бюджетные инвестиции на приобретение объектов недвижимого имущества в государственную (муниципальную) собственность",null,null,null,null,0]
[6,"Функционирование местных администраций (УК)","613","01","04","9900002040","121",0,617,0,617,null,617,"61301049900002040Фонд оплаты труда государственных (муниципальных) органов и взносы по обязательному социальному страхованию","Функционирование местных администраций (УК)","ку","121","Фонд оплаты труда государственных (муниципальных) органов и взносы по обязательному социальному страхованию",null,null,null,null,0]
[6,"Функционирование местных администраций (УК)","613","01","04","9900002040","129",617,186,0,186,null,186,"61301049900002040Взносы по обязательному социальному страхованию на выплату денежного содержания и иные выплаты работникам государственных (муниципальных) органов","Функционирование местных администраций (УК)","ку","129","Взносы по обязательному социальному страхованию на выплату денежного содержания и иные выплаты работникам государственных (муниципальных) органов",null,null,null,null,0]
[6,"Функционирование местных администраций (УК)","613","01","04","9900002040","122",186,0,0,0,null,0,"61301049900002040Иные выплаты персоналу государственных (муниципальных) органов, за исключением фонда оплаты труда","Функционирование местных администраций (УК)","ку","122","Иные выплаты персоналу государственных (муниципальных) органов, за исключением фонда оплаты труда",null,null,null,null,0]
[6,"Функционирование местных администраций (УК)","613","01","04","9900002040","244",0,0,0,0,null,0,"61301049900002040Прочая закупка товаров, работ и услуг для обеспечения государственных (муниципальных) нужд","Функционирование местных администраций (УК)","ку","244","Прочая закупка товаров, работ и услуг для обеспечения государственных (муниципальных) нужд",null,null,null,null,0]
[6,"Функционирование местных администраций (УК)","613","01","04","9900002040","412",0,0,0,0,null,0,"61301049900002040Бюджетные инвестиции на приобретение объектов недвижимого имущества в государственную (муниципальную) собственность","Функционирование местных администраций (УК)","ку","412","Бюджетные инвестиции на приобретение объектов недвижимого имущества в государственную (муниципальную) собственность",null,null,null,null,0]
[7,"КСП","603","01","06","9900002040","121",0,453,0,453,null,453,"60301069900002040Фонд оплаты труда государственных (муниципальных) органов и взносы по обязательному социальному страхованию","КСП","ку","121","Фонд оплаты труда государственных (муниципальных) органов и взносы по обязательному социальному страхованию",null,null,null,null,0]
[7,"КСП","603","01","06","9900002040","129",0,137,0,137,null,137,"60301069900002040Взносы по обязательному социальному страхованию на выплату денежного содержания и иные выплаты работникам государственных (муниципальных) органов","КСП","ку","129","Взносы по обязательному социальному страхованию на выплату денежного содержания и иные выплаты работникам государственных (муниципальных) органов",null,null,null,null,0]
[7,"КСП","603","01","06","9900002040","122",0,1,0,1,null,1,"60301069900002040Иные выплаты персоналу государственных (муниципальных) органов, за исключением фонда оплаты труда","КСП","ку","122","Иные выплаты персоналу государственных (муниципальных) органов, за исключением фонда оплаты труда",null,null,null,null,0]
[7,"КСП","603","01","06","9900002040","244",453,25,0,25,null,25,"60301069900002040Прочая закупка товаров, работ и услуг для обеспечения государственных (муниципальных) нужд","КСП","ку","244","Прочая закупка товаров, работ и услуг для обеспечения государственных (муниципальных) нужд",null,null,null,null,0]
[7,"КСП","603","01","06","9900002040","412",137,0,0,0,null,0,"60301069900002040Бюджетные инвестиции на приобретение объектов недвижимого имущества в государственную (муниципальную) собственность","КСП","ку","412","Бюджетные инвестиции на приобретение объектов недвижимого имущества в государственную (муниципальную) собственность",null,null,null,null,0]
[8,"ФБП","605","01","06","1800102040","121",0,2751,0,2751,null,2751,"60501061800102040Фонд оплаты труда государственных (муниципальных) органов и взносы по обязательному социальному страхованию","ФБП","ку","121","Фонд оплаты труда государственных (муниципальных) органов и взносы по обязательному социальному страхованию",null,null,null,null,0]
[8,"ФБП","605","01","06","1800102040","129",427.99999999999977,828.7,0,828.7,null,828.7,"60501061800102040Взносы по обязательному социальному страхованию на выплату денежного содержания и иные выплаты работникам государственных (муниципальных) органов","ФБП","ку","129","Взносы по обязательному социальному страхованию на выплату денежного содержания и иные выплаты работникам государственных (муниципальных) органов",null,null,null,null,0]
[8,"ФБП","605","01","06","1800102040","122",0,0,0,0,null,0,"60501061800102040Иные выплаты персоналу государственных (муниципальных) органов, за исключением фонда оплаты труда","ФБП","ку","122","Иные выплаты персоналу государственных (муниципальных) органов, за исключением фонда оплаты труда",null,null,null,null,0]
[8,"ФБП","605","01","06","1800102040","244",0,427.99999999999977,0,427.99999999999977,null,427.99999999999977,"60501061800102040Прочая закупка товаров, работ и услуг для обеспечения государственных (муниципальных) нужд","ФБП","ку","244","Прочая закупка товаров, работ и услуг для обеспечения государственных (муниципальных) нужд",null,null,null,null,0]
[8,"ФБП","605","01","06","1800102040","412",0,0,0,0,null,0,"60501061800102040Бюджетные инвестиции на приобретение объектов недвижимого имущества в государственную (муниципальную) собственность","ФБП","ку","412","Бюджетные инвестиции на приобретение объектов недвижимого имущества в государственную (муниципальную) собственность",null,null,null,null,0]
[9,"Резервные фонды ","601","01","11","9900007410","870",0,5845.7,0,5845.7,null,5845.7,"60101119900007410Уплата иных платежей","Резервные фонды ","ку","870","Уплата иных платежей",null,null,null,null,0]
[10,"Палата имущественных и земельных отношений","606","01","13","1600102040","121",302,999,0,999,null,999,"60601131600102040Фонд оплаты труда государственных (муниципальных) органов и взносы по обязательному социальному страхованию","Палата имущественных и земельных отношений","ку","121","Фонд оплаты труда государственных (муниципальных) органов и взносы по обязательному социальному страхованию",null,null,null,null,0]
[10,"Палата имущественных и земельных отношений","606","01","13","1600102040","129",0,302,0,302,null,302,"60601131600102040Взносы по обязательному социальному страхованию на выплату денежного содержания и иные выплаты работникам государственных (муниципальных) органов","Палата имущественных и земельных отношений","ку","129","Взносы по обязательному социальному страхованию на выплату денежного содержания и иные выплаты работникам государственных (муниципальных) органов",null,null,null,null,0]
[10,"Палата имущественных и земельных отношений","606","01","13","1600102040","122",112,0,0,0,null,0,"60601131600102040Иные выплаты персоналу государственных (муниципальных) органов, за исключением фонда оплаты труда","Палата имущественных и земельных отношений","ку","122","Иные выплаты персоналу государственных (муниципальных) органов, за исключением фонда оплаты труда",null,null,null,null,0]
[10,"Палата имущественных и земельных отношений","606","01","13","1600102040","244",0,112,0,112,null,112,"60601131600102040Прочая закупка товаров, работ и услуг для обеспечения государственных (муниципальных) нужд","Палата имущественных и земельных отношений","ку","244","Прочая закупка товаров, работ и услуг для обеспечения государственных (муниципальных) нужд",null,null,null,null,0]
[10,"Палата имущественных и земельных отношений","606","01","13","1600102040","412",999,0,0,0,null,0,"60601131600102040Бюджетные инвестиции на приобретение объектов недвижимого имущества в государственную (муниципальную) собственность","Палата имущественных и земельных отношений","ку","412","Бюджетные инвестиции на приобретение объектов недвижимого имущества в государственную (муниципальную) собственность",null,null,null,null,0]
[11,"ЗАГС","601","01","13","9900059300","121",198,691.2,0,656,35.200000000000003,691.2,"60101139900059300Фонд оплаты труда государственных (муниципальных) органов и взносы по обязательному социальному страхованию","ЗАГС","ку","121","Фонд оплаты труда государственных (муниципальных) органов и взносы по обязательному социальному страхованию",null,null,null,null,-35.200000000000045]
[11,"ЗАГС","601","01","13","9900059300","129",18,213,0,198,15,213,"60101139900059300Взносы по обязательному социальному страхованию на выплату денежного содержания и иные выплаты работникам государственных (муниципальных) органов","ЗАГС","ку","129","Взносы по обязательному социальному страхованию на выплату денежного содержания и иные выплаты работникам государственных (муниципальных) органов",null,null,null,null,-15]
[11,"ЗАГС","601","01","13","9900059300","122",848.40000000000009,18,0,18,null,18,"60101139900059300Иные выплаты персоналу государственных (муниципальных) органов, за исключением фонда оплаты труда","ЗАГС","ку","122","Иные выплаты персоналу государственных (муниципальных) органов, за исключением фонда оплаты труда",null,null,null,null,0]
[11,"ЗАГС","601","01","13","9900059300","244",0,848.40000000000009,0,848.40000000000009,null,848.40000000000009,"60101139900059300Прочая закупка товаров, работ и услуг для обеспечения государственных (муниципальных) нужд","ЗАГС","ку","244","Прочая закупка товаров, работ и услуг для обеспечения государственных (муниципальных) нужд",null,null,null,null,0]
[11,"ЗАГС","601","01","13","9900059300","412",0,0,0,0,null,0,"60101139900059300Бюджетные инвестиции на приобретение объектов недвижимого имущества в государственную (муниципальную) собственность","ЗАГС","ку","412","Бюджетные инвестиции на приобретение объектов недвижимого имущества в государственную (муниципальную) собственность",null,null,null,null,0]
[12,"Централизованная бухгалтерияПИЗО","606","01","13","1800129900","111",0,0,0,0,null,0,"60601131800129900Фонд оплаты труда казенных учреждений и взносы по обязательному социальному страхованию","Централизованная бухгалтерияПИЗО","ку","111","Фонд оплаты труда казенных учреждений и взносы по обязательному социальному страхованию",null,null,null,null,0]
[12,"Централизованная бухгалтерияПИЗО","606","01","13","1800129900","119",{"$f":"SUM(I64:J64)","v":0},0,null,0,null,0,"60601131800129900Взносы по обязательному социальному страхованию на выплаты по оплате труда работников и иные выплаты работникам учреждений","Централизованная бухгалтерияПИЗО","ку","119","Взносы по обязательному социальному страхованию на выплаты по оплате труда работников и иные выплаты работникам учреждений",null,null,null,null,0]
[13,"Централизованная бухгалтерия","601","01","13","1800129900","111",8089,8339.1,0,8089,250.1,8339.1,"60101131800129900Фонд оплаты труда казенных учреждений и взносы по обязательному социальному страхованию","Централизованная бухгалтерия","ку","111","Фонд оплаты труда казенных учреждений и взносы по обязательному социальному страхованию",null,null,null,null,-250.10000000000036]
[13,"Централизованная бухгалтерия","601","01","13","1800129900","119",2443,2551,0,2443,108,2551,"60101131800129900Взносы по обязательному социальному страхованию на выплаты по оплате труда работников и иные выплаты работникам учреждений","Централизованная бухгалтерия","ку","119","Взносы по обязательному социальному страхованию на выплаты по оплате труда работников и иные выплаты работникам учреждений",null,null,null,null,-108]
[13,"Централизованная бухгалтерия","601","01","13","1800129900","112",0,0,0,0,null,0,"60101131800129900Иные выплаты персоналу казенных учреждений, за исключением фонда оплаты труда","Централизованная бухгалтерия","ку","112","Иные выплаты персоналу казенных учреждений, за исключением фонда оплаты труда",null,null,null,null,0]
[13,"Централизованная бухгалтерия","601","01","13","1800129900","244",7173.8,1147.3000000000002,6026.5,1147.3000000000002,null,1147.3000000000002,"60101131800129900Прочая закупка товаров, работ и услуг для обеспечения государственных (муниципальных) нужд","Централизованная бухгалтерия","ку","244","Прочая закупка товаров, работ и услуг для обеспечения государственных (муниципальных) нужд",null,null,null,null,0]
[13,"Централизованная бухгалтерия","601","01","13","1800129900","412",0,0,0,0,null,{"$f":"SUM(K69:K69)","v":0},"60101131800129900Бюджетные инвестиции на приобретение объектов недвижимого имущества в государственную (муниципальную) собственность","Централизованная бухгалтерия","ку","412","Бюджетные инвестиции на приобретение объектов недвижимого имущества в государственную (муниципальную) собственность",null,null,null,null,0]
[14,"Архивный отдел","601","01","13","08Е0144020","111",0,488,0,488,null,488,"601011308Е0144020Фонд оплаты труда казенных учреждений и взносы по обязательному социальному страхованию","Архивный отдел","ку","111","Фонд оплаты труда казенных учреждений и взносы по обязательному социальному страхованию",null,null,null,null,0]
[14,"Архивный отдел","601","01","13","08Е0144020","119",0,147,0,147,null,147,"601011308Е0144020Взносы по обязательному социальному страхованию на выплаты по оплате труда работников и иные выплаты работникам учреждений","Архивный отдел","ку","119","Взносы по обязательному социальному страхованию на выплаты по оплате труда работников и иные выплаты работникам учреждений",null,null,null,null,0]
[14,"Архивный отдел","601","01","13","08Е0144020","112",488,0,0,0,null,0,"601011308Е0144020Иные выплаты персоналу казенных учреждений, за исключением фонда оплаты труда","Архивный отдел","ку","112","Иные выплаты персоналу казенных учреждений, за исключением фонда оплаты труда",null,null,null,null,0]
[14,"Архивный отдел","601","01","13","08Е0144020","244",147,48,0,48,null,48,"601011308Е0144020Прочая закупка товаров, работ и услуг для обеспечения государственных (муниципальных) нужд","Архивный отдел","ку","244","Прочая закупка товаров, работ и услуг для обеспечения государственных (муниципальных) нужд",null,null,null,null,0]
[14,"Архивный отдел","601","01","13","08Е0144020","412",0,0,0,0,null,0,"601011308Е0144020Бюджетные инвестиции на приобретение объектов недвижимого имущества в государственную (муниципальную) собственность","Архивный отдел","ку","412","Бюджетные инвестиции на приобретение объектов недвижимого имущества в государственную (муниципальную) собственность",null,null,null,null,0]
[15,"Военкомат","601","02","03","9900051180","121",201.2999999999999,0,201.2999999999999,0,28.9,{"$f":"SUM(K75:K75)","v":0},"60102039900051180Фонд оплаты труда государственных (муниципальных) органов и взносы по обязательному социальному страхованию","Военкомат","ку","121","Фонд оплаты труда государственных (муниципальных) органов и взносы по обязательному социальному страхованию",null,null,null,null,0]
[15,"Военкомат","601","02","03","9900051180","129",0,0,0,0,null,0,"60102039900051180Взносы по обязательному социальному страхованию на выплату денежного содержания и иные выплаты работникам государственных (муниципальных) органов","Военкомат","ку","129","Взносы по обязательному социальному страхованию на выплату денежного содержания и иные выплаты работникам государственных (муниципальных) органов",null,null,null,null,0]
[15,"Военкомат","601","02","03","9900051180","122",1882.9,0,1882.9,0,null,0,"60102039900051180Иные выплаты персоналу государственных (муниципальных) органов, за исключением фонда оплаты труда","Военкомат","ку","122","Иные выплаты персоналу государственных (муниципальных) органов, за исключением фонда оплаты труда",null,null,null,null,0]
[15,"Военкомат","601","02","03","9900051180","244",568.59999999999991,0,568.59999999999991,0,null,0,"60102039900051180Прочая закупка товаров, работ и услуг для обеспечения государственных (муниципальных) нужд","Военкомат","ку","244","Прочая закупка товаров, работ и услуг для обеспечения государственных (муниципальных) нужд",null,null,null,null,0]
[15,"Военкомат","601","02","03","9900051180",{"$f":"IF(P79=\"бу\",611,Q79)","v":"412"},null,0,null,0,null,0,"60102039900051180Бюджетные инвестиции на приобретение объектов недвижимого имущества в государственную (муниципальную) собственность","Военкомат","ку","412","Бюджетные инвестиции на приобретение объектов недвижимого имущества в государственную (муниципальную) собственность",null,null,null,null,0]
[16,"МЧС","601","03","09","0720107420","244",0,{"$f":"M80","v":100},0,100,null,100,{"$f":"C80&D80&E80&F80&R80","v":"60103090720107420Прочая закупка товаров, работ и услуг для обеспечения государственных (муниципальных) нужд"},"МЧС","ку","244","Прочая закупка товаров, работ и услуг для обеспечения государственных (муниципальных) нужд",null,null,null,null,{"$f":"K80-I80","v":0}]
[17,"ОПОП","601","03","14","0610110990","111",0,334,0,334,null,334,"60103140610110990Фонд оплаты труда казенных учреждений и взносы по обязательному социальному страхованию","ОПОП","ку","111","Фонд оплаты труда казенных учреждений и взносы по обязательному социальному страхованию",null,null,null,null,0]
[17,"ОПОП","601","03","14","0610110990","119",86.299999999999955,101,0,101,null,101,"60103140610110990Взносы по обязательному социальному страхованию на выплаты по оплате труда работников и иные выплаты работникам учреждений","ОПОП","ку","119","Взносы по обязательному социальному страхованию на выплаты по оплате труда работников и иные выплаты работникам учреждений",null,null,null,null,0]
[17,"ОПОП","601","03","14","0610110990","112",0,0,0,0,null,0,"60103140610110990Иные выплаты персоналу казенных учреждений, за исключением фонда оплаты труда","ОПОП","ку","112","Иные выплаты персоналу казенных учреждений, за исключением фонда оплаты труда",null,null,null,null,0]
[17,"ОПОП","601","03","14","0610110990","244",0,86.299999999999955,0,86.299999999999955,null,{"$f":"SUM(K84:L84)","v":86.299999999999955},"60103140610110990Прочая закупка товаров, работ и услуг для обеспечения государственных (муниципальных) нужд","ОПОП","ку","244","Прочая закупка товаров, работ и услуг для обеспечения государственных (муниципальных) нужд",null,null,null,null,0]
[18,"Экология","605","06","03","0910119100","244",0,1528,0,1528,null,{"$f":"SUM(K85:L85)","v":1528},"60506030910119100Прочая закупка товаров, работ и услуг для обеспечения государственных (муниципальных) нужд","Экология","ку","244","Прочая закупка товаров, работ и услуг для обеспечения государственных (муниципальных) нужд",null,null,null,null,0]
[18,"Экология","605","06","03","0910119100","412",0,0,0,0,null,0,"60506030910119100Бюджетные инвестиции на приобретение объектов недвижимого имущества в государственную (муниципальную) собственность","Экология","ку","412","Бюджетные инвестиции на приобретение объектов недвижимого имущества в государственную (муниципальную) собственность",null,null,null,null,0]
[19,"Капремонт жилфонда","601","05","01","0490176030","244",0,0,0,0,null,0,"60105010490176030Прочая закупка товаров, работ и услуг для обеспечения государственных (муниципальных) нужд","Капремонт жилфонда","ку","244","Прочая закупка товаров, работ и услуг для обеспечения государственных (муниципальных) нужд",null,null,null,null,0]
[20,"Инвентаризация жилого фонда","601","05","01","0480476040","244",0,15661.49,0,15107,554.49,15661.49,"60105010480476040Прочая закупка товаров, работ и услуг для обеспечения государственных (муниципальных) нужд","Инвентаризация жилого фонда","ку","244","Прочая закупка товаров, работ и услуг для обеспечения государственных (муниципальных) нужд",null,null,null,null,-554.48999999999978]
[21,"Подпрограмма «Повышение безопасности дорожного движения Кукморского муниципального района Республики Татарстан на 2015 год»","601","05","03","0620178020","244",0,1500,0,1500,null,{"$f":"SUM(K89:K89)","v":1500},"60105030620178020Прочая закупка товаров, работ и услуг для обеспечения государственных (муниципальных) нужд","Подпрограмма «Повышение безопасности дорожного движения Кукморского муниципального района Республики Татарстан на 2015 год»","ку","244","Прочая закупка товаров, работ и услуг для обеспечения государственных (муниципальных) нужд",null,null,null,null,0]
[22,"Уличное освещение","601","05","03","0490278010","244",13458.599999999997,0,13458.599999999997,0,null,0,"60105030490278010Прочая закупка товаров, работ и услуг для обеспечения государственных (муниципальных) нужд","Уличное освещение","ку","244","Прочая закупка товаров, работ и услуг для обеспечения государственных (муниципальных) нужд",null,null,null,null,0]
[23,"Содержание автомобильных дорог","601","04","09","0490278020","244",0,3717.2,0,3717.2,null,3717.2,"60104090490278020Прочая закупка товаров, работ и услуг для обеспечения государственных (муниципальных) нужд","Содержание автомобильных дорог","ку","244","Прочая закупка товаров, работ и услуг для обеспечения государственных (муниципальных) нужд",null,null,null,null,0]
[24,"Озеленение","601","05","03","0490278030","244",0,0,0,0,null,0,"60105030490278030Прочая закупка товаров, работ и услуг для обеспечения государственных (муниципальных) нужд","Озеленение","ку","244","Прочая закупка товаров, работ и услуг для обеспечения государственных (муниципальных) нужд",null,null,null,null,0]
[25,"Муниципальная программа \"Организация и содержаение мест захоронения\"","601","05","03","0490278040","244",0,1155,0,1155,null,1155,"60105030490278040Прочая закупка товаров, работ и услуг для обеспечения государственных (муниципальных) нужд","Муниципальная программа \"Организация и содержаение мест захоронения\"","ку","244","Прочая закупка товаров, работ и услуг для обеспечения государственных (муниципальных) нужд",null,null,null,null,0]
[26,"Прочие мероприятия по благоустройству","601","05","03","0490278050","244",0,0,0,0,null,0,"60105030490278050Прочая закупка товаров, работ и услуг для обеспечения государственных (муниципальных) нужд","Прочие мероприятия по благоустройству","ку","244","Прочая закупка товаров, работ и услуг для обеспечения государственных (муниципальных) нужд",null,null,null,null,0]
[27,"Водонапорные башни","601","05","02","0490378050","244",0,0,0,0,null,0,"60105020490378050Прочая закупка товаров, работ и услуг для обеспечения государственных (муниципальных) нужд","Водонапорные башни","ку","244","Прочая закупка товаров, работ и услуг для обеспечения государственных (муниципальных) нужд",null,null,null,null,0]
[28,"Субвенция по соглашениям (КРЖФ)","605","05","01","9900025600","540",0,0,0,0,null,0,"60505019900025600Иные межбюджетные трансферты","Субвенция по соглашениям (КРЖФ)","ку","540","Иные межбюджетные трансферты",null,null,null,null,0]
[29,"Детсады","611","07","01","0210342000",611,8410.9950799999951,71198.194910000035,0,69938.194910000035,1260,71198.194910000035,"61107010210342000Субсидии бюджетным учреждениям на финансовое обеспечение государственного (муниципального) задания на оказание государственных (муниципальных) услуг (выполнение работ)","Детсады","бу","111","Субсидии бюджетным учреждениям на финансовое обеспечение государственного (муниципального) задания на оказание государственных (муниципальных) услуг (выполнение работ)",null,null,null,null,-1260]
[29,"Детсады","611","07","01","0210342000",611,69938.194910000035,21119.775130000009,0,21119.775130000009,null,21119.775130000009,"61107010210342000Субсидии бюджетным учреждениям на финансовое обеспечение государственного (муниципального) задания на оказание государственных (муниципальных) услуг (выполнение работ)","Детсады","бу","119","Субсидии бюджетным учреждениям на финансовое обеспечение государственного (муниципального) задания на оказание государственных (муниципальных) услуг (выполнение работ)",null,null,null,null,0]
[29,"Детсады","611","07","01","0210342000",611,21119.775130000009,300,0,300,null,300,"61107010210342000Субсидии бюджетным учреждениям на финансовое обеспечение государственного (муниципального) задания на оказание государственных (муниципальных) услуг (выполнение работ)","Детсады","бу","112","Субсидии бюджетным учреждениям на финансовое обеспечение государственного (муниципального) задания на оказание государственных (муниципальных) услуг (выполнение работ)",null,null,null,null,0]
[29,"Детсады","611","07","01","0210342000",611,300,8410.9950799999951,0,8410.9950799999951,null,8410.9950799999951,"61107010210342000Субсидии бюджетным учреждениям на финансовое обеспечение государственного (муниципального) задания на оказание государственных (муниципальных) услуг (выполнение работ)","Детсады","бу","244","Субсидии бюджетным учреждениям на финансовое обеспечение государственного (муниципального) задания на оказание государственных (муниципальных) услуг (выполнение работ)",null,null,null,null,0]
[29,"Детсады","611","07","01","0210342000",611,8410.9950799999951,0,0,0,null,0,"61107010210342000Субсидии бюджетным учреждениям на финансовое обеспечение государственного (муниципального) задания на оказание государственных (муниципальных) услуг (выполнение работ)","Детсады","бу","412","Субсидии бюджетным учреждениям на финансовое обеспечение государственного (муниципального) задания на оказание государственных (муниципальных) услуг (выполнение работ)",null,null,null,null,0]
[29,"Детсады","611","07","01","0210342000",611,0,6717,0,6717,null,6717,"61107010210342000Субсидии бюджетным учреждениям на финансовое обеспечение государственного (муниципального) задания на оказание государственных (муниципальных) услуг (выполнение работ)","Детсады","бу","851","Субсидии бюджетным учреждениям на финансовое обеспечение государственного (муниципального) задания на оказание государственных (муниципальных) услуг (выполнение работ)",null,null,null,null,0]
[29,"Детсады","611","07","01","0210342000",611,8410.9950799999951,250,0,250,null,250,"61107010210342000Субсидии бюджетным учреждениям на финансовое обеспечение государственного (муниципального) задания на оказание государственных (муниципальных) услуг (выполнение работ)","Детсады","бу","852","Субсидии бюджетным учреждениям на финансовое обеспечение государственного (муниципального) задания на оказание государственных (муниципальных) услуг (выполнение работ)",null,null,null,null,0]
[30,"Школы","611","07","02","0220242100",611,71708.373189999984,121863.20375999999,0,118433.50375999999,{"$f":"4689.7-1260","v":3429.7},121863.20375999999,"61107020220242100Субсидии бюджетным учреждениям на финансовое обеспечение государственного (муниципального) задания на оказание государственных (муниципальных) услуг (выполнение работ)","Школы","бу","111","Субсидии бюджетным учреждениям на финансовое обеспечение государственного (муниципального) задания на оказание государственных (муниципальных) услуг (выполнение работ)",null,null,null,null,-3429.6999999999971]
[30,"Школы","611","07","02","0220242100",611,71708.373189999984,35765.730139999992,0,35765.730139999992,null,35765.730139999992,"61107020220242100Субсидии бюджетным учреждениям на финансовое обеспечение государственного (муниципального) задания на оказание государственных (муниципальных) услуг (выполнение работ)","Школы","бу","119","Субсидии бюджетным учреждениям на финансовое обеспечение государственного (муниципального) задания на оказание государственных (муниципальных) услуг (выполнение работ)",null,null,null,null,0]
[30,"Школы","611","07","02","0220242100",611,71708.373189999984,700,0,700,null,700,"61107020220242100Субсидии бюджетным учреждениям на финансовое обеспечение государственного (муниципального) задания на оказание государственных (муниципальных) услуг (выполнение работ)","Школы","бу","112","Субсидии бюджетным учреждениям на финансовое обеспечение государственного (муниципального) задания на оказание государственных (муниципальных) услуг (выполнение работ)",null,null,null,null,0]
[30,"Школы","611","07","02","0220242100",611,71708.373189999984,71708.373189999984,0,71708.373189999984,null,71708.373189999984,"61107020220242100Субсидии бюджетным учреждениям на финансовое обеспечение государственного (муниципального) задания на оказание государственных (муниципальных) услуг (выполнение работ)","Школы","бу","244","Субсидии бюджетным учреждениям на финансовое обеспечение государственного (муниципального) задания на оказание государственных (муниципальных) услуг (выполнение работ)",null,null,null,null,0]
[30,"Школы","611","07","02","0220242100",611,71708.373189999984,0,0,0,null,0,"61107020220242100Субсидии бюджетным учреждениям на финансовое обеспечение государственного (муниципального) задания на оказание государственных (муниципальных) услуг (выполнение работ)","Школы","бу","412","Субсидии бюджетным учреждениям на финансовое обеспечение государственного (муниципального) задания на оказание государственных (муниципальных) услуг (выполнение работ)",null,null,null,null,0]
[30,"Школы","611","07","02","0220242100",611,71708.373189999984,14258.39,0,14258.39,null,14258.39,"61107020220242100Субсидии бюджетным учреждениям на финансовое обеспечение государственного (муниципального) задания на оказание государственных (муниципальных) услуг (выполнение работ)","Школы","бу","851","Субсидии бюджетным учреждениям на финансовое обеспечение государственного (муниципального) задания на оказание государственных (муниципальных) услуг (выполнение работ)",null,null,null,null,0]
[30,"Школы","611","07","02","0220242100",611,71708.373189999984,598.70000000000005,0,598.70000000000005,null,598.70000000000005,"61107020220242100Субсидии бюджетным учреждениям на финансовое обеспечение государственного (муниципального) задания на оказание государственных (муниципальных) услуг (выполнение работ)","Школы","бу","852","Субсидии бюджетным учреждениям на финансовое обеспечение государственного (муниципального) задания на оказание государственных (муниципальных) услуг (выполнение работ)",null,null,null,null,0]
[31,"Учреждения по внешкольной работе (МП)","611","07","03","0230142310",611,2141.54162,13707.65928,0,13707.65928,null,13707.65928,"61107030230142310Субсидии бюджетным учреждениям на финансовое обеспечение государственного (муниципального) задания на оказание государственных (муниципальных) услуг (выполнение работ)","Учреждения по внешкольной работе (МП)","бу","111","Субсидии бюджетным учреждениям на финансовое обеспечение государственного (муниципального) задания на оказание государственных (муниципальных) услуг (выполнение работ)",null,null,null,null,0]
[31,"Учреждения по внешкольной работе (МП)","611","07","03","0230142310",611,{"$f":"SUM(I112:J112)","v":8527.7131000000008},4139.7130999999999,4388,4139.7130999999999,null,4139.7130999999999,"61107030230142310Субсидии бюджетным учреждениям на финансовое обеспечение государственного (муниципального) задания на оказание государственных (муниципальных) услуг (выполнение работ)","Учреждения по внешкольной работе (МП)","бу","119","Субсидии бюджетным учреждениям на финансовое обеспечение государственного (муниципального) задания на оказание государственных (муниципальных) услуг (выполнение работ)",null,null,null,null,0]
[31,"Учреждения по внешкольной работе (МП)","611","07","03","0230142310",611,13707.65928,95.88479000000001,0,95.88479000000001,null,95.88479000000001,"61107030230142310Субсидии бюджетным учреждениям на финансовое обеспечение государственного (муниципального) задания на оказание государственных (муниципальных) услуг (выполнение работ)","Учреждения по внешкольной работе (МП)","бу","112","Субсидии бюджетным учреждениям на финансовое обеспечение государственного (муниципального) задания на оказание государственных (муниципальных) услуг (выполнение работ)",null,null,null,null,0]
[31,"Учреждения по внешкольной работе (МП)","611","07","03","0230142310",611,4139.7130999999999,2141.54162,0,2141.54162,null,2141.54162,"61107030230142310Субсидии бюджетным учреждениям на финансовое обеспечение государственного (муниципального) задания на оказание государственных (муниципальных) услуг (выполнение работ)","Учреждения по внешкольной работе (МП)","бу","244","Субсидии бюджетным учреждениям на финансовое обеспечение государственного (муниципального) задания на оказание государственных (муниципальных) услуг (выполнение работ)",null,null,null,null,0]
[31,"Учреждения по внешкольной работе (МП)","611","07","03","0230142310",611,95.88479000000001,0,0,0,null,0,"61107030230142310Субсидии бюджетным учреждениям на финансовое обеспечение государственного (муниципального) задания на оказание государственных (муниципальных) услуг (выполнение работ)","Учреждения по внешкольной работе (МП)","бу","412","Субсидии бюджетным учреждениям на финансовое обеспечение государственного (муниципального) задания на оказание государственных (муниципальных) услуг (выполнение работ)",null,null,null,null,0]
[31,"Учреждения по внешкольной работе (МП)","611","07","03","0230142310",611,2141.54162,763.90000000000009,0,763.90000000000009,null,763.90000000000009,"61107030230142310Субсидии бюджетным учреждениям на финансовое обеспечение государственного (муниципального) задания на оказание государственных (муниципальных) услуг (выполнение работ)","Учреждения по внешкольной работе (МП)","бу","851","Субсидии бюджетным учреждениям на финансовое обеспечение государственного (муниципального) задания на оказание государственных (муниципальных) услуг (выполнение работ)",null,null,null,null,0]
[31,"Учреждения по внешкольной работе (МП)","611","07","03","0230142310",611,0,2.5,0,2.5,null,2.5,"61107030230142310Субсидии бюджетным учреждениям на финансовое обеспечение государственного (муниципального) задания на оказание государственных (муниципальных) услуг (выполнение работ)","Учреждения по внешкольной работе (МП)","бу","852","Субсидии бюджетным учреждениям на финансовое обеспечение государственного (муниципального) задания на оказание государственных (муниципальных) услуг (выполнение работ)",null,null,null,null,0]
[32,"Учреждения по внешкольной работе (ХЭН)","613","07","03","0230142320",611,0,14112.165359999999,0,14112.165359999999,null,14112.165359999999,"61307030230142320Субсидии бюджетным учреждениям на финансовое обеспечение государственного (муниципального) задания на оказание государственных (муниципальных) услуг (выполнение работ)","Учреждения по внешкольной работе (ХЭН)","бу","111","Субсидии бюджетным учреждениям на финансовое обеспечение государственного (муниципального) задания на оказание государственных (муниципальных) услуг (выполнение работ)",null,null,null,null,0]
[32,"Учреждения по внешкольной работе (ХЭН)","613","07","03","0230142320",611,0,4261.8739400000004,0,4261.8739400000004,null,4261.8739400000004,"61307030230142320Субсидии бюджетным учреждениям на финансовое обеспечение государственного (муниципального) задания на оказание государственных (муниципальных) услуг (выполнение работ)","Учреждения по внешкольной работе (ХЭН)","бу","119","Субсидии бюджетным учреждениям на финансовое обеспечение государственного (муниципального) задания на оказание государственных (муниципальных) услуг (выполнение работ)",null,null,null,null,0]
[32,"Учреждения по внешкольной работе (ХЭН)","613","07","03","0230142320",611,14112.165359999999,0,0,0,null,0,"61307030230142320Субсидии бюджетным учреждениям на финансовое обеспечение государственного (муниципального) задания на оказание государственных (муниципальных) услуг (выполнение работ)","Учреждения по внешкольной работе (ХЭН)","бу","112","Субсидии бюджетным учреждениям на финансовое обеспечение государственного (муниципального) задания на оказание государственных (муниципальных) услуг (выполнение работ)",null,null,null,null,0]
[32,"Учреждения по внешкольной работе (ХЭН)","613","07","03","0230142320",611,4261.8739400000004,339.48766000000023,0,339.48766000000023,null,339.48766000000023,"61307030230142320Субсидии бюджетным учреждениям на финансовое обеспечение государственного (муниципального) задания на оказание государственных (муниципальных) услуг (выполнение работ)","Учреждения по внешкольной работе (ХЭН)","бу","244","Субсидии бюджетным учреждениям на финансовое обеспечение государственного (муниципального) задания на оказание государственных (муниципальных) услуг (выполнение работ)",null,null,null,null,0]
[32,"Учреждения по внешкольной работе (ХЭН)","613","07","03","0230142320",611,0,0,0,0,null,0,"61307030230142320Субсидии бюджетным учреждениям на финансовое обеспечение государственного (муниципального) задания на оказание государственных (муниципальных) услуг (выполнение работ)","Учреждения по внешкольной работе (ХЭН)","бу","412","Субсидии бюджетным учреждениям на финансовое обеспечение государственного (муниципального) задания на оказание государственных (муниципальных) услуг (выполнение работ)",null,null,null,null,0]
[32,"Учреждения по внешкольной работе (ХЭН)","613","07","03","0230142320",611,339.48766000000023,0,0,0,null,0,"61307030230142320Субсидии бюджетным учреждениям на финансовое обеспечение государственного (муниципального) задания на оказание государственных (муниципальных) услуг (выполнение работ)","Учреждения по внешкольной работе (ХЭН)","бу","851","Субсидии бюджетным учреждениям на финансовое обеспечение государственного (муниципального) задания на оказание государственных (муниципальных) услуг (выполнение работ)",null,null,null,null,0]
[32,"Учреждения по внешкольной работе (ХЭН)","613","07","03","0230142320",611,0,0,0,0,null,0,"61307030230142320Субсидии бюджетным учреждениям на финансовое обеспечение государственного (муниципального) задания на оказание государственных (муниципальных) услуг (выполнение работ)","Учреждения по внешкольной работе (ХЭН)","бу","852","Субсидии бюджетным учреждениям на финансовое обеспечение государственного (муниципального) задания на оказание государственных (муниципальных) услуг (выполнение работ)",null,null,null,null,0]
[33,"Учреждения по внешкольной работе (ДЮСШ)","612","07","03","0230142330",611,4531.1639399999995,22877.010119999999,0,22877.010119999999,null,22877.010119999999,"61207030230142330Субсидии бюджетным учреждениям на финансовое обеспечение государственного (муниципального) задания на оказание государственных (муниципальных) услуг (выполнение работ)","Учреждения по внешкольной работе (ДЮСШ)","бу","111","Субсидии бюджетным учреждениям на финансовое обеспечение государственного (муниципального) задания на оказание государственных (муниципальных) услуг (выполнение работ)",null,null,null,null,0]
[33,"Учреждения по внешкольной работе (ДЮСШ)","612","07","03","0230142330",611,82.286999999999992,6908.8570600000003,0,6908.8570600000003,null,6908.8570600000003,"61207030230142330Субсидии бюджетным учреждениям на финансовое обеспечение государственного (муниципального) задания на оказание государственных (муниципальных) услуг (выполнение работ)","Учреждения по внешкольной работе (ДЮСШ)","бу","119","Субсидии бюджетным учреждениям на финансовое обеспечение государственного (муниципального) задания на оказание государственных (муниципальных) услуг (выполнение работ)",null,null,null,null,0]
[33,"Учреждения по внешкольной работе (ДЮСШ)","612","07","03","0230142330",611,22877.010119999999,0,0,0,null,0,"61207030230142330Субсидии бюджетным учреждениям на финансовое обеспечение государственного (муниципального) задания на оказание государственных (муниципальных) услуг (выполнение работ)","Учреждения по внешкольной работе (ДЮСШ)","бу","112","Субсидии бюджетным учреждениям на финансовое обеспечение государственного (муниципального) задания на оказание государственных (муниципальных) услуг (выполнение работ)",null,null,null,null,0]
[33,"Учреждения по внешкольной работе (ДЮСШ)","612","07","03","0230142330",611,6908.8570600000003,13720.472749999988,0,13720.472749999988,null,13720.472749999988,"61207030230142330Субсидии бюджетным учреждениям на финансовое обеспечение государственного (муниципального) задания на оказание государственных (муниципальных) услуг (выполнение работ)","Учреждения по внешкольной работе (ДЮСШ)","бу","244","Субсидии бюджетным учреждениям на финансовое обеспечение государственного (муниципального) задания на оказание государственных (муниципальных) услуг (выполнение работ)",null,null,null,null,0]
[33,"Учреждения по внешкольной работе (ДЮСШ)","612","07","03","0230142330",611,0,0,0,0,null,0,"61207030230142330Субсидии бюджетным учреждениям на финансовое обеспечение государственного (муниципального) задания на оказание государственных (муниципальных) услуг (выполнение работ)","Учреждения по внешкольной работе (ДЮСШ)","бу","412","Субсидии бюджетным учреждениям на финансовое обеспечение государственного (муниципального) задания на оказание государственных (муниципальных) услуг (выполнение работ)",null,null,null,null,0]
[33,"Учреждения по внешкольной работе (ДЮСШ)","612","07","03","0230142330",611,13720.472749999988,4531.1639399999995,0,4531.1639399999995,null,4531.1639399999995,"61207030230142330Субсидии бюджетным учреждениям на финансовое обеспечение государственного (муниципального) задания на оказание государственных (муниципальных) услуг (выполнение работ)","Учреждения по внешкольной работе (ДЮСШ)","бу","851","Субсидии бюджетным учреждениям на финансовое обеспечение государственного (муниципального) задания на оказание государственных (муниципальных) услуг (выполнение работ)",null,null,null,null,0]
[33,"Учреждения по внешкольной работе (ДЮСШ)","612","07","03","0230142330",611,0,82.286999999999992,0,82.286999999999992,null,82.286999999999992,"61207030230142330Субсидии бюджетным учреждениям на финансовое обеспечение государственного (муниципального) задания на оказание государственных (муниципальных) услуг (выполнение работ)","Учреждения по внешкольной работе (ДЮСШ)","бу","852","Субсидии бюджетным учреждениям на финансовое обеспечение государственного (муниципального) задания на оказание государственных (муниципальных) услуг (выполнение работ)",null,null,null,null,0]
[34,"Субвенции на обеспечение прав на получение общедоступного и бесплатного дошкольного образования в муниципальных ДОУ","611","07","01","0210125370",611,0,63224,0,63224,null,63224,"61107010210125370Субсидии бюджетным учреждениям на финансовое обеспечение государственного (муниципального) задания на оказание государственных (муниципальных) услуг (выполнение работ)","Субвенции на обеспечение прав на получение общедоступного и бесплатного дошкольного образования в муниципальных ДОУ","бу","111","Субсидии бюджетным учреждениям на финансовое обеспечение государственного (муниципального) задания на оказание государственных (муниципальных) услуг (выполнение работ)",null,null,null,null,0]
[34,"Субвенции на обеспечение прав на получение общедоступного и бесплатного дошкольного образования в муниципальных ДОУ","611","07","01","0210125370",611,0,19095.208000000013,0,19095.208000000013,null,19095.208000000013,"61107010210125370Субсидии бюджетным учреждениям на финансовое обеспечение государственного (муниципального) задания на оказание государственных (муниципальных) услуг (выполнение работ)","Субвенции на обеспечение прав на получение общедоступного и бесплатного дошкольного образования в муниципальных ДОУ","бу","119","Субсидии бюджетным учреждениям на финансовое обеспечение государственного (муниципального) задания на оказание государственных (муниципальных) услуг (выполнение работ)",null,null,null,null,0]
[34,"Субвенции на обеспечение прав на получение общедоступного и бесплатного дошкольного образования в муниципальных ДОУ","611","07","01","0210125370",611,63224,4.5474735088646412E-13,0,4.5474735088646412E-13,null,4.5474735088646412E-13,"61107010210125370Субсидии бюджетным учреждениям на финансовое обеспечение государственного (муниципального) задания на оказание государственных (муниципальных) услуг (выполнение работ)","Субвенции на обеспечение прав на получение общедоступного и бесплатного дошкольного образования в муниципальных ДОУ","бу","244","Субсидии бюджетным учреждениям на финансовое обеспечение государственного (муниципального) задания на оказание государственных (муниципальных) услуг (выполнение работ)",null,null,null,null,0]
[34,"Субвенции на обеспечение прав на получение общедоступного и бесплатного дошкольного образования в муниципальных ДОУ","611","07","01","0210125370",611,19095.208000000013,0,0,0,null,0,"61107010210125370Субсидии бюджетным учреждениям на финансовое обеспечение государственного (муниципального) задания на оказание государственных (муниципальных) услуг (выполнение работ)","Субвенции на обеспечение прав на получение общедоступного и бесплатного дошкольного образования в муниципальных ДОУ","бу","412","Субсидии бюджетным учреждениям на финансовое обеспечение государственного (муниципального) задания на оказание государственных (муниципальных) услуг (выполнение работ)",null,null,null,null,0]
[35,"Субвенции на обеспечение госгарантий прав граждан на получение общего образования, а также доп.образования в общеобраз.учреждениях ","611","07","02","0220825280",611,0,217006,0,217006,null,217006,"61107020220825280Субсидии бюджетным учреждениям на финансовое обеспечение государственного (муниципального) задания на оказание государственных (муниципальных) услуг (выполнение работ)","Субвенции на обеспечение госгарантий прав граждан на получение общего образования, а также доп.образования в общеобраз.учреждениях ","бу","111","Субсидии бюджетным учреждениям на финансовое обеспечение государственного (муниципального) задания на оказание государственных (муниципальных) услуг (выполнение работ)",null,null,null,null,0]
[35,"Субвенции на обеспечение госгарантий прав граждан на получение общего образования, а также доп.образования в общеобраз.учреждениях ","611","07","02","0220825280",611,-3.751665644813329E-12,65537.000000000015,0,65537.000000000015,null,65537.000000000015,"61107020220825280Субсидии бюджетным учреждениям на финансовое обеспечение государственного (муниципального) задания на оказание государственных (муниципальных) услуг (выполнение работ)","Субвенции на обеспечение госгарантий прав граждан на получение общего образования, а также доп.образования в общеобраз.учреждениях ","бу","119","Субсидии бюджетным учреждениям на финансовое обеспечение государственного (муниципального) задания на оказание государственных (муниципальных) услуг (выполнение работ)",null,null,null,null,0]
[35,"Субвенции на обеспечение госгарантий прав граждан на получение общего образования, а также доп.образования в общеобраз.учреждениях ","611","07","02","0220825280",611,0,-3.751665644813329E-12,0,-3.751665644813329E-12,null,-3.751665644813329E-12,"61107020220825280Субсидии бюджетным учреждениям на финансовое обеспечение государственного (муниципального) задания на оказание государственных (муниципальных) услуг (выполнение работ)","Субвенции на обеспечение госгарантий прав граждан на получение общего образования, а также доп.образования в общеобраз.учреждениях ","бу","244","Субсидии бюджетным учреждениям на финансовое обеспечение государственного (муниципального) задания на оказание государственных (муниципальных) услуг (выполнение работ)",null,null,null,null,0]
[35,"Субвенции на обеспечение госгарантий прав граждан на получение общего образования, а также доп.образования в общеобраз.учреждениях ","611","07","02","0220825280",611,0,0,0,0,null,0,"61107020220825280Субсидии бюджетным учреждениям на финансовое обеспечение государственного (муниципального) задания на оказание государственных (муниципальных) услуг (выполнение работ)","Субвенции на обеспечение госгарантий прав граждан на получение общего образования, а также доп.образования в общеобраз.учреждениях ","бу","412","Субсидии бюджетным учреждениям на финансовое обеспечение государственного (муниципального) задания на оказание государственных (муниципальных) услуг (выполнение работ)",null,null,null,null,0]
[36,"Программа государственной национальной политики, профилактики экстремизма и укрепления межнациональных и межконфессиональных отношений в Кукморском  муниципальном районе  на 2015-2020годы (УДМС)","612","07","07","2000110990","112",0,20,0,20,null,20,"61207072000110990Иные выплаты персоналу казенных учреждений, за исключением фонда оплаты труда","Программа государственной национальной политики, профилактики экстремизма и укрепления межнациональных и межконфессиональных отношений в Кукморском  муниципальном районе  на 2015-2020годы (УДМС)","ку","112","Иные выплаты персоналу казенных учреждений, за исключением фонда оплаты труда",null,null,null,null,0]
[36,"Программа государственной национальной политики, профилактики экстремизма и укрепления межнациональных и межконфессиональных отношений в Кукморском  муниципальном районе  на 2015-2020годы (УДМС)","612","07","07","2000110990","244",0,178,0,178,null,178,"61207072000110990Прочая закупка товаров, работ и услуг для обеспечения государственных (муниципальных) нужд","Программа государственной национальной политики, профилактики экстремизма и укрепления межнациональных и межконфессиональных отношений в Кукморском  муниципальном районе  на 2015-2020годы (УДМС)","ку","244","Прочая закупка товаров, работ и услуг для обеспечения государственных (муниципальных) нужд",null,null,null,null,0]
[36,"Программа государственной национальной политики, профилактики экстремизма и укрепления межнациональных и межконфессиональных отношений в Кукморском  муниципальном районе  на 2015-2020годы (УДМС)","612","07","07","2000110990","412",0,0,0,0,null,0,"61207072000110990Бюджетные инвестиции на приобретение объектов недвижимого имущества в государственную (муниципальную) собственность","Программа государственной национальной политики, профилактики экстремизма и укрепления межнациональных и межконфессиональных отношений в Кукморском  муниципальном районе  на 2015-2020годы (УДМС)","ку","412","Бюджетные инвестиции на приобретение объектов недвижимого имущества в государственную (муниципальную) собственность",null,null,null,null,0]
[37,"Муниципальная программа \"Развитие физической культуры, спорта в Кукморском муниципальном районе на 2009-2013 годы\"","612","07","07","1040143190",{"$f":"IF(P143=\"бу\",611,Q143)","v":611},87.41,7473.6068400000004,0,7473.6068400000004,null,7473.6068400000004,"61207071040143190Субсидии бюджетным учреждениям на финансовое обеспечение государственного (муниципального) задания на оказание государственных (муниципальных) услуг (выполнение работ)","Муниципальная программа \"Развитие физической культуры, спорта в Кукморском муниципальном районе на 2009-2013 годы\"","бу","111","Субсидии бюджетным учреждениям на финансовое обеспечение государственного (муниципального) задания на оказание государственных (муниципальных) услуг (выполнение работ)",null,null,null,null,0]
[37,"Муниципальная программа \"Развитие физической культуры, спорта в Кукморском муниципальном районе на 2009-2013 годы\"","612","07","07","1040143190",611,3384.3538900000012,{"$f":"M144","v":2257.02927},0,2257.02927,null,2257.02927,{"$f":"C144&D144&E144&F144&R144","v":"61207071040143190Субсидии бюджетным учреждениям на финансовое обеспечение государственного (муниципального) задания на оказание государственных (муниципальных) услуг (выполнение работ)"},"Муниципальная программа \"Развитие физической культуры, спорта в Кукморском муниципальном районе на 2009-2013 годы\"","бу","119","Субсидии бюджетным учреждениям на финансовое обеспечение государственного (муниципального) задания на оказание государственных (муниципальных) услуг (выполнение работ)",null,null,null,null,0]
[37,"Муниципальная программа \"Развитие физической культуры, спорта в Кукморском муниципальном районе на 2009-2013 годы\"","612","07","07","1040143190",611,374.6,87.41,0,87.41,null,{"$f":"SUM(K145:L145)","v":87.41},"61207071040143190Субсидии бюджетным учреждениям на финансовое обеспечение государственного (муниципального) задания на оказание государственных (муниципальных) услуг (выполнение работ)","Муниципальная программа \"Развитие физической культуры, спорта в Кукморском муниципальном районе на 2009-2013 годы\"","бу","112","Субсидии бюджетным учреждениям на финансовое обеспечение государственного (муниципального) задания на оказание государственных (муниципальных) услуг (выполнение работ)",null,null,null,null,{"$f":"K145-I145","v":0}]
[37,"Муниципальная программа \"Развитие физической культуры, спорта в Кукморском муниципальном районе на 2009-2013 годы\"","612","07","07","1040143190",611,279.60000000000002,3912.3538900000012,0,3384.3538900000012,528,3912.3538900000012,"61207071040143190Субсидии бюджетным учреждениям на финансовое обеспечение государственного (муниципального) задания на оказание государственных (муниципальных) услуг (выполнение работ)","Муниципальная программа \"Развитие физической культуры, спорта в Кукморском муниципальном районе на 2009-2013 годы\"","бу","244","Субсидии бюджетным учреждениям на финансовое обеспечение государственного (муниципального) задания на оказание государственных (муниципальных) услуг (выполнение работ)",null,null,null,null,-528]
[37,"Муниципальная программа \"Развитие физической культуры, спорта в Кукморском муниципальном районе на 2009-2013 годы\"","612","07","07","1040143190",611,12.5,374.6,0,374.6,null,374.6,"61207071040143190Субсидии бюджетным учреждениям на финансовое обеспечение государственного (муниципального) задания на оказание государственных (муниципальных) услуг (выполнение работ)","Муниципальная программа \"Развитие физической культуры, спорта в Кукморском муниципальном районе на 2009-2013 годы\"","бу","412","Субсидии бюджетным учреждениям на финансовое обеспечение государственного (муниципального) задания на оказание государственных (муниципальных) услуг (выполнение работ)",null,null,null,null,0]
[37,"Муниципальная программа \"Развитие физической культуры, спорта в Кукморском муниципальном районе на 2009-2013 годы\"","612","07","07","1040143190",611,7473.6068400000004,279.60000000000002,0,279.60000000000002,null,279.60000000000002,"61207071040143190Субсидии бюджетным учреждениям на финансовое обеспечение государственного (муниципального) задания на оказание государственных (муниципальных) услуг (выполнение работ)","Муниципальная программа \"Развитие физической культуры, спорта в Кукморском муниципальном районе на 2009-2013 годы\"","бу","851","Субсидии бюджетным учреждениям на финансовое обеспечение государственного (муниципального) задания на оказание государственных (муниципальных) услуг (выполнение работ)",null,null,null,null,0]
[37,"Муниципальная программа \"Развитие физической культуры, спорта в Кукморском муниципальном районе на 2009-2013 годы\"","612","07","07","1040143190",611,2257.02927,12.5,0,12.5,null,12.5,"61207071040143190Субсидии бюджетным учреждениям на финансовое обеспечение государственного (муниципального) задания на оказание государственных (муниципальных) услуг (выполнение работ)","Муниципальная программа \"Развитие физической культуры, спорта в Кукморском муниципальном районе на 2009-2013 годы\"","бу","852","Субсидии бюджетным учреждениям на финансовое обеспечение государственного (муниципального) задания на оказание государственных (муниципальных) услуг (выполнение работ)",null,null,null,null,0]
[38,"Программа государственной национальной политики, профилактики экстремизма и укрепления межнациональных и межконфессиональных отношений в Кукморском  муниципальном районе  на 2015-2020годы (Форпост)","612","07","07","1040143190","112",0,0,0,0,null,0,"61207071040143190Иные выплаты персоналу казенных учреждений, за исключением фонда оплаты труда","Программа государственной национальной политики, профилактики экстремизма и укрепления межнациональных и межконфессиональных отношений в Кукморском  муниципальном районе  на 2015-2020годы (Форпост)","ку","112","Иные выплаты персоналу казенных учреждений, за исключением фонда оплаты труда",null,null,null,null,0]
[38,"Программа государственной национальной политики, профилактики экстремизма и укрепления межнациональных и межконфессиональных отношений в Кукморском  муниципальном районе  на 2015-2020годы (Форпост)","612","07","07","1040143190","244",0,0,0,0,null,0,"61207071040143190Прочая закупка товаров, работ и услуг для обеспечения государственных (муниципальных) нужд","Программа государственной национальной политики, профилактики экстремизма и укрепления межнациональных и межконфессиональных отношений в Кукморском  муниципальном районе  на 2015-2020годы (Форпост)","ку","244","Прочая закупка товаров, работ и услуг для обеспечения государственных (муниципальных) нужд",null,null,null,null,0]
[38,"Программа государственной национальной политики, профилактики экстремизма и укрепления межнациональных и межконфессиональных отношений в Кукморском  муниципальном районе  на 2015-2020годы (Форпост)","612","07","07","1040143190","412",0,0,0,0,null,0,"61207071040143190Бюджетные инвестиции на приобретение объектов недвижимого имущества в государственную (муниципальную) собственность","Программа государственной национальной политики, профилактики экстремизма и укрепления межнациональных и межконфессиональных отношений в Кукморском  муниципальном районе  на 2015-2020годы (Форпост)","ку","412","Бюджетные инвестиции на приобретение объектов недвижимого имущества в государственную (муниципальную) собственность",null,null,null,null,0]
[39,"ИКМЦ","611","07","09","0220825301","111",1088,3602.4903599999998,0,3602.4903599999998,null,3602.4903599999998,"61107090220825301Фонд оплаты труда казенных учреждений и взносы по обязательному социальному страхованию","ИКМЦ","ку","111","Фонд оплаты труда казенных учреждений и взносы по обязательному социальному страхованию",null,null,null,null,0]
[39,"ИКМЦ","611","07","09","0220825301","119",370.40963999999985,1088,0,1088,null,1088,"61107090220825301Взносы по обязательному социальному страхованию на выплаты по оплате труда работников и иные выплаты работникам учреждений","ИКМЦ","ку","119","Взносы по обязательному социальному страхованию на выплаты по оплате труда работников и иные выплаты работникам учреждений",null,null,null,null,0]
[39,"ИКМЦ","611","07","09","0220825301","112",0,12,0,12,null,12,"61107090220825301Иные выплаты персоналу казенных учреждений, за исключением фонда оплаты труда","ИКМЦ","ку","112","Иные выплаты персоналу казенных учреждений, за исключением фонда оплаты труда",null,null,null,null,0]
[39,"ИКМЦ","611","07","09","0220825301","244",12,370.40963999999985,0,370.40963999999985,null,370.40963999999985,"61107090220825301Прочая закупка товаров, работ и услуг для обеспечения государственных (муниципальных) нужд","ИКМЦ","ку","244","Прочая закупка товаров, работ и услуг для обеспечения государственных (муниципальных) нужд",null,null,null,null,0]
[39,"ИКМЦ","611","07","09","0220825301","412",370.40963999999985,0,0,0,null,0,"61107090220825301Бюджетные инвестиции на приобретение объектов недвижимого имущества в государственную (муниципальную) собственность","ИКМЦ","ку","412","Бюджетные инвестиции на приобретение объектов недвижимого имущества в государственную (муниципальную) собственность",null,null,null,null,0]
[39,"ИКМЦ","611","07","09","0220825301","851",0,0,0,0,null,0,"61107090220825301Уплата налога на имущество организаций и земельного налога","ИКМЦ","ку","851","Уплата налога на имущество организаций и земельного налога",null,null,null,null,0]
[39,"ИКМЦ","611","07","09","0220825301","852",3602.4903599999998,0,0,0,null,0,"61107090220825301Уплата прочих налогов, сборов и иных платежей","ИКМЦ","ку","852","Уплата прочих налогов, сборов и иных платежей",null,null,null,null,0]
[40,"Услуги в образовании","611","07","09","0250242520","111",675.69195000000002,2181,0,2181,null,2181,"61107090250242520Фонд оплаты труда казенных учреждений и взносы по обязательному социальному страхованию","Услуги в образовании","ку","111","Фонд оплаты труда казенных учреждений и взносы по обязательному социальному страхованию",null,null,null,null,0]
[40,"Услуги в образовании","611","07","09","0250242520","119",40,675.69195000000002,0,675.69195000000002,null,675.69195000000002,"61107090250242520Взносы по обязательному социальному страхованию на выплаты по оплате труда работников и иные выплаты работникам учреждений","Услуги в образовании","ку","119","Взносы по обязательному социальному страхованию на выплаты по оплате труда работников и иные выплаты работникам учреждений",null,null,null,null,0]
[40,"Услуги в образовании","611","07","09","0250242520","112",1085.549,40,0,40,null,40,"61107090250242520Иные выплаты персоналу казенных учреждений, за исключением фонда оплаты труда","Услуги в образовании","ку","112","Иные выплаты персоналу казенных учреждений, за исключением фонда оплаты труда",null,null,null,null,0]
[40,"Услуги в образовании","611","07","09","0250242520","244",0,1085.549,0,1085.549,null,1085.549,"61107090250242520Прочая закупка товаров, работ и услуг для обеспечения государственных (муниципальных) нужд","Услуги в образовании","ку","244","Прочая закупка товаров, работ и услуг для обеспечения государственных (муниципальных) нужд",null,null,null,null,0]
[40,"Услуги в образовании","611","07","09","0250242520","412",17,0,0,0,null,0,"61107090250242520Бюджетные инвестиции на приобретение объектов недвижимого имущества в государственную (муниципальную) собственность","Услуги в образовании","ку","412","Бюджетные инвестиции на приобретение объектов недвижимого имущества в государственную (муниципальную) собственность",null,null,null,null,0]
[40,"Услуги в образовании","611","07","09","0250242520","851",0,17,0,17,null,17,"61107090250242520Уплата налога на имущество организаций и земельного налога","Услуги в образовании","ку","851","Уплата налога на имущество организаций и земельного налога",null,null,null,null,0]
[40,"Услуги в образовании","611","07","09","0250242520","852",40,0,0,0,null,0,"61107090250242520Уплата прочих налогов, сборов и иных платежей","Услуги в образовании","ку","852","Уплата прочих налогов, сборов и иных платежей",null,null,null,null,0]
[41,"СДК,клубы","613","08","01","0840144091",611,18851.950000000008,54322.43924,0,53943.139239999997,379.3,54322.43924,"61308010840144091Субсидии бюджетным учреждениям на финансовое обеспечение государственного (муниципального) задания на оказание государственных (муниципальных) услуг (выполнение работ)","СДК,клубы","бу","111","Субсидии бюджетным учреждениям на финансовое обеспечение государственного (муниципального) задания на оказание государственных (муниципальных) услуг (выполнение работ)",null,null,null,null,-379.30000000000291]
[41,"СДК,клубы","613","08","01","0840144091",611,0,16290.840259999999,0,16290.840259999999,null,16290.840259999999,"61308010840144091Субсидии бюджетным учреждениям на финансовое обеспечение государственного (муниципального) задания на оказание государственных (муниципальных) услуг (выполнение работ)","СДК,клубы","бу","119","Субсидии бюджетным учреждениям на финансовое обеспечение государственного (муниципального) задания на оказание государственных (муниципальных) услуг (выполнение работ)",null,null,null,null,0]
[41,"СДК,клубы","613","08","01","0840144091",611,53943.139239999997,586,0,586,null,586,"61308010840144091Субсидии бюджетным учреждениям на финансовое обеспечение государственного (муниципального) задания на оказание государственных (муниципальных) услуг (выполнение работ)","СДК,клубы","бу","112","Субсидии бюджетным учреждениям на финансовое обеспечение государственного (муниципального) задания на оказание государственных (муниципальных) услуг (выполнение работ)",null,null,null,null,0]
[41,"СДК,клубы","613","08","01","0840144091",611,16290.840259999999,18851.950000000008,0,18851.950000000008,null,18851.950000000008,"61308010840144091Субсидии бюджетным учреждениям на финансовое обеспечение государственного (муниципального) задания на оказание государственных (муниципальных) услуг (выполнение работ)","СДК,клубы","бу","244","Субсидии бюджетным учреждениям на финансовое обеспечение государственного (муниципального) задания на оказание государственных (муниципальных) услуг (выполнение работ)",null,null,null,null,0]
[41,"СДК,клубы","613","08","01","0840144091",611,586,0,0,0,null,0,"61308010840144091Субсидии бюджетным учреждениям на финансовое обеспечение государственного (муниципального) задания на оказание государственных (муниципальных) услуг (выполнение работ)","СДК,клубы","бу","412","Субсидии бюджетным учреждениям на финансовое обеспечение государственного (муниципального) задания на оказание государственных (муниципальных) услуг (выполнение работ)",null,null,null,null,0]
[41,"СДК,клубы","613","08","01","0840144091",611,18851.950000000008,966.3,0,966.3,null,966.3,"61308010840144091Субсидии бюджетным учреждениям на финансовое обеспечение государственного (муниципального) задания на оказание государственных (муниципальных) услуг (выполнение работ)","СДК,клубы","бу","851","Субсидии бюджетным учреждениям на финансовое обеспечение государственного (муниципального) задания на оказание государственных (муниципальных) услуг (выполнение работ)",null,null,null,null,0]
[41,"СДК,клубы","613","08","01","0840144091",611,0,56,0,56,null,56,"61308010840144091Субсидии бюджетным учреждениям на финансовое обеспечение государственного (муниципального) задания на оказание государственных (муниципальных) услуг (выполнение работ)","СДК,клубы","бу","852","Субсидии бюджетным учреждениям на финансовое обеспечение государственного (муниципального) задания на оказание государственных (муниципальных) услуг (выполнение работ)",null,null,null,null,0]
[42,"Музеи","613","08","01","0810144090",611,22.3,2494.1358,0,2494.1358,null,2494.1358,"61308010810144090Субсидии бюджетным учреждениям на финансовое обеспечение государственного (муниципального) задания на оказание государственных (муниципальных) услуг (выполнение работ)","Музеи","бу","111","Субсидии бюджетным учреждениям на финансовое обеспечение государственного (муниципального) задания на оказание государственных (муниципальных) услуг (выполнение работ)",null,null,null,null,0]
[42,"Музеи","613","08","01","0810144090",611,0.4,753.22901000000002,0,753.22901000000002,null,753.22901000000002,"61308010810144090Субсидии бюджетным учреждениям на финансовое обеспечение государственного (муниципального) задания на оказание государственных (муниципальных) услуг (выполнение работ)","Музеи","бу","119","Субсидии бюджетным учреждениям на финансовое обеспечение государственного (муниципального) задания на оказание государственных (муниципальных) услуг (выполнение работ)",null,null,null,null,0]
[42,"Музеи","613","08","01","0810144090",611,2494.1358,0,0,0,null,0,"61308010810144090Субсидии бюджетным учреждениям на финансовое обеспечение государственного (муниципального) задания на оказание государственных (муниципальных) услуг (выполнение работ)","Музеи","бу","112","Субсидии бюджетным учреждениям на финансовое обеспечение государственного (муниципального) задания на оказание государственных (муниципальных) услуг (выполнение работ)",null,null,null,null,0]
[42,"Музеи","613","08","01","0810144090",611,753.22901000000002,312.2641200000001,0,312.2641200000001,null,312.2641200000001,"61308010810144090Субсидии бюджетным учреждениям на финансовое обеспечение государственного (муниципального) задания на оказание государственных (муниципальных) услуг (выполнение работ)","Музеи","бу","244","Субсидии бюджетным учреждениям на финансовое обеспечение государственного (муниципального) задания на оказание государственных (муниципальных) услуг (выполнение работ)",null,null,null,null,0]
[42,"Музеи","613","08","01","0810144090",611,0,0,0,0,null,0,"61308010810144090Субсидии бюджетным учреждениям на финансовое обеспечение государственного (муниципального) задания на оказание государственных (муниципальных) услуг (выполнение работ)","Музеи","бу","412","Субсидии бюджетным учреждениям на финансовое обеспечение государственного (муниципального) задания на оказание государственных (муниципальных) услуг (выполнение работ)",null,null,null,null,0]
[42,"Музеи","613","08","01","0810144090",611,312.2641200000001,22.3,0,22.3,null,22.3,"61308010810144090Субсидии бюджетным учреждениям на финансовое обеспечение государственного (муниципального) задания на оказание государственных (муниципальных) услуг (выполнение работ)","Музеи","бу","851","Субсидии бюджетным учреждениям на финансовое обеспечение государственного (муниципального) задания на оказание государственных (муниципальных) услуг (выполнение работ)",null,null,null,null,0]
[42,"Музеи","613","08","01","0810144090",611,0,0.4,0,0.4,null,0.4,"61308010810144090Субсидии бюджетным учреждениям на финансовое обеспечение государственного (муниципального) задания на оказание государственных (муниципальных) услуг (выполнение работ)","Музеи","бу","852","Субсидии бюджетным учреждениям на финансовое обеспечение государственного (муниципального) задания на оказание государственных (муниципальных) услуг (выполнение работ)",null,null,null,null,0]
[43,"Библиотеки","613","08","01","0830144090",611,48,17387.583600000002,0,17387.583600000002,null,17387.583600000002,"61308010830144090Субсидии бюджетным учреждениям на финансовое обеспечение государственного (муниципального) задания на оказание государственных (муниципальных) услуг (выполнение работ)","Библиотеки","бу","111","Субсидии бюджетным учреждениям на финансовое обеспечение государственного (муниципального) задания на оказание государственных (муниципальных) услуг (выполнение работ)",null,null,null,null,0]
[43,"Библиотеки","613","08","01","0830144090",611,5,5251.0502500000002,0,5251.0502500000002,null,5251.0502500000002,"61308010830144090Субсидии бюджетным учреждениям на финансовое обеспечение государственного (муниципального) задания на оказание государственных (муниципальных) услуг (выполнение работ)","Библиотеки","бу","119","Субсидии бюджетным учреждениям на финансовое обеспечение государственного (муниципального) задания на оказание государственных (муниципальных) услуг (выполнение работ)",null,null,null,null,0]
[43,"Библиотеки","613","08","01","0830144090",611,17387.583600000002,329,0,329,null,329,"61308010830144090Субсидии бюджетным учреждениям на финансовое обеспечение государственного (муниципального) задания на оказание государственных (муниципальных) услуг (выполнение работ)","Библиотеки","бу","112","Субсидии бюджетным учреждениям на финансовое обеспечение государственного (муниципального) задания на оказание государственных (муниципальных) услуг (выполнение работ)",null,null,null,null,0]
[43,"Библиотеки","613","08","01","0830144090",611,5251.0502500000002,2024.3077199999971,0,2024.3077199999971,null,2024.3077199999971,"61308010830144090Субсидии бюджетным учреждениям на финансовое обеспечение государственного (муниципального) задания на оказание государственных (муниципальных) услуг (выполнение работ)","Библиотеки","бу","244","Субсидии бюджетным учреждениям на финансовое обеспечение государственного (муниципального) задания на оказание государственных (муниципальных) услуг (выполнение работ)",null,null,null,null,0]
[43,"Библиотеки","613","08","01","0830144090",611,329,0,0,0,null,0,"61308010830144090Субсидии бюджетным учреждениям на финансовое обеспечение государственного (муниципального) задания на оказание государственных (муниципальных) услуг (выполнение работ)","Библиотеки","бу","412","Субсидии бюджетным учреждениям на финансовое обеспечение государственного (муниципального) задания на оказание государственных (муниципальных) услуг (выполнение работ)",null,null,null,null,0]
[43,"Библиотеки","613","08","01","0830144090",611,2024.3077199999971,48,0,48,null,48,"61308010830144090Субсидии бюджетным учреждениям на финансовое обеспечение государственного (муниципального) задания на оказание государственных (муниципальных) услуг (выполнение работ)","Библиотеки","бу","851","Субсидии бюджетным учреждениям на финансовое обеспечение государственного (муниципального) задания на оказание государственных (муниципальных) услуг (выполнение работ)",null,null,null,null,0]
[43,"Библиотеки","613","08","01","0830144090",611,0,5,0,5,null,5,"61308010830144090Субсидии бюджетным учреждениям на финансовое обеспечение государственного (муниципального) задания на оказание государственных (муниципальных) услуг (выполнение работ)","Библиотеки","бу","852","Субсидии бюджетным учреждениям на финансовое обеспечение государственного (муниципального) задания на оказание государственных (муниципальных) услуг (выполнение работ)",null,null,null,null,0]
[44,"Книжные фонды","613","08","01","0830151440","244",0,0,0,0,null,0,"61308010830151440Прочая закупка товаров, работ и услуг для обеспечения государственных (муниципальных) нужд","Книжные фонды","ку","244","Прочая закупка товаров, работ и услуг для обеспечения государственных (муниципальных) нужд",null,null,null,null,0]
[44,"Книжные фонды","613","08","01","0830151440","412",0,0,0,0,null,0,"61308010830151440Бюджетные инвестиции на приобретение объектов недвижимого имущества в государственную (муниципальную) собственность","Книжные фонды","ку","412","Бюджетные инвестиции на приобретение объектов недвижимого имущества в государственную (муниципальную) собственность",null,null,null,null,0]
[45,"Субвенции на скотомогильники","601","04","05","2800125360","244",0,151.4,0,151.4,null,151.4,"60104052800125360Прочая закупка товаров, работ и услуг для обеспечения государственных (муниципальных) нужд","Субвенции на скотомогильники","ку","244","Прочая закупка товаров, работ и услуг для обеспечения государственных (муниципальных) нужд",null,null,null,null,0]
[45,"Субвенции на скотомогильники","601","04","05","2800125360","412",0,0,0,0,null,0,"60104052800125360Бюджетные инвестиции на приобретение объектов недвижимого имущества в государственную (муниципальную) собственность","Субвенции на скотомогильники","ку","412","Бюджетные инвестиции на приобретение объектов недвижимого имущества в государственную (муниципальную) собственность",null,null,null,null,0]
[46,"ЦГСЭН","601","09","07","0110202110","244",0,779.3,0,749.9,29.4,779.3,"60109070110202110Прочая закупка товаров, работ и услуг для обеспечения государственных (муниципальных) нужд","ЦГСЭН","ку","244","Прочая закупка товаров, работ и услуг для обеспечения государственных (муниципальных) нужд",null,null,null,null,-29.399999999999977]
[47,"Муниципальная программа \"Развитие физической культуры, спорта в Кукморском муниципальном районе на 2009-2013 годы","612","11","02","1010112870","244",597.70000000000005,597.70000000000005,0,597.70000000000005,null,597.70000000000005,"61211021010112870Прочая закупка товаров, работ и услуг для обеспечения государственных (муниципальных) нужд","Муниципальная программа \"Развитие физической культуры, спорта в Кукморском муниципальном районе на 2009-2013 годы","ку","244","Прочая закупка товаров, работ и услуг для обеспечения государственных (муниципальных) нужд",null,null,null,null,0]
[47,"Муниципальная программа \"Развитие физической культуры, спорта в Кукморском муниципальном районе на 2009-2013 годы","612","11","02","1010112870","412",0,0,0,0,null,0,"61211021010112870Бюджетные инвестиции на приобретение объектов недвижимого имущества в государственную (муниципальную) собственность","Муниципальная программа \"Развитие физической культуры, спорта в Кукморском муниципальном районе на 2009-2013 годы","ку","412","Бюджетные инвестиции на приобретение объектов недвижимого имущества в государственную (муниципальную) собственность",null,null,null,null,0]
[48,"Целевая программа Кукморского муниципального района \n«Доступная среда» на 2011-2015 годы","612","11","02","0360112870","244",0,385.5,0,385.5,null,385.5,"61211020360112870Прочая закупка товаров, работ и услуг для обеспечения государственных (муниципальных) нужд","Целевая программа Кукморского муниципального района \n«Доступная среда» на 2011-2015 годы","ку","244","Прочая закупка товаров, работ и услуг для обеспечения государственных (муниципальных) нужд",null,null,null,null,0]
[48,"Целевая программа Кукморского муниципального района \n«Доступная среда» на 2011-2015 годы","612","11","02","0360112870","412",0,0,0,0,null,0,"61211020360112870Бюджетные инвестиции на приобретение объектов недвижимого имущества в государственную (муниципальную) собственность","Целевая программа Кукморского муниципального района \n«Доступная среда» на 2011-2015 годы","ку","412","Бюджетные инвестиции на приобретение объектов недвижимого имущества в государственную (муниципальную) собственность",null,null,null,null,0]
[49,"Муниципальная программа по формированию здорового образа жизни, снижению потребления алкогольной продукции, пива и табака среди населения Кукморского муниципального района на 2011 - 2015 годы","612","11","02","1070112870","244",0,0,0,0,null,0,"61211021070112870Прочая закупка товаров, работ и услуг для обеспечения государственных (муниципальных) нужд","Муниципальная программа по формированию здорового образа жизни, снижению потребления алкогольной продукции, пива и табака среди населения Кукморского муниципального района на 2011 - 2015 годы","ку","244","Прочая закупка товаров, работ и услуг для обеспечения государственных (муниципальных) нужд",null,null,null,null,0]
[49,"Муниципальная программа по формированию здорового образа жизни, снижению потребления алкогольной продукции, пива и табака среди населения Кукморского муниципального района на 2011 - 2015 годы","612","11","02","1070112870","412",0,0,0,0,null,0,"61211021070112870Бюджетные инвестиции на приобретение объектов недвижимого имущества в государственную (муниципальную) собственность","Муниципальная программа по формированию здорового образа жизни, снижению потребления алкогольной продукции, пива и табака среди населения Кукморского муниципального района на 2011 - 2015 годы","ку","412","Бюджетные инвестиции на приобретение объектов недвижимого имущества в государственную (муниципальную) собственность",null,null,null,null,0]
[50,"Реализация госфункций","611","10","03","0310205510",611,0,8077.4,0,7742,335.4,8077.4,"61110030310205510Субсидии бюджетным учреждениям на финансовое обеспечение государственного (муниципального) задания на оказание государственных (муниципальных) услуг (выполнение работ)","Реализация госфункций","бу","244","Субсидии бюджетным учреждениям на финансовое обеспечение государственного (муниципального) задания на оказание государственных (муниципальных) услуг (выполнение работ)",null,null,null,null,-335.39999999999964]
[51,"Мероприятия в соцполитике","601","10","03","0310105410","244",643.4,643.4,0,643.4,null,643.4,"60110030310105410Прочая закупка товаров, работ и услуг для обеспечения государственных (муниципальных) нужд","Мероприятия в соцполитике","ку","244","Прочая закупка товаров, работ и услуг для обеспечения государственных (муниципальных) нужд",null,null,null,null,0]
[52,"Программа отдыха, оздоровления, занятости детей и молодежи Кукморского муниципального района на 2013 год ","612","07","07","1040143190",611,0,0,0,0,null,0,"61207071040143190Субсидии бюджетным учреждениям на финансовое обеспечение государственного (муниципального) задания на оказание государственных (муниципальных) услуг (выполнение работ)","Программа отдыха, оздоровления, занятости детей и молодежи Кукморского муниципального района на 2013 год ","бу","111","Субсидии бюджетным учреждениям на финансовое обеспечение государственного (муниципального) задания на оказание государственных (муниципальных) услуг (выполнение работ)",null,null,null,null,0]
[52,"Программа отдыха, оздоровления, занятости детей и молодежи Кукморского муниципального района на 2013 год ","612","07","07","1040143190",611,0,0,0,0,null,0,"61207071040143190Субсидии бюджетным учреждениям на финансовое обеспечение государственного (муниципального) задания на оказание государственных (муниципальных) услуг (выполнение работ)","Программа отдыха, оздоровления, занятости детей и молодежи Кукморского муниципального района на 2013 год ","бу","119","Субсидии бюджетным учреждениям на финансовое обеспечение государственного (муниципального) задания на оказание государственных (муниципальных) услуг (выполнение работ)",null,null,null,null,0]
[52,"Программа отдыха, оздоровления, занятости детей и молодежи Кукморского муниципального района на 2013 год ","612","07","07","1040143190",611,0,0,0,0,null,0,"61207071040143190Субсидии бюджетным учреждениям на финансовое обеспечение государственного (муниципального) задания на оказание государственных (муниципальных) услуг (выполнение работ)","Программа отдыха, оздоровления, занятости детей и молодежи Кукморского муниципального района на 2013 год ","бу","112","Субсидии бюджетным учреждениям на финансовое обеспечение государственного (муниципального) задания на оказание государственных (муниципальных) услуг (выполнение работ)",null,null,null,null,0]
[52,"Программа отдыха, оздоровления, занятости детей и молодежи Кукморского муниципального района на 2013 год ","612","07","07","1040143190",611,0,0,0,0,null,0,"61207071040143190Субсидии бюджетным учреждениям на финансовое обеспечение государственного (муниципального) задания на оказание государственных (муниципальных) услуг (выполнение работ)","Программа отдыха, оздоровления, занятости детей и молодежи Кукморского муниципального района на 2013 год ","бу","244","Субсидии бюджетным учреждениям на финансовое обеспечение государственного (муниципального) задания на оказание государственных (муниципальных) услуг (выполнение работ)",null,null,null,null,0]
[52,"Программа отдыха, оздоровления, занятости детей и молодежи Кукморского муниципального района на 2013 год ","612","07","07","1040143190",611,0,0,0,0,null,0,"61207071040143190Субсидии бюджетным учреждениям на финансовое обеспечение государственного (муниципального) задания на оказание государственных (муниципальных) услуг (выполнение работ)","Программа отдыха, оздоровления, занятости детей и молодежи Кукморского муниципального района на 2013 год ","бу","412","Субсидии бюджетным учреждениям на финансовое обеспечение государственного (муниципального) задания на оказание государственных (муниципальных) услуг (выполнение работ)",null,null,null,null,0]
[52,"Программа отдыха, оздоровления, занятости детей и молодежи Кукморского муниципального района на 2013 год ","612","07","07","1040143190",611,0,0,0,0,null,0,"61207071040143190Субсидии бюджетным учреждениям на финансовое обеспечение государственного (муниципального) задания на оказание государственных (муниципальных) услуг (выполнение работ)","Программа отдыха, оздоровления, занятости детей и молодежи Кукморского муниципального района на 2013 год ","бу","851","Субсидии бюджетным учреждениям на финансовое обеспечение государственного (муниципального) задания на оказание государственных (муниципальных) услуг (выполнение работ)",null,null,null,null,0]
[52,"Программа отдыха, оздоровления, занятости детей и молодежи Кукморского муниципального района на 2013 год ","612","07","07","1040143190",{"$f":"IF(P207=\"бу\",611,Q207)","v":611},0,0,0,0,null,0,"61207071040143190Субсидии бюджетным учреждениям на финансовое обеспечение государственного (муниципального) задания на оказание государственных (муниципальных) услуг (выполнение работ)","Программа отдыха, оздоровления, занятости детей и молодежи Кукморского муниципального района на 2013 год ","бу","852","Субсидии бюджетным учреждениям на финансовое обеспечение государственного (муниципального) задания на оказание государственных (муниципальных) услуг (выполнение работ)",null,null,null,null,0]
[53,"Дотации на выполнение полномочий","605","14","01","1800380060","511",0,{"$f":"M208","v":1205.4000000000003},0,1219.2000000000003,-13.8,1205.4000000000003,{"$f":"C208&D208&E208&F208&R208","v":"60514011800380060Дотации на выравнивание бюджетной обеспеченности"},"Дотации на выполнение полномочий","ку","511","Дотации на выравнивание бюджетной обеспеченности",null,null,null,null,13.799999999999955]
[54,"Дотации на выравнивание уровня бюджетной обеспеченности","605","14","01","1800380040","511",0,30774.300000000007,0,26171.7,4602.6000000000058,{"$f":"SUM(K209:L209)","v":30774.300000000007},"60514011800380040Дотации на выравнивание бюджетной обеспеченности","Дотации на выравнивание уровня бюджетной обеспеченности","ку","511","Дотации на выравнивание бюджетной обеспеченности",null,null,null,null,{"$f":"K209-I209","v":-4602.6000000000058}]
[55,"Дотации по обсеспечению сбалансированности бюджетов","605","14","02","1800380040","512",0,628.70000000000005,0,1007.1000000000001,-378.40000000000009,628.70000000000005,"60514021800380040Иные дотации","Дотации по обсеспечению сбалансированности бюджетов","ку","512","Иные дотации",null,null,null,null,378.40000000000009]
[56,"Субвенция на выполнение федеральных  полномочий по государственной регистрации актов гражданского состояния","605","01","13","9900059300","530",0,0,0,0,null,0,"60501139900059300Субвенции","Субвенция на выполнение федеральных  полномочий по государственной регистрации актов гражданского состояния","ку","530","Субвенции",null,null,null,null,0]
[57,"Субвенция на первичный воинский учет","605","02","03","9900051180","530",0,2681.6999999999994,0,2652.7999999999993,28.9,{"$f":"SUM(K212:L212)","v":2681.6999999999994},"60502039900051180Субвенции","Субвенция на первичный воинский учет","ку","530","Субвенции",null,null,null,null,-28.900000000000091]
[58,"Субвенция протоколы об адмнарушениях","601","01","13","9900025350","244",0.38,0.4,0,0.38,0.02,0.4,"60101139900025350Прочая закупка товаров, работ и услуг для обеспечения государственных (муниципальных) нужд","Субвенция протоколы об адмнарушениях","ку","244","Прочая закупка товаров, работ и услуг для обеспечения государственных (муниципальных) нужд",null,null,null,null,-2.0000000000000018E-2]
[59,"Субвенции бюд.муниципальным районам и городских округов по реализации полномочий в области молодежной политики (управление)     ","612","01","04","9900025240","121",0,214.39999999999998,0,204.2,10.199999999999999,214.39999999999998,"61201049900025240Фонд оплаты труда государственных (муниципальных) органов и взносы по обязательному социальному страхованию","Субвенции бюд.муниципальным районам и городских округов по реализации полномочий в области молодежной политики (управление)     ","ку","121","Фонд оплаты труда государственных (муниципальных) органов и взносы по обязательному социальному страхованию",null,null,null,null,-10.199999999999989]
[59,"Субвенции бюд.муниципальным районам и городских округов по реализации полномочий в области молодежной политики (управление)     ","612","01","04","9900025240","129",-1.4210854715202004E-14,61.7,0,61.7,null,61.7,"61201049900025240Взносы по обязательному социальному страхованию на выплату денежного содержания и иные выплаты работникам государственных (муниципальных) органов","Субвенции бюд.муниципальным районам и городских округов по реализации полномочий в области молодежной политики (управление)     ","ку","129","Взносы по обязательному социальному страхованию на выплату денежного содержания и иные выплаты работникам государственных (муниципальных) органов",null,null,null,null,0]
[59,"Субвенции бюд.муниципальным районам и городских округов по реализации полномочий в области молодежной политики (управление)     ","612","01","04","9900025240","244",-1.4210854715202004E-14,-1.4210854715202004E-14,0,-1.4210854715202004E-14,null,-1.4210854715202004E-14,"61201049900025240Прочая закупка товаров, работ и услуг для обеспечения государственных (муниципальных) нужд","Субвенции бюд.муниципальным районам и городских округов по реализации полномочий в области молодежной политики (управление)     ","ку","244","Прочая закупка товаров, работ и услуг для обеспечения государственных (муниципальных) нужд",null,null,null,null,0]
[60,"Субвенции бюд.муниципальным районам и городских округов по реализации полномочий в области образования (управление)","611","01","04","0220825302","121",204.2,214.39999999999998,0,204.2,10.199999999999999,214.39999999999998,"61101040220825302Фонд оплаты труда государственных (муниципальных) органов и взносы по обязательному социальному страхованию","Субвенции бюд.муниципальным районам и городских округов по реализации полномочий в области образования (управление)","ку","121","Фонд оплаты труда государственных (муниципальных) органов и взносы по обязательному социальному страхованию",null,null,null,null,-10.199999999999989]
[60,"Субвенции бюд.муниципальным районам и городских округов по реализации полномочий в области образования (управление)","611","01","04","0220825302","129",61.7,61.7,0,61.7,null,61.7,"61101040220825302Взносы по обязательному социальному страхованию на выплату денежного содержания и иные выплаты работникам государственных (муниципальных) органов","Субвенции бюд.муниципальным районам и городских округов по реализации полномочий в области образования (управление)","ку","129","Взносы по обязательному социальному страхованию на выплату денежного содержания и иные выплаты работникам государственных (муниципальных) органов",null,null,null,null,0]
[60,"Субвенции бюд.муниципальным районам и городских округов по реализации полномочий в области образования (управление)","611","01","04","0220825302","244",0,-1.4210854715202004E-14,0,-1.4210854715202004E-14,null,-1.4210854715202004E-14,"61101040220825302Прочая закупка товаров, работ и услуг для обеспечения государственных (муниципальных) нужд","Субвенции бюд.муниципальным районам и городских округов по реализации полномочий в области образования (управление)","ку","244","Прочая закупка товаров, работ и услуг для обеспечения государственных (муниципальных) нужд",null,null,null,null,0]
[61,"Субвенции бюд. муниципальным районам и городских округов по реализации полномочий по образованию и организации деятельности комиссии по делам несовершеннолетних ","601","01","13","9900025260","111",40.700000000000045,387.6,0,374,13.6,387.6,"60101139900025260Фонд оплаты труда казенных учреждений и взносы по обязательному социальному страхованию","Субвенции бюд. муниципальным районам и городских округов по реализации полномочий по образованию и организации деятельности комиссии по делам несовершеннолетних ","ку","111","Фонд оплаты труда казенных учреждений и взносы по обязательному социальному страхованию",null,null,null,null,-13.600000000000023]
[61,"Субвенции бюд. муниципальным районам и городских округов по реализации полномочий по образованию и организации деятельности комиссии по делам несовершеннолетних ","601","01","13","9900025260","119",0,118.9,0,113,5.9,118.9,"60101139900025260Взносы по обязательному социальному страхованию на выплаты по оплате труда работников и иные выплаты работникам учреждений","Субвенции бюд. муниципальным районам и городских округов по реализации полномочий по образованию и организации деятельности комиссии по делам несовершеннолетних ","ку","119","Взносы по обязательному социальному страхованию на выплаты по оплате труда работников и иные выплаты работникам учреждений",null,null,null,null,-5.9000000000000057]
[61,"Субвенции бюд. муниципальным районам и городских округов по реализации полномочий по образованию и организации деятельности комиссии по делам несовершеннолетних ","601","01","13","9900025260","112",0,0,0,0,null,0,"60101139900025260Иные выплаты персоналу казенных учреждений, за исключением фонда оплаты труда","Субвенции бюд. муниципальным районам и городских округов по реализации полномочий по образованию и организации деятельности комиссии по делам несовершеннолетних ","ку","112","Иные выплаты персоналу казенных учреждений, за исключением фонда оплаты труда",null,null,null,null,0]
[61,"Субвенции бюд. муниципальным районам и городских округов по реализации полномочий по образованию и организации деятельности комиссии по делам несовершеннолетних ","601","01","13","9900025260","244",0,40.700000000000045,0,40.700000000000045,null,40.700000000000045,"60101139900025260Прочая закупка товаров, работ и услуг для обеспечения государственных (муниципальных) нужд","Субвенции бюд. муниципальным районам и городских округов по реализации полномочий по образованию и организации деятельности комиссии по делам несовершеннолетних ","ку","244","Прочая закупка товаров, работ и услуг для обеспечения государственных (муниципальных) нужд",null,null,null,null,0]
[62,"Субвенции бюд. муниципальным районам и городских округов по реализации полномочий по образованию и организации деятельности административных комиссий","601","01","13","9900025270","111",0,204.2,0,195.1,9.1,204.2,"60101139900025270Фонд оплаты труда казенных учреждений и взносы по обязательному социальному страхованию","Субвенции бюд. муниципальным районам и городских округов по реализации полномочий по образованию и организации деятельности административных комиссий","ку","111","Фонд оплаты труда казенных учреждений и взносы по обязательному социальному страхованию",null,null,null,null,-9.0999999999999943]
[62,"Субвенции бюд. муниципальным районам и городских округов по реализации полномочий по образованию и организации деятельности административных комиссий","601","01","13","9900025270","119",0,58.9,0,58.9,null,58.9,"60101139900025270Взносы по обязательному социальному страхованию на выплаты по оплате труда работников и иные выплаты работникам учреждений","Субвенции бюд. муниципальным районам и городских округов по реализации полномочий по образованию и организации деятельности административных комиссий","ку","119","Взносы по обязательному социальному страхованию на выплаты по оплате труда работников и иные выплаты работникам учреждений",null,null,null,null,0]
[62,"Субвенции бюд. муниципальным районам и городских округов по реализации полномочий по образованию и организации деятельности административных комиссий","601","01","13","9900025270","112",0,0,0,0,null,0,"60101139900025270Иные выплаты персоналу казенных учреждений, за исключением фонда оплаты труда","Субвенции бюд. муниципальным районам и городских округов по реализации полномочий по образованию и организации деятельности административных комиссий","ку","112","Иные выплаты персоналу казенных учреждений, за исключением фонда оплаты труда",null,null,null,null,0]
[62,"Субвенции бюд. муниципальным районам и городских округов по реализации полномочий по образованию и организации деятельности административных комиссий","601","01","13","9900025270","244",0,7.1054273576010019E-15,0,7.1054273576010019E-15,null,7.1054273576010019E-15,"60101139900025270Прочая закупка товаров, работ и услуг для обеспечения государственных (муниципальных) нужд","Субвенции бюд. муниципальным районам и городских округов по реализации полномочий по образованию и организации деятельности административных комиссий","ку","244","Прочая закупка товаров, работ и услуг для обеспечения государственных (муниципальных) нужд",null,null,null,null,0]
[63,"Субвенции на опеку и попечительство","601","01","13","0350325330","111",0,570.70000000000005,0,551.5,19.2,570.70000000000005,"60101130350325330Фонд оплаты труда казенных учреждений и взносы по обязательному социальному страхованию","Субвенции на опеку и попечительство","ку","111","Фонд оплаты труда казенных учреждений и взносы по обязательному социальному страхованию",null,null,null,null,-19.200000000000045]
[63,"Субвенции на опеку и попечительство","601","01","13","0350325330","119",25.000000000000028,174.9,0,166.6,8.3000000000000007,174.9,"60101130350325330Взносы по обязательному социальному страхованию на выплаты по оплате труда работников и иные выплаты работникам учреждений","Субвенции на опеку и попечительство","ку","119","Взносы по обязательному социальному страхованию на выплаты по оплате труда работников и иные выплаты работникам учреждений",null,null,null,null,-8.3000000000000114]
[63,"Субвенции на опеку и попечительство","601","01","13","0350325330","112",551.5,0,0,0,null,0,"60101130350325330Иные выплаты персоналу казенных учреждений, за исключением фонда оплаты труда","Субвенции на опеку и попечительство","ку","112","Иные выплаты персоналу казенных учреждений, за исключением фонда оплаты труда",null,null,null,null,0]
[63,"Субвенции на опеку и попечительство","601","01","13","0350325330","244",166.6,25.000000000000028,0,25.000000000000028,null,25.000000000000028,"60101130350325330Прочая закупка товаров, работ и услуг для обеспечения государственных (муниципальных) нужд","Субвенции на опеку и попечительство","ку","244","Прочая закупка товаров, работ и услуг для обеспечения государственных (муниципальных) нужд",null,null,null,null,0]
[63,"Субвенции на опеку и попечительство","601","01","13","0350325330","412",25.000000000000028,0,0,0,null,0,"60101130350325330Бюджетные инвестиции на приобретение объектов недвижимого имущества в государственную (муниципальную) собственность","Субвенции на опеку и попечительство","ку","412","Бюджетные инвестиции на приобретение объектов недвижимого имущества в государственную (муниципальную) собственность",null,null,null,null,0]
[64,"Субвенции на гос.полномочия в области архивного дела","601","01","13","9900025340","244",0,55.9,0,55.9,null,55.9,"60101139900025340Прочая закупка товаров, работ и услуг для обеспечения государственных (муниципальных) нужд","Субвенции на гос.полномочия в области архивного дела","ку","244","Прочая закупка товаров, работ и услуг для обеспечения государственных (муниципальных) нужд",null,null,null,null,0]
[65,"Субвенции на ведение регистра","601","01","13","2410125390",111,2.4,2.6,0,2.4,0.2,2.6,"60101132410125390Прочая закупка товаров, работ и услуг для обеспечения государственных (муниципальных) нужд","Субвенции на ведение регистра","ку","244","Прочая закупка товаров, работ и услуг для обеспечения государственных (муниципальных) нужд",null,null,null,null,-0.20000000000000018]
[65,"Субвенции на ведение регистра","601","01","13","2410125390",119,0.7,0.7,0,0.7,null,{"$f":"SUM(K235:L235)","v":0.7},"60101132410125390Прочая закупка товаров, работ и услуг для обеспечения государственных (муниципальных) нужд","Субвенции на ведение регистра","ку","244","Прочая закупка товаров, работ и услуг для обеспечения государственных (муниципальных) нужд",null,null,null,null,0]
[65,"Субвенции на ведение регистра","601","01","13","2410125390","244",-2.2204460492503131E-16,-2.2204460492503131E-16,0,-2.2204460492503131E-16,null,-2.2204460492503131E-16,"60101132410125390Прочая закупка товаров, работ и услуг для обеспечения государственных (муниципальных) нужд","Субвенции на ведение регистра","ку","244","Прочая закупка товаров, работ и услуг для обеспечения государственных (муниципальных) нужд",null,null,null,null,0]
[66,"ЕДДС","601","03","09","0720122670","111",244.40000000000009,933.4,0,874,{"$f":"53.9+5.5","v":59.4},933.4,"60103090720122670Фонд оплаты труда казенных учреждений и взносы по обязательному социальному страхованию","ЕДДС","ку","111","Фонд оплаты труда казенных учреждений и взносы по обязательному социальному страхованию",null,null,null,null,-59.399999999999977]
[66,"ЕДДС","601","03","09","0720122670","119",874,280.3,0,264,16.3,280.3,"60103090720122670Взносы по обязательному социальному страхованию на выплаты по оплате труда работников и иные выплаты работникам учреждений","ЕДДС","ку","119","Взносы по обязательному социальному страхованию на выплаты по оплате труда работников и иные выплаты работникам учреждений",null,null,null,null,-16.300000000000011]
[66,"ЕДДС","601","03","09","0720122670","112",264,0,0,0,null,0,"60103090720122670Иные выплаты персоналу казенных учреждений, за исключением фонда оплаты труда","ЕДДС","ку","112","Иные выплаты персоналу казенных учреждений, за исключением фонда оплаты труда",null,null,null,null,0]
[66,"ЕДДС","601","03","09","0720122670","244",0,244.40000000000009,0,244.40000000000009,null,244.40000000000009,"60103090720122670Прочая закупка товаров, работ и услуг для обеспечения государственных (муниципальных) нужд","ЕДДС","ку","244","Прочая закупка товаров, работ и услуг для обеспечения государственных (муниципальных) нужд",null,null,null,null,0]
[67,"Субвенции присяжным","601","01","05","9900051200","244",193,13,0,193,-180,13,"60101059900051200Прочая закупка товаров, работ и услуг для обеспечения государственных (муниципальных) нужд","Субвенции присяжным","ку","244","Прочая закупка товаров, работ и услуг для обеспечения государственных (муниципальных) нужд",null,null,null,null,180]
[68,"Субвенции перепись","601","01","13","0012020","244",0,0,0,0,null,0,"60101130012020Прочая закупка товаров, работ и услуг для обеспечения государственных (муниципальных) нужд","Субвенции перепись","ку","244","Прочая закупка товаров, работ и услуг для обеспечения государственных (муниципальных) нужд",null,null,null,null,0]
[69,"КРЖФ по программе (МБ)","601","05","01","0450196010","630",0,4603.09,0,{"$f":"4388+215.09","v":4603.09},null,4603.09,"60105010450196010Субсидии некоммерческим организациям (за исключением государственных (муниципальных) учреждений)","КРЖФ по программе (МБ)","ку","630","Субсидии некоммерческим организациям (за исключением государственных (муниципальных) учреждений)",null,null,null,null,0]
[70,"Субвенция по соглашениям (ПИЗО)","605","01","13","9900025600","540",0,0,0,0,null,0,"60501139900025600Иные межбюджетные трансферты","Субвенция по соглашениям (ПИЗО)","ку","540","Иные межбюджетные трансферты",null,null,null,null,0]
[71,"Дорожный фонд","601","04","09","Д100003650","244",21600,24300,0,21600,2700,24300,"6010409Д100003650Прочая закупка товаров, работ и услуг для обеспечения государственных (муниципальных) нужд","Дорожный фонд","ку","244","Прочая закупка товаров, работ и услуг для обеспечения государственных (муниципальных) нужд",null,null,null,null,-2700]
[71,"Дорожный фонд","601","04","09","Д100003650","412",0,0,0,0,null,0,"6010409Д100003650Бюджетные инвестиции на приобретение объектов недвижимого имущества в государственную (муниципальную) собственность","Дорожный фонд","ку","412","Бюджетные инвестиции на приобретение объектов недвижимого имущества в государственную (муниципальную) собственность",null,null,null,null,0]
[72,"Субвенция по соглашениям (КСП)","605","01","06","9900025600","540",0,0,0,0,null,0,"60501069900025600Иные межбюджетные трансферты","Субвенция по соглашениям (КСП)","ку","540","Иные межбюджетные трансферты",null,null,null,null,0]
[73,"Субвенция по соглашениям (Культура)","605","08","01","9900025700",540,0,0,0,0,null,0,"60508019900025700Субсидии бюджетным учреждениям на финансовое обеспечение государственного (муниципального) задания на оказание государственных (муниципальных) услуг (выполнение работ)","Библиотекидотация","бу","111","Субсидии бюджетным учреждениям на финансовое обеспечение государственного (муниципального) задания на оказание государственных (муниципальных) услуг (выполнение работ)",null,null,null,null,0]
[74,"Компенсация родвзноса","611","10","04","0350113200",{"$f":"IF(P249=\"бу\",611,Q249)","v":"313"},0,11218.4,0,11218.4,null,11218.4,"61110040350113200Пособия, компенсации, меры социальной поддержки по публичным нормативным обязательствам","Компенсация родвзноса","ку","313","Пособия, компенсации, меры социальной поддержки по публичным нормативным обязательствам",null,null,null,null,0]
[75,"Муниципальная  программа «Реализация антикоррупционной политики в Кукморском  муниципальном районе Республики Татарстан на 2015-2020 годы» (ИК)","601","01","13","2700110990","244",0,5,0,5,null,5,"60101132700110990Прочая закупка товаров, работ и услуг для обеспечения государственных (муниципальных) нужд","Муниципальная  программа «Реализация антикоррупционной политики в Кукморском  муниципальном районе Республики Татарстан на 2015-2020 годы» (ИК)","ку","244","Прочая закупка товаров, работ и услуг для обеспечения государственных (муниципальных) нужд",null,null,null,null,0]
[76,"Муниципальная  программа «Реализация антикоррупционной политики в Кукморском  муниципальном районе Республики Татарстан на 2015-2020 годы» (УО)","611","07","09","2700110990","244",10,10,0,10,null,10,"61107092700110990Прочая закупка товаров, работ и услуг для обеспечения государственных (муниципальных) нужд","Муниципальная  программа «Реализация антикоррупционной политики в Кукморском  муниципальном районе Республики Татарстан на 2015-2020 годы» (УО)","ку","244","Прочая закупка товаров, работ и услуг для обеспечения государственных (муниципальных) нужд",null,null,null,null,0]
[77,"Муниципальная  программа «Реализация антикоррупционной политики в Кукморском  муниципальном районе Республики Татарстан на 2015-2020 годы» (УК)","613","08","01","2700110990",611,12,12,0,12,null,12,"61308012700110990Субсидии бюджетным учреждениям на финансовое обеспечение государственного (муниципального) задания на оказание государственных (муниципальных) услуг (выполнение работ)","Муниципальная  программа «Реализация антикоррупционной политики в Кукморском  муниципальном районе Республики Татарстан на 2015-2020 годы» (УК)","бу","244","Субсидии бюджетным учреждениям на финансовое обеспечение государственного (муниципального) задания на оказание государственных (муниципальных) услуг (выполнение работ)",null,null,null,null,0]
[78,"Муниципальная  программа «Реализация антикоррупционной политики в Кукморском  муниципальном районе Республики Татарстан на 2015-2020 годы» (УДМС)","612","07","07","2700110990","244",0,21,0,21,null,21,"61207072700110990Прочая закупка товаров, работ и услуг для обеспечения государственных (муниципальных) нужд","Муниципальная  программа «Реализация антикоррупционной политики в Кукморском  муниципальном районе Республики Татарстан на 2015-2020 годы» (УДМС)","ку","244","Прочая закупка товаров, работ и услуг для обеспечения государственных (муниципальных) нужд",null,null,null,null,0]
[79,"Подпрограмма «Профилактика терроризма и экстремизма в Кукморском муниципальном районе на 2015-2016гг.» (Исполком)","601","01","13","0630110990","244",0,55,0,55,null,55,"60101130630110990Прочая закупка товаров, работ и услуг для обеспечения государственных (муниципальных) нужд","Подпрограмма «Профилактика терроризма и экстремизма в Кукморском муниципальном районе на 2015-2016гг.»","ку","244","Прочая закупка товаров, работ и услуг для обеспечения государственных (муниципальных) нужд",null,null,null,null,0]
[80,"Подпрограмма «Профилактика терроризма и экстремизма в Кукморском муниципальном районе на 2015-2016гг.»","611","07","09","0630110990","244",0,3315.5,0,3315.5,null,3315.5,"61107090630110990Прочая закупка товаров, работ и услуг для обеспечения государственных (муниципальных) нужд","Подпрограмма «Профилактика терроризма и экстремизма в Кукморском муниципальном районе на 2015-2016гг.»","ку","244","Прочая закупка товаров, работ и услуг для обеспечения государственных (муниципальных) нужд",null,null,null,null,0]
[81,"Подпрограмма «Профилактика терроризма и экстремизма в Кукморском муниципальном районе на 2015-2016гг.» (УК)","613","08","01","0630110990",611,3.5,3.5,0,3.5,null,3.5,"61308010630110990Субсидии бюджетным учреждениям на финансовое обеспечение государственного (муниципального) задания на оказание государственных (муниципальных) услуг (выполнение работ)","Подпрограмма «Профилактика терроризма и экстремизма в Кукморском муниципальном районе на 2015-2016гг.»","бу","244","Субсидии бюджетным учреждениям на финансовое обеспечение государственного (муниципального) задания на оказание государственных (муниципальных) услуг (выполнение работ)",null,null,null,null,0]
[82,"Подпрограмма «Профилактика терроризма и экстремизма в Кукморском муниципальном районе на 2015-2016гг.» (УДМС)","612","07","07","0630110990","244",1,1,0,1,null,1,"61207070630110990Прочая закупка товаров, работ и услуг для обеспечения государственных (муниципальных) нужд","Подпрограмма «Профилактика терроризма и экстремизма в Кукморском муниципальном районе на 2015-2016гг.»","ку","244","Прочая закупка товаров, работ и услуг для обеспечения государственных (муниципальных) нужд",null,null,null,null,0]
[83,"Программа государственной национальной политики, профилактики экстремизма и укрепления межнациональных и межконфессиональных отношений в Кукморском  муниципальном районе  на 2015-2020годы (ИК)","601","01","13","2000110990","244",80,80,0,80,null,80,"60101132000110990Прочая закупка товаров, работ и услуг для обеспечения государственных (муниципальных) нужд","Программа государственной национальной политики, профилактики экстремизма и укрепления межнациональных и межконфессиональных отношений в Кукморском  муниципальном районе  на 2015-2020годы (ИК)","ку","244","Прочая закупка товаров, работ и услуг для обеспечения государственных (муниципальных) нужд",null,null,null,null,0]
[84,"Программа государственной национальной политики, профилактики экстремизма и укрепления межнациональных и межконфессиональных отношений в Кукморском  муниципальном районе  на 2015-2020годы (УО)","611","07","09","2000110990","244",{"$f":"SUM(I258:J259)","v":480},400,null,400,null,400,"61107092000110990Прочая закупка товаров, работ и услуг для обеспечения государственных (муниципальных) нужд","Программа государственной национальной политики, профилактики экстремизма и укрепления межнациональных и межконфессиональных отношений в Кукморском  муниципальном районе  на 2015-2020годы (УО)","ку","244","Прочая закупка товаров, работ и услуг для обеспечения государственных (муниципальных) нужд",null,null,null,null,0]
[85,"Программа государственной национальной политики, профилактики экстремизма и укрепления межнациональных и межконфессиональных отношений в Кукморском  муниципальном районе  на 2015-2020годы (УК)","613","08","01","2000110990",611,0,415,0,415,null,415,"61308012000110990Субсидии бюджетным учреждениям на финансовое обеспечение государственного (муниципального) задания на оказание государственных (муниципальных) услуг (выполнение работ)","Программа государственной национальной политики, профилактики экстремизма и укрепления межнациональных и межконфессиональных отношений в Кукморском  муниципальном районе  на 2015-2020годы (УК)","бу","244","Субсидии бюджетным учреждениям на финансовое обеспечение государственного (муниципального) задания на оказание государственных (муниципальных) услуг (выполнение работ)",null,null,null,null,0]
[86,"Программа государственной национальной политики, профилактики экстремизма и укрепления межнациональных и межконфессиональных отношений в Кукморском  муниципальном районе  на 2015-2020годы (УДМС-Спорт)","612","11","02","2000110990","244",415,415,0,415,null,415,"61211022000110990Прочая закупка товаров, работ и услуг для обеспечения государственных (муниципальных) нужд","Программа государственной национальной политики, профилактики экстремизма и укрепления межнациональных и межконфессиональных отношений в Кукморском  муниципальном районе  на 2015-2020годы (УДМС-Спорт)","ку","244","Прочая закупка товаров, работ и услуг для обеспечения государственных (муниципальных) нужд",null,null,null,null,0]
[87,"Субвенции на содержание биотермических ям","601","04","05","2800125360","244",0,1741.5,0,1741.5,null,1741.5,"60104052800125360Прочая закупка товаров, работ и услуг для обеспечения государственных (муниципальных) нужд","Субвенции на скотомогильники","ку","244","Прочая закупка товаров, работ и услуг для обеспечения государственных (муниципальных) нужд",null,null,null,null,0]
[87,"Субвенции на содержание биотермических ям","601","04","05","2800125360","412",0,0,0,0,null,0,"60104052800125360Бюджетные инвестиции на приобретение объектов недвижимого имущества в государственную (муниципальную) собственность","Субвенции на скотомогильники","ку","412","Бюджетные инвестиции на приобретение объектов недвижимого имущества в государственную (муниципальную) собственность",null,null,null,null,0]
[88,"Субвенции на отлов, содержание и регулирование численности безнадзорных животных","601","04","05","2800125360","244",0,119.9,0,119.9,null,119.9,"60104052800125360Прочая закупка товаров, работ и услуг для обеспечения государственных (муниципальных) нужд","Субвенции на скотомогильники","ку","244","Прочая закупка товаров, работ и услуг для обеспечения государственных (муниципальных) нужд",null,null,null,null,0]
[88,"Субвенции на отлов, содержание и регулирование численности безнадзорных животных","601","04","05","2800125360","412",0,0,0,0,null,0,"60104052800125360Бюджетные инвестиции на приобретение объектов недвижимого имущества в государственную (муниципальную) собственность","Субвенции на скотомогильники","ку","412","Бюджетные инвестиции на приобретение объектов недвижимого имущества в государственную (муниципальную) собственность",null,null,null,null,0]
[89,"Субвенции бюд. муниципальным районам и городских округов по реализации полномочий по распределению земельными уастками","601","01","13","9900025400","121",2.2204460492503131E-16,5.8,0,5.6,0.2,5.8,"60101139900025400Фонд оплаты труда государственных (муниципальных) органов и взносы по обязательному социальному страхованию","Субвенции бюд. муниципальным районам и городских округов по реализации полномочий по образованию и организации деятельности административных комиссий","ку","121","Фонд оплаты труда государственных (муниципальных) органов и взносы по обязательному социальному страхованию",null,null,null,null,-0.20000000000000018]
[89,"Субвенции бюд. муниципальным районам и городских округов по реализации полномочий по распределению земельными уастками","601","01","13","9900025400","129",2.2204460492503131E-16,1.8,0,1.7,0.1,1.8,"60101139900025400Взносы по обязательному социальному страхованию на выплату денежного содержания и иные выплаты работникам государственных (муниципальных) органов","Субвенции бюд. муниципальным районам и городских округов по реализации полномочий по образованию и организации деятельности административных комиссий","ку","129","Взносы по обязательному социальному страхованию на выплату денежного содержания и иные выплаты работникам государственных (муниципальных) органов",null,null,null,null,-0.10000000000000009]
[89,"Субвенции бюд. муниципальным районам и городских округов по реализации полномочий по распределению земельными уастками","601","01","13","9900025400","244",2.2204460492503131E-16,2.2204460492503131E-16,0,2.2204460492503131E-16,null,2.2204460492503131E-16,"60101139900025400Прочая закупка товаров, работ и услуг для обеспечения государственных (муниципальных) нужд","Субвенции бюд. муниципальным районам и городских округов по реализации полномочий по образованию и организации деятельности административных комиссий","ку","244","Прочая закупка товаров, работ и услуг для обеспечения государственных (муниципальных) нужд",null,null,null,null,0]
[90,"Расходы на ремонт и содержание гидротехнических сооружений","605","04","06","9900090430","244",353.7,367.9,0,353.7,14.2,367.9,"60504069900090430Прочая закупка товаров, работ и услуг для обеспечения государственных (муниципальных) нужд","Субвенции на скотомогильники","ку","244","Прочая закупка товаров, работ и услуг для обеспечения государственных (муниципальных) нужд",null,null,null,null,-14.199999999999989]
[91,"Школы-детсады","611","07","02","0210342000",611,160.37999000000042,8402.2451100000017,0,8402.2451100000017,null,8402.2451100000017,"61107020210342000Субсидии бюджетным учреждениям на финансовое обеспечение государственного (муниципального) задания на оказание государственных (муниципальных) услуг (выполнение работ)","Детсады","бу","111","Субсидии бюджетным учреждениям на финансовое обеспечение государственного (муниципального) задания на оказание государственных (муниципальных) услуг (выполнение работ)",null,null,null,null,0]
[91,"Школы-детсады","611","07","02","0210342000",611,160.37999000000042,2536.7451200000005,0,2536.7451200000005,null,2536.7451200000005,"61107020210342000Субсидии бюджетным учреждениям на финансовое обеспечение государственного (муниципального) задания на оказание государственных (муниципальных) услуг (выполнение работ)","Детсады","бу","119","Субсидии бюджетным учреждениям на финансовое обеспечение государственного (муниципального) задания на оказание государственных (муниципальных) услуг (выполнение работ)",null,null,null,null,0]
[91,"Школы-детсады","611","07","02","0210342000",611,160.37999000000042,{"$f":"M272","v":0},0,0,null,0,"61107020210342000Субсидии бюджетным учреждениям на финансовое обеспечение государственного (муниципального) задания на оказание государственных (муниципальных) услуг (выполнение работ)","Детсады","бу","112","Субсидии бюджетным учреждениям на финансовое обеспечение государственного (муниципального) задания на оказание государственных (муниципальных) услуг (выполнение работ)",null,null,null,null,0]
[91,"Школы-детсады","611","07","02","0210342000",611,160.37999000000042,160.37999000000042,0,160.37999000000042,null,160.37999000000042,"61107020210342000Субсидии бюджетным учреждениям на финансовое обеспечение государственного (муниципального) задания на оказание государственных (муниципальных) услуг (выполнение работ)","Детсады","бу","244","Субсидии бюджетным учреждениям на финансовое обеспечение государственного (муниципального) задания на оказание государственных (муниципальных) услуг (выполнение работ)",null,null,null,null,0]
[91,"Школы-детсады","611","07","02","0210342000",611,160.37999000000042,0,0,0,null,0,{"$f":"C274&D274&E274&F274&R274","v":"61107020210342000Субсидии бюджетным учреждениям на финансовое обеспечение государственного (муниципального) задания на оказание государственных (муниципальных) услуг (выполнение работ)"},"Детсады","бу","412","Субсидии бюджетным учреждениям на финансовое обеспечение государственного (муниципального) задания на оказание государственных (муниципальных) услуг (выполнение работ)",null,null,null,null,0]
[91,"Школы-детсады","611","07","02","0210342000",611,160.37999000000042,0,0,0,null,{"$f":"SUM(K275:L275)","v":0},"61107020210342000Субсидии бюджетным учреждениям на финансовое обеспечение государственного (муниципального) задания на оказание государственных (муниципальных) услуг (выполнение работ)","Детсады","бу","851","Субсидии бюджетным учреждениям на финансовое обеспечение государственного (муниципального) задания на оказание государственных (муниципальных) услуг (выполнение работ)",null,null,null,null,{"$f":"K275-I275","v":0}]
[91,"Школы-детсады","611","07","02","0210342000",611,160.37999000000042,0,0,0,null,0,"61107020210342000Субсидии бюджетным учреждениям на финансовое обеспечение государственного (муниципального) задания на оказание государственных (муниципальных) услуг (выполнение работ)","Детсады","бу","852","Субсидии бюджетным учреждениям на финансовое обеспечение государственного (муниципального) задания на оказание государственных (муниципальных) услуг (выполнение работ)",null,null,null,null,0]
[92,"Субвенции на обеспечение прав на получение общедоступного и бесплатного дошкольного образования в муниципальных ДОУ (школы-детсады)","611","07","02","0210125370",611,-1.1368683772161603E-13,7673,0,7673,null,7673,"61107020210125370Субсидии бюджетным учреждениям на финансовое обеспечение государственного (муниципального) задания на оказание государственных (муниципальных) услуг (выполнение работ)","Субвенции на обеспечение прав на получение общедоступного и бесплатного дошкольного образования в муниципальных ДОУ","бу","111","Субсидии бюджетным учреждениям на финансовое обеспечение государственного (муниципального) задания на оказание государственных (муниципальных) услуг (выполнение работ)",null,null,null,null,0]
[92,"Субвенции на обеспечение прав на получение общедоступного и бесплатного дошкольного образования в муниципальных ДОУ (школы-детсады)","611","07","02","0210125370",611,-1.1368683772161603E-13,2317.9920000000002,0,2317.9920000000002,null,2317.9920000000002,"61107020210125370Субсидии бюджетным учреждениям на финансовое обеспечение государственного (муниципального) задания на оказание государственных (муниципальных) услуг (выполнение работ)","Субвенции на обеспечение прав на получение общедоступного и бесплатного дошкольного образования в муниципальных ДОУ","бу","119","Субсидии бюджетным учреждениям на финансовое обеспечение государственного (муниципального) задания на оказание государственных (муниципальных) услуг (выполнение работ)",null,null,null,null,0]
[92,"Субвенции на обеспечение прав на получение общедоступного и бесплатного дошкольного образования в муниципальных ДОУ (школы-детсады)","611","07","02","0210125370",611,0,-1.1368683772161603E-13,0,-1.1368683772161603E-13,null,-1.1368683772161603E-13,"61107020210125370Субсидии бюджетным учреждениям на финансовое обеспечение государственного (муниципального) задания на оказание государственных (муниципальных) услуг (выполнение работ)","Субвенции на обеспечение прав на получение общедоступного и бесплатного дошкольного образования в муниципальных ДОУ","бу","244","Субсидии бюджетным учреждениям на финансовое обеспечение государственного (муниципального) задания на оказание государственных (муниципальных) услуг (выполнение работ)",null,null,null,null,0]
[92,"Субвенции на обеспечение прав на получение общедоступного и бесплатного дошкольного образования в муниципальных ДОУ (школы-детсады)","611","07","02","0210125370",611,-1.1368683772161603E-13,0,0,0,null,0,"61107020210125370Субсидии бюджетным учреждениям на финансовое обеспечение государственного (муниципального) задания на оказание государственных (муниципальных) услуг (выполнение работ)","Субвенции на обеспечение прав на получение общедоступного и бесплатного дошкольного образования в муниципальных ДОУ","бу","412","Субсидии бюджетным учреждениям на финансовое обеспечение государственного (муниципального) задания на оказание государственных (муниципальных) услуг (выполнение работ)",null,null,null,null,0]
[93,"Муниципальная программа улучшения условий и охраны труда в Кукморском муниципальном районе на 2015 - 2017 годы (УО)","611","07","09","0520115500","244",0,10,0,10,null,10,"61107090520115500Прочая закупка товаров, работ и услуг для обеспечения государственных (муниципальных) нужд","Муниципальная  программа «Реализация антикоррупционной политики в Кукморском  муниципальном районе Республики Татарстан на 2015-2020 годы» (УО)","ку","244","Прочая закупка товаров, работ и услуг для обеспечения государственных (муниципальных) нужд",null,null,null,null,0]
[94,"Налоги ОМС (Совет)","602","01","13","9900002950","851",0,176.9,0,176.9,null,176.9,"60201139900002950Уплата налога на имущество организаций и земельного налога","Функционирование законодательных органов","ку","851","Уплата налога на имущество организаций и земельного налога",null,null,null,null,0]
[94,"Налоги ОМС (Совет)","602","01","13","9900002950","852",0,0,0,0,null,0,"60201139900002950Уплата прочих налогов, сборов и иных платежей","Функционирование законодательных органов","ку","852","Уплата прочих налогов, сборов и иных платежей",null,null,null,null,0]
[95,"Налоги ОМС (Исполком)","601","01","13","9900002950","851",0,299.39999999999998,0,299.39999999999998,null,299.39999999999998,"60101139900002950Уплата налога на имущество организаций и земельного налога","Функционирование местных администраций","ку","851","Уплата налога на имущество организаций и земельного налога",null,null,null,null,0]
[95,"Налоги ОМС (Исполком)","601","01","13","9900002950","852",0,0,0,0,null,0,"60101139900002950Уплата прочих налогов, сборов и иных платежей","Функционирование местных администраций","ку","852","Уплата прочих налогов, сборов и иных платежей",null,null,null,null,0]
[96,"Налоги ОМС (УО)","611","01","13","9900002950","851",0,41.4,0,41.4,null,{"$f":"SUM(K286:L286)","v":41.4},"61101139900002950Уплата налога на имущество организаций и земельного налога","Функционирование местных администраций (УО)","ку","851","Уплата налога на имущество организаций и земельного налога",null,null,null,null,0]
[96,"Налоги ОМС (УО)","611","01","13","9900002950","852",0,0,0,0,null,0,"61101139900002950Уплата прочих налогов, сборов и иных платежей","Функционирование местных администраций (УО)","ку","852","Уплата прочих налогов, сборов и иных платежей",null,null,null,null,0]
[97,"Налоги ОМС (УДМС)","612","01","13","9900002950","851",0,7.1,0,7.1,null,7.1,"61201139900002950Уплата налога на имущество организаций и земельного налога","Функционирование местных администраций (УДМС)","ку","851","Уплата налога на имущество организаций и земельного налога",null,null,null,null,0]
[97,"Налоги ОМС (УДМС)","612","01","13","9900002950","852",0,3,0,3,null,3,"61201139900002950Уплата прочих налогов, сборов и иных платежей","Функционирование местных администраций (УДМС)","ку","852","Уплата прочих налогов, сборов и иных платежей",null,null,null,null,0]
[98,"Налоги ОМС (УК)","613","01","13","9900002950","851",0,0,0,0,null,0,"61301139900002950Уплата налога на имущество организаций и земельного налога","Функционирование местных администраций (УК)","ку","851","Уплата налога на имущество организаций и земельного налога",null,null,null,null,0]
[98,"Налоги ОМС (УК)","613","01","13","9900002950","852",0,0,0,0,null,0,"61301139900002950Уплата прочих налогов, сборов и иных платежей","Функционирование местных администраций (УК)","ку","852","Уплата прочих налогов, сборов и иных платежей",null,null,null,null,0]
[99,"Налоги ОМС (ФБП)","605","01","13","9900002950","851",2.2999999999999998,0,0,0,null,0,"60501139900002950Уплата налога на имущество организаций и земельного налога","ФБП","ку","851","Уплата налога на имущество организаций и земельного налога",null,null,null,null,0]
[99,"Налоги ОМС (ФБП)","605","01","13","9900002950","852",0,2.2999999999999998,0,2.2999999999999998,null,{"$f":"SUM(K293:L293)","v":2.2999999999999998},"60501139900002950Уплата прочих налогов, сборов и иных платежей","ФБП","ку","852","Уплата прочих налогов, сборов и иных платежей",null,null,null,null,0]
[100,"Налоги ОМС (ПИЗО)","606","01","13","9900002950","851",0,2,0,2,null,2,"60601139900002950Уплата налога на имущество организаций и земельного налога","Палата имущественных и земельных отношений","ку","851","Уплата налога на имущество организаций и земельного налога",null,null,null,null,0]
[100,"Налоги ОМС (ПИЗО)","606","01","13","9900002950","852",0,33,0,33,null,33,"60601139900002950Уплата прочих налогов, сборов и иных платежей","Палата имущественных и земельных отношений","ку","852","Уплата прочих налогов, сборов и иных платежей",null,null,null,null,0]
[101,"Налоги ОМС (ЦБ)","601","01","13","9900002950","851",0,0,0,0,null,0,"60101139900002950Уплата налога на имущество организаций и земельного налога","Централизованная бухгалтерия","ку","851","Уплата налога на имущество организаций и земельного налога",null,null,null,null,0]
[101,"Налоги ОМС (ЦБ)","601","01","13","9900002950","852",0,2,0,2,null,{"$f":"SUM(K297:L297)","v":2},"60101139900002950Уплата прочих налогов, сборов и иных платежей","Централизованная бухгалтерия","ку","852","Уплата прочих налогов, сборов и иных платежей",null,null,null,null,0]
[null,null,null,null,null,null,null,null,null,null,null,null,null,{"$f":"C298&D298&E298&F298&G298","v":""}]
[null,null,null,null,null,null,null,null,null,null,null,null,null,""]
[null,null,null,null,null,null,null,null,null,null,null,null,null,""]
[null,null,null,null,null,null,null,null,null,null,null,null,null,""]
[null,null,null,null,null,null,null,null,null,null,null,null,null,""]
[null,null,null,null,null,null,null,null,null,null,null,null,null,""]

{"sheet":"свод20","index":32,"n_rows":303,"n_cols":23,"rows_kept":303,"cut":false,"hidden":true,"merged":[[8,16,10,16],[6,0,10,0],[6,2,6,6],[6,9,10,9],[7,2,7,6],[8,6,10,6],[6,7,10,7],[6,8,10,8],[8,2,10,2],[8,3,10,3],[8,4,10,4],[8,5,10,5]]}
[]
[]
[]
[null,"Расшифровка бюджета на 2020 год по подразделам"]
[null,null,null,null,null,null,null,{"$f":"H6-H13","v":118232.91053000046},{"$f":"I6-I13","v":2.3338000755757093E-3},{"$f":"J6-J13","v":30648.82}]
[null,null,null,null,null,null,null,1187443.2580000006,1151082.3923338004,85537.5,0]
["№ учреждения",null,"К  О  Д  Ы",null,null,null,null,"всего расходов (консолидированный), тысяч рублей","всего расходов райбюджет, тысяч рублей","всего расходов село, тысяч рублей",2018,"2020+",2020]
[null,null,"функц-ной классификации"]
[null,"Наименование показателя","ведомство","раз-дел","под-раз-дел","целевая статья","вид рас- хода",null,null,null,null,null,null,null,null,null,"вид рас- хода"]
[]
[]
[1,"2","3","4","5","6","7","9","10","10",null,null,null,null,null,null,"7"]
[null,"ИТОГО",null,null,null,null,null,{"$f":"SUBTOTAL(9,H15:H374)","v":1069210.3474700002},{"$f":"SUBTOTAL(9,I15:I374)","v":1151082.3900000004},{"$f":"SUBTOTAL(9,J15:J374)","v":54888.68},1124972.8399999999,{"$f":"SUBTOTAL(9,L15:L358)","v":26237.55},1151082.3900000004,-2.3338000755757093E-3]
[{"$f":"SUBTOTAL(9,A12:A13)","v":1},null,null,null,null,null,null,null,null,null,null,null,null,{"$f":"SUBTOTAL(9,N12:N13)","v":-2.3338000755757093E-3},0,0,null,0]
[1,"Главы образований ","602","01","02","9900002030",{"$f":"IF(P15=\"бу\",611,Q15)","v":"121"},10744,{"$f":"M15","v":1230},9514,1230,null,{"$f":"SUM(K15:L15)","v":1230},{"$f":"C15&D15&E15&F15&R15","v":"60201029900002030Фонд оплаты труда государственных (муниципальных) органов и взносы по обязательному социальному страхованию"},{"$f":"B15&G15","v":"Главы образований 121"},"ку","121","Фонд оплаты труда государственных (муниципальных) органов и взносы по обязательному социальному страхованию",null,null,null,null,{"$f":"K15-I15","v":0}]
[1,"Главы образований ","602","01","02","9900002030",{"$f":"IF(P16=\"бу\",611,Q16)","v":"129"},3248,{"$f":"M16","v":371},2877,371,null,{"$f":"SUM(K16:L16)","v":371},{"$f":"C16&D16&E16&F16&R16","v":"60201029900002030Взносы по обязательному социальному страхованию на выплату денежного содержания и иные выплаты работникам государственных (муниципальных) органов"},{"$f":"B16&G16","v":"Главы образований 129"},"ку","129","Взносы по обязательному социальному страхованию на выплату денежного содержания и иные выплаты работникам государственных (муниципальных) органов",null,null,null,null,{"$f":"K16-I16","v":0}]
[2,"Функционирование законодательных органов","602","01","03","9900002040","121",4199,4021,178,4021,null,4021,"60201039900002040Фонд оплаты труда государственных (муниципальных) органов и взносы по обязательному социальному страхованию","Функционирование законодательных органов","ку","121","Фонд оплаты труда государственных (муниципальных) органов и взносы по обязательному социальному страхованию",null,null,null,null,0]
[2,"Функционирование законодательных органов","602","01","03","9900002040","129",1017.8,963.8,54,963.8,null,963.8,"60201039900002040Взносы по обязательному социальному страхованию на выплату денежного содержания и иные выплаты работникам государственных (муниципальных) органов","Функционирование законодательных органов","ку","129","Взносы по обязательному социальному страхованию на выплату денежного содержания и иные выплаты работникам государственных (муниципальных) органов",null,null,null,null,0]
[2,"Функционирование законодательных органов","602","01","03","9900002040","122",0,0,0,0,null,0,"60201039900002040Иные выплаты персоналу государственных (муниципальных) органов, за исключением фонда оплаты труда","Функционирование законодательных органов","ку","122","Иные выплаты персоналу государственных (муниципальных) органов, за исключением фонда оплаты труда",null,null,null,null,0]
[2,"Функционирование законодательных органов","602","01","03","9900002040","244",985.20000000000095,985.20000000000095,0,985.20000000000095,null,985.20000000000095,"60201039900002040Прочая закупка товаров, работ и услуг для обеспечения государственных (муниципальных) нужд","Функционирование законодательных органов","ку","244","Прочая закупка товаров, работ и услуг для обеспечения государственных (муниципальных) нужд",null,null,null,null,0]
[2,"Функционирование законодательных органов","602","01","03","9900002040","412",0,0,0,0,null,0,"60201039900002040Бюджетные инвестиции на приобретение объектов недвижимого имущества в государственную (муниципальную) собственность","Функционирование законодательных органов","ку","412","Бюджетные инвестиции на приобретение объектов недвижимого имущества в государственную (муниципальную) собственность",null,null,null,null,0]
[3,"Функционирование местных администраций","601","01","04","9900002040","121",4267.08,7714.8499999999995,4267.08,6395.07,1319.78,7714.8499999999995,"60101049900002040Фонд оплаты труда государственных (муниципальных) органов и взносы по обязательному социальному страхованию","Функционирование местных администраций","ку","121","Фонд оплаты труда государственных (муниципальных) органов и взносы по обязательному социальному страхованию",null,null,null,null,-1319.7799999999997]
[3,"Функционирование местных администраций","601","01","04","9900002040","129",112.8,2279.0100000000002,112.8,1881.0100000000002,398,2279.0100000000002,"60101049900002040Взносы по обязательному социальному страхованию на выплату денежного содержания и иные выплаты работникам государственных (муниципальных) органов","Функционирование местных администраций","ку","129","Взносы по обязательному социальному страхованию на выплату денежного содержания и иные выплаты работникам государственных (муниципальных) органов",null,null,null,null,-398]
[3,"Функционирование местных администраций","601","01","04","9900002040","122",13673.07,0,7278,0,null,0,"60101049900002040Иные выплаты персоналу государственных (муниципальных) органов, за исключением фонда оплаты труда","Функционирование местных администраций","ку","122","Иные выплаты персоналу государственных (муниципальных) органов, за исключением фонда оплаты труда",null,null,null,null,0]
[3,"Функционирование местных администраций","601","01","04","9900002040","244",4080.01,2139,2199,2139,null,2139,"60101049900002040Прочая закупка товаров, работ и услуг для обеспечения государственных (муниципальных) нужд","Функционирование местных администраций","ку","244","Прочая закупка товаров, работ и услуг для обеспечения государственных (муниципальных) нужд",null,null,null,null,0]
[3,"Функционирование местных администраций","601","01","04","9900002040","412",0,0,0,0,null,0,"60101049900002040Бюджетные инвестиции на приобретение объектов недвижимого имущества в государственную (муниципальную) собственность","Функционирование местных администраций","ку","412","Бюджетные инвестиции на приобретение объектов недвижимого имущества в государственную (муниципальную) собственность",null,null,null,null,0]
[4,"Функционирование местных администраций (УО)","611","01","04","9900002040","121",68,1173.8,0,1173.8,null,1173.8,"61101049900002040Фонд оплаты труда государственных (муниципальных) органов и взносы по обязательному социальному страхованию","Функционирование местных администраций (УО)","ку","121","Фонд оплаты труда государственных (муниципальных) органов и взносы по обязательному социальному страхованию",null,null,null,null,0]
[4,"Функционирование местных администраций (УО)","611","01","04","9900002040","129",0,354,0,354,null,354,"61101049900002040Взносы по обязательному социальному страхованию на выплату денежного содержания и иные выплаты работникам государственных (муниципальных) органов","Функционирование местных администраций (УО)","ку","129","Взносы по обязательному социальному страхованию на выплату денежного содержания и иные выплаты работникам государственных (муниципальных) органов",null,null,null,null,0]
[4,"Функционирование местных администраций (УО)","611","01","04","9900002040","122",0,0,0,0,null,0,"61101049900002040Иные выплаты персоналу государственных (муниципальных) органов, за исключением фонда оплаты труда","Функционирование местных администраций (УО)","ку","122","Иные выплаты персоналу государственных (муниципальных) органов, за исключением фонда оплаты труда",null,null,null,null,0]
[4,"Функционирование местных администраций (УО)","611","01","04","9900002040","244",0,68,0,68,null,68,"61101049900002040Прочая закупка товаров, работ и услуг для обеспечения государственных (муниципальных) нужд","Функционирование местных администраций (УО)","ку","244","Прочая закупка товаров, работ и услуг для обеспечения государственных (муниципальных) нужд",null,null,null,null,0]
[4,"Функционирование местных администраций (УО)","611","01","04","9900002040","412",1173.8,0,0,0,null,0,"61101049900002040Бюджетные инвестиции на приобретение объектов недвижимого имущества в государственную (муниципальную) собственность","Функционирование местных администраций (УО)","ку","412","Бюджетные инвестиции на приобретение объектов недвижимого имущества в государственную (муниципальную) собственность",null,null,null,null,0]
[5,"Функционирование местных администраций (УДМС)","612","01","04","9900002040","121",169,560.79999999999995,0,560.79999999999995,null,560.79999999999995,"61201049900002040Фонд оплаты труда государственных (муниципальных) органов и взносы по обязательному социальному страхованию","Функционирование местных администраций (УДМС)","ку","121","Фонд оплаты труда государственных (муниципальных) органов и взносы по обязательному социальному страхованию",null,null,null,null,0]
[5,"Функционирование местных администраций (УДМС)","612","01","04","9900002040","129",0,169,0,169,null,169,"61201049900002040Взносы по обязательному социальному страхованию на выплату денежного содержания и иные выплаты работникам государственных (муниципальных) органов","Функционирование местных администраций (УДМС)","ку","129","Взносы по обязательному социальному страхованию на выплату денежного содержания и иные выплаты работникам государственных (муниципальных) органов",null,null,null,null,0]
[5,"Функционирование местных администраций (УДМС)","612","01","04","9900002040","122",0,0,0,0,null,0,"61201049900002040Иные выплаты персоналу государственных (муниципальных) органов, за исключением фонда оплаты труда","Функционирование местных администраций (УДМС)","ку","122","Иные выплаты персоналу государственных (муниципальных) органов, за исключением фонда оплаты труда",null,null,null,null,0]
[5,"Функционирование местных администраций (УДМС)","612","01","04","9900002040","244",0,0,0,0,null,0,"61201049900002040Прочая закупка товаров, работ и услуг для обеспечения государственных (муниципальных) нужд","Функционирование местных администраций (УДМС)","ку","244","Прочая закупка товаров, работ и услуг для обеспечения государственных (муниципальных) нужд",null,null,null,null,0]
[5,"Функционирование местных администраций (УДМС)","612","01","04","9900002040","412",0,0,0,0,null,0,"61201049900002040Бюджетные инвестиции на приобретение объектов недвижимого имущества в государственную (муниципальную) собственность","Функционирование местных администраций (УДМС)","ку","412","Бюджетные инвестиции на приобретение объектов недвижимого имущества в государственную (муниципальную) собственность",null,null,null,null,0]
[6,"Функционирование местных администраций (УК)","613","01","04","9900002040","121",0,617,0,617,null,617,"61301049900002040Фонд оплаты труда государственных (муниципальных) органов и взносы по обязательному социальному страхованию","Функционирование местных администраций (УК)","ку","121","Фонд оплаты труда государственных (муниципальных) органов и взносы по обязательному социальному страхованию",null,null,null,null,0]
[6,"Функционирование местных администраций (УК)","613","01","04","9900002040","129",617,186,0,186,null,186,"61301049900002040Взносы по обязательному социальному страхованию на выплату денежного содержания и иные выплаты работникам государственных (муниципальных) органов","Функционирование местных администраций (УК)","ку","129","Взносы по обязательному социальному страхованию на выплату денежного содержания и иные выплаты работникам государственных (муниципальных) органов",null,null,null,null,0]
[6,"Функционирование местных администраций (УК)","613","01","04","9900002040","122",186,0,0,0,null,0,"61301049900002040Иные выплаты персоналу государственных (муниципальных) органов, за исключением фонда оплаты труда","Функционирование местных администраций (УК)","ку","122","Иные выплаты персоналу государственных (муниципальных) органов, за исключением фонда оплаты труда",null,null,null,null,0]
[6,"Функционирование местных администраций (УК)","613","01","04","9900002040","244",0,0,0,0,null,0,"61301049900002040Прочая закупка товаров, работ и услуг для обеспечения государственных (муниципальных) нужд","Функционирование местных администраций (УК)","ку","244","Прочая закупка товаров, работ и услуг для обеспечения государственных (муниципальных) нужд",null,null,null,null,0]
[6,"Функционирование местных администраций (УК)","613","01","04","9900002040","412",0,0,0,0,null,0,"61301049900002040Бюджетные инвестиции на приобретение объектов недвижимого имущества в государственную (муниципальную) собственность","Функционирование местных администраций (УК)","ку","412","Бюджетные инвестиции на приобретение объектов недвижимого имущества в государственную (муниципальную) собственность",null,null,null,null,0]
[7,"КСП","603","01","06","9900002040","121",0,453,0,453,null,453,"60301069900002040Фонд оплаты труда государственных (муниципальных) органов и взносы по обязательному социальному страхованию","КСП","ку","121","Фонд оплаты труда государственных (муниципальных) органов и взносы по обязательному социальному страхованию",null,null,null,null,0]
[7,"КСП","603","01","06","9900002040","129",0,137,0,137,null,137,"60301069900002040Взносы по обязательному социальному страхованию на выплату денежного содержания и иные выплаты работникам государственных (муниципальных) органов","КСП","ку","129","Взносы по обязательному социальному страхованию на выплату денежного содержания и иные выплаты работникам государственных (муниципальных) органов",null,null,null,null,0]
[7,"КСП","603","01","06","9900002040","122",0,1,0,1,null,1,"60301069900002040Иные выплаты персоналу государственных (муниципальных) органов, за исключением фонда оплаты труда","КСП","ку","122","Иные выплаты персоналу государственных (муниципальных) органов, за исключением фонда оплаты труда",null,null,null,null,0]
[7,"КСП","603","01","06","9900002040","244",453,25,0,25,null,25,"60301069900002040Прочая закупка товаров, работ и услуг для обеспечения государственных (муниципальных) нужд","КСП","ку","244","Прочая закупка товаров, работ и услуг для обеспечения государственных (муниципальных) нужд",null,null,null,null,0]
[7,"КСП","603","01","06","9900002040","412",137,0,0,0,null,0,"60301069900002040Бюджетные инвестиции на приобретение объектов недвижимого имущества в государственную (муниципальную) собственность","КСП","ку","412","Бюджетные инвестиции на приобретение объектов недвижимого имущества в государственную (муниципальную) собственность",null,null,null,null,0]
[8,"ФБП","605","01","06","1800102040","121",0,2751,0,2751,null,2751,"60501061800102040Фонд оплаты труда государственных (муниципальных) органов и взносы по обязательному социальному страхованию","ФБП","ку","121","Фонд оплаты труда государственных (муниципальных) органов и взносы по обязательному социальному страхованию",null,null,null,null,0]
[8,"ФБП","605","01","06","1800102040","129",427.99999999999977,828.7,0,828.7,null,828.7,"60501061800102040Взносы по обязательному социальному страхованию на выплату денежного содержания и иные выплаты работникам государственных (муниципальных) органов","ФБП","ку","129","Взносы по обязательному социальному страхованию на выплату денежного содержания и иные выплаты работникам государственных (муниципальных) органов",null,null,null,null,0]
[8,"ФБП","605","01","06","1800102040","122",0,0,0,0,null,0,"60501061800102040Иные выплаты персоналу государственных (муниципальных) органов, за исключением фонда оплаты труда","ФБП","ку","122","Иные выплаты персоналу государственных (муниципальных) органов, за исключением фонда оплаты труда",null,null,null,null,0]
[8,"ФБП","605","01","06","1800102040","244",0,427.99999999999977,0,427.99999999999977,null,427.99999999999977,"60501061800102040Прочая закупка товаров, работ и услуг для обеспечения государственных (муниципальных) нужд","ФБП","ку","244","Прочая закупка товаров, работ и услуг для обеспечения государственных (муниципальных) нужд",null,null,null,null,0]
[8,"ФБП","605","01","06","1800102040","412",0,0,0,0,null,0,"60501061800102040Бюджетные инвестиции на приобретение объектов недвижимого имущества в государственную (муниципальную) собственность","ФБП","ку","412","Бюджетные инвестиции на приобретение объектов недвижимого имущества в государственную (муниципальную) собственность",null,null,null,null,0]
[9,"Резервные фонды ","601","01","11","9900007410","870",0,5845.7,0,5845.7,null,5845.7,"60101119900007410Уплата иных платежей","Резервные фонды ","ку","870","Уплата иных платежей",null,null,null,null,0]
[10,"Палата имущественных и земельных отношений","606","01","13","1600102040","121",302,999,0,999,null,999,"60601131600102040Фонд оплаты труда государственных (муниципальных) органов и взносы по обязательному социальному страхованию","Палата имущественных и земельных отношений","ку","121","Фонд оплаты труда государственных (муниципальных) органов и взносы по обязательному социальному страхованию",null,null,null,null,0]
[10,"Палата имущественных и земельных отношений","606","01","13","1600102040","129",0,302,0,302,null,302,"60601131600102040Взносы по обязательному социальному страхованию на выплату денежного содержания и иные выплаты работникам государственных (муниципальных) органов","Палата имущественных и земельных отношений","ку","129","Взносы по обязательному социальному страхованию на выплату денежного содержания и иные выплаты работникам государственных (муниципальных) органов",null,null,null,null,0]
[10,"Палата имущественных и земельных отношений","606","01","13","1600102040","122",112,0,0,0,null,0,"60601131600102040Иные выплаты персоналу государственных (муниципальных) органов, за исключением фонда оплаты труда","Палата имущественных и земельных отношений","ку","122","Иные выплаты персоналу государственных (муниципальных) органов, за исключением фонда оплаты труда",null,null,null,null,0]
[10,"Палата имущественных и земельных отношений","606","01","13","1600102040","244",0,112,0,112,null,112,"60601131600102040Прочая закупка товаров, работ и услуг для обеспечения государственных (муниципальных) нужд","Палата имущественных и земельных отношений","ку","244","Прочая закупка товаров, работ и услуг для обеспечения государственных (муниципальных) нужд",null,null,null,null,0]
[10,"Палата имущественных и земельных отношений","606","01","13","1600102040","412",999,0,0,0,null,0,"60601131600102040Бюджетные инвестиции на приобретение объектов недвижимого имущества в государственную (муниципальную) собственность","Палата имущественных и земельных отношений","ку","412","Бюджетные инвестиции на приобретение объектов недвижимого имущества в государственную (муниципальную) собственность",null,null,null,null,0]
[11,"ЗАГС","601","01","13","9900059300","121",198,739.8,0,656,83.8,739.8,"60101139900059300Фонд оплаты труда государственных (муниципальных) органов и взносы по обязательному социальному страхованию","ЗАГС","ку","121","Фонд оплаты труда государственных (муниципальных) органов и взносы по обязательному социальному страхованию",null,null,null,null,-83.799999999999955]
[11,"ЗАГС","601","01","13","9900059300","129",18,223,0,198,25,223,"60101139900059300Взносы по обязательному социальному страхованию на выплату денежного содержания и иные выплаты работникам государственных (муниципальных) органов","ЗАГС","ку","129","Взносы по обязательному социальному страхованию на выплату денежного содержания и иные выплаты работникам государственных (муниципальных) органов",null,null,null,null,-25]
[11,"ЗАГС","601","01","13","9900059300","122",848.40000000000009,18,0,18,null,18,"60101139900059300Иные выплаты персоналу государственных (муниципальных) органов, за исключением фонда оплаты труда","ЗАГС","ку","122","Иные выплаты персоналу государственных (муниципальных) органов, за исключением фонда оплаты труда",null,null,null,null,0]
[11,"ЗАГС","601","01","13","9900059300","244",0,848.40000000000009,0,848.40000000000009,null,848.40000000000009,"60101139900059300Прочая закупка товаров, работ и услуг для обеспечения государственных (муниципальных) нужд","ЗАГС","ку","244","Прочая закупка товаров, работ и услуг для обеспечения государственных (муниципальных) нужд",null,null,null,null,0]
[11,"ЗАГС","601","01","13","9900059300","412",0,0,0,0,null,0,"60101139900059300Бюджетные инвестиции на приобретение объектов недвижимого имущества в государственную (муниципальную) собственность","ЗАГС","ку","412","Бюджетные инвестиции на приобретение объектов недвижимого имущества в государственную (муниципальную) собственность",null,null,null,null,0]
[12,"Централизованная бухгалтерияПИЗО","606","01","13","1800129900","111",0,0,0,0,null,0,"60601131800129900Фонд оплаты труда казенных учреждений и взносы по обязательному социальному страхованию","Централизованная бухгалтерияПИЗО","ку","111","Фонд оплаты труда казенных учреждений и взносы по обязательному социальному страхованию",null,null,null,null,0]
[12,"Централизованная бухгалтерияПИЗО","606","01","13","1800129900","119",{"$f":"SUM(I64:J64)","v":0},0,null,0,null,0,"60601131800129900Взносы по обязательному социальному страхованию на выплаты по оплате труда работников и иные выплаты работникам учреждений","Централизованная бухгалтерияПИЗО","ку","119","Взносы по обязательному социальному страхованию на выплаты по оплате труда работников и иные выплаты работникам учреждений",null,null,null,null,0]
[13,"Централизованная бухгалтерия","601","01","13","1800129900","111",8089,8649.5,0,8089,560.5,8649.5,"60101131800129900Фонд оплаты труда казенных учреждений и взносы по обязательному социальному страхованию","Централизованная бухгалтерия","ку","111","Фонд оплаты труда казенных учреждений и взносы по обязательному социальному страхованию",null,null,null,null,-560.5]
[13,"Централизованная бухгалтерия","601","01","13","1800129900","119",2443,2612,0,2443,169,2612,"60101131800129900Взносы по обязательному социальному страхованию на выплаты по оплате труда работников и иные выплаты работникам учреждений","Централизованная бухгалтерия","ку","119","Взносы по обязательному социальному страхованию на выплаты по оплате труда работников и иные выплаты работникам учреждений",null,null,null,null,-169]
[13,"Централизованная бухгалтерия","601","01","13","1800129900","112",0,0,0,0,null,0,"60101131800129900Иные выплаты персоналу казенных учреждений, за исключением фонда оплаты труда","Централизованная бухгалтерия","ку","112","Иные выплаты персоналу казенных учреждений, за исключением фонда оплаты труда",null,null,null,null,0]
[13,"Централизованная бухгалтерия","601","01","13","1800129900","244",7173.8,1147.3000000000002,6026.5,1147.3000000000002,null,1147.3000000000002,"60101131800129900Прочая закупка товаров, работ и услуг для обеспечения государственных (муниципальных) нужд","Централизованная бухгалтерия","ку","244","Прочая закупка товаров, работ и услуг для обеспечения государственных (муниципальных) нужд",null,null,null,null,0]
[13,"Централизованная бухгалтерия","601","01","13","1800129900","412",0,0,0,0,null,{"$f":"SUM(K69:K69)","v":0},"60101131800129900Бюджетные инвестиции на приобретение объектов недвижимого имущества в государственную (муниципальную) собственность","Централизованная бухгалтерия","ку","412","Бюджетные инвестиции на приобретение объектов недвижимого имущества в государственную (муниципальную) собственность",null,null,null,null,0]
[14,"Архивный отдел","601","01","13","08Е0144020","111",0,488,0,488,null,488,"601011308Е0144020Фонд оплаты труда казенных учреждений и взносы по обязательному социальному страхованию","Архивный отдел","ку","111","Фонд оплаты труда казенных учреждений и взносы по обязательному социальному страхованию",null,null,null,null,0]
[14,"Архивный отдел","601","01","13","08Е0144020","119",0,147,0,147,null,147,"601011308Е0144020Взносы по обязательному социальному страхованию на выплаты по оплате труда работников и иные выплаты работникам учреждений","Архивный отдел","ку","119","Взносы по обязательному социальному страхованию на выплаты по оплате труда работников и иные выплаты работникам учреждений",null,null,null,null,0]
[14,"Архивный отдел","601","01","13","08Е0144020","112",488,0,0,0,null,0,"601011308Е0144020Иные выплаты персоналу казенных учреждений, за исключением фонда оплаты труда","Архивный отдел","ку","112","Иные выплаты персоналу казенных учреждений, за исключением фонда оплаты труда",null,null,null,null,0]
[14,"Архивный отдел","601","01","13","08Е0144020","244",147,48,0,48,null,48,"601011308Е0144020Прочая закупка товаров, работ и услуг для обеспечения государственных (муниципальных) нужд","Архивный отдел","ку","244","Прочая закупка товаров, работ и услуг для обеспечения государственных (муниципальных) нужд",null,null,null,null,0]
[14,"Архивный отдел","601","01","13","08Е0144020","412",0,0,0,0,null,0,"601011308Е0144020Бюджетные инвестиции на приобретение объектов недвижимого имущества в государственную (муниципальную) собственность","Архивный отдел","ку","412","Бюджетные инвестиции на приобретение объектов недвижимого имущества в государственную (муниципальную) собственность",null,null,null,null,0]
[15,"Военкомат","601","02","03","9900051180","121",201.2999999999999,0,201.2999999999999,0,128,0,"60102039900051180Фонд оплаты труда государственных (муниципальных) органов и взносы по обязательному социальному страхованию","Военкомат","ку","121","Фонд оплаты труда государственных (муниципальных) органов и взносы по обязательному социальному страхованию",null,null,null,null,0]
[15,"Военкомат","601","02","03","9900051180","129",0,0,0,0,null,0,"60102039900051180Взносы по обязательному социальному страхованию на выплату денежного содержания и иные выплаты работникам государственных (муниципальных) органов","Военкомат","ку","129","Взносы по обязательному социальному страхованию на выплату денежного содержания и иные выплаты работникам государственных (муниципальных) органов",null,null,null,null,0]
[15,"Военкомат","601","02","03","9900051180","122",1882.9,0,1882.9,0,null,0,"60102039900051180Иные выплаты персоналу государственных (муниципальных) органов, за исключением фонда оплаты труда","Военкомат","ку","122","Иные выплаты персоналу государственных (муниципальных) органов, за исключением фонда оплаты труда",null,null,null,null,0]
[15,"Военкомат","601","02","03","9900051180","244",568.59999999999991,0,568.59999999999991,0,null,0,"60102039900051180Прочая закупка товаров, работ и услуг для обеспечения государственных (муниципальных) нужд","Военкомат","ку","244","Прочая закупка товаров, работ и услуг для обеспечения государственных (муниципальных) нужд",null,null,null,null,0]
[15,"Военкомат","601","02","03","9900051180","412",1882.9,0,1882.9,0,null,0,"60102039900051180Бюджетные инвестиции на приобретение объектов недвижимого имущества в государственную (муниципальную) собственность","Военкомат","ку","412","Бюджетные инвестиции на приобретение объектов недвижимого имущества в государственную (муниципальную) собственность",null,null,null,null,0]
[16,"МЧС","601","03","09","0720107420",{"$f":"IF(P80=\"бу\",611,Q80)","v":"244"},0,{"$f":"M80","v":100},0,100,null,{"$f":"SUM(K80:L80)","v":100},{"$f":"C80&D80&E80&F80&R80","v":"60103090720107420Прочая закупка товаров, работ и услуг для обеспечения государственных (муниципальных) нужд"},"МЧС","ку","244","Прочая закупка товаров, работ и услуг для обеспечения государственных (муниципальных) нужд",null,null,null,null,{"$f":"K80-I80","v":0}]
[17,"ОПОП","601","03","14","0610110990","111",0,334,0,334,null,334,"60103140610110990Фонд оплаты труда казенных учреждений и взносы по обязательному социальному страхованию","ОПОП","ку","111","Фонд оплаты труда казенных учреждений и взносы по обязательному социальному страхованию",null,null,null,null,0]
[17,"ОПОП","601","03","14","0610110990","119",86.299999999999955,101,0,101,null,101,"60103140610110990Взносы по обязательному социальному страхованию на выплаты по оплате труда работников и иные выплаты работникам учреждений","ОПОП","ку","119","Взносы по обязательному социальному страхованию на выплаты по оплате труда работников и иные выплаты работникам учреждений",null,null,null,null,0]
[17,"ОПОП","601","03","14","0610110990","112",0,0,0,0,null,0,"60103140610110990Иные выплаты персоналу казенных учреждений, за исключением фонда оплаты труда","ОПОП","ку","112","Иные выплаты персоналу казенных учреждений, за исключением фонда оплаты труда",null,null,null,null,0]
[17,"ОПОП","601","03","14","0610110990",244,0,86.299999999999955,0,86.299999999999955,null,{"$f":"SUM(K84:L84)","v":86.299999999999955},"60103140610110990Прочая закупка товаров, работ и услуг для обеспечения государственных (муниципальных) нужд","ОПОП","ку","244","Прочая закупка товаров, работ и услуг для обеспечения государственных (муниципальных) нужд",null,null,null,null,0]
[18,"Экология","605","06","03","0910119100","244",0,1528,0,1528,null,1528,"60506030910119100Прочая закупка товаров, работ и услуг для обеспечения государственных (муниципальных) нужд","Экология","ку","244","Прочая закупка товаров, работ и услуг для обеспечения государственных (муниципальных) нужд",null,null,null,null,0]
[18,"Экология","605","06","03","0910119100","412",0,0,0,0,null,0,"60506030910119100Бюджетные инвестиции на приобретение объектов недвижимого имущества в государственную (муниципальную) собственность","Экология","ку","412","Бюджетные инвестиции на приобретение объектов недвижимого имущества в государственную (муниципальную) собственность",null,null,null,null,0]
[19,"Капремонт жилфонда","601","05","01","0490176030","244",0,0,0,0,null,0,"60105010490176030Прочая закупка товаров, работ и услуг для обеспечения государственных (муниципальных) нужд","Капремонт жилфонда","ку","244","Прочая закупка товаров, работ и услуг для обеспечения государственных (муниципальных) нужд",null,null,null,null,0]
[20,"Инвентаризация жилого фонда","601","05","01","0480476040","244",0,16212.630000000001,0,15107,1105.6300000000001,16212.630000000001,"60105010480476040Прочая закупка товаров, работ и услуг для обеспечения государственных (муниципальных) нужд","Инвентаризация жилого фонда","ку","244","Прочая закупка товаров, работ и услуг для обеспечения государственных (муниципальных) нужд",null,null,null,null,-1105.630000000001]
[21,"Подпрограмма «Повышение безопасности дорожного движения Кукморского муниципального района Республики Татарстан на 2015 год»","601","05","03","0620178020","244",0,1500,0,1500,null,1500,"60105030620178020Прочая закупка товаров, работ и услуг для обеспечения государственных (муниципальных) нужд","Подпрограмма «Повышение безопасности дорожного движения Кукморского муниципального района Республики Татарстан на 2015 год»","ку","244","Прочая закупка товаров, работ и услуг для обеспечения государственных (муниципальных) нужд",null,null,null,null,0]
[22,"Уличное освещение","601","05","03","0490278010","244",13458.599999999997,0,13458.599999999997,0,null,0,"60105030490278010Прочая закупка товаров, работ и услуг для обеспечения государственных (муниципальных) нужд","Уличное освещение","ку","244","Прочая закупка товаров, работ и услуг для обеспечения государственных (муниципальных) нужд",null,null,null,null,0]
[23,"Содержание автомобильных дорог","601","04","09","0490278020","244",0,3717.2,0,3717.2,null,3717.2,"60104090490278020Прочая закупка товаров, работ и услуг для обеспечения государственных (муниципальных) нужд","Содержание автомобильных дорог","ку","244","Прочая закупка товаров, работ и услуг для обеспечения государственных (муниципальных) нужд",null,null,null,null,0]
[24,"Озеленение","601","05","03","0490278030","244",0,0,0,0,null,0,"60105030490278030Прочая закупка товаров, работ и услуг для обеспечения государственных (муниципальных) нужд","Озеленение","ку","244","Прочая закупка товаров, работ и услуг для обеспечения государственных (муниципальных) нужд",null,null,null,null,0]
[25,"Муниципальная программа \"Организация и содержаение мест захоронения\"","601","05","03","0490278040","244",0,1155,0,1155,null,1155,"60105030490278040Прочая закупка товаров, работ и услуг для обеспечения государственных (муниципальных) нужд","Муниципальная программа \"Организация и содержаение мест захоронения\"","ку","244","Прочая закупка товаров, работ и услуг для обеспечения государственных (муниципальных) нужд",null,null,null,null,0]
[26,"Прочие мероприятия по благоустройству","601","05","03","0490278050","244",0,0,0,0,null,0,"60105030490278050Прочая закупка товаров, работ и услуг для обеспечения государственных (муниципальных) нужд","Прочие мероприятия по благоустройству","ку","244","Прочая закупка товаров, работ и услуг для обеспечения государственных (муниципальных) нужд",null,null,null,null,0]
[27,"Водонапорные башни","601","05","02","0490378050","244",0,0,0,0,null,0,"60105020490378050Прочая закупка товаров, работ и услуг для обеспечения государственных (муниципальных) нужд","Водонапорные башни","ку","244","Прочая закупка товаров, работ и услуг для обеспечения государственных (муниципальных) нужд",null,null,null,null,0]
[28,"Субвенция по соглашениям (КРЖФ)","605","05","01","9900025600","540",0,0,0,0,null,0,"60505019900025600Иные межбюджетные трансферты","Субвенция по соглашениям (КРЖФ)","ку","540","Иные межбюджетные трансферты",null,null,null,null,0]
[29,"Детсады","611","07","01","0210342000",611,8410.9950799999951,73438.194910000035,0,69938.194910000035,3500,73438.194910000035,"61107010210342000Субсидии бюджетным учреждениям на финансовое обеспечение государственного (муниципального) задания на оказание государственных (муниципальных) услуг (выполнение работ)","Детсады","бу","111","Субсидии бюджетным учреждениям на финансовое обеспечение государственного (муниципального) задания на оказание государственных (муниципальных) услуг (выполнение работ)",null,null,null,null,-3500]
[29,"Детсады","611","07","01","0210342000",611,69938.194910000035,21119.775130000009,0,21119.775130000009,null,21119.775130000009,"61107010210342000Субсидии бюджетным учреждениям на финансовое обеспечение государственного (муниципального) задания на оказание государственных (муниципальных) услуг (выполнение работ)","Детсады","бу","119","Субсидии бюджетным учреждениям на финансовое обеспечение государственного (муниципального) задания на оказание государственных (муниципальных) услуг (выполнение работ)",null,null,null,null,0]
[29,"Детсады","611","07","01","0210342000",611,21119.775130000009,300,0,300,null,300,"61107010210342000Субсидии бюджетным учреждениям на финансовое обеспечение государственного (муниципального) задания на оказание государственных (муниципальных) услуг (выполнение работ)","Детсады","бу","112","Субсидии бюджетным учреждениям на финансовое обеспечение государственного (муниципального) задания на оказание государственных (муниципальных) услуг (выполнение работ)",null,null,null,null,0]
[29,"Детсады","611","07","01","0210342000",611,300,8410.9950799999951,0,8410.9950799999951,null,8410.9950799999951,"61107010210342000Субсидии бюджетным учреждениям на финансовое обеспечение государственного (муниципального) задания на оказание государственных (муниципальных) услуг (выполнение работ)","Детсады","бу","244","Субсидии бюджетным учреждениям на финансовое обеспечение государственного (муниципального) задания на оказание государственных (муниципальных) услуг (выполнение работ)",null,null,null,null,0]
[29,"Детсады","611","07","01","0210342000",611,8410.9950799999951,0,0,0,null,0,"61107010210342000Субсидии бюджетным учреждениям на финансовое обеспечение государственного (муниципального) задания на оказание государственных (муниципальных) услуг (выполнение работ)","Детсады","бу","412","Субсидии бюджетным учреждениям на финансовое обеспечение государственного (муниципального) задания на оказание государственных (муниципальных) услуг (выполнение работ)",null,null,null,null,0]
[29,"Детсады","611","07","01","0210342000",611,0,6717,0,6717,null,6717,"61107010210342000Субсидии бюджетным учреждениям на финансовое обеспечение государственного (муниципального) задания на оказание государственных (муниципальных) услуг (выполнение работ)","Детсады","бу","851","Субсидии бюджетным учреждениям на финансовое обеспечение государственного (муниципального) задания на оказание государственных (муниципальных) услуг (выполнение работ)",null,null,null,null,0]
[29,"Детсады","611","07","01","0210342000",611,8410.9950799999951,250,0,250,null,250,"61107010210342000Субсидии бюджетным учреждениям на финансовое обеспечение государственного (муниципального) задания на оказание государственных (муниципальных) услуг (выполнение работ)","Детсады","бу","852","Субсидии бюджетным учреждениям на финансовое обеспечение государственного (муниципального) задания на оказание государственных (муниципальных) услуг (выполнение работ)",null,null,null,null,0]
[30,"Школы","611","07","02","0220242100",611,71708.373189999984,124495.50375999999,0,118433.50375999999,{"$f":"9562-3500","v":6062},124495.50375999999,"61107020220242100Субсидии бюджетным учреждениям на финансовое обеспечение государственного (муниципального) задания на оказание государственных (муниципальных) услуг (выполнение работ)","Школы","бу","111","Субсидии бюджетным учреждениям на финансовое обеспечение государственного (муниципального) задания на оказание государственных (муниципальных) услуг (выполнение работ)",null,null,null,null,-6062]
[30,"Школы","611","07","02","0220242100",611,71708.373189999984,35765.730139999992,0,35765.730139999992,null,35765.730139999992,"61107020220242100Субсидии бюджетным учреждениям на финансовое обеспечение государственного (муниципального) задания на оказание государственных (муниципальных) услуг (выполнение работ)","Школы","бу","119","Субсидии бюджетным учреждениям на финансовое обеспечение государственного (муниципального) задания на оказание государственных (муниципальных) услуг (выполнение работ)",null,null,null,null,0]
[30,"Школы","611","07","02","0220242100",611,71708.373189999984,700,0,700,null,700,"61107020220242100Субсидии бюджетным учреждениям на финансовое обеспечение государственного (муниципального) задания на оказание государственных (муниципальных) услуг (выполнение работ)","Школы","бу","112","Субсидии бюджетным учреждениям на финансовое обеспечение государственного (муниципального) задания на оказание государственных (муниципальных) услуг (выполнение работ)",null,null,null,null,0]
[30,"Школы","611","07","02","0220242100",611,71708.373189999984,71708.373189999984,0,71708.373189999984,null,71708.373189999984,"61107020220242100Субсидии бюджетным учреждениям на финансовое обеспечение государственного (муниципального) задания на оказание государственных (муниципальных) услуг (выполнение работ)","Школы","бу","244","Субсидии бюджетным учреждениям на финансовое обеспечение государственного (муниципального) задания на оказание государственных (муниципальных) услуг (выполнение работ)",null,null,null,null,0]
[30,"Школы","611","07","02","0220242100",611,71708.373189999984,0,0,0,null,0,"61107020220242100Субсидии бюджетным учреждениям на финансовое обеспечение государственного (муниципального) задания на оказание государственных (муниципальных) услуг (выполнение работ)","Школы","бу","412","Субсидии бюджетным учреждениям на финансовое обеспечение государственного (муниципального) задания на оказание государственных (муниципальных) услуг (выполнение работ)",null,null,null,null,0]
[30,"Школы","611","07","02","0220242100",611,71708.373189999984,14258.39,0,14258.39,null,14258.39,"61107020220242100Субсидии бюджетным учреждениям на финансовое обеспечение государственного (муниципального) задания на оказание государственных (муниципальных) услуг (выполнение работ)","Школы","бу","851","Субсидии бюджетным учреждениям на финансовое обеспечение государственного (муниципального) задания на оказание государственных (муниципальных) услуг (выполнение работ)",null,null,null,null,0]
[30,"Школы","611","07","02","0220242100",611,71708.373189999984,598.70000000000005,0,598.70000000000005,null,598.70000000000005,"61107020220242100Субсидии бюджетным учреждениям на финансовое обеспечение государственного (муниципального) задания на оказание государственных (муниципальных) услуг (выполнение работ)","Школы","бу","852","Субсидии бюджетным учреждениям на финансовое обеспечение государственного (муниципального) задания на оказание государственных (муниципальных) услуг (выполнение работ)",null,null,null,null,0]
[31,"Учреждения по внешкольной работе (МП)","611","07","03","0230142310",611,2141.54162,13707.65928,0,13707.65928,null,13707.65928,"61107030230142310Субсидии бюджетным учреждениям на финансовое обеспечение государственного (муниципального) задания на оказание государственных (муниципальных) услуг (выполнение работ)","Учреждения по внешкольной работе (МП)","бу","111","Субсидии бюджетным учреждениям на финансовое обеспечение государственного (муниципального) задания на оказание государственных (муниципальных) услуг (выполнение работ)",null,null,null,null,0]
[31,"Учреждения по внешкольной работе (МП)","611","07","03","0230142310",611,{"$f":"SUM(I112:J112)","v":8527.7131000000008},4139.7130999999999,4388,4139.7130999999999,null,4139.7130999999999,"61107030230142310Субсидии бюджетным учреждениям на финансовое обеспечение государственного (муниципального) задания на оказание государственных (муниципальных) услуг (выполнение работ)","Учреждения по внешкольной работе (МП)","бу","119","Субсидии бюджетным учреждениям на финансовое обеспечение государственного (муниципального) задания на оказание государственных (муниципальных) услуг (выполнение работ)",null,null,null,null,0]
[31,"Учреждения по внешкольной работе (МП)","611","07","03","0230142310",611,13707.65928,95.88479000000001,0,95.88479000000001,null,95.88479000000001,"61107030230142310Субсидии бюджетным учреждениям на финансовое обеспечение государственного (муниципального) задания на оказание государственных (муниципальных) услуг (выполнение работ)","Учреждения по внешкольной работе (МП)","бу","112","Субсидии бюджетным учреждениям на финансовое обеспечение государственного (муниципального) задания на оказание государственных (муниципальных) услуг (выполнение работ)",null,null,null,null,0]
[31,"Учреждения по внешкольной работе (МП)","611","07","03","0230142310",611,4139.7130999999999,2141.54162,0,2141.54162,null,2141.54162,"61107030230142310Субсидии бюджетным учреждениям на финансовое обеспечение государственного (муниципального) задания на оказание государственных (муниципальных) услуг (выполнение работ)","Учреждения по внешкольной работе (МП)","бу","244","Субсидии бюджетным учреждениям на финансовое обеспечение государственного (муниципального) задания на оказание государственных (муниципальных) услуг (выполнение работ)",null,null,null,null,0]
[31,"Учреждения по внешкольной работе (МП)","611","07","03","0230142310",611,95.88479000000001,0,0,0,null,0,"61107030230142310Субсидии бюджетным учреждениям на финансовое обеспечение государственного (муниципального) задания на оказание государственных (муниципальных) услуг (выполнение работ)","Учреждения по внешкольной работе (МП)","бу","412","Субсидии бюджетным учреждениям на финансовое обеспечение государственного (муниципального) задания на оказание государственных (муниципальных) услуг (выполнение работ)",null,null,null,null,0]
[31,"Учреждения по внешкольной работе (МП)","611","07","03","0230142310",611,2141.54162,763.90000000000009,0,763.90000000000009,null,763.90000000000009,"61107030230142310Субсидии бюджетным учреждениям на финансовое обеспечение государственного (муниципального) задания на оказание государственных (муниципальных) услуг (выполнение работ)","Учреждения по внешкольной работе (МП)","бу","851","Субсидии бюджетным учреждениям на финансовое обеспечение государственного (муниципального) задания на оказание государственных (муниципальных) услуг (выполнение работ)",null,null,null,null,0]
[31,"Учреждения по внешкольной работе (МП)","611","07","03","0230142310",611,0,2.5,0,2.5,null,2.5,"61107030230142310Субсидии бюджетным учреждениям на финансовое обеспечение государственного (муниципального) задания на оказание государственных (муниципальных) услуг (выполнение работ)","Учреждения по внешкольной работе (МП)","бу","852","Субсидии бюджетным учреждениям на финансовое обеспечение государственного (муниципального) задания на оказание государственных (муниципальных) услуг (выполнение работ)",null,null,null,null,0]
[32,"Учреждения по внешкольной работе (ХЭН)","613","07","03","0230142320",611,0,14112.165359999999,0,14112.165359999999,null,14112.165359999999,"61307030230142320Субсидии бюджетным учреждениям на финансовое обеспечение государственного (муниципального) задания на оказание государственных (муниципальных) услуг (выполнение работ)","Учреждения по внешкольной работе (ХЭН)","бу","111","Субсидии бюджетным учреждениям на финансовое обеспечение государственного (муниципального) задания на оказание государственных (муниципальных) услуг (выполнение работ)",null,null,null,null,0]
[32,"Учреждения по внешкольной работе (ХЭН)","613","07","03","0230142320",611,0,4261.8739400000004,0,4261.8739400000004,null,4261.8739400000004,"61307030230142320Субсидии бюджетным учреждениям на финансовое обеспечение государственного (муниципального) задания на оказание государственных (муниципальных) услуг (выполнение работ)","Учреждения по внешкольной работе (ХЭН)","бу","119","Субсидии бюджетным учреждениям на финансовое обеспечение государственного (муниципального) задания на оказание государственных (муниципальных) услуг (выполнение работ)",null,null,null,null,0]
[32,"Учреждения по внешкольной работе (ХЭН)","613","07","03","0230142320",611,14112.165359999999,0,0,0,null,0,"61307030230142320Субсидии бюджетным учреждениям на финансовое обеспечение государственного (муниципального) задания на оказание государственных (муниципальных) услуг (выполнение работ)","Учреждения по внешкольной работе (ХЭН)","бу","112","Субсидии бюджетным учреждениям на финансовое обеспечение государственного (муниципального) задания на оказание государственных (муниципальных) услуг (выполнение работ)",null,null,null,null,0]
[32,"Учреждения по внешкольной работе (ХЭН)","613","07","03","0230142320",611,4261.8739400000004,339.48766000000023,0,339.48766000000023,null,339.48766000000023,"61307030230142320Субсидии бюджетным учреждениям на финансовое обеспечение государственного (муниципального) задания на оказание государственных (муниципальных) услуг (выполнение работ)","Учреждения по внешкольной работе (ХЭН)","бу","244","Субсидии бюджетным учреждениям на финансовое обеспечение государственного (муниципального) задания на оказание государственных (муниципальных) услуг (выполнение работ)",null,null,null,null,0]
[32,"Учреждения по внешкольной работе (ХЭН)","613","07","03","0230142320",611,0,0,0,0,null,0,"61307030230142320Субсидии бюджетным учреждениям на финансовое обеспечение государственного (муниципального) задания на оказание государственных (муниципальных) услуг (выполнение работ)","Учреждения по внешкольной работе (ХЭН)","бу","412","Субсидии бюджетным учреждениям на финансовое обеспечение государственного (муниципального) задания на оказание государственных (муниципальных) услуг (выполнение работ)",null,null,null,null,0]
[32,"Учреждения по внешкольной работе (ХЭН)","613","07","03","0230142320",611,339.48766000000023,0,0,0,null,0,"61307030230142320Субсидии бюджетным учреждениям на финансовое обеспечение государственного (муниципального) задания на оказание государственных (муниципальных) услуг (выполнение работ)","Учреждения по внешкольной работе (ХЭН)","бу","851","Субсидии бюджетным учреждениям на финансовое обеспечение государственного (муниципального) задания на оказание государственных (муниципальных) услуг (выполнение работ)",null,null,null,null,0]
[32,"Учреждения по внешкольной работе (ХЭН)","613","07","03","0230142320",611,0,0,0,0,null,0,"61307030230142320Субсидии бюджетным учреждениям на финансовое обеспечение государственного (муниципального) задания на оказание государственных (муниципальных) услуг (выполнение работ)","Учреждения по внешкольной работе (ХЭН)","бу","852","Субсидии бюджетным учреждениям на финансовое обеспечение государственного (муниципального) задания на оказание государственных (муниципальных) услуг (выполнение работ)",null,null,null,null,0]
[33,"Учреждения по внешкольной работе (ДЮСШ)","612","07","03","0230142330",611,4531.1639399999995,22877.010119999999,0,22877.010119999999,null,22877.010119999999,"61207030230142330Субсидии бюджетным учреждениям на финансовое обеспечение государственного (муниципального) задания на оказание государственных (муниципальных) услуг (выполнение работ)","Учреждения по внешкольной работе (ДЮСШ)","бу","111","Субсидии бюджетным учреждениям на финансовое обеспечение государственного (муниципального) задания на оказание государственных (муниципальных) услуг (выполнение работ)",null,null,null,null,0]
[33,"Учреждения по внешкольной работе (ДЮСШ)","612","07","03","0230142330",611,82.286999999999992,6908.8570600000003,0,6908.8570600000003,null,6908.8570600000003,"61207030230142330Субсидии бюджетным учреждениям на финансовое обеспечение государственного (муниципального) задания на оказание государственных (муниципальных) услуг (выполнение работ)","Учреждения по внешкольной работе (ДЮСШ)","бу","119","Субсидии бюджетным учреждениям на финансовое обеспечение государственного (муниципального) задания на оказание государственных (муниципальных) услуг (выполнение работ)",null,null,null,null,0]
[33,"Учреждения по внешкольной работе (ДЮСШ)","612","07","03","0230142330",611,22877.010119999999,0,0,0,null,0,"61207030230142330Субсидии бюджетным учреждениям на финансовое обеспечение государственного (муниципального) задания на оказание государственных (муниципальных) услуг (выполнение работ)","Учреждения по внешкольной работе (ДЮСШ)","бу","112","Субсидии бюджетным учреждениям на финансовое обеспечение государственного (муниципального) задания на оказание государственных (муниципальных) услуг (выполнение работ)",null,null,null,null,0]
[33,"Учреждения по внешкольной работе (ДЮСШ)","612","07","03","0230142330",611,6908.8570600000003,13720.472749999988,0,13720.472749999988,null,13720.472749999988,"61207030230142330Субсидии бюджетным учреждениям на финансовое обеспечение государственного (муниципального) задания на оказание государственных (муниципальных) услуг (выполнение работ)","Учреждения по внешкольной работе (ДЮСШ)","бу","244","Субсидии бюджетным учреждениям на финансовое обеспечение государственного (муниципального) задания на оказание государственных (муниципальных) услуг (выполнение работ)",null,null,null,null,0]
[33,"Учреждения по внешкольной работе (ДЮСШ)","612","07","03","0230142330",611,0,0,0,0,null,0,"61207030230142330Субсидии бюджетным учреждениям на финансовое обеспечение государственного (муниципального) задания на оказание государственных (муниципальных) услуг (выполнение работ)","Учреждения по внешкольной работе (ДЮСШ)","бу","412","Субсидии бюджетным учреждениям на финансовое обеспечение государственного (муниципального) задания на оказание государственных (муниципальных) услуг (выполнение работ)",null,null,null,null,0]
[33,"Учреждения по внешкольной работе (ДЮСШ)","612","07","03","0230142330",611,13720.472749999988,4531.1639399999995,0,4531.1639399999995,null,4531.1639399999995,"61207030230142330Субсидии бюджетным учреждениям на финансовое обеспечение государственного (муниципального) задания на оказание государственных (муниципальных) услуг (выполнение работ)","Учреждения по внешкольной работе (ДЮСШ)","бу","851","Субсидии бюджетным учреждениям на финансовое обеспечение государственного (муниципального) задания на оказание государственных (муниципальных) услуг (выполнение работ)",null,null,null,null,0]
[33,"Учреждения по внешкольной работе (ДЮСШ)","612","07","03","0230142330",611,0,82.286999999999992,0,82.286999999999992,null,82.286999999999992,"61207030230142330Субсидии бюджетным учреждениям на финансовое обеспечение государственного (муниципального) задания на оказание государственных (муниципальных) услуг (выполнение работ)","Учреждения по внешкольной работе (ДЮСШ)","бу","852","Субсидии бюджетным учреждениям на финансовое обеспечение государственного (муниципального) задания на оказание государственных (муниципальных) услуг (выполнение работ)",null,null,null,null,0]
[34,"Субвенции на обеспечение прав на получение общедоступного и бесплатного дошкольного образования в муниципальных ДОУ","611","07","01","0210125370",611,0,63224,0,63224,null,63224,"61107010210125370Субсидии бюджетным учреждениям на финансовое обеспечение государственного (муниципального) задания на оказание государственных (муниципальных) услуг (выполнение работ)","Субвенции на обеспечение прав на получение общедоступного и бесплатного дошкольного образования в муниципальных ДОУ","бу","111","Субсидии бюджетным учреждениям на финансовое обеспечение государственного (муниципального) задания на оказание государственных (муниципальных) услуг (выполнение работ)",null,null,null,null,0]
[34,"Субвенции на обеспечение прав на получение общедоступного и бесплатного дошкольного образования в муниципальных ДОУ","611","07","01","0210125370",611,0,19095.208000000013,0,19095.208000000013,null,19095.208000000013,"61107010210125370Субсидии бюджетным учреждениям на финансовое обеспечение государственного (муниципального) задания на оказание государственных (муниципальных) услуг (выполнение работ)","Субвенции на обеспечение прав на получение общедоступного и бесплатного дошкольного образования в муниципальных ДОУ","бу","119","Субсидии бюджетным учреждениям на финансовое обеспечение государственного (муниципального) задания на оказание государственных (муниципальных) услуг (выполнение работ)",null,null,null,null,0]
[34,"Субвенции на обеспечение прав на получение общедоступного и бесплатного дошкольного образования в муниципальных ДОУ","611","07","01","0210125370",611,63224,4.5474735088646412E-13,0,4.5474735088646412E-13,null,4.5474735088646412E-13,"61107010210125370Субсидии бюджетным учреждениям на финансовое обеспечение государственного (муниципального) задания на оказание государственных (муниципальных) услуг (выполнение работ)","Субвенции на обеспечение прав на получение общедоступного и бесплатного дошкольного образования в муниципальных ДОУ","бу","244","Субсидии бюджетным учреждениям на финансовое обеспечение государственного (муниципального) задания на оказание государственных (муниципальных) услуг (выполнение работ)",null,null,null,null,0]
[34,"Субвенции на обеспечение прав на получение общедоступного и бесплатного дошкольного образования в муниципальных ДОУ","611","07","01","0210125370",611,19095.208000000013,0,0,0,null,0,"61107010210125370Субсидии бюджетным учреждениям на финансовое обеспечение государственного (муниципального) задания на оказание государственных (муниципальных) услуг (выполнение работ)","Субвенции на обеспечение прав на получение общедоступного и бесплатного дошкольного образования в муниципальных ДОУ","бу","412","Субсидии бюджетным учреждениям на финансовое обеспечение государственного (муниципального) задания на оказание государственных (муниципальных) услуг (выполнение работ)",null,null,null,null,0]
[35,"Субвенции на обеспечение госгарантий прав граждан на получение общего образования, а также доп.образования в общеобраз.учреждениях ","611","07","02","0220825280",611,0,217006,0,217006,null,217006,"61107020220825280Субсидии бюджетным учреждениям на финансовое обеспечение государственного (муниципального) задания на оказание государственных (муниципальных) услуг (выполнение работ)","Субвенции на обеспечение госгарантий прав граждан на получение общего образования, а также доп.образования в общеобраз.учреждениях ","бу","111","Субсидии бюджетным учреждениям на финансовое обеспечение государственного (муниципального) задания на оказание государственных (муниципальных) услуг (выполнение работ)",null,null,null,null,0]
[35,"Субвенции на обеспечение госгарантий прав граждан на получение общего образования, а также доп.образования в общеобраз.учреждениях ","611","07","02","0220825280",611,-3.751665644813329E-12,65537.000000000015,0,65537.000000000015,null,65537.000000000015,"61107020220825280Субсидии бюджетным учреждениям на финансовое обеспечение государственного (муниципального) задания на оказание государственных (муниципальных) услуг (выполнение работ)","Субвенции на обеспечение госгарантий прав граждан на получение общего образования, а также доп.образования в общеобраз.учреждениях ","бу","119","Субсидии бюджетным учреждениям на финансовое обеспечение государственного (муниципального) задания на оказание государственных (муниципальных) услуг (выполнение работ)",null,null,null,null,0]
[35,"Субвенции на обеспечение госгарантий прав граждан на получение общего образования, а также доп.образования в общеобраз.учреждениях ","611","07","02","0220825280",611,0,-3.751665644813329E-12,0,-3.751665644813329E-12,null,-3.751665644813329E-12,"61107020220825280Субсидии бюджетным учреждениям на финансовое обеспечение государственного (муниципального) задания на оказание государственных (муниципальных) услуг (выполнение работ)","Субвенции на обеспечение госгарантий прав граждан на получение общего образования, а также доп.образования в общеобраз.учреждениях ","бу","244","Субсидии бюджетным учреждениям на финансовое обеспечение государственного (муниципального) задания на оказание государственных (муниципальных) услуг (выполнение работ)",null,null,null,null,0]
[35,"Субвенции на обеспечение госгарантий прав граждан на получение общего образования, а также доп.образования в общеобраз.учреждениях ","611","07","02","0220825280",611,0,0,0,0,null,0,"61107020220825280Субсидии бюджетным учреждениям на финансовое обеспечение государственного (муниципального) задания на оказание государственных (муниципальных) услуг (выполнение работ)","Субвенции на обеспечение госгарантий прав граждан на получение общего образования, а также доп.образования в общеобраз.учреждениях ","бу","412","Субсидии бюджетным учреждениям на финансовое обеспечение государственного (муниципального) задания на оказание государственных (муниципальных) услуг (выполнение работ)",null,null,null,null,0]
[36,"Программа государственной национальной политики, профилактики экстремизма и укрепления межнациональных и межконфессиональных отношений в Кукморском  муниципальном районе  на 2015-2020годы (УДМС)","612","07","07","2000110990","112",0,20,0,20,null,20,"61207072000110990Иные выплаты персоналу казенных учреждений, за исключением фонда оплаты труда","Программа государственной национальной политики, профилактики экстремизма и укрепления межнациональных и межконфессиональных отношений в Кукморском  муниципальном районе  на 2015-2020годы (УДМС)","ку","112","Иные выплаты персоналу казенных учреждений, за исключением фонда оплаты труда",null,null,null,null,0]
[36,"Программа государственной национальной политики, профилактики экстремизма и укрепления межнациональных и межконфессиональных отношений в Кукморском  муниципальном районе  на 2015-2020годы (УДМС)","612","07","07","2000110990","244",0,178,0,178,null,178,"61207072000110990Прочая закупка товаров, работ и услуг для обеспечения государственных (муниципальных) нужд","Программа государственной национальной политики, профилактики экстремизма и укрепления межнациональных и межконфессиональных отношений в Кукморском  муниципальном районе  на 2015-2020годы (УДМС)","ку","244","Прочая закупка товаров, работ и услуг для обеспечения государственных (муниципальных) нужд",null,null,null,null,0]
[36,"Программа государственной национальной политики, профилактики экстремизма и укрепления межнациональных и межконфессиональных отношений в Кукморском  муниципальном районе  на 2015-2020годы (УДМС)","612","07","07","2000110990","412",0,0,0,0,null,0,"61207072000110990Бюджетные инвестиции на приобретение объектов недвижимого имущества в государственную (муниципальную) собственность","Программа государственной национальной политики, профилактики экстремизма и укрепления межнациональных и межконфессиональных отношений в Кукморском  муниципальном районе  на 2015-2020годы (УДМС)","ку","412","Бюджетные инвестиции на приобретение объектов недвижимого имущества в государственную (муниципальную) собственность",null,null,null,null,0]
[37,"Муниципальная программа \"Развитие физической культуры, спорта в Кукморском муниципальном районе на 2009-2013 годы\"","612","07","07","1040143190",611,87.41,8550.6068400000004,0,7473.6068400000004,1077,8550.6068400000004,"61207071040143190Субсидии бюджетным учреждениям на финансовое обеспечение государственного (муниципального) задания на оказание государственных (муниципальных) услуг (выполнение работ)","Муниципальная программа \"Развитие физической культуры, спорта в Кукморском муниципальном районе на 2009-2013 годы\"","бу","111","Субсидии бюджетным учреждениям на финансовое обеспечение государственного (муниципального) задания на оказание государственных (муниципальных) услуг (выполнение работ)",null,null,null,null,-1077]
[37,"Муниципальная программа \"Развитие физической культуры, спорта в Кукморском муниципальном районе на 2009-2013 годы\"","612","07","07","1040143190",611,3384.3538900000012,2257.02927,0,2257.02927,null,2257.02927,{"$f":"C144&D144&E144&F144&R144","v":"61207071040143190Субсидии бюджетным учреждениям на финансовое обеспечение государственного (муниципального) задания на оказание государственных (муниципальных) услуг (выполнение работ)"},"Муниципальная программа \"Развитие физической культуры, спорта в Кукморском муниципальном районе на 2009-2013 годы\"","бу","119","Субсидии бюджетным учреждениям на финансовое обеспечение государственного (муниципального) задания на оказание государственных (муниципальных) услуг (выполнение работ)",null,null,null,null,0]
[37,"Муниципальная программа \"Развитие физической культуры, спорта в Кукморском муниципальном районе на 2009-2013 годы\"","612","07","07","1040143190",{"$f":"IF(P145=\"бу\",611,Q145)","v":611},374.6,{"$f":"M145","v":87.41},0,87.41,null,{"$f":"SUM(K145:L145)","v":87.41},"61207071040143190Субсидии бюджетным учреждениям на финансовое обеспечение государственного (муниципального) задания на оказание государственных (муниципальных) услуг (выполнение работ)","Муниципальная программа \"Развитие физической культуры, спорта в Кукморском муниципальном районе на 2009-2013 годы\"","бу","112","Субсидии бюджетным учреждениям на финансовое обеспечение государственного (муниципального) задания на оказание государственных (муниципальных) услуг (выполнение работ)",null,null,null,null,{"$f":"K145-I145","v":0}]
[37,"Муниципальная программа \"Развитие физической культуры, спорта в Кукморском муниципальном районе на 2009-2013 годы\"","612","07","07","1040143190",611,279.60000000000002,3384.3538900000012,0,3384.3538900000012,null,3384.3538900000012,"61207071040143190Субсидии бюджетным учреждениям на финансовое обеспечение государственного (муниципального) задания на оказание государственных (муниципальных) услуг (выполнение работ)","Муниципальная программа \"Развитие физической культуры, спорта в Кукморском муниципальном районе на 2009-2013 годы\"","бу","244","Субсидии бюджетным учреждениям на финансовое обеспечение государственного (муниципального) задания на оказание государственных (муниципальных) услуг (выполнение работ)",null,null,null,null,0]
[37,"Муниципальная программа \"Развитие физической культуры, спорта в Кукморском муниципальном районе на 2009-2013 годы\"","612","07","07","1040143190",611,12.5,374.6,0,374.6,null,374.6,"61207071040143190Субсидии бюджетным учреждениям на финансовое обеспечение государственного (муниципального) задания на оказание государственных (муниципальных) услуг (выполнение работ)","Муниципальная программа \"Развитие физической культуры, спорта в Кукморском муниципальном районе на 2009-2013 годы\"","бу","412","Субсидии бюджетным учреждениям на финансовое обеспечение государственного (муниципального) задания на оказание государственных (муниципальных) услуг (выполнение работ)",null,null,null,null,0]
[37,"Муниципальная программа \"Развитие физической культуры, спорта в Кукморском муниципальном районе на 2009-2013 годы\"","612","07","07","1040143190",611,7473.6068400000004,279.60000000000002,0,279.60000000000002,null,279.60000000000002,"61207071040143190Субсидии бюджетным учреждениям на финансовое обеспечение государственного (муниципального) задания на оказание государственных (муниципальных) услуг (выполнение работ)","Муниципальная программа \"Развитие физической культуры, спорта в Кукморском муниципальном районе на 2009-2013 годы\"","бу","851","Субсидии бюджетным учреждениям на финансовое обеспечение государственного (муниципального) задания на оказание государственных (муниципальных) услуг (выполнение работ)",null,null,null,null,0]
[37,"Муниципальная программа \"Развитие физической культуры, спорта в Кукморском муниципальном районе на 2009-2013 годы\"","612","07","07","1040143190",611,2257.02927,12.5,0,12.5,null,12.5,"61207071040143190Субсидии бюджетным учреждениям на финансовое обеспечение государственного (муниципального) задания на оказание государственных (муниципальных) услуг (выполнение работ)","Муниципальная программа \"Развитие физической культуры, спорта в Кукморском муниципальном районе на 2009-2013 годы\"","бу","852","Субсидии бюджетным учреждениям на финансовое обеспечение государственного (муниципального) задания на оказание государственных (муниципальных) услуг (выполнение работ)",null,null,null,null,0]
[38,"Программа государственной национальной политики, профилактики экстремизма и укрепления межнациональных и межконфессиональных отношений в Кукморском  муниципальном районе  на 2015-2020годы (Форпост)","612","07","07","1040143190","112",0,0,0,0,null,0,"61207071040143190Иные выплаты персоналу казенных учреждений, за исключением фонда оплаты труда","Программа государственной национальной политики, профилактики экстремизма и укрепления межнациональных и межконфессиональных отношений в Кукморском  муниципальном районе  на 2015-2020годы (Форпост)","ку","112","Иные выплаты персоналу казенных учреждений, за исключением фонда оплаты труда",null,null,null,null,0]
[38,"Программа государственной национальной политики, профилактики экстремизма и укрепления межнациональных и межконфессиональных отношений в Кукморском  муниципальном районе  на 2015-2020годы (Форпост)","612","07","07","1040143190","244",0,0,0,0,null,0,"61207071040143190Прочая закупка товаров, работ и услуг для обеспечения государственных (муниципальных) нужд","Программа государственной национальной политики, профилактики экстремизма и укрепления межнациональных и межконфессиональных отношений в Кукморском  муниципальном районе  на 2015-2020годы (Форпост)","ку","244","Прочая закупка товаров, работ и услуг для обеспечения государственных (муниципальных) нужд",null,null,null,null,0]
[38,"Программа государственной национальной политики, профилактики экстремизма и укрепления межнациональных и межконфессиональных отношений в Кукморском  муниципальном районе  на 2015-2020годы (Форпост)","612","07","07","1040143190","412",0,0,0,0,null,0,"61207071040143190Бюджетные инвестиции на приобретение объектов недвижимого имущества в государственную (муниципальную) собственность","Программа государственной национальной политики, профилактики экстремизма и укрепления межнациональных и межконфессиональных отношений в Кукморском  муниципальном районе  на 2015-2020годы (Форпост)","ку","412","Бюджетные инвестиции на приобретение объектов недвижимого имущества в государственную (муниципальную) собственность",null,null,null,null,0]
[39,"ИКМЦ","611","07","09","0220825301","111",1088,3602.4903599999998,0,3602.4903599999998,null,3602.4903599999998,"61107090220825301Фонд оплаты труда казенных учреждений и взносы по обязательному социальному страхованию","ИКМЦ","ку","111","Фонд оплаты труда казенных учреждений и взносы по обязательному социальному страхованию",null,null,null,null,0]
[39,"ИКМЦ","611","07","09","0220825301","119",370.40963999999985,1088,0,1088,null,1088,"61107090220825301Взносы по обязательному социальному страхованию на выплаты по оплате труда работников и иные выплаты работникам учреждений","ИКМЦ","ку","119","Взносы по обязательному социальному страхованию на выплаты по оплате труда работников и иные выплаты работникам учреждений",null,null,null,null,0]
[39,"ИКМЦ","611","07","09","0220825301","112",0,12,0,12,null,12,"61107090220825301Иные выплаты персоналу казенных учреждений, за исключением фонда оплаты труда","ИКМЦ","ку","112","Иные выплаты персоналу казенных учреждений, за исключением фонда оплаты труда",null,null,null,null,0]
[39,"ИКМЦ","611","07","09","0220825301","244",12,370.40963999999985,0,370.40963999999985,null,370.40963999999985,"61107090220825301Прочая закупка товаров, работ и услуг для обеспечения государственных (муниципальных) нужд","ИКМЦ","ку","244","Прочая закупка товаров, работ и услуг для обеспечения государственных (муниципальных) нужд",null,null,null,null,0]
[39,"ИКМЦ","611","07","09","0220825301","412",370.40963999999985,0,0,0,null,0,"61107090220825301Бюджетные инвестиции на приобретение объектов недвижимого имущества в государственную (муниципальную) собственность","ИКМЦ","ку","412","Бюджетные инвестиции на приобретение объектов недвижимого имущества в государственную (муниципальную) собственность",null,null,null,null,0]
[39,"ИКМЦ","611","07","09","0220825301","851",0,0,0,0,null,0,"61107090220825301Уплата налога на имущество организаций и земельного налога","ИКМЦ","ку","851","Уплата налога на имущество организаций и земельного налога",null,null,null,null,0]
[39,"ИКМЦ","611","07","09","0220825301","852",3602.4903599999998,0,0,0,null,0,"61107090220825301Уплата прочих налогов, сборов и иных платежей","ИКМЦ","ку","852","Уплата прочих налогов, сборов и иных платежей",null,null,null,null,0]
[40,"Услуги в образовании","611","07","09","0250242520","111",675.69195000000002,2181,0,2181,null,2181,"61107090250242520Фонд оплаты труда казенных учреждений и взносы по обязательному социальному страхованию","Услуги в образовании","ку","111","Фонд оплаты труда казенных учреждений и взносы по обязательному социальному страхованию",null,null,null,null,0]
[40,"Услуги в образовании","611","07","09","0250242520","119",40,675.69195000000002,0,675.69195000000002,null,675.69195000000002,"61107090250242520Взносы по обязательному социальному страхованию на выплаты по оплате труда работников и иные выплаты работникам учреждений","Услуги в образовании","ку","119","Взносы по обязательному социальному страхованию на выплаты по оплате труда работников и иные выплаты работникам учреждений",null,null,null,null,0]
[40,"Услуги в образовании","611","07","09","0250242520","112",1085.549,40,0,40,null,40,"61107090250242520Иные выплаты персоналу казенных учреждений, за исключением фонда оплаты труда","Услуги в образовании","ку","112","Иные выплаты персоналу казенных учреждений, за исключением фонда оплаты труда",null,null,null,null,0]
[40,"Услуги в образовании","611","07","09","0250242520","244",0,1085.549,0,1085.549,null,1085.549,"61107090250242520Прочая закупка товаров, работ и услуг для обеспечения государственных (муниципальных) нужд","Услуги в образовании","ку","244","Прочая закупка товаров, работ и услуг для обеспечения государственных (муниципальных) нужд",null,null,null,null,0]
[40,"Услуги в образовании","611","07","09","0250242520","412",17,0,0,0,null,0,"61107090250242520Бюджетные инвестиции на приобретение объектов недвижимого имущества в государственную (муниципальную) собственность","Услуги в образовании","ку","412","Бюджетные инвестиции на приобретение объектов недвижимого имущества в государственную (муниципальную) собственность",null,null,null,null,0]
[40,"Услуги в образовании","611","07","09","0250242520","851",0,17,0,17,null,17,"61107090250242520Уплата налога на имущество организаций и земельного налога","Услуги в образовании","ку","851","Уплата налога на имущество организаций и земельного налога",null,null,null,null,0]
[40,"Услуги в образовании","611","07","09","0250242520","852",40,0,0,0,null,0,"61107090250242520Уплата прочих налогов, сборов и иных платежей","Услуги в образовании","ку","852","Уплата прочих налогов, сборов и иных платежей",null,null,null,null,0]
[41,"СДК,клубы","613","08","01","0840144091",611,18851.950000000008,55297.639239999997,0,53943.139239999997,1354.5,55297.639239999997,"61308010840144091Субсидии бюджетным учреждениям на финансовое обеспечение государственного (муниципального) задания на оказание государственных (муниципальных) услуг (выполнение работ)","СДК,клубы","бу","111","Субсидии бюджетным учреждениям на финансовое обеспечение государственного (муниципального) задания на оказание государственных (муниципальных) услуг (выполнение работ)",null,null,null,null,-1354.5]
[41,"СДК,клубы","613","08","01","0840144091",611,0,16290.840259999999,0,16290.840259999999,null,16290.840259999999,"61308010840144091Субсидии бюджетным учреждениям на финансовое обеспечение государственного (муниципального) задания на оказание государственных (муниципальных) услуг (выполнение работ)","СДК,клубы","бу","119","Субсидии бюджетным учреждениям на финансовое обеспечение государственного (муниципального) задания на оказание государственных (муниципальных) услуг (выполнение работ)",null,null,null,null,0]
[41,"СДК,клубы","613","08","01","0840144091",611,53943.139239999997,586,0,586,null,586,"61308010840144091Субсидии бюджетным учреждениям на финансовое обеспечение государственного (муниципального) задания на оказание государственных (муниципальных) услуг (выполнение работ)","СДК,клубы","бу","112","Субсидии бюджетным учреждениям на финансовое обеспечение государственного (муниципального) задания на оказание государственных (муниципальных) услуг (выполнение работ)",null,null,null,null,0]
[41,"СДК,клубы","613","08","01","0840144091",611,16290.840259999999,18851.950000000008,0,18851.950000000008,null,18851.950000000008,"61308010840144091Субсидии бюджетным учреждениям на финансовое обеспечение государственного (муниципального) задания на оказание государственных (муниципальных) услуг (выполнение работ)","СДК,клубы","бу","244","Субсидии бюджетным учреждениям на финансовое обеспечение государственного (муниципального) задания на оказание государственных (муниципальных) услуг (выполнение работ)",null,null,null,null,0]
[41,"СДК,клубы","613","08","01","0840144091",611,586,0,0,0,null,0,"61308010840144091Субсидии бюджетным учреждениям на финансовое обеспечение государственного (муниципального) задания на оказание государственных (муниципальных) услуг (выполнение работ)","СДК,клубы","бу","412","Субсидии бюджетным учреждениям на финансовое обеспечение государственного (муниципального) задания на оказание государственных (муниципальных) услуг (выполнение работ)",null,null,null,null,0]
[41,"СДК,клубы","613","08","01","0840144091",611,18851.950000000008,966.3,0,966.3,null,966.3,"61308010840144091Субсидии бюджетным учреждениям на финансовое обеспечение государственного (муниципального) задания на оказание государственных (муниципальных) услуг (выполнение работ)","СДК,клубы","бу","851","Субсидии бюджетным учреждениям на финансовое обеспечение государственного (муниципального) задания на оказание государственных (муниципальных) услуг (выполнение работ)",null,null,null,null,0]
[41,"СДК,клубы","613","08","01","0840144091",611,0,56,0,56,null,56,"61308010840144091Субсидии бюджетным учреждениям на финансовое обеспечение государственного (муниципального) задания на оказание государственных (муниципальных) услуг (выполнение работ)","СДК,клубы","бу","852","Субсидии бюджетным учреждениям на финансовое обеспечение государственного (муниципального) задания на оказание государственных (муниципальных) услуг (выполнение работ)",null,null,null,null,0]
[42,"Музеи","613","08","01","0810144090",611,22.3,2494.1358,0,2494.1358,null,2494.1358,"61308010810144090Субсидии бюджетным учреждениям на финансовое обеспечение государственного (муниципального) задания на оказание государственных (муниципальных) услуг (выполнение работ)","Музеи","бу","111","Субсидии бюджетным учреждениям на финансовое обеспечение государственного (муниципального) задания на оказание государственных (муниципальных) услуг (выполнение работ)",null,null,null,null,0]
[42,"Музеи","613","08","01","0810144090",611,0.4,753.22901000000002,0,753.22901000000002,null,753.22901000000002,"61308010810144090Субсидии бюджетным учреждениям на финансовое обеспечение государственного (муниципального) задания на оказание государственных (муниципальных) услуг (выполнение работ)","Музеи","бу","119","Субсидии бюджетным учреждениям на финансовое обеспечение государственного (муниципального) задания на оказание государственных (муниципальных) услуг (выполнение работ)",null,null,null,null,0]
[42,"Музеи","613","08","01","0810144090",611,2494.1358,0,0,0,null,0,"61308010810144090Субсидии бюджетным учреждениям на финансовое обеспечение государственного (муниципального) задания на оказание государственных (муниципальных) услуг (выполнение работ)","Музеи","бу","112","Субсидии бюджетным учреждениям на финансовое обеспечение государственного (муниципального) задания на оказание государственных (муниципальных) услуг (выполнение работ)",null,null,null,null,0]
[42,"Музеи","613","08","01","0810144090",611,753.22901000000002,312.2641200000001,0,312.2641200000001,null,312.2641200000001,"61308010810144090Субсидии бюджетным учреждениям на финансовое обеспечение государственного (муниципального) задания на оказание государственных (муниципальных) услуг (выполнение работ)","Музеи","бу","244","Субсидии бюджетным учреждениям на финансовое обеспечение государственного (муниципального) задания на оказание государственных (муниципальных) услуг (выполнение работ)",null,null,null,null,0]
[42,"Музеи","613","08","01","0810144090",611,0,0,0,0,null,0,"61308010810144090Субсидии бюджетным учреждениям на финансовое обеспечение государственного (муниципального) задания на оказание государственных (муниципальных) услуг (выполнение работ)","Музеи","бу","412","Субсидии бюджетным учреждениям на финансовое обеспечение государственного (муниципального) задания на оказание государственных (муниципальных) услуг (выполнение работ)",null,null,null,null,0]
[42,"Музеи","613","08","01","0810144090",611,312.2641200000001,22.3,0,22.3,null,22.3,"61308010810144090Субсидии бюджетным учреждениям на финансовое обеспечение государственного (муниципального) задания на оказание государственных (муниципальных) услуг (выполнение работ)","Музеи","бу","851","Субсидии бюджетным учреждениям на финансовое обеспечение государственного (муниципального) задания на оказание государственных (муниципальных) услуг (выполнение работ)",null,null,null,null,0]
[42,"Музеи","613","08","01","0810144090",611,0,0.4,0,0.4,null,0.4,"61308010810144090Субсидии бюджетным учреждениям на финансовое обеспечение государственного (муниципального) задания на оказание государственных (муниципальных) услуг (выполнение работ)","Музеи","бу","852","Субсидии бюджетным учреждениям на финансовое обеспечение государственного (муниципального) задания на оказание государственных (муниципальных) услуг (выполнение работ)",null,null,null,null,0]
[43,"Библиотеки","613","08","01","0830144090",611,48,17387.583600000002,0,17387.583600000002,null,17387.583600000002,"61308010830144090Субсидии бюджетным учреждениям на финансовое обеспечение государственного (муниципального) задания на оказание государственных (муниципальных) услуг (выполнение работ)","Библиотеки","бу","111","Субсидии бюджетным учреждениям на финансовое обеспечение государственного (муниципального) задания на оказание государственных (муниципальных) услуг (выполнение работ)",null,null,null,null,0]
[43,"Библиотеки","613","08","01","0830144090",611,5,5251.0502500000002,0,5251.0502500000002,null,5251.0502500000002,"61308010830144090Субсидии бюджетным учреждениям на финансовое обеспечение государственного (муниципального) задания на оказание государственных (муниципальных) услуг (выполнение работ)","Библиотеки","бу","119","Субсидии бюджетным учреждениям на финансовое обеспечение государственного (муниципального) задания на оказание государственных (муниципальных) услуг (выполнение работ)",null,null,null,null,0]
[43,"Библиотеки","613","08","01","0830144090",611,17387.583600000002,329,0,329,null,329,"61308010830144090Субсидии бюджетным учреждениям на финансовое обеспечение государственного (муниципального) задания на оказание государственных (муниципальных) услуг (выполнение работ)","Библиотеки","бу","112","Субсидии бюджетным учреждениям на финансовое обеспечение государственного (муниципального) задания на оказание государственных (муниципальных) услуг (выполнение работ)",null,null,null,null,0]
[43,"Библиотеки","613","08","01","0830144090",611,5251.0502500000002,2024.3077199999971,0,2024.3077199999971,null,2024.3077199999971,"61308010830144090Субсидии бюджетным учреждениям на финансовое обеспечение государственного (муниципального) задания на оказание государственных (муниципальных) услуг (выполнение работ)","Библиотеки","бу","244","Субсидии бюджетным учреждениям на финансовое обеспечение государственного (муниципального) задания на оказание государственных (муниципальных) услуг (выполнение работ)",null,null,null,null,0]
[43,"Библиотеки","613","08","01","0830144090",611,329,0,0,0,null,0,"61308010830144090Субсидии бюджетным учреждениям на финансовое обеспечение государственного (муниципального) задания на оказание государственных (муниципальных) услуг (выполнение работ)","Библиотеки","бу","412","Субсидии бюджетным учреждениям на финансовое обеспечение государственного (муниципального) задания на оказание государственных (муниципальных) услуг (выполнение работ)",null,null,null,null,0]
[43,"Библиотеки","613","08","01","0830144090",611,2024.3077199999971,48,0,48,null,48,"61308010830144090Субсидии бюджетным учреждениям на финансовое обеспечение государственного (муниципального) задания на оказание государственных (муниципальных) услуг (выполнение работ)","Библиотеки","бу","851","Субсидии бюджетным учреждениям на финансовое обеспечение государственного (муниципального) задания на оказание государственных (муниципальных) услуг (выполнение работ)",null,null,null,null,0]
[43,"Библиотеки","613","08","01","0830144090",611,0,5,0,5,null,5,"61308010830144090Субсидии бюджетным учреждениям на финансовое обеспечение государственного (муниципального) задания на оказание государственных (муниципальных) услуг (выполнение работ)","Библиотеки","бу","852","Субсидии бюджетным учреждениям на финансовое обеспечение государственного (муниципального) задания на оказание государственных (муниципальных) услуг (выполнение работ)",null,null,null,null,0]
[44,"Книжные фонды","613","08","01","0830151440","244",0,0,0,0,null,0,"61308010830151440Прочая закупка товаров, работ и услуг для обеспечения государственных (муниципальных) нужд","Книжные фонды","ку","244","Прочая закупка товаров, работ и услуг для обеспечения государственных (муниципальных) нужд",null,null,null,null,0]
[44,"Книжные фонды","613","08","01","0830151440","412",0,0,0,0,null,0,"61308010830151440Бюджетные инвестиции на приобретение объектов недвижимого имущества в государственную (муниципальную) собственность","Книжные фонды","ку","412","Бюджетные инвестиции на приобретение объектов недвижимого имущества в государственную (муниципальную) собственность",null,null,null,null,0]
[45,"Субвенции на скотомогильники","601","04","05","2800125360","244",0,151.4,0,151.4,null,151.4,"60104052800125360Прочая закупка товаров, работ и услуг для обеспечения государственных (муниципальных) нужд","Субвенции на скотомогильники","ку","244","Прочая закупка товаров, работ и услуг для обеспечения государственных (муниципальных) нужд",null,null,null,null,0]
[45,"Субвенции на скотомогильники","601","04","05","2800125360","412",0,0,0,0,null,0,"60104052800125360Бюджетные инвестиции на приобретение объектов недвижимого имущества в государственную (муниципальную) собственность","Субвенции на скотомогильники","ку","412","Бюджетные инвестиции на приобретение объектов недвижимого имущества в государственную (муниципальную) собственность",null,null,null,null,0]
[46,"ЦГСЭН","601","09","07","0110202110","244",0,808.9,0,749.9,59,808.9,"60109070110202110Прочая закупка товаров, работ и услуг для обеспечения государственных (муниципальных) нужд","ЦГСЭН","ку","244","Прочая закупка товаров, работ и услуг для обеспечения государственных (муниципальных) нужд",null,null,null,null,-59]
[47,"Муниципальная программа \"Развитие физической культуры, спорта в Кукморском муниципальном районе на 2009-2013 годы","612","11","02","1010112870","244",597.70000000000005,597.70000000000005,0,597.70000000000005,null,597.70000000000005,"61211021010112870Прочая закупка товаров, работ и услуг для обеспечения государственных (муниципальных) нужд","Муниципальная программа \"Развитие физической культуры, спорта в Кукморском муниципальном районе на 2009-2013 годы","ку","244","Прочая закупка товаров, работ и услуг для обеспечения государственных (муниципальных) нужд",null,null,null,null,0]
[47,"Муниципальная программа \"Развитие физической культуры, спорта в Кукморском муниципальном районе на 2009-2013 годы","612","11","02","1010112870","412",0,0,0,0,null,0,"61211021010112870Бюджетные инвестиции на приобретение объектов недвижимого имущества в государственную (муниципальную) собственность","Муниципальная программа \"Развитие физической культуры, спорта в Кукморском муниципальном районе на 2009-2013 годы","ку","412","Бюджетные инвестиции на приобретение объектов недвижимого имущества в государственную (муниципальную) собственность",null,null,null,null,0]
[48,"Целевая программа Кукморского муниципального района \n«Доступная среда» на 2011-2015 годы","612","11","02","0360112870","244",0,385.5,0,385.5,null,385.5,"61211020360112870Прочая закупка товаров, работ и услуг для обеспечения государственных (муниципальных) нужд","Целевая программа Кукморского муниципального района \n«Доступная среда» на 2011-2015 годы","ку","244","Прочая закупка товаров, работ и услуг для обеспечения государственных (муниципальных) нужд",null,null,null,null,0]
[48,"Целевая программа Кукморского муниципального района \n«Доступная среда» на 2011-2015 годы","612","11","02","0360112870","412",0,0,0,0,null,0,"61211020360112870Бюджетные инвестиции на приобретение объектов недвижимого имущества в государственную (муниципальную) собственность","Целевая программа Кукморского муниципального района \n«Доступная среда» на 2011-2015 годы","ку","412","Бюджетные инвестиции на приобретение объектов недвижимого имущества в государственную (муниципальную) собственность",null,null,null,null,0]
[49,"Муниципальная программа по формированию здорового образа жизни, снижению потребления алкогольной продукции, пива и табака среди населения Кукморского муниципального района на 2011 - 2015 годы","612","11","02","1070112870","244",0,0,0,0,null,0,"61211021070112870Прочая закупка товаров, работ и услуг для обеспечения государственных (муниципальных) нужд","Муниципальная программа по формированию здорового образа жизни, снижению потребления алкогольной продукции, пива и табака среди населения Кукморского муниципального района на 2011 - 2015 годы","ку","244","Прочая закупка товаров, работ и услуг для обеспечения государственных (муниципальных) нужд",null,null,null,null,0]
[49,"Муниципальная программа по формированию здорового образа жизни, снижению потребления алкогольной продукции, пива и табака среди населения Кукморского муниципального района на 2011 - 2015 годы","612","11","02","1070112870","412",0,0,0,0,null,0,"61211021070112870Бюджетные инвестиции на приобретение объектов недвижимого имущества в государственную (муниципальную) собственность","Муниципальная программа по формированию здорового образа жизни, снижению потребления алкогольной продукции, пива и табака среди населения Кукморского муниципального района на 2011 - 2015 годы","ку","412","Бюджетные инвестиции на приобретение объектов недвижимого имущества в государственную (муниципальную) собственность",null,null,null,null,0]
[50,"Реализация госфункций","611","10","03","0310205510",611,0,8426.2000000000007,0,7742,684.2,8426.2000000000007,"61110030310205510Субсидии бюджетным учреждениям на финансовое обеспечение государственного (муниципального) задания на оказание государственных (муниципальных) услуг (выполнение работ)","Реализация госфункций","бу","244","Субсидии бюджетным учреждениям на финансовое обеспечение государственного (муниципального) задания на оказание государственных (муниципальных) услуг (выполнение работ)",null,null,null,null,-684.20000000000073]
[51,"Мероприятия в соцполитике","601","10","03","0310105410","244",643.4,643.4,0,643.4,null,643.4,"60110030310105410Прочая закупка товаров, работ и услуг для обеспечения государственных (муниципальных) нужд","Мероприятия в соцполитике","ку","244","Прочая закупка товаров, работ и услуг для обеспечения государственных (муниципальных) нужд",null,null,null,null,0]
[52,"Программа отдыха, оздоровления, занятости детей и молодежи Кукморского муниципального района на 2013 год ","612","07","07","1040143190",611,0,0,0,0,null,0,"61207071040143190Субсидии бюджетным учреждениям на финансовое обеспечение государственного (муниципального) задания на оказание государственных (муниципальных) услуг (выполнение работ)","Программа отдыха, оздоровления, занятости детей и молодежи Кукморского муниципального района на 2013 год ","бу","111","Субсидии бюджетным учреждениям на финансовое обеспечение государственного (муниципального) задания на оказание государственных (муниципальных) услуг (выполнение работ)",null,null,null,null,0]
[52,"Программа отдыха, оздоровления, занятости детей и молодежи Кукморского муниципального района на 2013 год ","612","07","07","1040143190",611,0,0,0,0,null,0,"61207071040143190Субсидии бюджетным учреждениям на финансовое обеспечение государственного (муниципального) задания на оказание государственных (муниципальных) услуг (выполнение работ)","Программа отдыха, оздоровления, занятости детей и молодежи Кукморского муниципального района на 2013 год ","бу","119","Субсидии бюджетным учреждениям на финансовое обеспечение государственного (муниципального) задания на оказание государственных (муниципальных) услуг (выполнение работ)",null,null,null,null,0]
[52,"Программа отдыха, оздоровления, занятости детей и молодежи Кукморского муниципального района на 2013 год ","612","07","07","1040143190",611,0,0,0,0,null,0,"61207071040143190Субсидии бюджетным учреждениям на финансовое обеспечение государственного (муниципального) задания на оказание государственных (муниципальных) услуг (выполнение работ)","Программа отдыха, оздоровления, занятости детей и молодежи Кукморского муниципального района на 2013 год ","бу","112","Субсидии бюджетным учреждениям на финансовое обеспечение государственного (муниципального) задания на оказание государственных (муниципальных) услуг (выполнение работ)",null,null,null,null,0]
[52,"Программа отдыха, оздоровления, занятости детей и молодежи Кукморского муниципального района на 2013 год ","612","07","07","1040143190",611,0,0,0,0,null,0,"61207071040143190Субсидии бюджетным учреждениям на финансовое обеспечение государственного (муниципального) задания на оказание государственных (муниципальных) услуг (выполнение работ)","Программа отдыха, оздоровления, занятости детей и молодежи Кукморского муниципального района на 2013 год ","бу","244","Субсидии бюджетным учреждениям на финансовое обеспечение государственного (муниципального) задания на оказание государственных (муниципальных) услуг (выполнение работ)",null,null,null,null,0]
[52,"Программа отдыха, оздоровления, занятости детей и молодежи Кукморского муниципального района на 2013 год ","612","07","07","1040143190",611,0,0,0,0,null,0,"61207071040143190Субсидии бюджетным учреждениям на финансовое обеспечение государственного (муниципального) задания на оказание государственных (муниципальных) услуг (выполнение работ)","Программа отдыха, оздоровления, занятости детей и молодежи Кукморского муниципального района на 2013 год ","бу","412","Субсидии бюджетным учреждениям на финансовое обеспечение государственного (муниципального) задания на оказание государственных (муниципальных) услуг (выполнение работ)",null,null,null,null,0]
[52,"Программа отдыха, оздоровления, занятости детей и молодежи Кукморского муниципального района на 2013 год ","612","07","07","1040143190",611,0,0,0,0,null,0,"61207071040143190Субсидии бюджетным учреждениям на финансовое обеспечение государственного (муниципального) задания на оказание государственных (муниципальных) услуг (выполнение работ)","Программа отдыха, оздоровления, занятости детей и молодежи Кукморского муниципального района на 2013 год ","бу","851","Субсидии бюджетным учреждениям на финансовое обеспечение государственного (муниципального) задания на оказание государственных (муниципальных) услуг (выполнение работ)",null,null,null,null,0]
[52,"Программа отдыха, оздоровления, занятости детей и молодежи Кукморского муниципального района на 2013 год ","612","07","07","1040143190",611,0,0,0,0,null,0,"61207071040143190Субсидии бюджетным учреждениям на финансовое обеспечение государственного (муниципального) задания на оказание государственных (муниципальных) услуг (выполнение работ)","Программа отдыха, оздоровления, занятости детей и молодежи Кукморского муниципального района на 2013 год ","бу","852","Субсидии бюджетным учреждениям на финансовое обеспечение государственного (муниципального) задания на оказание государственных (муниципальных) услуг (выполнение работ)",null,null,null,null,0]
[53,"Дотации на выполнение полномочий","605","14","01","1800380060","511",0,1203.3000000000002,0,1219.2000000000003,-15.9,1203.3000000000002,{"$f":"C208&D208&E208&F208&R208","v":"60514011800380060Дотации на выравнивание бюджетной обеспеченности"},"Дотации на выполнение полномочий","ку","511","Дотации на выравнивание бюджетной обеспеченности",null,null,null,null,15.900000000000091]
[54,"Дотации на выравнивание уровня бюджетной обеспеченности","605","14","01","1800380040",{"$f":"IF(P209=\"бу\",611,Q209)","v":"511"},0,{"$f":"M209","v":31926.800000000003},0,26171.7,5755.1000000000022,{"$f":"SUM(K209:L209)","v":31926.800000000003},"60514011800380040Дотации на выравнивание бюджетной обеспеченности","Дотации на выравнивание уровня бюджетной обеспеченности","ку","511","Дотации на выравнивание бюджетной обеспеченности",null,null,null,null,{"$f":"K209-I209","v":-5755.1000000000022}]
[55,"Дотации по обсеспечению сбалансированности бюджетов","605","14","02","1800380040","512",0,797.59999999999991,0,1007.1000000000001,-209.50000000000023,797.59999999999991,"60514021800380040Иные дотации","Дотации по обсеспечению сбалансированности бюджетов","ку","512","Иные дотации",null,null,null,null,209.50000000000023]
[56,"Субвенция на выполнение федеральных  полномочий по государственной регистрации актов гражданского состояния","605","01","13","9900059300","530",0,0,0,0,null,0,"60501139900059300Субвенции","Субвенция на выполнение федеральных  полномочий по государственной регистрации актов гражданского состояния","ку","530","Субвенции",null,null,null,null,0]
[57,"Субвенция на первичный воинский учет","605","02","03","9900051180","530",0,2780.7999999999993,0,2652.7999999999993,128,2780.7999999999993,"60502039900051180Субвенции","Субвенция на первичный воинский учет","ку","530","Субвенции",null,null,null,null,-128]
[58,"Субвенция протоколы об адмнарушениях","601","01","13","9900025350","244",0.38,0.42,0,0.38,0.04,0.42,"60101139900025350Прочая закупка товаров, работ и услуг для обеспечения государственных (муниципальных) нужд","Субвенция протоколы об адмнарушениях","ку","244","Прочая закупка товаров, работ и услуг для обеспечения государственных (муниципальных) нужд",null,null,null,null,-3.999999999999998E-2]
[59,"Субвенции бюд.муниципальным районам и городских округов по реализации полномочий в области молодежной политики (управление)     ","612","01","04","9900025240","121",0,220.1,0,204.2,15.9,220.1,"61201049900025240Фонд оплаты труда государственных (муниципальных) органов и взносы по обязательному социальному страхованию","Субвенции бюд.муниципальным районам и городских округов по реализации полномочий в области молодежной политики (управление)     ","ку","121","Фонд оплаты труда государственных (муниципальных) органов и взносы по обязательному социальному страхованию",null,null,null,null,-15.900000000000006]
[59,"Субвенции бюд.муниципальным районам и городских округов по реализации полномочий в области молодежной политики (управление)     ","612","01","04","9900025240","129",-1.4210854715202004E-14,66.5,0,61.7,4.8,66.5,"61201049900025240Взносы по обязательному социальному страхованию на выплату денежного содержания и иные выплаты работникам государственных (муниципальных) органов","Субвенции бюд.муниципальным районам и городских округов по реализации полномочий в области молодежной политики (управление)     ","ку","129","Взносы по обязательному социальному страхованию на выплату денежного содержания и иные выплаты работникам государственных (муниципальных) органов",null,null,null,null,-4.7999999999999972]
[59,"Субвенции бюд.муниципальным районам и городских округов по реализации полномочий в области молодежной политики (управление)     ","612","01","04","9900025240","244",-1.4210854715202004E-14,-1.4210854715202004E-14,0,-1.4210854715202004E-14,null,-1.4210854715202004E-14,"61201049900025240Прочая закупка товаров, работ и услуг для обеспечения государственных (муниципальных) нужд","Субвенции бюд.муниципальным районам и городских округов по реализации полномочий в области молодежной политики (управление)     ","ку","244","Прочая закупка товаров, работ и услуг для обеспечения государственных (муниципальных) нужд",null,null,null,null,0]
[60,"Субвенции бюд.муниципальным районам и городских округов по реализации полномочий в области образования (управление)","611","01","04","0220825302","121",204.2,220.1,0,204.2,15.9,220.1,"61101040220825302Фонд оплаты труда государственных (муниципальных) органов и взносы по обязательному социальному страхованию","Субвенции бюд.муниципальным районам и городских округов по реализации полномочий в области образования (управление)","ку","121","Фонд оплаты труда государственных (муниципальных) органов и взносы по обязательному социальному страхованию",null,null,null,null,-15.900000000000006]
[60,"Субвенции бюд.муниципальным районам и городских округов по реализации полномочий в области образования (управление)","611","01","04","0220825302","129",61.7,66.5,0,61.7,4.8,66.5,"61101040220825302Взносы по обязательному социальному страхованию на выплату денежного содержания и иные выплаты работникам государственных (муниципальных) органов","Субвенции бюд.муниципальным районам и городских округов по реализации полномочий в области образования (управление)","ку","129","Взносы по обязательному социальному страхованию на выплату денежного содержания и иные выплаты работникам государственных (муниципальных) органов",null,null,null,null,-4.7999999999999972]
[60,"Субвенции бюд.муниципальным районам и городских округов по реализации полномочий в области образования (управление)","611","01","04","0220825302","244",0,-1.4210854715202004E-14,0,-1.4210854715202004E-14,null,-1.4210854715202004E-14,"61101040220825302Прочая закупка товаров, работ и услуг для обеспечения государственных (муниципальных) нужд","Субвенции бюд.муниципальным районам и городских округов по реализации полномочий в области образования (управление)","ку","244","Прочая закупка товаров, работ и услуг для обеспечения государственных (муниципальных) нужд",null,null,null,null,0]
[61,"Субвенции бюд. муниципальным районам и городских округов по реализации полномочий по образованию и организации деятельности комиссии по делам несовершеннолетних ","601","01","13","9900025260","111",40.700000000000045,404.9,0,374,30.9,404.9,"60101139900025260Фонд оплаты труда казенных учреждений и взносы по обязательному социальному страхованию","Субвенции бюд. муниципальным районам и городских округов по реализации полномочий по образованию и организации деятельности комиссии по делам несовершеннолетних ","ку","111","Фонд оплаты труда казенных учреждений и взносы по обязательному социальному страхованию",null,null,null,null,-30.899999999999977]
[61,"Субвенции бюд. муниципальным районам и городских округов по реализации полномочий по образованию и организации деятельности комиссии по делам несовершеннолетних ","601","01","13","9900025260","119",0,122,0,113,9,122,"60101139900025260Взносы по обязательному социальному страхованию на выплаты по оплате труда работников и иные выплаты работникам учреждений","Субвенции бюд. муниципальным районам и городских округов по реализации полномочий по образованию и организации деятельности комиссии по делам несовершеннолетних ","ку","119","Взносы по обязательному социальному страхованию на выплаты по оплате труда работников и иные выплаты работникам учреждений",null,null,null,null,-9]
[61,"Субвенции бюд. муниципальным районам и городских округов по реализации полномочий по образованию и организации деятельности комиссии по делам несовершеннолетних ","601","01","13","9900025260","112",0,0,0,0,null,0,"60101139900025260Иные выплаты персоналу казенных учреждений, за исключением фонда оплаты труда","Субвенции бюд. муниципальным районам и городских округов по реализации полномочий по образованию и организации деятельности комиссии по делам несовершеннолетних ","ку","112","Иные выплаты персоналу казенных учреждений, за исключением фонда оплаты труда",null,null,null,null,0]
[61,"Субвенции бюд. муниципальным районам и городских округов по реализации полномочий по образованию и организации деятельности комиссии по делам несовершеннолетних ","601","01","13","9900025260","244",0,40.700000000000045,0,40.700000000000045,null,40.700000000000045,"60101139900025260Прочая закупка товаров, работ и услуг для обеспечения государственных (муниципальных) нужд","Субвенции бюд. муниципальным районам и городских округов по реализации полномочий по образованию и организации деятельности комиссии по делам несовершеннолетних ","ку","244","Прочая закупка товаров, работ и услуг для обеспечения государственных (муниципальных) нужд",null,null,null,null,0]
[62,"Субвенции бюд. муниципальным районам и городских округов по реализации полномочий по образованию и организации деятельности административных комиссий","601","01","13","9900025270","111",0,213.6,0,195.1,18.5,213.6,"60101139900025270Фонд оплаты труда казенных учреждений и взносы по обязательному социальному страхованию","Субвенции бюд. муниципальным районам и городских округов по реализации полномочий по образованию и организации деятельности административных комиссий","ку","111","Фонд оплаты труда казенных учреждений и взносы по обязательному социальному страхованию",null,null,null,null,-18.5]
[62,"Субвенции бюд. муниципальным районам и городских округов по реализации полномочий по образованию и организации деятельности административных комиссий","601","01","13","9900025270","119",0,58.9,0,58.9,null,58.9,"60101139900025270Взносы по обязательному социальному страхованию на выплаты по оплате труда работников и иные выплаты работникам учреждений","Субвенции бюд. муниципальным районам и городских округов по реализации полномочий по образованию и организации деятельности административных комиссий","ку","119","Взносы по обязательному социальному страхованию на выплаты по оплате труда работников и иные выплаты работникам учреждений",null,null,null,null,0]
[62,"Субвенции бюд. муниципальным районам и городских округов по реализации полномочий по образованию и организации деятельности административных комиссий","601","01","13","9900025270","112",0,0,0,0,null,0,"60101139900025270Иные выплаты персоналу казенных учреждений, за исключением фонда оплаты труда","Субвенции бюд. муниципальным районам и городских округов по реализации полномочий по образованию и организации деятельности административных комиссий","ку","112","Иные выплаты персоналу казенных учреждений, за исключением фонда оплаты труда",null,null,null,null,0]
[62,"Субвенции бюд. муниципальным районам и городских округов по реализации полномочий по образованию и организации деятельности административных комиссий","601","01","13","9900025270","244",0,7.1054273576010019E-15,0,7.1054273576010019E-15,null,7.1054273576010019E-15,"60101139900025270Прочая закупка товаров, работ и услуг для обеспечения государственных (муниципальных) нужд","Субвенции бюд. муниципальным районам и городских округов по реализации полномочий по образованию и организации деятельности административных комиссий","ку","244","Прочая закупка товаров, работ и услуг для обеспечения государственных (муниципальных) нужд",null,null,null,null,0]
[63,"Субвенции на опеку и попечительство","601","01","13","0350325330","111",0,594.6,0,551.5,43.1,594.6,"60101130350325330Фонд оплаты труда казенных учреждений и взносы по обязательному социальному страхованию","Субвенции на опеку и попечительство","ку","111","Фонд оплаты труда казенных учреждений и взносы по обязательному социальному страхованию",null,null,null,null,-43.100000000000023]
[63,"Субвенции на опеку и попечительство","601","01","13","0350325330","119",25.000000000000028,179.6,0,166.6,13,179.6,"60101130350325330Взносы по обязательному социальному страхованию на выплаты по оплате труда работников и иные выплаты работникам учреждений","Субвенции на опеку и попечительство","ку","119","Взносы по обязательному социальному страхованию на выплаты по оплате труда работников и иные выплаты работникам учреждений",null,null,null,null,-13]
[63,"Субвенции на опеку и попечительство","601","01","13","0350325330","112",551.5,0,0,0,null,0,"60101130350325330Иные выплаты персоналу казенных учреждений, за исключением фонда оплаты труда","Субвенции на опеку и попечительство","ку","112","Иные выплаты персоналу казенных учреждений, за исключением фонда оплаты труда",null,null,null,null,0]
[63,"Субвенции на опеку и попечительство","601","01","13","0350325330","244",166.6,25.000000000000028,0,25.000000000000028,null,25.000000000000028,"60101130350325330Прочая закупка товаров, работ и услуг для обеспечения государственных (муниципальных) нужд","Субвенции на опеку и попечительство","ку","244","Прочая закупка товаров, работ и услуг для обеспечения государственных (муниципальных) нужд",null,null,null,null,0]
[63,"Субвенции на опеку и попечительство","601","01","13","0350325330","412",25.000000000000028,0,0,0,null,0,"60101130350325330Бюджетные инвестиции на приобретение объектов недвижимого имущества в государственную (муниципальную) собственность","Субвенции на опеку и попечительство","ку","412","Бюджетные инвестиции на приобретение объектов недвижимого имущества в государственную (муниципальную) собственность",null,null,null,null,0]
[64,"Субвенции на гос.полномочия в области архивного дела","601","01","13","9900025340","244",0,55.9,0,55.9,null,55.9,"60101139900025340Прочая закупка товаров, работ и услуг для обеспечения государственных (муниципальных) нужд","Субвенции на гос.полномочия в области архивного дела","ку","244","Прочая закупка товаров, работ и услуг для обеспечения государственных (муниципальных) нужд",null,null,null,null,0]
[65,"Субвенции на ведение регистра","601","01","13","2410125390",111,2.4,2.6999999999999997,0,2.4,0.3,2.6999999999999997,"60101132410125390Прочая закупка товаров, работ и услуг для обеспечения государственных (муниципальных) нужд","Субвенции на ведение регистра","ку","244","Прочая закупка товаров, работ и услуг для обеспечения государственных (муниципальных) нужд",null,null,null,null,-0.29999999999999982]
[65,"Субвенции на ведение регистра","601","01","13","2410125390",119,0.7,0.7,0,0.7,null,{"$f":"SUM(K235:L235)","v":0.7},"60101132410125390Прочая закупка товаров, работ и услуг для обеспечения государственных (муниципальных) нужд","Субвенции на ведение регистра","ку","244","Прочая закупка товаров, работ и услуг для обеспечения государственных (муниципальных) нужд",null,null,null,null,0]
[65,"Субвенции на ведение регистра","601","01","13","2410125390","244",-2.2204460492503131E-16,-2.2204460492503131E-16,0,-2.2204460492503131E-16,null,-2.2204460492503131E-16,"60101132410125390Прочая закупка товаров, работ и услуг для обеспечения государственных (муниципальных) нужд","Субвенции на ведение регистра","ку","244","Прочая закупка товаров, работ и услуг для обеспечения государственных (муниципальных) нужд",null,null,null,null,0]
[66,"ЕДДС","601","03","09","0720122670","111",244.40000000000009,992.6,0,874,118.6,992.6,"60103090720122670Фонд оплаты труда казенных учреждений и взносы по обязательному социальному страхованию","ЕДДС","ку","111","Фонд оплаты труда казенных учреждений и взносы по обязательному социальному страхованию",null,null,null,null,-118.60000000000002]
[66,"ЕДДС","601","03","09","0720122670","119",874,299.8,0,264,35.799999999999997,299.8,"60103090720122670Взносы по обязательному социальному страхованию на выплаты по оплате труда работников и иные выплаты работникам учреждений","ЕДДС","ку","119","Взносы по обязательному социальному страхованию на выплаты по оплате труда работников и иные выплаты работникам учреждений",null,null,null,null,-35.800000000000011]
[66,"ЕДДС","601","03","09","0720122670","112",264,0,0,0,null,0,"60103090720122670Иные выплаты персоналу казенных учреждений, за исключением фонда оплаты труда","ЕДДС","ку","112","Иные выплаты персоналу казенных учреждений, за исключением фонда оплаты труда",null,null,null,null,0]
[66,"ЕДДС","601","03","09","0720122670","244",0,244.40000000000009,0,244.40000000000009,null,244.40000000000009,"60103090720122670Прочая закупка товаров, работ и услуг для обеспечения государственных (муниципальных) нужд","ЕДДС","ку","244","Прочая закупка товаров, работ и услуг для обеспечения государственных (муниципальных) нужд",null,null,null,null,0]
[67,"Субвенции присяжным","601","01","05","9900051200","244",193,21,0,193,-172,21,"60101059900051200Прочая закупка товаров, работ и услуг для обеспечения государственных (муниципальных) нужд","Субвенции присяжным","ку","244","Прочая закупка товаров, работ и услуг для обеспечения государственных (муниципальных) нужд",null,null,null,null,172]
[68,"Субвенции перепись","601","01","13","0012020","244",0,0,0,0,null,0,"60101130012020Прочая закупка товаров, работ и услуг для обеспечения государственных (муниципальных) нужд","Субвенции перепись","ку","244","Прочая закупка товаров, работ и услуг для обеспечения государственных (муниципальных) нужд",null,null,null,null,0]
[69,"КРЖФ по программе (МБ)","601","05","01","0450196010","630",0,4603.09,0,{"$f":"4388+215.09","v":4603.09},null,4603.09,"60105010450196010Субсидии некоммерческим организациям (за исключением государственных (муниципальных) учреждений)","КРЖФ по программе (МБ)","ку","630","Субсидии некоммерческим организациям (за исключением государственных (муниципальных) учреждений)",null,null,null,null,0]
[70,"Субвенция по соглашениям (ПИЗО)","605","01","13","9900025600","540",0,0,0,0,null,0,"60501139900025600Иные межбюджетные трансферты","Субвенция по соглашениям (ПИЗО)","ку","540","Иные межбюджетные трансферты",null,null,null,null,0]
[71,"Дорожный фонд","601","04","09","Д100003650","244",21600,25500,0,21600,3900,25500,"6010409Д100003650Прочая закупка товаров, работ и услуг для обеспечения государственных (муниципальных) нужд","Дорожный фонд","ку","244","Прочая закупка товаров, работ и услуг для обеспечения государственных (муниципальных) нужд",null,null,null,null,-3900]
[71,"Дорожный фонд","601","04","09","Д100003650","412",0,0,0,0,null,0,"6010409Д100003650Бюджетные инвестиции на приобретение объектов недвижимого имущества в государственную (муниципальную) собственность","Дорожный фонд","ку","412","Бюджетные инвестиции на приобретение объектов недвижимого имущества в государственную (муниципальную) собственность",null,null,null,null,0]
[72,"Субвенция по соглашениям (КСП)","605","01","06","9900025600","540",0,0,0,0,null,0,"60501069900025600Иные межбюджетные трансферты","Субвенция по соглашениям (КСП)","ку","540","Иные межбюджетные трансферты",null,null,null,null,0]
[73,"Субвенция по соглашениям (Культура)","605","08","01","9900025700",540,0,0,0,0,null,0,"60508019900025700Субсидии бюджетным учреждениям на финансовое обеспечение государственного (муниципального) задания на оказание государственных (муниципальных) услуг (выполнение работ)","Библиотекидотация","бу","111","Субсидии бюджетным учреждениям на финансовое обеспечение государственного (муниципального) задания на оказание государственных (муниципальных) услуг (выполнение работ)",null,null,null,null,0]
[74,"Компенсация родвзноса","611","10","04","0350113200","313",0,11218.4,0,11218.4,null,11218.4,"61110040350113200Пособия, компенсации, меры социальной поддержки по публичным нормативным обязательствам","Компенсация родвзноса","ку","313","Пособия, компенсации, меры социальной поддержки по публичным нормативным обязательствам",null,null,null,null,0]
[75,"Муниципальная  программа «Реализация антикоррупционной политики в Кукморском  муниципальном районе Республики Татарстан на 2015-2020 годы» (ИК)","601","01","13","2700110990","244",0,5,0,5,null,5,"60101132700110990Прочая закупка товаров, работ и услуг для обеспечения государственных (муниципальных) нужд","Муниципальная  программа «Реализация антикоррупционной политики в Кукморском  муниципальном районе Республики Татарстан на 2015-2020 годы» (ИК)","ку","244","Прочая закупка товаров, работ и услуг для обеспечения государственных (муниципальных) нужд",null,null,null,null,0]
[76,"Муниципальная  программа «Реализация антикоррупционной политики в Кукморском  муниципальном районе Республики Татарстан на 2015-2020 годы» (УО)","611","07","09","2700110990","244",10,10,0,10,null,10,"61107092700110990Прочая закупка товаров, работ и услуг для обеспечения государственных (муниципальных) нужд","Муниципальная  программа «Реализация антикоррупционной политики в Кукморском  муниципальном районе Республики Татарстан на 2015-2020 годы» (УО)","ку","244","Прочая закупка товаров, работ и услуг для обеспечения государственных (муниципальных) нужд",null,null,null,null,0]
[77,"Муниципальная  программа «Реализация антикоррупционной политики в Кукморском  муниципальном районе Республики Татарстан на 2015-2020 годы» (УК)","613","08","01","2700110990",611,12,12,0,12,null,12,"61308012700110990Субсидии бюджетным учреждениям на финансовое обеспечение государственного (муниципального) задания на оказание государственных (муниципальных) услуг (выполнение работ)","Муниципальная  программа «Реализация антикоррупционной политики в Кукморском  муниципальном районе Республики Татарстан на 2015-2020 годы» (УК)","бу","244","Субсидии бюджетным учреждениям на финансовое обеспечение государственного (муниципального) задания на оказание государственных (муниципальных) услуг (выполнение работ)",null,null,null,null,0]
[78,"Муниципальная  программа «Реализация антикоррупционной политики в Кукморском  муниципальном районе Республики Татарстан на 2015-2020 годы» (УДМС)","612","07","07","2700110990","244",0,21,0,21,null,21,"61207072700110990Прочая закупка товаров, работ и услуг для обеспечения государственных (муниципальных) нужд","Муниципальная  программа «Реализация антикоррупционной политики в Кукморском  муниципальном районе Республики Татарстан на 2015-2020 годы» (УДМС)","ку","244","Прочая закупка товаров, работ и услуг для обеспечения государственных (муниципальных) нужд",null,null,null,null,0]
[79,"Подпрограмма «Профилактика терроризма и экстремизма в Кукморском муниципальном районе на 2015-2016гг.» (Исполком)","601","01","13","0630110990","244",0,55,0,55,null,55,"60101130630110990Прочая закупка товаров, работ и услуг для обеспечения государственных (муниципальных) нужд","Подпрограмма «Профилактика терроризма и экстремизма в Кукморском муниципальном районе на 2015-2016гг.»","ку","244","Прочая закупка товаров, работ и услуг для обеспечения государственных (муниципальных) нужд",null,null,null,null,0]
[80,"Подпрограмма «Профилактика терроризма и экстремизма в Кукморском муниципальном районе на 2015-2016гг.»","611","07","09","0630110990","244",0,3315.5,0,3315.5,null,3315.5,"61107090630110990Прочая закупка товаров, работ и услуг для обеспечения государственных (муниципальных) нужд","Подпрограмма «Профилактика терроризма и экстремизма в Кукморском муниципальном районе на 2015-2016гг.»","ку","244","Прочая закупка товаров, работ и услуг для обеспечения государственных (муниципальных) нужд",null,null,null,null,0]
[81,"Подпрограмма «Профилактика терроризма и экстремизма в Кукморском муниципальном районе на 2015-2016гг.» (УК)","613","08","01","0630110990",611,3.5,3.5,0,3.5,null,3.5,"61308010630110990Субсидии бюджетным учреждениям на финансовое обеспечение государственного (муниципального) задания на оказание государственных (муниципальных) услуг (выполнение работ)","Подпрограмма «Профилактика терроризма и экстремизма в Кукморском муниципальном районе на 2015-2016гг.»","бу","244","Субсидии бюджетным учреждениям на финансовое обеспечение государственного (муниципального) задания на оказание государственных (муниципальных) услуг (выполнение работ)",null,null,null,null,0]
[82,"Подпрограмма «Профилактика терроризма и экстремизма в Кукморском муниципальном районе на 2015-2016гг.» (УДМС)","612","07","07","0630110990","244",1,1,0,1,null,1,"61207070630110990Прочая закупка товаров, работ и услуг для обеспечения государственных (муниципальных) нужд","Подпрограмма «Профилактика терроризма и экстремизма в Кукморском муниципальном районе на 2015-2016гг.»","ку","244","Прочая закупка товаров, работ и услуг для обеспечения государственных (муниципальных) нужд",null,null,null,null,0]
[83,"Программа государственной национальной политики, профилактики экстремизма и укрепления межнациональных и межконфессиональных отношений в Кукморском  муниципальном районе  на 2015-2020годы (ИК)","601","01","13","2000110990","244",80,80,0,80,null,80,"60101132000110990Прочая закупка товаров, работ и услуг для обеспечения государственных (муниципальных) нужд","Программа государственной национальной политики, профилактики экстремизма и укрепления межнациональных и межконфессиональных отношений в Кукморском  муниципальном районе  на 2015-2020годы (ИК)","ку","244","Прочая закупка товаров, работ и услуг для обеспечения государственных (муниципальных) нужд",null,null,null,null,0]
[84,"Программа государственной национальной политики, профилактики экстремизма и укрепления межнациональных и межконфессиональных отношений в Кукморском  муниципальном районе  на 2015-2020годы (УО)","611","07","09","2000110990","244",{"$f":"SUM(I258:J259)","v":480},400,null,400,null,400,"61107092000110990Прочая закупка товаров, работ и услуг для обеспечения государственных (муниципальных) нужд","Программа государственной национальной политики, профилактики экстремизма и укрепления межнациональных и межконфессиональных отношений в Кукморском  муниципальном районе  на 2015-2020годы (УО)","ку","244","Прочая закупка товаров, работ и услуг для обеспечения государственных (муниципальных) нужд",null,null,null,null,0]
[85,"Программа государственной национальной политики, профилактики экстремизма и укрепления межнациональных и межконфессиональных отношений в Кукморском  муниципальном районе  на 2015-2020годы (УК)","613","08","01","2000110990",611,0,415,0,415,null,415,"61308012000110990Субсидии бюджетным учреждениям на финансовое обеспечение государственного (муниципального) задания на оказание государственных (муниципальных) услуг (выполнение работ)","Программа государственной национальной политики, профилактики экстремизма и укрепления межнациональных и межконфессиональных отношений в Кукморском  муниципальном районе  на 2015-2020годы (УК)","бу","244","Субсидии бюджетным учреждениям на финансовое обеспечение государственного (муниципального) задания на оказание государственных (муниципальных) услуг (выполнение работ)",null,null,null,null,0]
[86,"Программа государственной национальной политики, профилактики экстремизма и укрепления межнациональных и межконфессиональных отношений в Кукморском  муниципальном районе  на 2015-2020годы (УДМС-Спорт)","612","11","02","2000110990","244",415,415,0,415,null,415,"61211022000110990Прочая закупка товаров, работ и услуг для обеспечения государственных (муниципальных) нужд","Программа государственной национальной политики, профилактики экстремизма и укрепления межнациональных и межконфессиональных отношений в Кукморском  муниципальном районе  на 2015-2020годы (УДМС-Спорт)","ку","244","Прочая закупка товаров, работ и услуг для обеспечения государственных (муниципальных) нужд",null,null,null,null,0]
[87,"Субвенции на содержание биотермических ям","601","04","05","2800125360","244",0,1741.5,0,1741.5,null,1741.5,"60104052800125360Прочая закупка товаров, работ и услуг для обеспечения государственных (муниципальных) нужд","Субвенции на скотомогильники","ку","244","Прочая закупка товаров, работ и услуг для обеспечения государственных (муниципальных) нужд",null,null,null,null,0]
[87,"Субвенции на содержание биотермических ям","601","04","05","2800125360","412",0,0,0,0,null,0,"60104052800125360Бюджетные инвестиции на приобретение объектов недвижимого имущества в государственную (муниципальную) собственность","Субвенции на скотомогильники","ку","412","Бюджетные инвестиции на приобретение объектов недвижимого имущества в государственную (муниципальную) собственность",null,null,null,null,0]
[88,"Субвенции на отлов, содержание и регулирование численности безнадзорных животных","601","04","05","2800125360","244",0,119.9,0,119.9,null,119.9,"60104052800125360Прочая закупка товаров, работ и услуг для обеспечения государственных (муниципальных) нужд","Субвенции на скотомогильники","ку","244","Прочая закупка товаров, работ и услуг для обеспечения государственных (муниципальных) нужд",null,null,null,null,0]
[88,"Субвенции на отлов, содержание и регулирование численности безнадзорных животных","601","04","05","2800125360","412",0,0,0,0,null,0,"60104052800125360Бюджетные инвестиции на приобретение объектов недвижимого имущества в государственную (муниципальную) собственность","Субвенции на скотомогильники","ку","412","Бюджетные инвестиции на приобретение объектов недвижимого имущества в государственную (муниципальную) собственность",null,null,null,null,0]
[89,"Субвенции бюд. муниципальным районам и городских округов по реализации полномочий по распределению земельными уастками","601","01","13","9900025400","121",2.2204460492503131E-16,6.1999999999999993,0,5.6,0.6,6.1999999999999993,"60101139900025400Фонд оплаты труда государственных (муниципальных) органов и взносы по обязательному социальному страхованию","Субвенции бюд. муниципальным районам и городских округов по реализации полномочий по образованию и организации деятельности административных комиссий","ку","121","Фонд оплаты труда государственных (муниципальных) органов и взносы по обязательному социальному страхованию",null,null,null,null,-0.59999999999999964]
[89,"Субвенции бюд. муниципальным районам и городских округов по реализации полномочий по распределению земельными уастками","601","01","13","9900025400","129",2.2204460492503131E-16,1.7,0,1.7,null,1.7,"60101139900025400Взносы по обязательному социальному страхованию на выплату денежного содержания и иные выплаты работникам государственных (муниципальных) органов","Субвенции бюд. муниципальным районам и городских округов по реализации полномочий по образованию и организации деятельности административных комиссий","ку","129","Взносы по обязательному социальному страхованию на выплату денежного содержания и иные выплаты работникам государственных (муниципальных) органов",null,null,null,null,0]
[89,"Субвенции бюд. муниципальным районам и городских округов по реализации полномочий по распределению земельными уастками","601","01","13","9900025400","244",2.2204460492503131E-16,2.2204460492503131E-16,0,2.2204460492503131E-16,null,2.2204460492503131E-16,"60101139900025400Прочая закупка товаров, работ и услуг для обеспечения государственных (муниципальных) нужд","Субвенции бюд. муниципальным районам и городских округов по реализации полномочий по образованию и организации деятельности административных комиссий","ку","244","Прочая закупка товаров, работ и услуг для обеспечения государственных (муниципальных) нужд",null,null,null,null,0]
[90,"Расходы на ремонт и содержание гидротехнических сооружений","605","04","06","9900090430","244",353.7,367.9,0,353.7,14.2,367.9,"60504069900090430Прочая закупка товаров, работ и услуг для обеспечения государственных (муниципальных) нужд","Субвенции на скотомогильники","ку","244","Прочая закупка товаров, работ и услуг для обеспечения государственных (муниципальных) нужд",null,null,null,null,-14.199999999999989]
[91,"Школы-детсады","611","07","02","0210342000",611,160.37999000000042,8402.2451100000017,0,8402.2451100000017,null,8402.2451100000017,"61107020210342000Субсидии бюджетным учреждениям на финансовое обеспечение государственного (муниципального) задания на оказание государственных (муниципальных) услуг (выполнение работ)","Детсады","бу","111","Субсидии бюджетным учреждениям на финансовое обеспечение государственного (муниципального) задания на оказание государственных (муниципальных) услуг (выполнение работ)",null,null,null,null,0]
[91,"Школы-детсады","611","07","02","0210342000",611,160.37999000000042,2536.7451200000005,0,2536.7451200000005,null,2536.7451200000005,"61107020210342000Субсидии бюджетным учреждениям на финансовое обеспечение государственного (муниципального) задания на оказание государственных (муниципальных) услуг (выполнение работ)","Детсады","бу","119","Субсидии бюджетным учреждениям на финансовое обеспечение государственного (муниципального) задания на оказание государственных (муниципальных) услуг (выполнение работ)",null,null,null,null,0]
[91,"Школы-детсады","611","07","02","0210342000",611,160.37999000000042,0,0,0,null,0,"61107020210342000Субсидии бюджетным учреждениям на финансовое обеспечение государственного (муниципального) задания на оказание государственных (муниципальных) услуг (выполнение работ)","Детсады","бу","112","Субсидии бюджетным учреждениям на финансовое обеспечение государственного (муниципального) задания на оказание государственных (муниципальных) услуг (выполнение работ)",null,null,null,null,0]
[91,"Школы-детсады","611","07","02","0210342000",611,160.37999000000042,160.37999000000042,0,160.37999000000042,null,160.37999000000042,"61107020210342000Субсидии бюджетным учреждениям на финансовое обеспечение государственного (муниципального) задания на оказание государственных (муниципальных) услуг (выполнение работ)","Детсады","бу","244","Субсидии бюджетным учреждениям на финансовое обеспечение государственного (муниципального) задания на оказание государственных (муниципальных) услуг (выполнение работ)",null,null,null,null,0]
[91,"Школы-детсады","611","07","02","0210342000",611,160.37999000000042,0,0,0,null,0,{"$f":"C274&D274&E274&F274&R274","v":"61107020210342000Субсидии бюджетным учреждениям на финансовое обеспечение государственного (муниципального) задания на оказание государственных (муниципальных) услуг (выполнение работ)"},"Детсады","бу","412","Субсидии бюджетным учреждениям на финансовое обеспечение государственного (муниципального) задания на оказание государственных (муниципальных) услуг (выполнение работ)",null,null,null,null,0]
[91,"Школы-детсады","611","07","02","0210342000",{"$f":"IF(P275=\"бу\",611,Q275)","v":611},160.37999000000042,{"$f":"M275","v":0},0,0,null,{"$f":"SUM(K275:L275)","v":0},"61107020210342000Субсидии бюджетным учреждениям на финансовое обеспечение государственного (муниципального) задания на оказание государственных (муниципальных) услуг (выполнение работ)","Детсады","бу","851","Субсидии бюджетным учреждениям на финансовое обеспечение государственного (муниципального) задания на оказание государственных (муниципальных) услуг (выполнение работ)",null,null,null,null,{"$f":"K275-I275","v":0}]
[91,"Школы-детсады","611","07","02","0210342000",611,160.37999000000042,0,0,0,null,0,"61107020210342000Субсидии бюджетным учреждениям на финансовое обеспечение государственного (муниципального) задания на оказание государственных (муниципальных) услуг (выполнение работ)","Детсады","бу","852","Субсидии бюджетным учреждениям на финансовое обеспечение государственного (муниципального) задания на оказание государственных (муниципальных) услуг (выполнение работ)",null,null,null,null,0]
[92,"Субвенции на обеспечение прав на получение общедоступного и бесплатного дошкольного образования в муниципальных ДОУ (школы-детсады)","611","07","02","0210125370",611,-1.1368683772161603E-13,7673,0,7673,null,7673,"61107020210125370Субсидии бюджетным учреждениям на финансовое обеспечение государственного (муниципального) задания на оказание государственных (муниципальных) услуг (выполнение работ)","Субвенции на обеспечение прав на получение общедоступного и бесплатного дошкольного образования в муниципальных ДОУ","бу","111","Субсидии бюджетным учреждениям на финансовое обеспечение государственного (муниципального) задания на оказание государственных (муниципальных) услуг (выполнение работ)",null,null,null,null,0]
[92,"Субвенции на обеспечение прав на получение общедоступного и бесплатного дошкольного образования в муниципальных ДОУ (школы-детсады)","611","07","02","0210125370",611,-1.1368683772161603E-13,2317.9920000000002,0,2317.9920000000002,null,2317.9920000000002,"61107020210125370Субсидии бюджетным учреждениям на финансовое обеспечение государственного (муниципального) задания на оказание государственных (муниципальных) услуг (выполнение работ)","Субвенции на обеспечение прав на получение общедоступного и бесплатного дошкольного образования в муниципальных ДОУ","бу","119","Субсидии бюджетным учреждениям на финансовое обеспечение государственного (муниципального) задания на оказание государственных (муниципальных) услуг (выполнение работ)",null,null,null,null,0]
[92,"Субвенции на обеспечение прав на получение общедоступного и бесплатного дошкольного образования в муниципальных ДОУ (школы-детсады)","611","07","02","0210125370",611,0,-1.1368683772161603E-13,0,-1.1368683772161603E-13,null,-1.1368683772161603E-13,"61107020210125370Субсидии бюджетным учреждениям на финансовое обеспечение государственного (муниципального) задания на оказание государственных (муниципальных) услуг (выполнение работ)","Субвенции на обеспечение прав на получение общедоступного и бесплатного дошкольного образования в муниципальных ДОУ","бу","244","Субсидии бюджетным учреждениям на финансовое обеспечение государственного (муниципального) задания на оказание государственных (муниципальных) услуг (выполнение работ)",null,null,null,null,0]
[92,"Субвенции на обеспечение прав на получение общедоступного и бесплатного дошкольного образования в муниципальных ДОУ (школы-детсады)","611","07","02","0210125370",611,-1.1368683772161603E-13,0,0,0,null,0,"61107020210125370Субсидии бюджетным учреждениям на финансовое обеспечение государственного (муниципального) задания на оказание государственных (муниципальных) услуг (выполнение работ)","Субвенции на обеспечение прав на получение общедоступного и бесплатного дошкольного образования в муниципальных ДОУ","бу","412","Субсидии бюджетным учреждениям на финансовое обеспечение государственного (муниципального) задания на оказание государственных (муниципальных) услуг (выполнение работ)",null,null,null,null,0]
[93,"Муниципальная программа улучшения условий и охраны труда в Кукморском муниципальном районе на 2015 - 2017 годы (УО)","611","07","09","0520115500","244",0,10,0,10,null,10,"61107090520115500Прочая закупка товаров, работ и услуг для обеспечения государственных (муниципальных) нужд","Муниципальная  программа «Реализация антикоррупционной политики в Кукморском  муниципальном районе Республики Татарстан на 2015-2020 годы» (УО)","ку","244","Прочая закупка товаров, работ и услуг для обеспечения государственных (муниципальных) нужд",null,null,null,null,0]
[94,"Налоги ОМС (Совет)","602","01","13","9900002950","851",0,176.9,0,176.9,null,176.9,"60201139900002950Уплата налога на имущество организаций и земельного налога","Функционирование законодательных органов","ку","851","Уплата налога на имущество организаций и земельного налога",null,null,null,null,0]
[94,"Налоги ОМС (Совет)","602","01","13","9900002950","852",0,0,0,0,null,0,"60201139900002950Уплата прочих налогов, сборов и иных платежей","Функционирование законодательных органов","ку","852","Уплата прочих налогов, сборов и иных платежей",null,null,null,null,0]
[95,"Налоги ОМС (Исполком)","601","01","13","9900002950","851",0,299.39999999999998,0,299.39999999999998,null,299.39999999999998,"60101139900002950Уплата налога на имущество организаций и земельного налога","Функционирование местных администраций","ку","851","Уплата налога на имущество организаций и земельного налога",null,null,null,null,0]
[95,"Налоги ОМС (Исполком)","601","01","13","9900002950","852",0,0,0,0,null,0,"60101139900002950Уплата прочих налогов, сборов и иных платежей","Функционирование местных администраций","ку","852","Уплата прочих налогов, сборов и иных платежей",null,null,null,null,0]
[96,"Налоги ОМС (УО)","611","01","13","9900002950","851",0,41.4,0,41.4,null,{"$f":"SUM(K286:L286)","v":41.4},"61101139900002950Уплата налога на имущество организаций и земельного налога","Функционирование местных администраций (УО)","ку","851","Уплата налога на имущество организаций и земельного налога",null,null,null,null,0]
[96,"Налоги ОМС (УО)","611","01","13","9900002950","852",0,0,0,0,null,0,"61101139900002950Уплата прочих налогов, сборов и иных платежей","Функционирование местных администраций (УО)","ку","852","Уплата прочих налогов, сборов и иных платежей",null,null,null,null,0]
[97,"Налоги ОМС (УДМС)","612","01","13","9900002950","851",0,7.1,0,7.1,null,7.1,"61201139900002950Уплата налога на имущество организаций и земельного налога","Функционирование местных администраций (УДМС)","ку","851","Уплата налога на имущество организаций и земельного налога",null,null,null,null,0]
[97,"Налоги ОМС (УДМС)","612","01","13","9900002950","852",0,3,0,3,null,3,"61201139900002950Уплата прочих налогов, сборов и иных платежей","Функционирование местных администраций (УДМС)","ку","852","Уплата прочих налогов, сборов и иных платежей",null,null,null,null,0]
[98,"Налоги ОМС (УК)","613","01","13","9900002950","851",0,0,0,0,null,0,"61301139900002950Уплата налога на имущество организаций и земельного налога","Функционирование местных администраций (УК)","ку","851","Уплата налога на имущество организаций и земельного налога",null,null,null,null,0]
[98,"Налоги ОМС (УК)","613","01","13","9900002950","852",0,0,0,0,null,0,"61301139900002950Уплата прочих налогов, сборов и иных платежей","Функционирование местных администраций (УК)","ку","852","Уплата прочих налогов, сборов и иных платежей",null,null,null,null,0]
[99,"Налоги ОМС (ФБП)","605","01","13","9900002950","851",2.2999999999999998,0,0,0,null,0,"60501139900002950Уплата налога на имущество организаций и земельного налога","ФБП","ку","851","Уплата налога на имущество организаций и земельного налога",null,null,null,null,0]
[99,"Налоги ОМС (ФБП)","605","01","13","9900002950","852",0,2.2999999999999998,0,2.2999999999999998,null,{"$f":"SUM(K293:L293)","v":2.2999999999999998},"60501139900002950Уплата прочих налогов, сборов и иных платежей","ФБП","ку","852","Уплата прочих налогов, сборов и иных платежей",null,null,null,null,0]
[100,"Налоги ОМС (ПИЗО)","606","01","13","9900002950","851",0,2,0,2,null,2,"60601139900002950Уплата налога на имущество организаций и земельного налога","Палата имущественных и земельных отношений","ку","851","Уплата налога на имущество организаций и земельного налога",null,null,null,null,0]
[100,"Налоги ОМС (ПИЗО)","606","01","13","9900002950","852",0,33,0,33,null,33,"60601139900002950Уплата прочих налогов, сборов и иных платежей","Палата имущественных и земельных отношений","ку","852","Уплата прочих налогов, сборов и иных платежей",null,null,null,null,0]
[101,"Налоги ОМС (ЦБ)","601","01","13","9900002950","851",0,0,0,0,null,0,"60101139900002950Уплата налога на имущество организаций и земельного налога","Централизованная бухгалтерия","ку","851","Уплата налога на имущество организаций и земельного налога",null,null,null,null,0]
[101,"Налоги ОМС (ЦБ)","601","01","13","9900002950","852",0,2,0,2,null,{"$f":"SUM(K297:L297)","v":2},"60101139900002950Уплата прочих налогов, сборов и иных платежей","Централизованная бухгалтерия","ку","852","Уплата прочих налогов, сборов и иных платежей",null,null,null,null,0]
[null,null,null,null,null,null,null,null,null,null,null,null,null,{"$f":"C298&D298&E298&F298&G298","v":""}]
[null,null,null,null,null,null,null,null,null,null,null,null,null,""]
[null,null,null,null,null,null,null,null,null,null,null,null,null,""]
[null,null,null,null,null,null,null,null,null,null,null,null,null,""]
[null,null,null,null,null,null,null,null,null,null,null,null,null,""]
[null,null,null,null,null,null,null,null,null,null,null,null,null,""]